Workbook

Sheet Wage&Salary
B1: Year | M1: Change 2000 - 2010
A2: JURISDICTIONS | B2: 2000 | C2: 2001 | D2: 2002 | E2: 2003 | F2: 2004 | G2: 2005 | H2: 2006 | I2: 2007 | J2: 2008 | K2: 2009 | L2: 2010
A3: District of Columbia | B3: 650200 | C3: 653700 | D3: 664200 | E3: 665500 | F3: 674200 | G3: 682200 | H3: 687600 | I3: 693800 | J3: 703900 | K3: 701700 | L3: 710900 | M3: =SUM(L3-B3) -> 60700
A4: Arlington County | B4: 157958 | C4: 159448 | D4: 153320 | E4: 150176 | F4: 154820 | G4: 154077 | H4: 158232 | I4: 153373 | J4: 156288 | K4: 158684 | L4: 162648 | M4: =SUM(L4-B4) -> 4690
A5: City of Alexandria | B5: 91844 | C5: 91892 | D5: 89913 | E5: 91249 | F5: 92694 | G5: 93538 | H5: 94128 | I5: 100079 | J5: 100555 | K5: 98182 | L5: 95852 | M5: =SUM(L5-B5) -> 4008
A6: Central Jurisdictions | B6: =SUM(B3:B5) -> 900002 | C6: =SUM(C3:C5) -> 905040 | D6: =SUM(D3:D5) -> 907433 | E6: =SUM(E3:E5) -> 906925 | F6: =SUM(F3:F5) -> 921714 | G6: =SUM(G3:G5) -> 929815 | H6: =SUM(H3:H5) -> 939960 | I6: =SUM(I3:I5) -> 947252 | ... L6: =SUM(L3:L5) -> 969400 | M6: =SUM(L6-B6) -> 69398
A7: Montgomery County | B7: 447744 | C7: 449853 | D7: 453145 | E7: 449909 | F7: 448782 | G7: 458668 | H7: 464833 | I7: 459346 | J7: 457518 | K7: 443305 | L7: 441706 | M7: =SUM(L7-B7) -> -6038
A8: Prince George's County | B8: 303060 | C8: 305176 | D8: 305229 | E8: 311428 | F8: 312994 | G8: 312639 | H8: 312943 | I8: 315696 | J8: 313396 | K8: 303966 | L8: 299217 | M8: =SUM(L8-B8) -> -3843
A9: Fairfax County | B9: 537669 | C9: 543415 | D9: 525605 | E9: 533139 | F9: 544300 | G9: 565179 | H9: 574640 | I9: 584922 | J9: 587820 | K9: 570932 | L9: 573654 | M9: =SUM(L9-B9) -> 35985
A10: City of Fairfax | B10: 16782 | C10: 17177 | D10: 18179 | E10: 18321 | F10: 23881 | G10: 23692 | H10: 23118 | I10: 21779 | J10: 20533 | K10: 20070 | L10: 19877 | M10: =SUM(L10-B10) -> 3095
A11: City of Falls Church | B11: 14485 | C11: 14227 | D11: 14506 | E11: 14168 | F11: 14459 | G11: 14609 | H11: 14666 | I11: 12574 | J11: 12638 | K11: 12546 | L11: 12392 | M11: =SUM(L11-B11) -> -2093
A12: Inner Suburbs | B12: =SUM(B7:B11) -> 1319740 | C12: =SUM(C7:C11) -> 1329848 | D12: =SUM(D7:D11) -> 1316664 | E12: =SUM(E7:E11) -> 1326965 | F12: =SUM(F7:F11) -> 1344416 | G12: =SUM(G7:G11) -> 1374787 | H12: =SUM(H7:H11) -> 1390200 | I12: =SUM(I7:I11) -> 1394317 | ... L12: =SUM(L7:L11) -> 1346846 | M12: =SUM(L12-B12) -> 27106
A13: Loudoun County | B13: 87325 | C13: 96953 | D13: 98907 | E13: 104290 | F13: 113037 | G13: 120420 | H13: 125599 | I13: 129090 | J13: 132769 | K13: 129627 | L13: 132099 | M13: =SUM(L13-B13) -> 44774
A14: Prince William County | B14: 78084 | C14: 83304 | D14: 85907 | E14: 88837 | F14: 95924 | G14: 100751 | H14: 104037 | I14: 103624 | J14: 103715 | K14: 102008 | L14: 103840 | M14: =SUM(L14-B14) -> 25756
A15: City of Manassas | B15: 19943 | C15: 19503 | D15: 21361 | E15: 21437 | F15: 23079 | G15: 24399 | H15: 24762 | I15: 24772 | J15: 24151 | K15: 23060 | L15: 23745 | M15: =SUM(L15-B15) -> 3802
A16: City of Manassas Park | B16: 3910 | C16: 3840 | D16: 3798 | E16: 3781 | F16: 3683 | G16: 3832 | H16: 3936 | I16: 3715 | J16: 3300 | K16: 3001 | L16: 2823 | M16: =SUM(L16-B16) -> -1087
A17: Stafford County | B17: 24246 | C17: 24938 | D17: 25874 | E17: 26167 | F17: 28837 | G17: 30398 | H17: 32262 | I17: 34542 | J17: 35135 | K17: 34858 | L17: 35604 | M17: =SUM(L17-B17) -> 11358
A18: Frederick County | B18: 77120 | C18: 79463 | D18: 82260 | E18: 86168 | F18: 89521 | G18: 91079 | H18: 92024 | I18: 94913 | J18: 93971 | K18: 91570 | L18: 91676 | M18: =SUM(L18-B18) -> 14556
A19: Charles County | B19: 36155 | C19: 36987 | D19: 37669 | E19: 38523 | F19: 39766 | G19: 40769 | H19: 41970 | I19: 42248 | J19: 42113 | K19: 40484 | L19: 40358 | M19: =SUM(L19-B19) -> 4203
A20: Calvert County | B20: 16909 | C20: 18026 | D20: 19056 | E20: 19915 | F20: 20705 | G20: 20810 | H20: 21434 | I20: 21838 | J20: 21855 | K20: 21168 | L20: 21064 | M20: =SUM(L20-B20) -> 4155
A21: Outer Suburbs | B21: =SUM(B13:B20) -> 343692 | C21: =SUM(C13:C20) -> 363014 | D21: =SUM(D13:D20) -> 374832 | E21: =SUM(E13:E20) -> 389118 | F21: =SUM(F13:F20) -> 414552 | G21: =SUM(G13:G20) -> 432458 | H21: =SUM(H13:H20) -> 446024 | I21: =SUM(I13:I20) -> 454742 | ... L21: =SUM(L13:L20) -> 451209 | M21: =SUM(L21-B21) -> 107517
A22: MSA (1983) Total | B22: =SUM(B6,B12,B21) -> 2563434 | C22: =SUM(C6,C12,C21) -> 2597902 | D22: =SUM(D6,D12,D21) -> 2598929 | E22: =SUM(E6,E12,E21) -> 2623008 | F22: =SUM(F6,F12,F21) -> 2680682 | G22: =SUM(G6,G12,G21) -> 2737060 | H22: =SUM(H6,H12,H21) -> 2776184 | I22: =SUM(I6,I12,I21) -> 2796311 | ... L22: =SUM(L6,L12,L21) -> 2767455 | M22: =SUM(L22-B22) -> 204021
B24: 2000 | C24: 2001 | D24: 2002 | E24: 2003 | F24: 2004 | G24: 2005 | H24: 2006 | I24: 2007 | J24: 2008 | K24: 2009 | L24: 2010
B25: 2.56 | C25: 2.6 | D25: 2.6 | E25: 2.62 | F25: 2.68 | G25: 2.74 | H25: 2.78 | I25: 2.8 | J25: 2.81 | K25: 2.76 | L25: 2.77
C26: =SUM(C25-B25)/B25 -> 0.015625 | D26: =SUM(D25-C25)/C25 -> 0 | E26: =SUM(E25-D25)/D25 -> 0.0076923077 | F26: =SUM(F25-E25)/E25 -> 0.022900763 | G26: =SUM(G25-F25)/F25 -> 0.02238806 | H26: =SUM(H25-G25)/G25 -> 0.01459854 | I26: =SUM(I25-H25)/H25 -> 0.0071942446 | J26: =SUM(J25-I25)/I25 -> 0.0035714286 | ... L26: =SUM(L25-K25)/K25 -> 0.0036231884

Sheet Military
A1: CA25N Total full-time and part-time employment by NAICS industry 1/
A2: Govt. and govt. enterprises employment: Military (number of jobs)
A3: Bureau of Economic Analysis
B5: Year
A6: Jurisdicitons | B6: 2000 | C6: 2001 | D6: 2002 | E6: 2003 | F6: 2004 | G6: 2005 | H6: 2006 | I6: 2007 | J6: 2008 | K6: 2009 | L6: 2010*
A7: District of Columbia | B7: 23819 | C7: 23083 | D7: 23222 | E7: 23485 | F7: 23452 | G7: 22808 | H7: 21719 | I7: 20202 | J7: 20006 | K7: 19524 | L7: 19524
A8: Arlington County | B8: 15026 | C8: 14365 | D8: 14480 | E8: 14483 | F8: 14040 | G8: 13110 | H8: 12718 | I8: 12510 | J8: 12351 | K8: 12073 | L8: 12073
A9: City of Alexandria | B9: 4938 | C9: 4391 | D9: 4965 | E9: 4915 | F9: 4396 | G9: 5478 | H9: 4848 | I9: 4280 | J9: 4343 | K9: 4428 | L9: 4428
A10: Central Jurisdictions | B10: =SUM(B7:B9) -> 43783 | C10: =SUM(C7:C9) -> 41839 | D10: =SUM(D7:D9) -> 42667 | E10: =SUM(E7:E9) -> 42883 | F10: =SUM(F7:F9) -> 41888 | G10: =SUM(G7:G9) -> 41396 | H10: =SUM(H7:H9) -> 39285 | I10: =SUM(I7:I9) -> 36992 | ... L10: =SUM(L7:L9) -> 36025
A11: Montgomery County | B11: 6867 | C11: 6820 | D11: 6877 | E11: 6910 | F11: 6526 | G11: 6433 | H11: 6322 | I11: 6304 | J11: 6428 | K11: 6381 | L11: 6381
A12: Prince George's County | B12: 8975 | C12: 8920 | D12: 8757 | E12: 8620 | F12: 8288 | G12: 8112 | H12: 7808 | I12: 7751 | J12: 7972 | K12: 7639 | L12: 7639
A13: Fairfax, Fairfax City + Falls Church | B13: 6974 | C13: 7294 | D13: 7380 | E13: 7415 | F13: 7233 | G13: 7048 | H13: 6889 | I13: 6855 | J13: 7338 | K13: 7385 | L13: 7385
A14: Inner Suburbs | B14: =SUM(B11:B13) -> 22816 | C14: =SUM(C11:C13) -> 23034 | D14: =SUM(D11:D13) -> 23014 | E14: =SUM(E11:E13) -> 22945 | F14: =SUM(F11:F13) -> 22047 | G14: =SUM(G11:G13) -> 21593 | H14: =SUM(H11:H13) -> 21019 | I14: =SUM(I11:I13) -> 20910 | ... L14: =SUM(L11:L13) -> 21405
A15: Loudoun County | B15: 656 | C15: 724 | D15: 783 | E15: 833 | F15: 864 | G15: 871 | H15: 881 | I15: 912 | J15: 999 | K15: 1022 | L15: 1022
A16: Prince William, Manassas + Manassas Park | B16: 6751 | C16: 6848 | D16: 6945 | E16: 6943 | F16: 6858 | G16: 6571 | H16: 6412 | I16: 6612 | J16: 6702 | K16: 6865 | L16: 6865
A17: Stafford County | B17: 1930 | C17: 1960 | D17: 1978 | E17: 2050 | F17: 1993 | G17: 2098 | H17: 2110 | I17: 2381 | J17: 2703 | K17: 2761 | L17: 2761
A18: Frederick County | B18: 2063 | C18: 2067 | D18: 2092 | E18: 2158 | F18: 2051 | G18: 2002 | H18: 1988 | I18: 1902 | J18: 1860 | K18: 1788 | L18: 1788
A19: Charles County | B19: 620 | C19: 916 | D19: 948 | E19: 983 | F19: 962 | G19: 985 | H19: 1001 | I19: 1046 | J19: 1089 | K19: 1052 | L19: 1052
A20: Calvert County | B20: 306 | C20: 316 | D20: 323 | E20: 333 | F20: 310 | G20: 305 | H20: 297 | I20: 298 | J20: 302 | K20: 302 | L20: 302
A21: Outer Suburbs | B21: =SUM(B15:B20) -> 12326 | C21: =SUM(C15:C20) -> 12831 | D21: =SUM(D15:D20) -> 13069 | E21: =SUM(E15:E20) -> 13300 | F21: =SUM(F15:F20) -> 13038 | G21: =SUM(G15:G20) -> 12832 | H21: =SUM(H15:H20) -> 12689 | I21: =SUM(I15:I20) -> 13151 | ... L21: =SUM(L15:L20) -> 13790
A22: MSA (1983) Total | B22: =SUM(B10,B14,B21) -> 78925 | C22: =SUM(C10,C14,C21) -> 77704 | D22: =SUM(D10,D14,D21) -> 78750 | E22: =SUM(E10,E14,E21) -> 79128 | F22: =SUM(F10,F14,F21) -> 76973 | G22: =SUM(G10,G14,G21) -> 75821 | H22: =SUM(H10,H14,H21) -> 72993 | I22: =SUM(I10,I14,I21) -> 71053 | ... L22: =SUM(L10,L14,L21) -> 71220
I24: *BEA Data for 2010 has not been released - Used 2009
B36: Mmili
A49: Legend / Footnotes:
A50: 1/ The estimates of employment for 2001-2006 are based on the 2002 North American Industry Classification System (NAICS). The estimates for 2007 forward are based on the 2007 NAICS.
A51: (L) Less than 10 jobs, but the estimates for this item are included in the totals.
A52: Last updated: April 21, 2011

Sheet Self-Employed
J1: 22102 - Class of worker (9) (Workers 16 years and over)
A2: JURISDICTIONS | B2: Wage & Salary | C2: Self-Employed | D2: Wage & Salary with Self-Employed | E2: % Unincorp Self Employed | F2: Unincorp Self Employed Multiplier | J2: US Census Bureau, ACS 2006-2008 3yr est., Special Tabs for CTPP
A3: District of Columbia | B3: 710900 | C3: =(B3*E3) -> 28436 | D3: =SUM(B3*F3) -> 739336 | E3: =ROUND(U8,3) -> 0.04 | F3: =ROUND(1.03957044306948,3) -> 1.04
A4: Arlington County | B4: 162648 | C4: =(B4*E4) -> 6343.272 | D4: =SUM(B4*F4) -> 168991.27 | E4: =ROUND(U14,3) -> 0.039 | F4: =ROUND(1.03857461024499,3) -> 1.039 | J4: MEASURES | K4: Estimate
A5: City of Alexandria | B5: 95852 | C5: =(B5*E5) -> 4792.6 | D5: =SUM(B5*F5) -> 100644.6 | E5: =ROUND(U19,3) -> 0.05 | F5: =ROUND(1.04994686503719,3) -> 1.05
A6: Central Jurisdictions | B6: =SUM(B3:B5) -> 969400 | C6: =SUM(C3:C5) -> 39571.872 | D6: =SUM(D3:D5) -> 1008971.9 | G6: % Self Employed | I6: Multipilier | J6: COW | K6: Total, all class of worker | L6: Private for-profit wage and salary workers | M6: Private not-for-profit wage and salary workers | N6: Local government workers | O6: State government workers | P6: Federal government workers | Q6: Self-employed workers in own not incorporated business | R6: Self-employed workers in own, incorporated business | S6: Unpaid family workers | T6: total employed minus unincorp self employed | U6: % unincorp self employed | W6: Unincorp Self Employed Multipilier
A7: Montgomery County | B7: 441706 | C7: =(B7*E7) -> 30919.42 | D7: =SUM(B7*F7) -> 472625.42 | E7: =ROUND(U12,3) -> 0.07 | F7: =ROUND(1.06981535960805,3) -> 1.07 | J7: WORKPLACE
A8: Prince George's County | B8: 299217 | C8: =(B8*E8) -> 14960.85 | D8: =SUM(B8*F8) -> 314177.85 | E8: =ROUND(U13,3) -> 0.05 | F8: =ROUND(1.05045622688039,3) -> 1.05 | G8: 3.8064225 | I8: 1.0395704 | J8: District of Columbia | K8: 730870 | L8: 305110 | M8: 114505 | N8: 35680 | O8: 12240 | P8: 219010 | Q8: 27820 | R8: 16105 | S8: 405 | T8: =K8-Q8 -> 703050 | U8: =Q8/T8 -> 0.039570443 | W8: =K8/(K8-Q8) -> 1.0395704
A9: Fairfax County | B9: 573654 | C9: =(B9*E9) -> 29830.008 | D9: =SUM(B9*F9) -> 603484.01 | E9: =ROUND(U15,3) -> 0.052 | F9: =ROUND(1.05161454840812,3) -> 1.052 | G9: 8.1953812 | I9: 1.0892698 | J9: Calvert County, Maryland | K9: 24465 | L9: 14930 | M9: 1550 | N9: 3040 | O9: 665 | P9: 740 | Q9: 2005 | R9: 1405 | S9: 130 | T9: =K9-Q9 -> 22460 | U9: =Q9/T9 -> 0.089269813 | W9: =K9/(K9-Q9) -> 1.0892698
A10: City of Fairfax | B10: 19877 | C10: =(B10*E10) -> 1331.759 | D10: =SUM(B10*F10) -> 21208.759 | E10: =ROUND(U21,3) -> 0.067 | F10: =ROUND(1.06715716969317,3) -> 1.067 | G10: 5.8782365 | I10: 1.0624535 | J10: Charles County, Maryland | K10: 42870 | L10: 26520 | M10: 2190 | N10: 5530 | O10: 1105 | P10: 2970 | Q10: 2520 | R10: 2015 | S10: 20 | T10: =K10-Q10 -> 40350 | U10: =Q10/T10 -> 0.062453532 | W10: =K10/SUM(K10-Q10) -> 1.0624535
A11: City of Falls Church | B11: 12392 | C11: =(B11*E11) -> 830.264 | D11: =SUM(B11*F11) -> 13222.264 | E11: =ROUND(U21,3) -> 0.067 | F11: =ROUND(1.06715716969317,3) -> 1.067 | G11: 6.0248023 | I11: 1.0641106 | J11: Frederick County, Maryland | K11: 102410 | L11: 68070 | M11: 6760 | N11: 8975 | O11: 1655 | P11: 6105 | Q11: 6170 | R11: 4435 | S11: 240 | T11: =K11-Q11 -> 96240 | U11: =Q11/T11 -> 0.064110557 | W11: =K11/SUM(K11-Q11) -> 1.0641106
A12: Inner Suburbs | B12: =SUM(B7:B11) -> 1346846 | C12: =SUM(C7:C11) -> 77872.301 | D12: =SUM(D7:D11) -> 1424718.3 | G12: 6.5259261 | I12: 1.0698154 | J12: Montgomery County, Maryland | K12: 467290 | L12: 280415 | M12: 39265 | N12: 36015 | O12: 5550 | P12: 56450 | Q12: 30495 | R12: 18415 | S12: 685 | T12: =K12-Q12 -> 436795 | U12: =Q12/T12 -> 0.06981536 | W12: =K12/SUM(K12-Q12) -> 1.0698154
A13: Loudoun County | B13: 132099 | C13: =(B13*E13) -> 7265.445 | D13: =SUM(B13*F13) -> 139364.44 | E13: =ROUND(U16,3) -> 0.055 | F13: =ROUND(1.05527789745799,3) -> 1.055 | G13: 4.8032679 | I13: 1.0504562 | J13: Prince George's County, Maryland | K13: 319470 | L13: 186395 | M13: 21310 | N13: 28195 | O13: 20200 | P13: 36745 | Q13: 15345 | R13: 11005 | S13: 280 | T13: =K13-Q13 -> 304125 | U13: =Q13/T13 -> 0.050456227 | W13: =K13/SUM(K13-Q13) -> 1.0504562
A14: Prince William County | B14: 103840 | C14: =(B14*E14) -> 7580.32 | D14: =SUM(B14*F14) -> 111420.32 | E14: =ROUND(U17,3) -> 0.073 | F14: =ROUND(1.07309861717613,3) -> 1.073 | G14: 3.7141877 | I14: 1.0385746 | J14: Arlington County, Virginia | K14: 174870 | L14: 87715 | M14: 13815 | N14: 9030 | O14: 1655 | P14: 51285 | Q14: 6495 | R14: 4815 | S14: 60 | T14: =K14-Q14 -> 168375 | U14: =Q14/T14 -> 0.03857461 | W14: =K14/SUM(K14-Q14) -> 1.0385746
A15: City of Manassas | B15: 23745 | C15: =(B15*E15) -> 973.545 | D15: =SUM(B15*F15) -> 24718.545 | E15: =ROUND(U22,3) -> 0.041 | F15: =ROUND(1.04140608151822,3) -> 1.041 | G15: 4.9081242 | I15: 1.0516145 | J15: Fairfax County, Virginia | K15: 556730 | L15: 371040 | M15: 37880 | N15: 40785 | O15: 8155 | P15: 51160 | Q15: 27325 | R15: 19760 | S15: 620 | T15: =K15-Q15 -> 529405 | U15: =Q15/T15 -> 0.051614548 | W15: =K15/SUM(K15-Q15) -> 1.0516145
A16: City of Manassas Park | B16: 2823 | C16: =(B16*E16) -> 115.743 | D16: =SUM(B16*F16) -> 2938.743 | E16: =ROUND(U22,3) -> 0.041 | F16: =ROUND(1.04140608151822,3) -> 1.041 | G16: 5.2382313 | I16: 1.0552779 | J16: Loudoun County, Virginia | K16: 122465 | L16: 84670 | M16: 6805 | N16: 12545 | O16: 1390 | P16: 5155 | Q16: 6415 | R16: 5170 | S16: 320 | T16: =K16-Q16 -> 116050 | U16: =Q16/T16 -> 0.055277897 | W16: =K16/SUM(K16-Q16) -> 1.0552779
A17: Stafford County | B17: 35604 | C17: =(B17*E17) -> 2171.844 | D17: =SUM(B17*F17) -> 37775.844 | E17: =ROUND(U18,3) -> 0.061 | F17: =ROUND(1.06111981763784,3) -> 1.061 | G17: 6.8119198 | I17: 1.0730986 | J17: Prince William County, Virginia | K17: 117955 | L17: 70550 | M17: 5530 | N17: 12805 | O17: 2390 | P17: 14035 | Q17: 8035 | R17: 4415 | S17: 200 | T17: =K17-Q17 -> 109920 | U17: =Q17/T17 -> 0.073098617 | W17: =K17/SUM(K17-Q17) -> 1.0730986
A18: Frederick County | B18: 91676 | C18: =(B18*E18) -> 5867.264 | D18: =SUM(B18*F18) -> 97543.264 | E18: =ROUND(U11,3) -> 0.064 | F18: =ROUND(1.06411055694098,3) -> 1.064 | G18: 5.7599356 | I18: 1.0611198 | J18: Stafford County, Virginia | K18: 37240 | L18: 22775 | M18: 1750 | N18: 4250 | O18: 1225 | P18: 3400 | Q18: 2145 | R18: 1635 | S18: 60 | T18: =K18-Q18 -> 35095 | U18: =Q18/T18 -> 0.061119818 | W18: =K18/SUM(K18-Q18) -> 1.0611198
A19: Charles County | B19: 40358 | C19: =(B19*E19) -> 2502.196 | D19: =SUM(B19*F19) -> 42860.196 | E19: =ROUND(U10,3) -> 0.062 | F19: =ROUND(1.06245353159851,3) -> 1.062 | G19: 4.757085 | I19: 1.0499469 | J19: Alexandria city, Virginia | K19: 93860 | L19: 52175 | M19: 13660 | N19: 5165 | O19: 1325 | P19: 13465 | Q19: 4465 | R19: 3500 | S19: 105 | T19: =K19-Q19 -> 89395 | U19: =Q19/T19 -> 0.049946865 | W19: =K19/SUM(K19-Q19) -> 1.0499469
A20: Calvert County | B20: 21064 | C20: =(B20*E20) -> 1874.696 | D20: =SUM(B20*F20) -> 22938.696 | E20: =ROUND(U9,3) -> 0.089 | F20: =ROUND(1.08926981300089,3) -> 1.089 | G20: N/A | I20: N/A | J20: Falls Church, Virginia | K20: N/A | L20: N/A | M20: N/A | N20: N/A | O20: N/A | P20: N/A | Q20: N/A | R20: N/A | S20: N/A | T20: N/A | U20: N/A | W20: N/A
A21: Outer Suburbs | B21: =SUM(B13:B20) -> 451209 | C21: =SUM(C13:C20) -> 28351.053 | D21: =SUM(D13:D20) -> 479560.05 | G21: 6.2930908 | I21: 1.0671572 | J21: Fairfax city, Virginia | K21: 34085 | L21: 21180 | M21: 1770 | N21: 3905 | O21: 1525 | P21: 1485 | Q21: 2145 | R21: 2055 | S21: 15 | T21: =K21-Q21 -> 31940 | U21: =Q21/T21 -> 0.06715717 | W21: =K21/SUM(K21-Q21) -> 1.0671572
A22: MSA (1983) Total | B22: =SUM(B6,B12,B21) -> 2767455 | C22: =(SUM(C6,C12,C21)) -> 145795.23 | D22: =SUM(D6,D12,D21) -> 2913250.2 | G22: 3.9759785 | I22: 1.0414061 | J22: Manassas city, Virginia | K22: 24145 | L22: 16570 | M22: 1500 | N22: 2455 | O22: 510 | P22: 955 | Q22: 960 | R22: 1200 | S22: 0 | T22: =K22-Q22 -> 23185 | U22: =Q22/T22 -> 0.041406082 | W22: =K22/SUM(K22-Q22) -> 1.0414061
G23: N/A | I23: N/A | J23: Manassas Park city, Virginia | K23: N/A | L23: N/A | M23: N/A | N23: N/A | O23: N/A | P23: N/A | Q23: N/A | R23: N/A | S23: N/A | T23: N/A | U23: N/A | W23: N/A
A24: The ACS 2006-2008 3 year estmates did not report out the cities of Falls Church and Manassas Park. | G24: 4.9966213 | I24: 1.0525941 | J24: Region | K24: =SUM(K8:K22) -> 2848725 | L24: =SUM(L8:L22) -> 1608115 | M24: =SUM(M8:M22) -> 268290 | N24: =SUM(N8:N22) -> 208375 | O24: =SUM(O8:O22) -> 59590 | P24: =SUM(P8:P22) -> 462960 | Q24: =SUM(Q8:Q22) -> 142340 | R24: =SUM(R8:R22) -> 95930 | S24: =SUM(S8:S22) -> 3140 | T24: =K24-Q24 -> 2706385 | U24: =Q24/T24 -> 0.052594143 | W24: =K24/SUM(K24-Q24) -> 1.0525941
A25: Fairfax City and Mananass City were subsititued. | G25: N/A | I25: N/A | J25: Clarke County, Virginia | K25: N/A | L25: N/A | M25: N/A | N25: N/A | O25: N/A | P25: N/A | Q25: N/A | R25: N/A | S25: N/A | T25: N/A | U25: N/A | W25: N/A
G26: 3.6429143 | I26: 1.0378064 | J26: King George County, Virginia | K26: 12490 | L26: 5075 | M26: 220 | N26: 870 | O26: 120 | P26: 5390 | Q26: 455 | R26: 360 | S26: 0 | T26: =K26-Q26 -> 12035 | U26: =Q26/T26 -> 0.037806398 | W26: =K26/SUM(K26-Q26) -> 1.0378064
G27: 5.661207 | I27: 1.0600093 | J27: St. Mary's County, Maryland | K27: 45485 | L27: 23935 | M27: 1990 | N27: 2950 | O27: 1685 | P27: 11440 | Q27: 2575 | R27: 900 | S27: 20 | T27: =K27-Q27 -> 42910 | U27: =Q27/T27 -> 0.060009322 | W27: =K27/SUM(K27-Q27) -> 1.0600093
G28: 6.1650332 | I28: 1.0657008 | J28: Spotsylvania County, Virginia | K28: 31630 | L28: 22420 | M28: 1670 | N28: 3230 | O28: 480 | P28: 395 | Q28: 1950 | R28: 1405 | S28: 85 | T28: =K28-Q28 -> 29680 | U28: =Q28/T28 -> 0.065700809 | W28: =K28/SUM(K28-Q28) -> 1.0657008
G29: 8.6586091 | I29: 1.0947939 | J29: Fauquier County, Virginia | K29: 25235 | L29: 16285 | M29: 1655 | N29: 2145 | O29: 720 | P29: 905 | Q29: 2185 | R29: 1240 | S29: 95 | T29: =K29-Q29 -> 23050 | U29: =Q29/T29 -> 0.094793926 | W29: =K29/SUM(K29-Q29) -> 1.0947939
G30: 3.4743511 | I30: 1.0359941 | J30: Fredericksburg city, Virginia | K30: 24465 | L30: 16900 | M30: 2545 | N30: 1425 | O30: 1335 | P30: 525 | Q30: 850 | R30: 865 | S30: 15 | T30: =K30-Q30 -> 23615 | U30: =Q30/T30 -> 0.035994072 | W30: =K30/SUM(K30-Q30) -> 1.0359941
G31: 8.7880528 | I31: 1.0963476 | J31: Jefferson County, West Virginia | K31: 17410 | L31: 10245 | M31: 1170 | N31: 1730 | O31: 1060 | P31: 985 | Q31: 1530 | R31: 660 | S31: 35 | T31: =K31-Q31 -> 15880 | U31: =Q31/T31 -> 0.096347607 | W31: =K31/SUM(K31-Q31) -> 1.0963476

Sheet TOTAL
A1: JURISDICTIONS | B1: 2010
A2: District of Columbia | B2: =SUM('Wage&Salary'!L3+Military!L7+'Self-Employed'!C3) -> 758860
A3: Arlington County | B3: =SUM('Wage&Salary'!L4+Military!L8+'Self-Employed'!C4) -> 181064.27
A4: City of Alexandria | B4: =SUM('Wage&Salary'!L5+Military!L9+'Self-Employed'!C5) -> 105072.6
A5: Central Jurisdictions | B5: =SUM(B2:B4) -> 1044996.9
A6: Montgomery County | B6: =SUM('Wage&Salary'!L7+Military!L11+'Self-Employed'!C7) -> 479006.42
A7: Prince George's County | B7: =SUM('Wage&Salary'!L8+Military!L12+'Self-Employed'!C8) -> 321816.85
A8: Fairfax County | B8: =SUM('Wage&Salary'!L9+Military!L13+'Self-Employed'!C9) -> 610869.01
A9: City of Fairfax | B9: =SUM('Wage&Salary'!L10+'Self-Employed'!C10) -> 21208.759
A10: City of Falls Church | B10: =SUM('Wage&Salary'!L11+'Self-Employed'!C11) -> 13222.264
A11: Inner Suburbs | B11: =SUM(B6:B10) -> 1446123.3
A12: Loudoun County | B12: =SUM('Wage&Salary'!L13+Military!L15+'Self-Employed'!C13) -> 140386.45
A13: Prince William County | B13: =SUM('Wage&Salary'!L14+Military!L16+'Self-Employed'!C14) -> 118285.32
A14: City of Manassas | B14: =SUM('Wage&Salary'!L15+'Self-Employed'!C15) -> 24718.545
A15: City of Manassas Park | B15: =SUM('Wage&Salary'!L16+'Self-Employed'!C16) -> 2938.743
A16: Stafford County | B16: =SUM('Wage&Salary'!L17+Military!L17+'Self-Employed'!C17) -> 40536.844
A17: Frederick County | B17: =SUM('Wage&Salary'!L18+Military!L18+'Self-Employed'!C18) -> 99331.264
A18: Charles County | B18: =SUM('Wage&Salary'!L19+Military!L19+'Self-Employed'!C19) -> 43912.196
A19: Calvert County | B19: =SUM('Wage&Salary'!L20+Military!L20+'Self-Employed'!C20) -> 23240.696
A20: Outer Suburbs | B20: =SUM(B12:B19) -> 493350.05
A21: MSA (1983) Total | B21: =SUM(B5,B11,B20) -> 2984470.2
A24: Round 8.0 Cooperative Forecast
A26: JURISDICTION | B26: 2000 | C26: 2005 | D26: 2010 | E26: 2015 | F26: 2020 | G26: 2025 | H26: 2030 | I26: 2035 | J26: 2040
A28: District of Columbia | B28: 743.594 | C28: 750.245 | D28: 785.963 | E28: 822.911 | F28: 868.256 | G28: 897.872 | H28: 923.988 | I28: 950.104 | J28: 977.163
A29: Arlington County | B29: 182.587 | C29: 195.158 | D29: 205.175 | E29: 218.214 | F29: 243.835 | G29: 262.358 | H29: 268.606 | I29: 278.539 | J29: 281.12
A30: City of Alexandria | B30: 89.273 | C30: 105.75 | D30: 108.895 | E30: 117.666 | F30: 124.115 | G30: 135.439 | H30: 142.257 | I30: 153.606 | J30: 160.447
A32: Central Jurisdictions | B32: =SUM(B28:B30) -> 1015.454 | C32: =SUM(C28:C30) -> 1051.153 | D32: =SUM(D28:D30) -> 1100.033 | E32: =SUM(E28:E30) -> 1158.791 | F32: =SUM(F28:F30) -> 1236.206 | G32: =SUM(G28:G30) -> 1295.669 | H32: =SUM(H28:H30) -> 1334.851 | I32: =SUM(I28:I30) -> 1382.249 | J32: =SUM(J28:J30) -> 1418.73
A34: Montgomery County (1) | B34: 474.3 | C34: 500 | D34: 506 | E34: 540 | F34: 585 | G34: 628 | H34: 673 | I34: 703 | J34: 723
A35: Rockville (2) | B35: 68.739 | C35: 76.597 | D35: 74.549 | E35: 83.596 | F35: 91.6 | G35: 96.783 | H35: 99.403 | I35: 102.403 | J35: 105.403
A36: Gaithersburg (2) | B36: 43.051 | C36: 48.78 | D36: 50.418 | E36: 54.909 | F36: 62.495 | G36: 67.123 | H36: 72.632 | I36: 79.585 | J36: 83.383
A37: Prince George's County | B37: 338.278 | C37: 347.885 | D37: 358.385 | E37: 370.135 | F37: 383.635 | G37: 399.635 | H37: 419.635 | I37: 444.135 | J37: 474.635
A38: Fairfax County (3) | B38: 576.969 | C38: 601.93 | D38: 641.34 | E38: 684.825 | F38: 743.608 | G38: 781.409 | H38: 812.203 | I38: 837.595 | J38: 861.684
A39: City of Fairfax | B39: 23.5 | C39: 26.1 | D39: 27.3 | E39: 28.7 | F39: 30.6 | G39: 32.4 | H39: 34 | I39: 35.7 | J39: 37.5
A40: City of Falls Church | B40: 9.5 | C40: 11.301 | D40: 11.401 | E40: 11.999 | F40: 14.3 | G40: 16.2 | H40: 17.6 | I40: 18.001 | J40: 18.3
A42: Inner Suburbs | B42: =SUM(B34,B37,B38,B39,B40) -> 1422.547 | C42: =SUM(C34,C37,C38,C39,C40) -> 1487.216 | D42: =SUM(D34,D37,D38,D39,D40) -> 1544.426 | E42: =SUM(E34,E37,E38,E39,E40) -> 1635.659 | F42: =SUM(F34,F37,F38,F39,F40) -> 1757.143 | G42: =SUM(G34,G37,G38,G39,G40) -> 1857.644 | H42: =SUM(H34,H37,H38,H39,H40) -> 1956.438 | I42: =SUM(I34,I37,I38,I39,I40) -> 2038.431 | J42: =SUM(J34,J37,J38,J39,J40) -> 2115.119
A44: Loudoun County | B44: 95.4 | C44: 125.594 | D44: 143.736 | E44: 167.57 | F44: 206.458 | G44: 236.327 | H44: 257.195 | I44: 271.462 | J44: 285.415
A45: Prince William County | B45: 94.61 | C45: 113.137 | D45: 115.41 | E45: 134.776 | F45: 155.277 | G45: 174.801 | H45: 195.905 | I45: 217.763 | J45: 240.797
A46: City of Manassas | B46: 22.528 | C46: 23.341 | D46: 24.586 | E46: 27.269 | F46: 28.774 | G46: 30.279 | H46: 31.784 | I46: 33.289 | J46: 34.794
A47: City of Manassas Park | B47: 2.734 | C47: 2.951 | D47: 4.536 | E47: 4.626 | F47: 4.718 | G47: 4.812 | H47: 4.908 | I47: 5.007 | J47: 5.106
A48: Calvert County (4) | B48: 22.832 | C48: 32.431 | D48: 35.2 | E48: 41.097 | F48: 44.501 | G48: 46.305 | H48: 47.206 | I48: 48.102 | J48: 49.003
A49: Charles County (4) | B49: 41.867 | C49: 58.552 | D49: 62.199 | E49: 68.405 | F49: 71.695 | G49: 74.695 | H49: 77.499 | I49: 80.298 | J49: 83.097
A50: Frederick County | B50: 96.304 | C50: 122.162 | D50: 142.412 | E50: 151.456 | F50: 158.278 | G50: 163.464 | H50: 167.257 | I50: 171.139 | J50: 175.109
A51: Stafford County (5) | B51: 30.2 | C51: 35.579 | D51: 42.129 | E51: 48.626 | F51: 54.627 | G51: 60.396 | H51: 65.101 | I51: 69.576 | J51: 74.224
A53: Outer Suburbs | B53: =SUM(B44:B51) -> 406.475 | C53: =SUM(C44:C51) -> 513.747 | D53: =SUM(D44:D51) -> 570.208 | E53: =SUM(E44:E51) -> 643.825 | F53: =SUM(F44:F51) -> 724.328 | G53: =SUM(G44:G51) -> 791.079 | H53: =SUM(H44:H51) -> 846.855 | I53: =SUM(I44:I51) -> 896.636 | J53: =SUM(J44:J51) -> 947.545
A55: MSA (1983) REGIONAL TOTAL | B55: =SUM(B28,B29,B30,B34,B37,B38,B39,B40,B44,B45,B46,B47,B48,B49,B50,B51) -> 2844.476 | C55: =SUM(C28,C29,C30,C34,C37,C38,C39,C40,C44,C45,C46,C47,C48,C49,C50,C51) -> 3052.116 | D55: =SUM(D28,D29,D30,D34,D37,D38,D39,D40,D44,D45,D46,D47,D48,D49,D50,D51) -> 3214.667 | E55: =SUM(E28,E29,E30,E34,E37,E38,E39,E40,E44,E45,E46,E47,E48,E49,E50,E51) -> 3438.275 | F55: =SUM(F28,F29,F30,F34,F37,F38,F39,F40,F44,F45,F46,F47,F48,F49,F50,F51) -> 3717.677 | G55: =SUM(G28,G29,G30,G34,G37,G38,G39,G40,G44,G45,G46,G47,G48,G49,G50,G51) -> 3944.392 | H55: =SUM(H28,H29,H30,H34,H37,H38,H39,H40,H44,H45,H46,H47,H48,H49,H50,H51) -> 4138.144 | I55: =SUM(I28,I29,I30,I34,I37,I38,I39,I40,I44,I45,I46,I47,I48,I49,I50,I51) -> 4317.316 | J55: =SUM(J28,J29,J30,J34,J37,J38,J39,J40,J44,J45,J46,J47,J48,J49,J50,J51) -> 4481.394
A58: Final (June 2009) ROUND 8.0 ECONOMETRIC MODEL RESULTS (thousands) Scenario #1 - 1983 MSA Geography
A59: Revised 10/15/09
B60: 2005 | C60: 2010 | D60: 2015 | E60: 2020 | F60: 2025 | G60: 2030 | H60: 2035 | I60: 2040
A62: TOTAL JOBS | B62: 3145.4 | C62: 3231.7 | D62: 3442.2 | E62: 3656.1 | F62: 3846.1 | G62: 4045.3 | H62: 4236 | I62: 4428.3
