Workbook

Sheet Summary Table
A2: Summary Tables by Project Component: 3% and 7% Discount Rates
A5: ('000s of $, 3% Discount Rate for Costs and Benefits) | B5: Fort Totten / 1st Place-Galloway Road Access Improvement Project | C5: Forest Glen Metro Access Project | D5: Pedestrian Safety Measures for the New Carrollton Metro Station | E5: Rosslyn Circle Crossing | F5: West Hyattsville Improvements | G5: Army Navy Drive Multimodal Access Improvement Project | H5: Bicycle Lockers at Virginia Railway Express (VRE) Stations
A6: Costs | B6: =FT!D219 -> 6401.1629 | C6: ='Forest Glen'!D341 -> 20558.433 | D6: =NC!D223 -> 759.94886 | E6: =Rosslyn!D219 -> 7403.2447 | F6: =WH!D216 -> 937.30421 | G6: ='A-N Drive'!D283 -> 18134.137 | H6: =VRE!D161 -> 535.47519
A7: Capital | B7: =FT!D220 -> 3864.7028 | C7: ='Forest Glen'!D342 -> 14078.602 | D7: =NC!D224 -> 557.49337 | E7: =Rosslyn!D220 -> 3831.9238 | F7: =WH!D217 -> 670.53916 | G7: ='A-N Drive'!D284 -> 6478.7163 | H7: =VRE!D162 -> 267.10111
A8: Operating | B8: =FT!D221 -> 0 | C8: ='Forest Glen'!D343 -> 1161.6054 | D8: =NC!D225 -> 0 | E8: =Rosslyn!D221 -> 0 | F8: =WH!D218 -> 0 | G8: ='A-N Drive'!D285 -> 0 | H8: =VRE!D163 -> 67.599326
A9: Construction Impacts | B9: =FT!D222 -> 45.981611 | C9: ='Forest Glen'!D344 -> 515.85312 | D9: =NC!D226 -> 79.890028 | E9: =Rosslyn!D222 -> 300.30111 | F9: =WH!D219 -> 0 | G9: ='A-N Drive'!D286 -> 291.60577 | H9: =VRE!D164 -> 0
A10: Accident | B10: =FT!D223 -> 2490.4784 | C10: ='Forest Glen'!D345 -> 4802.373 | D10: =NC!D227 -> 122.56546 | E10: =Rosslyn!D223 -> 3271.0198 | F10: =WH!D220 -> 266.76505 | G10: ='A-N Drive'!D287 -> 11363.815 | H10: =VRE!D165 -> 200.77475
A12: Benefits | B12: =FT!D225 -> 13028.56 | C12: ='Forest Glen'!D347 -> 22566.527 | D12: =NC!D229 -> 2121.8693 | E12: =Rosslyn!D225 -> 22213.364 | F12: =WH!D222 -> 2793.6558 | G12: ='A-N Drive'!D289 -> 43379.679 | H12: =VRE!D167 -> 1170.7782
A13: Net Travel Time Savings | B13: =FT!D226 -> 1874.0217 | C13: ='Forest Glen'!D348 -> 1609.1779 | D13: =NC!D230 -> 208.62561 | E13: =Rosslyn!D226 -> 1127.748 | F13: =WH!D223 -> 746.34588 | G13: ='A-N Drive'!D290 -> -2104.1848 | H13: =VRE!D168 -> -69.716092
A14: Net Travel Cost Savings | B14: =FT!D227 -> 3085.0995 | C14: ='Forest Glen'!D349 -> 4154.1864 | D14: =NC!D231 -> 286.36619 | E14: =Rosslyn!D227 -> 3357.5015 | F14: =WH!D224 -> 628.26408 | G14: ='A-N Drive'!D291 -> 10813.969 | H14: =VRE!D169 -> 448.57734
A15: Increased Access | B15: =FT!D228 -> 186.86232 | C15: ='Forest Glen'!D350 -> 3436.882 | D15: =NC!D232 -> 8.8377778 | E15: =Rosslyn!D228 -> 1779.0725 | F15: =WH!D225 -> 102.57192 | G15: ='A-N Drive'!D292 -> 6617.1238 | H15: =VRE!D170 -> 21.7747
A16: Congestion Reduction | B16: =FT!D229 -> 743.71837 | C16: ='Forest Glen'!D351 -> 3593.8662 | D16: =NC!D233 -> 962.34766 | E16: =Rosslyn!D229 -> -6164.5701 | F16: =WH!D226 -> 36.650921 | G16: ='A-N Drive'!D293 -> 2082.2674 | H16: =VRE!D171 -> 69.463153
A17: Environmental | B17: =FT!D230 -> 897.33729 | C17: ='Forest Glen'!D352 -> 908.20133 | D17: =NC!D234 -> 86.025054 | E17: =Rosslyn!D230 -> 972.7877 | F17: =WH!D227 -> 183.14132 | G17: ='A-N Drive'!D294 -> 2351.4321 | H17: =VRE!D172 -> 318.06148
A18: Health Benefits | B18: =FT!D231 -> 0.27684891 | C18: ='Forest Glen'!D353 -> 11.346124 | D18: =NC!D235 -> 0.019206134 | E18: =Rosslyn!D231 -> 6.9955569 | F18: =WH!D228 -> 0.55595952 | G18: ='A-N Drive'!D295 -> 26.833322 | H18: =VRE!D173 -> 0.58943344
... A23: Benefit-Cost Ratio | B23: =FT!D236 -> 2.0353426 | C23: ='Forest Glen'!D358 -> 1.5431043 | D23: =NC!D240 -> 2.7921211 | E23: =Rosslyn!D236 -> 3.0004904 | F23: =WH!D233 -> 2.980522 | G23: ='A-N Drive'!D300 -> 2.3921557 | H23: =VRE!D178 -> 2.1864285
A26: ('000s of $, 7% Discount Rate for Costs and Benefits) | B26: Fort Totten / 1st Place-Galloway Road Access Improvement Project | C26: Forest Glen Metro Access Project | D26: Pedestrian Safety Measures for the New Carrollton Metro Station | E26: =E5 -> Rosslyn Circle Crossing | F26: West Hyattsville Improvements | G26: Army Navy Drive Multimodal Access Improvement Project | H26: Bicycle Lockers at Virginia Railway Express (VRE) Stations
A27: Costs | B27: =FT!D240 -> 5000.2022 | C27: ='Forest Glen'!D362 -> 16432.34 | D27: =NC!D244 -> 690.26769 | E27: =Rosslyn!D240 -> 5964.0959 | F27: =WH!D237 -> 793.4982 | G27: ='A-N Drive'!D304 -> 13674.453 | H27: =VRE!D182 -> 408.9229
A28: Capital | B28: =FT!D241 -> 3503.8922 | C28: ='Forest Glen'!D363 -> 12399.399 | D28: =NC!D245 -> 535.24821 | E28: =Rosslyn!D241 -> 3603.5217 | F28: =WH!D238 -> 622.65263 | G28: ='A-N Drive'!D305 -> 6043.432 | H28: =VRE!D183 -> 247.25124
A29: Operating | B29: =FT!D242 -> 0 | C29: ='Forest Glen'!D364 -> 697.3782 | D29: =NC!D246 -> 0 | E29: =Rosslyn!D242 -> 0 | F29: =WH!D239 -> 0 | G29: ='A-N Drive'!D306 -> 0 | H29: =VRE!D184 -> 43.475921
A30: Construction Impacts | B30: =FT!D243 -> 42.607993 | C30: ='Forest Glen'!D365 -> 453.37732 | D30: =NC!D247 -> 74.028588 | E30: =Rosslyn!D243 -> 281.93293 | F30: =WH!D240 -> 0 | G30: ='A-N Drive'!D307 -> 275.53535 | H30: =VRE!D185 -> 0
A31: Accident | B31: =FT!D244 -> 1453.702 | C31: ='Forest Glen'!D366 -> 2882.1848 | D31: =NC!D248 -> 80.990887 | E31: =Rosslyn!D244 -> 2078.6413 | F31: =WH!D241 -> 170.84557 | G31: ='A-N Drive'!D308 -> 7355.4852 | H31: =VRE!D186 -> 118.19574
A33: Benefits | B33: =FT!D246 -> 8386.043 | C33: ='Forest Glen'!D368 -> 13554.7 | D33: =NC!D250 -> 1380.0429 | E33: =Rosslyn!D246 -> 14031.831 | F33: =WH!D243 -> 1791.5929 | G33: ='A-N Drive'!D310 -> 27831.5 | H33: =VRE!D188 -> 694.09296
A34: Net Travel Time Savings | B34: =FT!D247 -> 1206.1574 | C34: ='Forest Glen'!D369 -> 956.80048 | D34: =NC!D251 -> 129.31117 | E34: =Rosslyn!D247 -> 703.69243 | F34: =WH!D244 -> 476.55554 | G34: ='A-N Drive'!D311 -> -1415.5071 | H34: =VRE!D189 -> -41.701449
A35: Net Travel Cost Savings | B35: =FT!D248 -> 1987.1532 | C35: ='Forest Glen'!D370 -> 2490.4594 | D35: =NC!D252 -> 189.22991 | E35: =Rosslyn!D248 -> 2133.598 | F35: =WH!D245 -> 402.36205 | G35: ='A-N Drive'!D312 -> 6967.0876 | H35: =VRE!D190 -> 264.07667
A36: Increased Access | B36: =FT!D249 -> 112.10441 | C36: ='Forest Glen'!D371 -> 2060.7344 | D36: =NC!D253 -> 5.4575914 | E36: =Rosslyn!D249 -> 1124.8923 | F36: =WH!D246 -> 65.333064 | G36: ='A-N Drive'!D313 -> 4283.0886 | H36: =VRE!D191 -> 12.801366
A37: Congestion Reduction | B37: =FT!D250 -> 476.21158 | C37: ='Forest Glen'!D372 -> 2195.0698 | D37: =NC!D254 -> 620.56713 | E37: =Rosslyn!D250 -> -4006.5857 | F37: =WH!D247 -> 23.472518 | G37: ='A-N Drive'!D314 -> 1353.6512 | H37: =VRE!D192 -> 40.892833
A38: Environmental | B38: =FT!D251 -> 599.99505 | C38: ='Forest Glen'!D373 -> 556.09612 | D38: =NC!D255 -> 59.042909 | E38: =Rosslyn!D251 -> 641.83323 | F38: =WH!D248 -> 121.51681 | G38: ='A-N Drive'!D315 -> 1569.8368 | H38: =VRE!D193 -> 192.77722
A39: Health Benefits | B39: =FT!D252 -> 0.14805718 | C39: ='Forest Glen'!D374 -> 6.8135858 | D39: =NC!D256 -> 0.012691356 | E39: =Rosslyn!D252 -> 4.4454802 | F39: =WH!D249 -> 0.35605571 | G39: ='A-N Drive'!D316 -> 17.41957 | H39: =VRE!D194 -> 0.34699841
... A44: Benefit-Cost Ratio | B44: =FT!D257 -> 1.6771408 | C44: ='Forest Glen'!D379 -> 1.1130303 | D44: =NC!D261 -> 1.9992866 | E44: =Rosslyn!D257 -> 2.3527173 | F44: =WH!D254 -> 2.2578412 | G44: ='A-N Drive'!D321 -> 2.0352917 | H44: =VRE!D199 -> 1.6973688
A48: Overall Project Summary Tables: 3% and 7% Discount Rates
A50: Current ($2011) Dollars
A51: Rate of Return | B51: =IRR(B99:Y99) -> 0.17382282
A52: Benefit/Cost Ratio | B52: =-SUM(B98:Y98)/SUM(B97:Y97) -> 2.4673435
A53: 3% Discount Rate
A54: Rate of Return | B54: =IRR(B102:Y102) -> 0.13963381
A55: Benefit/Cost Ratio | B55: =(SUM(FT!F233:AC233)+ SUM('Forest Glen'!F355:AC355)+ SUM(NC!F237:AC237)+ SUM(Rosslyn!F233:AC233)+ SUM(WH!F230:AC230)+ SUM('A-N Drive'!F297:AC297)+ SUM(VRE!F175:AC175))/- (SUM(FT!F224:AC224)+ SUM('Forest Glen'!F346:AC346)+ SUM(NC!F228:AC228)+ SUM(Rosslyn!F224:AC224)+ SUM(WH!F221:AC221)+ SUM('A-N Drive'!F288:AC288)+ SUM(VRE!F166:AC166)) -> 2.0681133
A56: 7% Discount Rate
A57: Rate of Return | B57: =IRR(B105:Y105) -> 0.097030673
A58: Benefit/Cost Ratio | B58: =(SUM(FT!F254:AC254)+ SUM('Forest Glen'!F376:AC376)+ SUM(NC!F258:AC258)+ SUM(Rosslyn!F254:AC254)+ SUM(WH!F251:AC251)+ SUM('A-N Drive'!F318:AC318)+ SUM(VRE!F196:AC196))/- (SUM(FT!F245:AC245)+ SUM('Forest Glen'!F367:AC367)+ SUM(NC!F249:AC249)+ SUM(Rosslyn!F245:AC245)+ SUM(WH!F242:AC242)+ SUM('A-N Drive'!F309:AC309)+ SUM(VRE!F187:AC187)) -> 1.6540643
A60: User Trips | B60: 2020 (Year 8) | C60: 2036 (Year 24) | D60: Total (2013 to 2036)
...

Sheet FT
F1: 2013 | G1: 2014 | H1: 2015 | I1: 2016 | J1: 2017 | K1: 2018 | L1: 2019 | M1: 2020 | N1: 2021 | O1: 2022 | P1: 2023 | Q1: 2024 | R1: 2025 | S1: 2026 | T1: 2027 | U1: 2028 | V1: 2029 | W1: 2030 | X1: 2031 | Y1: 2032 | Z1: 2033 | AA1: 2034 | AB1: 2035 | AC1: 2036
D2: Factor | E2: Total | F2: Year 1 | G2: Year 2 | H2: Year 3 | I2: Year 4 | J2: Year 5 | K2: Year 6 | L2: Year 7 | M2: Year 8 | N2: Year 9 | O2: Year 10 | P2: Year 11 | Q2: Year 12 | R2: Year 13 | S2: Year 14 | T2: Year 15 | U2: Year 16 | V2: Year 17 | W2: Year 18 | X2: Year 19 | Y2: Year 20 | Z2: Year 21 | AA2: Year 22 | AB2: Year 23 | AC2: Year 24
A5: Project Costs | C5: O & M
C6: Construction | G6: -1733836.5 | H6: -2437213.5
A8: Users
B9: PEDESTRIAN
B10: Local | C10: Current User | F10: ='FT Users'!C5 -> 0 | G10: ='FT Users'!D5 -> 375391.08 | H10: ='FT Users'!E5 -> 758594.86 | I10: ='FT Users'!F5 -> 766407.57 | J10: ='FT Users'!G5 -> 774220.28 | K10: ='FT Users'!H5 -> 782032.98 | L10: ='FT Users'!I5 -> 789845.69 | M10: ='FT Users'!J5 -> 797658.39 | ... AC10: ='FT Users'!Z5 -> 836978.85 | AD10: =SUM(F10:AC10) -> 18138675
B11: Commute | C11: Trip shifted from auto to transit+ped | F11: ='FT Users'!C6 -> 0 | G11: ='FT Users'!D6 -> 15015.643 | H11: ='FT Users'!E6 -> 30343.795 | I11: ='FT Users'!F6 -> 30656.303 | J11: ='FT Users'!G6 -> 30968.811 | K11: ='FT Users'!H6 -> 31281.319 | L11: ='FT Users'!I6 -> 31593.827 | M11: ='FT Users'!J6 -> 31906.336 | ... AC11: ='FT Users'!Z6 -> 33479.154 | AD11: =SUM(F11:AC11) -> 725547.02
C12: Trips not taken before (none to transit+ped) | F12: ='FT Users'!C7 -> 0 | G12: ='FT Users'!D7 -> 11261.732 | H12: ='FT Users'!E7 -> 22757.846 | I12: ='FT Users'!F7 -> 22992.227 | J12: ='FT Users'!G7 -> 23226.608 | K12: ='FT Users'!H7 -> 23460.989 | L12: ='FT Users'!I7 -> 23695.371 | M12: ='FT Users'!J7 -> 23929.752 | ... AC12: ='FT Users'!Z7 -> 25109.366 | AD12: =SUM(F12:AC12) -> 544160.26
B14: BICYCLE
B15: Local | C15: Current User | F15: ='FT Users'!C11 -> 0 | G15: ='FT Users'!D11 -> 2319.072 | H15: ='FT Users'!E11 -> 5272.6421 | I15: ='FT Users'!F11 -> 5993.9395 | J15: ='FT Users'!G11 -> 6813.9105 | K15: ='FT Users'!H11 -> 7746.0534 | L15: ='FT Users'!I11 -> 8805.7135 | M15: ='FT Users'!J11 -> 10010.335 | ... AC15: ='FT Users'!Z11 -> 77874.21 | AD15: =SUM(F15:AC15) -> 610906.5
B16: Commute | C16: Trip shifted from auto to transit+bike | F16: ='FT Users'!C12 -> 0 | G16: ='FT Users'!D12 -> 92.76288 | H16: ='FT Users'!E12 -> 210.90568 | I16: ='FT Users'!F12 -> 239.75758 | J16: ='FT Users'!G12 -> 272.55642 | K16: ='FT Users'!H12 -> 309.84214 | L16: ='FT Users'!I12 -> 352.22854 | M16: ='FT Users'!J12 -> 400.41341 | ... AC16: ='FT Users'!Z12 -> 3114.9684 | AD16: =SUM(F16:AC16) -> 24436.26
C17: Trips not taken before (none to transit+bike) | F17: ='FT Users'!C13 -> 0 | G17: ='FT Users'!D13 -> 69.57216 | H17: ='FT Users'!E13 -> 158.17926 | I17: ='FT Users'!F13 -> 179.81819 | J17: ='FT Users'!G13 -> 204.41731 | K17: ='FT Users'!H13 -> 232.3816 | L17: ='FT Users'!I13 -> 264.17141 | M17: ='FT Users'!J13 -> 300.31005 | ... AC17: ='FT Users'!Z13 -> 2336.2263 | AD17: =SUM(F17:AC17) -> 18327.195 | AG17: Comp. Grpah
AG18: =AD45+AD57+AD64 -> 7129473.2
C19: TRAVEL IMPACTS | AG19: =+#REF!+#REF!+#REF!+AD169+AD167 -> #REF!
C20: Rail transit trips change | F20: ='FT Users'!C24 -> 0 | G20: ='FT Users'!D24 -> 26439.711 | H20: ='FT Users'!E24 -> 53470.725 | I20: ='FT Users'!F24 -> 54068.106 | J20: ='FT Users'!G24 -> 54672.393 | K20: ='FT Users'!H24 -> 55284.532 | L20: ='FT Users'!I24 -> 55905.598 | M20: ='FT Users'!J24 -> 56536.811 | ... AC20: ='FT Users'!Z24 -> 64039.714 | AD20: =SUM(F20:AC20) -> 1312470.7
C21: Bus transit trips change | F21: ='FT Users'!C25 -> 0 | G21: ='FT Users'!D25 -> -13209.684 | H21: ='FT Users'!E25 -> -26714.792 | I21: ='FT Users'!F25 -> -27013.252 | J21: ='FT Users'!G25 -> -27315.163 | K21: ='FT Users'!H25 -> -27620.998 | L21: ='FT Users'!I25 -> -27931.291 | M21: ='FT Users'!J25 -> -28246.655 | ... AC21: ='FT Users'!Z25 -> -31995.22 | AD21: =SUM(F21:AC21) -> -655730.44
C22: Auto VT reduced | F22: ='FT Users'!C26 -> 0 | G22: ='FT Users'!D26 -> -15108.406 | H22: ='FT Users'!E26 -> -30554.7 | I22: ='FT Users'!F26 -> -30896.06 | J22: ='FT Users'!G26 -> -31241.367 | K22: ='FT Users'!H26 -> -31591.161 | L22: ='FT Users'!I26 -> -31946.056 | M22: ='FT Users'!J26 -> -32306.749 | ... AC22: ='FT Users'!Z26 -> -36594.123 | AD22: =SUM(F22:AC22) -> -749983.28
C23: Auto VMT reduced | F23: ='FT Users'!C27 -> 0 | G23: ='FT Users'!D27 -> -98204.639 | H23: ='FT Users'!E27 -> -198605.55 | I23: ='FT Users'!F27 -> -200824.39 | J23: ='FT Users'!G27 -> -203068.89 | K23: ='FT Users'!H27 -> -205342.55 | L23: ='FT Users'!I27 -> -207649.36 | M23: ='FT Users'!J27 -> -209993.87 | ... AC23: ='FT Users'!Z27 -> -237861.8 | AD23: =SUM(F23:AC23) -> -4874891.3
C24: Auto fuel savings | F24: ='FT Users'!C28 -> 0 | G24: ='FT Users'!D28 -> 17305.906 | H24: ='FT Users'!E28 -> 34210.076 | I24: ='FT Users'!F28 -> 33829.85 | J24: ='FT Users'!G28 -> 33470.252 | K24: ='FT Users'!H28 -> 33130.541 | L24: ='FT Users'!I28 -> 32810.116 | M24: ='FT Users'!J28 -> 32508.505 | ... AC24: ='FT Users'!Z28 -> 35807.057 | AD24: =SUM(F24:AC24) -> 753925.31
A26: Non-Users
B27: ROAD
B28: Construction Impact | C28: Current User | F28: ='FT Users'!C17 -> 0 | G28: ='FT Users'!D17 -> 3173952.8 | H28: ='FT Users'!E17 -> 0 | I28: ='FT Users'!F17 -> 0 | J28: ='FT Users'!G17 -> 0 | K28: ='FT Users'!H17 -> 0 | L28: ='FT Users'!I17 -> 0 | M28: ='FT Users'!J17 -> 0 | ... AC28: ='FT Users'!Z17 -> 0 | AD28: =SUM(F28:AC28) -> 3173952.8
B29: Long-Term Impact | C29: Reduced Users | F29: ='FT Users'!C19 -> 0 | G29: ='FT Users'!D19 -> -7554.203 | H29: ='FT Users'!E19 -> -15277.35 | I29: ='FT Users'!F19 -> -15448.03 | J29: ='FT Users'!G19 -> -15620.684 | K29: ='FT Users'!H19 -> -15795.581 | L29: ='FT Users'!I19 -> -15973.028 | M29: ='FT Users'!J19 -> -16153.375 | ... AC29: ='FT Users'!Z19 -> -18297.061 | AD29: =SUM(F29:AC29) -> -374991.64
C30: Total Users | F30: ='FT Users'!C20 -> 0 | G30: ='FT Users'!D20 -> 0 | H30: ='FT Users'!E20 -> 3191703.9 | I30: ='FT Users'!F20 -> 3224561.6 | J30: ='FT Users'!G20 -> 3257417.4 | K30: ='FT Users'!H20 -> 3290270.9 | L30: ='FT Users'!I20 -> 3323121.9 | M30: ='FT Users'!J20 -> 3355970 | ... AC30: ='FT Users'!Z20 -> 3520054.7 | AD30: =SUM(F30:AC30) -> 74727349
A33: STATE OF GOOD REPAIR
C34: New Construction for this project
A38: ECONOMIC COMPETITIVENESS
B40: PEDESTRIAN
B41: Local | C41: Current User
C42: TRAVEL TIME COST/SAVINGS
C43: Travel time savings (hour) | D43: =50/3600 -> 0.013888889
C44: Value of time, ped, $/hour | D44: 26.21
C45: Total time cost/savings | F45: 0 | G45: =$D$44*$D$43*G10 -> 136652.78 | H45: =$D$44*$D$43*H10 -> 276149.6 | I45: =$D$44*$D$43*I10 -> 278993.64 | J45: =$D$44*$D$43*J10 -> 281837.69 | K45: =$D$44*$D$43*K10 -> 284681.73 | L45: =$D$44*$D$43*L10 -> 287525.77 | M45: =$D$44*$D$43*M10 -> 290369.81 | N45: =$D$44*$D$43*N10 -> 291254.26 | ... AC45: =$D$44*$D$43*AC10 -> 304683.55 | AD45: =SUM(F45:AC45) -> 6602981.7
B47: Commute | C47: Mode shift (auto to transit+ped) | F47: =F11 -> 0 | G47: =G11 -> 15015.643 | H47: =H11 -> 30343.795 | I47: =I11 -> 30656.303 | J47: =J11 -> 30968.811 | K47: =K11 -> 31281.319 | L47: =L11 -> 31593.827 | M47: =M11 -> 31906.336 | ... AC47: =AC11 -> 33479.154 | AD47: =SUM(F47:AC47) -> 725547.02
C48: TRAVEL TIME COST/SAVINGS
C49: travel time, auto | D49: varies | F49: ='Mode Operating Assumptions'!D29 -> 0.3910028 | G49: ='Mode Operating Assumptions'!E29 -> 0.39205715 | H49: ='Mode Operating Assumptions'!F29 -> 0.39311875 | I49: ='Mode Operating Assumptions'!G29 -> 0.39418767 | J49: ='Mode Operating Assumptions'!H29 -> 0.395264 | K49: ='Mode Operating Assumptions'!I29 -> 0.39634781 | L49: ='Mode Operating Assumptions'!J29 -> 0.39743917 | M49: ='Mode Operating Assumptions'!K29 -> 0.39853817 | ... AC49: ='Mode Operating Assumptions'!AA29 -> 0.41723012 | AD49: =SUM(F49:AC49) -> 9.6905878
C50: travel time, transit | D50: ='Mode Operating Assumptions'!C150 -> 0.38127572
C51: travel time, ped | D51: ='Mode Operating Assumptions'!C52 -> 0.234375
C52: Value of time, auto, $/hour | D52: ='Price Assumptions'!B3 -> 12.5
...

Sheet FT Users
A2: USERS and NON-USERS | C2: 2013 | D2: 2014 | E2: 2015 | F2: 2016 | G2: 2017 | H2: 2018 | I2: 2019 | J2: 2020 | K2: 2021 | L2: 2022 | M2: 2023 | N2: 2024 | O2: 2025 | P2: 2026 | Q2: 2027 | R2: 2028 | S2: 2029 | T2: 2030 | U2: 2031 | V2: 2032 | W2: 2033 | X2: 2034 | Y2: 2035 | Z2: 2036
C3: Year 1 | D3: Year 2 | E3: Year 3 | F3: Year 4 | G3: Year 5 | H3: Year 6 | I3: Year 7 | J3: Year 8 | K3: Year 9 | L3: Year 10 | M3: Year 11 | N3: Year 12 | O3: Year 13 | P3: Year 14 | Q3: Year 15 | R3: Year 16 | S3: Year 17 | T3: Year 18 | U3: Year 19 | V3: Year 20 | W3: Year 21 | X3: Year 22 | Y3: Year 23 | Z3: Year 24
A4: PEDESTRIAN
A5: Current User | B5: Current User | C5: 0 | D5: =D66*0.5 -> 375391.08 | E5: =E66 -> 758594.86 | F5: =F66 -> 766407.57 | G5: =G66 -> 774220.28 | H5: =H66 -> 782032.98 | I5: =I66 -> 789845.69 | J5: =J66 -> 797658.39 | K5: =K66 -> 800088 | L5: =L66 -> 802517.61 | ... Z5: =Z66 -> 836978.85
A6: New User | B6: Mode shift (auto to transit+ped) | C6: =C68 -> 0 | D6: =D68*0.5 -> 15015.643 | E6: =E68 -> 30343.795 | F6: =F68 -> 30656.303 | G6: =G68 -> 30968.811 | H6: =H68 -> 31281.319 | I6: =I68 -> 31593.827 | J6: =J68 -> 31906.336 | K6: =K68 -> 32003.52 | L6: =L68 -> 32100.704 | ... Z6: =Z68 -> 33479.154
B7: Trips not taken before (none to transit+ped) | C7: =C69 -> 0 | D7: =D69*0.5 -> 11261.732 | E7: =E69 -> 22757.846 | F7: =F69 -> 22992.227 | G7: =G69 -> 23226.608 | H7: =H69 -> 23460.989 | I7: =I69 -> 23695.371 | J7: =J69 -> 23929.752 | K7: =K69 -> 24002.64 | L7: =L69 -> 24075.528 | ... Z7: =Z69 -> 25109.366
A10: BICYCLE
A11: Current User | B11: Current User | C11: 0 | D11: =D75*0.5 -> 2319.072 | E11: =E75 -> 5272.6421 | F11: =F75 -> 5993.9395 | G11: =G75 -> 6813.9105 | H11: =H75 -> 7746.0534 | I11: =I75 -> 8805.7135 | J11: =J75 -> 10010.335 | K11: =K75 -> 11379.749 | L11: =L75 -> 12936.499 | ... Z11: =Z75 -> 77874.21
A12: New User | B12: Trip shifted from auto to transit+bike | C12: =C77 -> 0 | D12: =D77*0.5 -> 92.76288 | E12: =E77 -> 210.90568 | F12: =F77 -> 239.75758 | G12: =G77 -> 272.55642 | H12: =H77 -> 309.84214 | I12: =I77 -> 352.22854 | J12: =J77 -> 400.41341 | K12: =K77 -> 455.18996 | L12: =L77 -> 517.45995 | ... Z12: =Z77 -> 3114.9684
B13: Trips not taken before (none to transit+bike) | C13: =C78 -> 0 | D13: =D78*0.5 -> 69.57216 | E13: =E78 -> 158.17926 | F13: =F78 -> 179.81819 | G13: =G78 -> 204.41731 | H13: =H78 -> 232.3816 | I13: =I78 -> 264.17141 | J13: =J78 -> 300.31005 | K13: =K78 -> 341.39247 | L13: =L78 -> 388.09496 | ... Z13: =Z78 -> 2336.2263
A16: ROAD
A17: Construction Impact | B17: Current User | D17: =SUM(D55:D58)*$B$66 -> 3173952.8
A18: Long-Term Impact | B18: Current User | C18: 0 | E18: =SUM(E55:E58)*$B$66 -> 3206981.2 | F18: =SUM(F55:F58)*$B$66 -> 3240009.7 | G18: =SUM(G55:G58)*$B$66 -> 3273038.1 | H18: =SUM(H55:H58)*$B$66 -> 3306066.5 | I18: =SUM(I55:I58)*$B$66 -> 3339095 | J18: =SUM(J55:J58)*$B$66 -> 3372123.4 | K18: =SUM(K55:K58)*$B$66 -> 3382394.6 | L18: =SUM(L55:L58)*$B$66 -> 3392665.9 | ... Z18: =SUM(Z55:Z58)*$B$66 -> 3538351.7
B19: New User (50% of VT reduced) | C19: =0.5*C26 -> 0 | D19: =0.5*D26 -> -7554.203 | E19: =0.5*E26 -> -15277.35 | F19: =0.5*F26 -> -15448.03 | G19: =0.5*G26 -> -15620.684 | H19: =0.5*H26 -> -15795.581 | I19: =0.5*I26 -> -15973.028 | J19: =0.5*J26 -> -16153.375 | ... Z19: =0.5*Z26 -> -18297.061
B20: Total User | D20: 0 | E20: =(E18)+E19 -> 3191703.9 | F20: =(F18)+F19 -> 3224561.6 | G20: =(G18)+G19 -> 3257417.4 | H20: =(H18)+H19 -> 3290270.9 | I20: =(I18)+I19 -> 3323121.9 | J20: =(J18)+J19 -> 3355970 | K20: =(K18)+K19 -> 3366165.3 | L20: =(L18)+L19 -> 3376356.8 | ... Z20: =(Z18)+Z19 -> 3520054.7
B23: TRAVEL IMPACTS
B24: Rail transit trips change | C24: =C6+C7+C12+C13 -> 0 | D24: =D6+D7+D12+D13 -> 26439.711 | E24: =E6+E7+E12+E13 -> 53470.725 | F24: =F6+F7+F12+F13 -> 54068.106 | G24: =G6+G7+G12+G13 -> 54672.393 | H24: =H6+H7+H12+H13 -> 55284.532 | I24: =I6+I7+I12+I13 -> 55905.598 | J24: =J6+J7+J12+J13 -> 56536.811 | ... Z24: =Z6+Z7+Z12+Z13 -> 64039.714
B25: Bus transit trips change | D25: =-D24*$A$57 -> -13209.684 | E25: =-E24*$A$57 -> -26714.792 | F25: =-F24*$A$57 -> -27013.252 | G25: =-G24*$A$57 -> -27315.163 | H25: =-H24*$A$57 -> -27620.998 | I25: =-I24*$A$57 -> -27931.291 | J25: =-J24*$A$57 -> -28246.655 | K25: =-K24*$A$57 -> -28379.518 | ... Z25: =-Z24*$A$57 -> -31995.22
B26: Auto VT reduced | C26: =-(C6+C12) -> 0 | D26: =-(D6+D12) -> -15108.406 | E26: =-(E6+E12) -> -30554.7 | F26: =-(F6+F12) -> -30896.06 | G26: =-(G6+G12) -> -31241.367 | H26: =-(H6+H12) -> -31591.161 | I26: =-(I6+I12) -> -31946.056 | J26: =-(J6+J12) -> -32306.749 | ... Z26: =-(Z6+Z12) -> -36594.123
B27: Auto VMT reduced | C27: =-('Mode Operating Assumptions'!$C$27*(C6+C12)) -> 0 | D27: =-('Mode Operating Assumptions'!$C$27*(D6+D12)) -> -98204.639 | E27: =-('Mode Operating Assumptions'!$C$27*(E6+E12)) -> -198605.55 | F27: =-('Mode Operating Assumptions'!$C$27*(F6+F12)) -> -200824.39 | G27: =-('Mode Operating Assumptions'!$C$27*(G6+G12)) -> -203068.89 | H27: =-('Mode Operating Assumptions'!$C$27*(H6+H12)) -> -205342.55 | I27: =-('Mode Operating Assumptions'!$C$27*(I6+I12)) -> -207649.36 | J27: =-('Mode Operating Assumptions'!$C$27*(J6+J12)) -> -209993.87 | ... Z27: =-('Mode Operating Assumptions'!$C$27*(Z6+Z12)) -> -237861.8
B28: Auto fuel savings | C28: =-(C27*'Mode Operating Assumptions'!$C$8/'Mode Operating Assumptions'!C11) -> 0 | D28: =-(D27*'Mode Operating Assumptions'!$C$8/'Mode Operating Assumptions'!D11) -> 17305.906 | E28: =-(E27*'Mode Operating Assumptions'!$C$8/'Mode Operating Assumptions'!E11) -> 34210.076 | F28: =-(F27*'Mode Operating Assumptions'!$C$8/'Mode Operating Assumptions'!F11) -> 33829.85 | G28: =-(G27*'Mode Operating Assumptions'!$C$8/'Mode Operating Assumptions'!G11) -> 33470.252 | H28: =-(H27*'Mode Operating Assumptions'!$C$8/'Mode Operating Assumptions'!H11) -> 33130.541 | I28: =-(I27*'Mode Operating Assumptions'!$C$8/'Mode Operating Assumptions'!I11) -> 32810.116 | J28: =-(J27*'Mode Operating Assumptions'!$C$8/'Mode Operating Assumptions'!J11) -> 32508.505 | ... Z28: =-(Z27*'Mode Operating Assumptions'!$C$8/'Mode Operating Assumptions'!Z11) -> 35807.057
A36: Mezzanine | B36: Daily Ent | F36: Daily Ext
B37: 2005 | C37: 2010 | D37: 2020 | E37: 2030 | F37: 2005 | G37: 2010 | H37: 2020 | I37: 2030
A38: Fort Totten | B38: 6231.8571 | C38: 6483.6279 | D38: 7211.7942 | E38: 7414.1734 | F38: 6507.0952 | G38: 6653.8829 | H38: 7352.1938 | I38: 7593.4229
D39: =(D38-C38)/10 -> 72.816629 | E39: =(E38-D38)/10 -> 20.237923 | H39: =(H38-G38)/10 -> 69.831088 | I39: =(I38-H38)/10 -> 24.122911
D40: =D39/C38 -> 0.011230846 | E40: =E39/D38 -> 0.0028062258 | H40: =H39/G38 -> 0.010494788 | I40: =I39/H38 -> 0.0032810494
C42: 2013 | D42: 2014 | E42: 2015 | F42: 2016 | G42: 2017 | H42: 2018 | I42: 2019 | J42: 2020 | K42: 2021 | L42: 2022 | M42: 2023 | N42: 2024 | O42: 2025 | P42: 2026 | Q42: 2027 | R42: 2028 | S42: 2029 | T42: 2030 | U42: 2031 | V42: 2032 | W42: 2033 | X42: 2034 | Y42: 2035 | Z42: 2036
C43: Year 1 | D43: Year 2 | E43: Year 3 | F43: Year 4 | G43: Year 5 | H43: Year 6 | I43: Year 7 | J43: Year 8 | K43: Year 9 | L43: Year 10 | M43: Year 11 | N43: Year 12 | O43: Year 13 | P43: Year 14 | Q43: Year 15 | R43: Year 16 | S43: Year 17 | T43: Year 18 | U43: Year 19 | V43: Year 20 | W43: Year 21 | X43: Year 22 | Y43: Year 23 | Z43: Year 24
B44: Daily users (Entry + Exit) | C44: =$C$38*(1+($D$40*(C42-2010)))+$G$38*(1+($H$40*(C42-2010))) -> 13565.454 | D44: =$C$38*(1+($D$40*(D42-2010)))+$G$38*(1+($H$40*(D42-2010))) -> 13708.102 | E44: =$C$38*(1+($D$40*(E42-2010)))+$G$38*(1+($H$40*(E42-2010))) -> 13850.749 | F44: =$C$38*(1+($D$40*(F42-2010)))+$G$38*(1+($H$40*(F42-2010))) -> 13993.397 | G44: =$C$38*(1+($D$40*(G42-2010)))+$G$38*(1+($H$40*(G42-2010))) -> 14136.045 | H44: =$C$38*(1+($D$40*(H42-2010)))+$G$38*(1+($H$40*(H42-2010))) -> 14278.692 | I44: =$C$38*(1+($D$40*(I42-2010)))+$G$38*(1+($H$40*(I42-2010))) -> 14421.34 | J44: =H38+D38 -> 14563.988 | K44: =$D$38*(1+($E$40*(K42-2020)))+$H$38*(1+($I$40*(K42-2020))) -> 14608.349 | L44: =$D$38*(1+($E$40*(L42-2020)))+$H$38*(1+($I$40*(L42-2020))) -> 14652.71 | M44: =$D$38*(1+($E$40*(M42-2020)))+$H$38*(1+($I$40*(M42-2020))) -> 14697.07 | N44: =$D$38*(1+($E$40*(N42-2020)))+$H$38*(1+($I$40*(N42-2020))) -> 14741.431 | O44: =$D$38*(1+($E$40*(O42-2020)))+$H$38*(1+($I$40*(O42-2020))) -> 14785.792 | P44: =$D$38*(1+($E$40*(P42-2020)))+$H$38*(1+($I$40*(P42-2020))) -> 14830.153 | Q44: =$D$38*(1+($E$40*(Q42-2020)))+$H$38*(1+($I$40*(Q42-2020))) -> 14874.514 | R44: =$D$38*(1+($E$40*(R42-2020)))+$H$38*(1+($I$40*(R42-2020))) -> 14918.875 | S44: =$D$38*(1+($E$40*(S42-2020)))+$H$38*(1+($I$40*(S42-2020))) -> 14963.235 | T44: =I38+E38 -> 15007.596 | U44: =$E$38*(1+($E$40*(U42-2030)))+$I$38*(1+($I$40*(U42-2030))) -> 15053.317 | V44: =$E$38*(1+($E$40*(V42-2030)))+$I$38*(1+($I$40*(V42-2030))) -> 15099.037 | W44: =$E$38*(1+($E$40*(W42-2030)))+$I$38*(1+($I$40*(W42-2030))) -> 15144.757 | X44: =$E$38*(1+($E$40*(X42-2030)))+$I$38*(1+($I$40*(X42-2030))) -> 15190.477 | Y44: =$E$38*(1+($E$40*(Y42-2030)))+$I$38*(1+($I$40*(Y42-2030))) -> 15236.197 | Z44: =$E$38*(1+($E$40*(Z42-2030)))+$I$38*(1+($I$40*(Z42-2030))) -> 15281.918
A47: Station Name | B47: Total | C47: ALEXANDRIA DASH | D47: AMTRAK, MARC OR VRE | E47: ARLINGTON TRANSIT (ART) | F47: Dropped off | G47: BICYCLE | H47: DC CIRCULATOR | I47: DRIVE A CAR | J47: FAIRFAX CITY CUE | K47: FAIRFAX CONNECTOR | L47: METROBUS | M47: MONTGOMERY RIDE ON | N47: OTHER BUS | O47: PRINCE GEORGE'S THE BUS | P47: RIDE WITH SOMEONE WHO PARKED | Q47: TAXI | R47: WALK
A48: FORT TOTTEN | B48: 6712.9455 | F48: 864.07885 | I48: 884.33072 | L48: 3317.1395 | N48: 36.75071 | P48: 44.79456 | Q48: 33.92263 | R48: 1531.9285
D49: =D48/$B48 -> 0 | E49: =E48/$B48 -> 0 | F49: =F48/$B48 -> 0.12871829 | G49: =G48/$B48 -> 0 | H49: =H48/$B48 -> 0 | I49: =I48/$B48 -> 0.13173513 | J49: =J48/$B48 -> 0 | K49: =K48/$B48 -> 0 | ... R49: =R48/$B48 -> 0.22820512
B50: Metrorail Mode of Access Study 2007 (All Day Access Absolute)
C51: 2013 | D51: 2014 | E51: 2015 | F51: 2016 | G51: 2017 | H51: 2018 | I51: 2019 | J51: 2020 | K51: 2021 | L51: 2022 | M51: 2023 | N51: 2024 | O51: 2025 | P51: 2026 | Q51: 2027 | R51: 2028 | S51: 2029 | T51: 2030 | U51: 2031 | V51: 2032 | W51: 2033 | X51: 2034 | Y51: 2035 | Z51: 2036
C52: Year 1 | D52: Year 2 | E52: Year 3 | F52: Year 4 | G52: Year 5 | H52: Year 6 | I52: Year 7 | J52: Year 8 | K52: Year 9 | L52: Year 10 | M52: Year 11 | N52: Year 12 | O52: Year 13 | P52: Year 14 | Q52: Year 15 | R52: Year 16 | S52: Year 17 | T52: Year 18 | U52: Year 19 | V52: Year 20 | W52: Year 21 | X52: Year 22 | Y52: Year 23 | Z52: Year 24
A53: =R49 -> 0.22820512 | B53: Walk | C53: =C$59*$A53 -> 3095.7061 | D53: =D$59*$A53 -> 3128.259 | E53: =E$59*$A53 -> 3160.8119 | F53: =F$59*$A53 -> 3193.3649 | G53: =G$59*$A53 -> 3225.9178 | H53: =H$59*$A53 -> 3258.4708 | I53: =I$59*$A53 -> 3291.0237 | J53: =J$59*$A53 -> 3323.5766 | ... Z53: =Z$59*$A53 -> 3487.4119
A54: =G49 -> 0 | B54: Bicycle | C54: =C$59*$A54 -> 0 | D54: =D$59*$A54 -> 0 | E54: =E$59*$A54 -> 0 | F54: =F$59*$A54 -> 0 | G54: =G$59*$A54 -> 0 | H54: =H$59*$A54 -> 0 | I54: =I$59*$A54 -> 0 | J54: =J$59*$A54 -> 0 | ... Z54: =Z$59*$A54 -> 0
A55: =I49 -> 0.13173513 | B55: Car - Park | C55: =C$59*$A55 -> 1787.0468 | D55: =D$59*$A55 -> 1805.8385 | E55: =E$59*$A55 -> 1824.6302 | F55: =F$59*$A55 -> 1843.4219 | G55: =G$59*$A55 -> 1862.2136 | H55: =H$59*$A55 -> 1881.0054 | I55: =I$59*$A55 -> 1899.7971 | J55: =J$59*$A55 -> 1918.5888 | ... Z55: =Z$59*$A55 -> 2013.1654
A56: =F49 -> 0.12871829 | B56: Car - Drop-off | C56: =C$59*$A56 -> 1746.122 | D56: =D$59*$A56 -> 1764.4834 | E56: =E$59*$A56 -> 1782.8447 | F56: =F$59*$A56 -> 1801.2061 | G56: =G$59*$A56 -> 1819.5675 | H56: =H$59*$A56 -> 1837.9289 | I56: =I$59*$A56 -> 1856.2902 | J56: =J$59*$A56 -> 1874.6516 | ... Z56: =Z$59*$A56 -> 1967.0623
A57: =H49+L49+N49+O49 -> 0.49961529 | B57: Bus | C57: =C$59*$A57 -> 6777.5082 | D57: =D$59*$A57 -> 6848.7771 | E57: =E$59*$A57 -> 6920.0461 | F57: =F$59*$A57 -> 6991.3151 | G57: =G$59*$A57 -> 7062.5841 | H57: =H$59*$A57 -> 7133.8531 | I57: =I$59*$A57 -> 7205.122 | J57: =J$59*$A57 -> 7276.391 | ... Z57: =Z$59*$A57 -> 7635.0797
...

Sheet Forest Glen
F1: 2013 | G1: 2014 | H1: 2015 | I1: 2016 | J1: 2017 | K1: 2018 | L1: 2019 | M1: 2020 | N1: 2021 | O1: 2022 | P1: 2023 | Q1: 2024 | R1: 2025 | S1: 2026 | T1: 2027 | U1: 2028 | V1: 2029 | W1: 2030 | X1: 2031 | Y1: 2032 | Z1: 2033 | AA1: 2034 | AB1: 2035 | AC1: 2036
D2: Factor | E2: Total | F2: Year 1 | G2: Year 2 | H2: Year 3 | I2: Year 4 | J2: Year 5 | K2: Year 6 | L2: Year 7 | M2: Year 8 | N2: Year 9 | O2: Year 10 | P2: Year 11 | Q2: Year 12 | R2: Year 13 | S2: Year 14 | T2: Year 15 | U2: Year 16 | V2: Year 17 | W2: Year 18 | X2: Year 19 | Y2: Year 20 | Z2: Year 21 | AA2: Year 22 | AB2: Year 23 | AC2: Year 24
A5: Project Costs | C5: O & M | J5: =-92400*0.25 -> -23100 | K5: -92400 | L5: -92400 | M5: -92400 | N5: -92400 | O5: -92400 | P5: -92400 | Q5: -92400 | R5: -92400 | S5: -92400 | T5: -92400 | U5: -92400 | V5: -92400 | W5: -92400 | X5: -92400 | Y5: -92400 | Z5: -92400 | AA5: -92400 | AB5: -92400 | AC5: -92400 | AD5: =SUM(F5:AC5) -> -1778700
C6: Construction | F6: -1035667 | G6: -2319515 | H6: -3517697 | I6: -6888739 | J6: -1793383 | AD6: =SUM(F6:AC6) -> -15555001
A8: Users
B9: PEDESTRIAN
B10: Local | C10: Current User | F10: ='FG Users'!C6 -> 0 | G10: ='FG Users'!D6 -> 0 | H10: ='FG Users'!E6 -> 0 | I10: ='FG Users'!F6 -> 0 | J10: ='FG Users'!G6 -> 198629.96 | K10: ='FG Users'!H6 -> 273764.94 | L10: ='FG Users'!I6 -> 282689.92 | M10: ='FG Users'!J6 -> 8924.987 | ... AC10: ='FG Users'!Z6 -> 297321.81 | AD10: =SUM(F10:AC10) -> 5472804.4
B11: Commute | C11: Trip shifted from auto to transit+ped | I11: ='FG Users'!F7 -> 0 | J11: ='FG Users'!G7 -> 9931.4981 | K11: ='FG Users'!H7 -> 13688.247 | L11: ='FG Users'!I7 -> 14134.496 | M11: ='FG Users'!J7 -> 446.24935 | N11: ='FG Users'!K7 -> 14591.67 | O11: ='FG Users'!L7 -> 14602.594 | P11: ='FG Users'!M7 -> 14613.518 | ... AC11: ='FG Users'!Z7 -> 14866.09 | AD11: =SUM(F11:AC11) -> 273640.22
C12: Trips not taken before (none to transit+ped) | I12: ='FG Users'!F8 -> 0 | J12: ='FG Users'!G8 -> 9931.4981 | K12: ='FG Users'!H8 -> 13688.247 | L12: ='FG Users'!I8 -> 14134.496 | M12: ='FG Users'!J8 -> 446.24935 | N12: ='FG Users'!K8 -> 14591.67 | O12: ='FG Users'!L8 -> 14602.594 | P12: ='FG Users'!M8 -> 14613.518 | ... AC12: ='FG Users'!Z8 -> 14866.09 | AD12: =SUM(F12:AC12) -> 273640.22
B14: BICYCLE
B15: Local | C15: Current User | F15: ='FG Users'!C12 -> 0 | G15: ='FG Users'!D12 -> 0 | H15: ='FG Users'!E12 -> 0 | I15: ='FG Users'!F12 -> 0 | J15: ='FG Users'!G12 -> 3865.6968 | K15: ='FG Users'!H12 -> 5327.9588 | L15: ='FG Users'!I12 -> 5501.6551 | M15: ='FG Users'!J12 -> 173.69632 | ... AC15: ='FG Users'!Z12 -> 5786.418 | AD15: =SUM(F15:AC15) -> 106510.63
B16: Commute | C16: Trip shifted from auto to transit+bike | I16: ='FG Users'!F13 -> 0 | J16: ='FG Users'!G13 -> 193.28484 | K16: ='FG Users'!H13 -> 266.39794 | L16: ='FG Users'!I13 -> 275.08275 | M16: ='FG Users'!J13 -> 8.6848162 | N16: ='FG Users'!K13 -> 283.98017 | O16: ='FG Users'!L13 -> 284.19278 | P16: ='FG Users'!M13 -> 284.40538 | ... AC16: ='FG Users'!Z13 -> 289.3209 | AD16: =SUM(F16:AC16) -> 5325.5315
C17: Trips not taken before (none to transit+bike) | I17: ='FG Users'!F14 -> 0 | J17: ='FG Users'!G14 -> 193.28484 | K17: ='FG Users'!H14 -> 266.39794 | L17: ='FG Users'!I14 -> 275.08275 | M17: ='FG Users'!J14 -> 8.6848162 | N17: ='FG Users'!K14 -> 283.98017 | O17: ='FG Users'!L14 -> 284.19278 | P17: ='FG Users'!M14 -> 284.40538 | ... AC17: ='FG Users'!Z14 -> 289.3209 | AD17: =SUM(F17:AC17) -> 5325.5315
B19: BIKESHARE
B20: Local | C20: Trips shifted from auto | I20: ='FG Users'!F17 -> 0 | J20: ='FG Users'!G17 -> 6750 | K20: ='FG Users'!H17 -> 9216.25 | L20: ='FG Users'!I17 -> 9308.4125 | M20: ='FG Users'!J17 -> 9401.4966 | N20: ='FG Users'!K17 -> 9495.5116 | O20: ='FG Users'!L17 -> 9590.4667 | P20: ='FG Users'!M17 -> 9686.3714 | ... AC20: ='FG Users'!Z17 -> 11023.994 | AD20: =SUM(F20:AC20) -> 198548.41
C21: Trips shifted from bus | I21: ='FG Users'!F18 -> 0 | J21: ='FG Users'!G18 -> 3375 | K21: ='FG Users'!H18 -> 4608.125 | L21: ='FG Users'!I18 -> 4654.2063 | M21: ='FG Users'!J18 -> 4700.7483 | N21: ='FG Users'!K18 -> 4747.7558 | O21: ='FG Users'!L18 -> 4795.2334 | P21: ='FG Users'!M18 -> 4843.1857 | ... AC21: ='FG Users'!Z18 -> 5511.9971 | AD21: =SUM(F21:AC21) -> 99274.206
C22: Trips shifted from personal bike | I22: ='FG Users'!F19 -> 0 | J22: ='FG Users'!G19 -> 3375 | K22: ='FG Users'!H19 -> 4608.125 | L22: ='FG Users'!I19 -> 4654.2063 | M22: ='FG Users'!J19 -> 4700.7483 | N22: ='FG Users'!K19 -> 4747.7558 | O22: ='FG Users'!L19 -> 4795.2334 | P22: ='FG Users'!M19 -> 4843.1857 | ... AC22: ='FG Users'!Z19 -> 5511.9971 | AD22: =SUM(F22:AC22) -> 99274.206
C23: Trips shifted from walking | I23: ='FG Users'!F20 -> 0 | J23: ='FG Users'!G20 -> 10125 | K23: ='FG Users'!H20 -> 13824.375 | L23: ='FG Users'!I20 -> 13962.619 | M23: ='FG Users'!J20 -> 14102.245 | N23: ='FG Users'!K20 -> 14243.267 | O23: ='FG Users'!L20 -> 14385.7 | P23: ='FG Users'!M20 -> 14529.557 | ... AC23: ='FG Users'!Z20 -> 16535.991 | AD23: =SUM(F23:AC23) -> 297822.62
C24: Trips not taken before | I24: ='FG Users'!F21 -> 0 | J24: ='FG Users'!G21 -> 10125 | K24: ='FG Users'!H21 -> 13824.375 | L24: ='FG Users'!I21 -> 13962.619 | M24: ='FG Users'!J21 -> 14102.245 | N24: ='FG Users'!K21 -> 14243.267 | O24: ='FG Users'!L21 -> 14385.7 | P24: ='FG Users'!M21 -> 14529.557 | ... AC24: ='FG Users'!Z21 -> 16535.991 | AD24: =SUM(F24:AC24) -> 297822.62
B25: Commute | C25: Trips shifted from auto to transit+bikeshare | I25: ='FG Users'!F22 -> 0 | J25: ='FG Users'!G22 -> 16875 | K25: ='FG Users'!H22 -> 23040.625 | L25: ='FG Users'!I22 -> 23271.031 | M25: ='FG Users'!J22 -> 23503.742 | N25: ='FG Users'!K22 -> 23738.779 | O25: ='FG Users'!L22 -> 23976.167 | P25: ='FG Users'!M22 -> 24215.928 | ... AC25: ='FG Users'!Z22 -> 27559.985 | AD25: =SUM(F25:AC25) -> 496371.03
C26: Trips not taken before (none to transit+bikeshare) | I26: ='FG Users'!F23 -> 0 | J26: ='FG Users'!G23 -> 16875 | K26: ='FG Users'!H23 -> 23040.625 | L26: ='FG Users'!I23 -> 23271.031 | M26: ='FG Users'!J23 -> 23503.742 | N26: ='FG Users'!K23 -> 23738.779 | O26: ='FG Users'!L23 -> 23976.167 | P26: ='FG Users'!M23 -> 24215.928 | ... AC26: ='FG Users'!Z23 -> 27559.985 | AD26: =SUM(F26:AC26) -> 496371.03
B28: MOBILITY DEVICE
B29: Local | C29: Current User | F29: ='FG Users'!C26 -> 0 | G29: ='FG Users'!D26 -> 0 | H29: ='FG Users'!E26 -> 0 | I29: ='FG Users'!F26 -> 0 | J29: ='FG Users'!G26 -> 1925.1647 | K29: ='FG Users'!H26 -> 2653.3892 | L29: ='FG Users'!I26 -> 2739.8921 | M29: ='FG Users'!J26 -> 86.502911 | ... AC29: ='FG Users'!Z26 -> 2881.7075 | AD29: =SUM(F29:AC29) -> 53043.607
B30: Commute | C30: Mode shift (auto to transit+mob device) | I30: ='FG Users'!F27 -> 0 | J30: ='FG Users'!G27 -> 481.29117 | K30: ='FG Users'!H27 -> 663.34729 | L30: ='FG Users'!I27 -> 684.97302 | M30: ='FG Users'!J27 -> 21.625728 | N30: ='FG Users'!K27 -> 707.12814 | O30: ='FG Users'!L27 -> 707.65754 | P30: ='FG Users'!M27 -> 708.18693 | ... AC30: ='FG Users'!Z27 -> 720.42687 | AD30: =SUM(F30:AC30) -> 13260.902
C31: Trips not taken before (none to transit+mob device) | I31: ='FG Users'!F28 -> 0 | J31: ='FG Users'!G28 -> 288.7747 | K31: ='FG Users'!H28 -> 398.00837 | L31: ='FG Users'!I28 -> 410.98381 | M31: ='FG Users'!J28 -> 12.975437 | N31: ='FG Users'!K28 -> 424.27688 | O31: ='FG Users'!L28 -> 424.59452 | P31: ='FG Users'!M28 -> 424.91216 | ... AC31: ='FG Users'!Z28 -> 432.25612 | AD31: =SUM(F31:AC31) -> 7956.5411
B33: TRAVEL IMPACTS
C34: Rail transit trips change | F34: ='FG Users'!C40 -> 0 | G34: ='FG Users'!D40 -> 0 | H34: ='FG Users'!E40 -> 0 | I34: ='FG Users'!F40 -> 0 | J34: ='FG Users'!G40 -> 54769.632 | K34: ='FG Users'!H40 -> 75051.895 | L34: ='FG Users'!I40 -> 76457.177 | M34: ='FG Users'!J40 -> 47951.953 | ... AC34: ='FG Users'!Z40 -> 86583.477 | AD34: =SUM(F34:AC34) -> 1571891
C35: Bus transit trips change | F35: ='FG Users'!C41 -> 0 | G35: ='FG Users'!D41 -> 0 | H35: ='FG Users'!E41 -> 0 | I35: ='FG Users'!F41 -> 0 | J35: ='FG Users'!G41 -> -3375 | K35: ='FG Users'!H41 -> -4608.125 | L35: ='FG Users'!I41 -> -4654.2063 | M35: ='FG Users'!J41 -> -4700.7483 | ... AC35: ='FG Users'!Z41 -> -5511.9971 | AD35: =SUM(F35:AC35) -> -99274.206
C36: Auto VT reduced | F36: ='FG Users'!C42 -> 0 | G36: ='FG Users'!D42 -> 0 | H36: ='FG Users'!E42 -> 0 | I36: ='FG Users'!F42 -> 0 | J36: ='FG Users'!G42 -> -34231.074 | K36: ='FG Users'!H42 -> -46874.867 | L36: ='FG Users'!I42 -> -47673.996 | M36: ='FG Users'!J42 -> -33381.798 | ... AC36: ='FG Users'!Z42 -> -54459.818 | AD36: =SUM(F36:AC36) -> -987146.09
C37: Auto VMT reduced | F37: ='FG Users'!C43 -> 0 | G37: ='FG Users'!D43 -> 0 | H37: ='FG Users'!E43 -> 0 | I37: ='FG Users'!F43 -> 0 | J37: ='FG Users'!G43 -> -190709.48 | K37: ='FG Users'!H43 -> -261278.1 | L37: ='FG Users'!I43 -> -266038.35 | M37: ='FG Users'!J43 -> -172700.64 | ... AC37: ='FG Users'!Z43 -> -302065.8 | AD37: =SUM(F37:AC37) -> -5481286.6
C38: Auto fuel savings | F38: ='FG Users'!C44 -> 0 | G38: ='FG Users'!D44 -> 0 | H38: ='FG Users'!E44 -> 0 | I38: ='FG Users'!F44 -> 0 | J38: ='FG Users'!G44 -> 30769.601 | K38: ='FG Users'!H44 -> 41283.847 | L38: ='FG Users'!I44 -> 41184.578 | M38: ='FG Users'!J44 -> 26204.492 | ... AC38: ='FG Users'!Z44 -> 45448.26 | AD38: =SUM(F38:AC38) -> 832812.38
A40: Non-Users
B41: ROAD
B42: Construction Impact | C42: Current User | F42: ='FG Users'!C34 -> 0 | G42: ='FG Users'!D34 -> 0 | H42: ='FG Users'!E34 -> 22264875 | I42: ='FG Users'!F34 -> 14843250 | J42: ='FG Users'!G34 -> 0 | K42: ='FG Users'!H34 -> 0 | L42: ='FG Users'!I34 -> 0 | M42: ='FG Users'!J34 -> 0 | ... AC42: ='FG Users'!Z34 -> 0 | AD42: =SUM(F42:AC42) -> 37108125
B43: Long-Term Impact | C43: Reduced Users | F43: ='FG Users'!C36 -> 0 | G43: ='FG Users'!D36 -> 0 | H43: ='FG Users'!E36 -> 0 | I43: ='FG Users'!F36 -> 0 | J43: ='FG Users'!G36 -> -17115.537 | K43: ='FG Users'!H36 -> -23437.433 | L43: ='FG Users'!I36 -> -23836.998 | M43: ='FG Users'!J36 -> -16690.899 | ... AC43: ='FG Users'!Z36 -> -27229.909 | AD43: =SUM(F43:AC43) -> -493573.05
C44: Total Users | F44: ='FG Users'!C37 -> 0 | G44: ='FG Users'!D37 -> 0 | H44: ='FG Users'!E37 -> 0 | I44: ='FG Users'!F37 -> 0 | J44: ='FG Users'!G37 -> 30081697 | K44: ='FG Users'!H37 -> 30075375 | L44: ='FG Users'!I37 -> 30074976 | M44: ='FG Users'!J37 -> 30082122 | ... AC44: ='FG Users'!Z37 -> 30071583 | AD44: =SUM(F44:AC44) -> 6.0148268e+08
A47: STATE OF GOOD REPAIR
C48: New Construction for this project
A52: ECONOMIC COMPETITIVENESS
B54: PEDESTRIAN
...

Sheet FG Users
A3: USERS and NON-USERS | C3: 2013 | D3: 2014 | E3: 2015 | F3: 2016 | G3: 2017 | H3: 2018 | I3: 2019 | J3: 2020 | K3: 2021 | L3: 2022 | M3: 2023 | N3: 2024 | O3: 2025 | P3: 2026 | Q3: 2027 | R3: 2028 | S3: 2029 | T3: 2030 | U3: 2031 | V3: 2032 | W3: 2033 | X3: 2034 | Y3: 2035 | Z3: 2036
C4: Year 1 | D4: Year 2 | E4: Year 3 | F4: Year 4 | G4: Year 5 | H4: Year 6 | I4: Year 7 | J4: Year 8 | K4: Year 9 | L4: Year 10 | M4: Year 11 | N4: Year 12 | O4: Year 13 | P4: Year 14 | Q4: Year 15 | R4: Year 16 | S4: Year 17 | T4: Year 18 | U4: Year 19 | V4: Year 20 | W4: Year 21 | X4: Year 22 | Y4: Year 23 | Z4: Year 24
A5: PEDESTRIAN
A6: Current User | B6: Current User | G6: =G89*0.75 -> 198629.96 | H6: =H89 -> 273764.94 | I6: =I89 -> 282689.92 | J6: =J89 -> 8924.987 | K6: =K89 -> 291833.39 | L6: =L89 -> 292051.87 | M6: =M89 -> 292270.36 | N6: =N89 -> 292488.84 | O6: =O89 -> 292707.32 | ... Z6: =Z89 -> 297321.81
A7: New User | B7: Mode shift (auto to transit+ped) | C7: =C92 -> 0 | D7: =D92 -> 0 | E7: =E92 -> 0 | F7: =F91 -> 0 | G7: =G91 -> 9931.4981 | H7: =H91 -> 13688.247 | I7: =I91 -> 14134.496 | J7: =J91 -> 446.24935 | K7: =K91 -> 14591.67 | L7: =L91 -> 14602.594 | M7: =M91 -> 14613.518 | ... Z7: =Z91 -> 14866.09
B8: Trips not taken before (none to transit+ped) | C8: =C93 -> 0 | D8: =D93 -> 0 | E8: =E93 -> 0 | F8: =F92 -> 0 | G8: =G92 -> 9931.4981 | H8: =H92 -> 13688.247 | I8: =I92 -> 14134.496 | J8: =J92 -> 446.24935 | K8: =K92 -> 14591.67 | L8: =L92 -> 14602.594 | M8: =M92 -> 14613.518 | ... Z8: =Z92 -> 14866.09
A11: BICYCLE
A12: Current User | B12: Current User | G12: =G96*0.75 -> 3865.6968 | H12: =H96 -> 5327.9588 | I12: =I96 -> 5501.6551 | J12: =J96 -> 173.69632 | K12: =K96 -> 5679.6035 | L12: =L96 -> 5683.8556 | M12: =M96 -> 5688.1076 | N12: =N96 -> 5692.3597 | O12: =O96 -> 5696.6118 | ... Z12: =Z96 -> 5786.418
A13: New User | B13: Trip shifted from auto to transit+bike | C13: =C97 -> 0 | D13: =D97 -> 0 | E13: =E97 -> 0 | F13: =F97 -> 0 | G13: =G97 -> 193.28484 | H13: =H97 -> 266.39794 | I13: =I97 -> 275.08275 | J13: =J97 -> 8.6848162 | ... Z13: =Z97 -> 289.3209
B14: Trips not taken before (none to transit+bike) | C14: =C98 -> 0 | D14: =D98 -> 0 | E14: =E98 -> 0 | F14: =F98 -> 0 | G14: =G98 -> 193.28484 | H14: =H98 -> 266.39794 | I14: =I98 -> 275.08275 | J14: =J98 -> 8.6848162 | ... Z14: =Z98 -> 289.3209
A16: BIKESHARE
A17: New User | B17: Trips shifted from auto | F17: =F104 -> 0 | G17: =G104 -> 6750 | H17: =H104 -> 9216.25 | I17: =I104 -> 9308.4125 | J17: =J104 -> 9401.4966 | K17: =K104 -> 9495.5116 | L17: =L104 -> 9590.4667 | M17: =M104 -> 9686.3714 | ... Z17: =Z104 -> 11023.994
B18: Trips shifted from bus | F18: =F105 -> 0 | G18: =G105 -> 3375 | H18: =H105 -> 4608.125 | I18: =I105 -> 4654.2063 | J18: =J105 -> 4700.7483 | K18: =K105 -> 4747.7558 | L18: =L105 -> 4795.2334 | M18: =M105 -> 4843.1857 | ... Z18: =Z105 -> 5511.9971
B19: Trips shifted from personal bike | F19: =F106 -> 0 | G19: =G106 -> 3375 | H19: =H106 -> 4608.125 | I19: =I106 -> 4654.2063 | J19: =J106 -> 4700.7483 | K19: =K106 -> 4747.7558 | L19: =L106 -> 4795.2334 | M19: =M106 -> 4843.1857 | ... Z19: =Z106 -> 5511.9971
B20: Trips shifted from walking | F20: =F107 -> 0 | G20: =G107 -> 10125 | H20: =H107 -> 13824.375 | I20: =I107 -> 13962.619 | J20: =J107 -> 14102.245 | K20: =K107 -> 14243.267 | L20: =L107 -> 14385.7 | M20: =M107 -> 14529.557 | ... Z20: =Z107 -> 16535.991
B21: Trips not taken before | F21: =F108 -> 0 | G21: =G108 -> 10125 | H21: =H108 -> 13824.375 | I21: =I108 -> 13962.619 | J21: =J108 -> 14102.245 | K21: =K108 -> 14243.267 | L21: =L108 -> 14385.7 | M21: =M108 -> 14529.557 | ... Z21: =Z108 -> 16535.991
B22: Trips shifted from auto to transit+bikeshare | F22: =F109 -> 0 | G22: =G109 -> 16875 | H22: =H109 -> 23040.625 | I22: =I109 -> 23271.031 | J22: =J109 -> 23503.742 | K22: =K109 -> 23738.779 | L22: =L109 -> 23976.167 | M22: =M109 -> 24215.928 | ... Z22: =Z109 -> 27559.985
B23: Trips not taken before (none to transit+bikeshare) | F23: =F110 -> 0 | G23: =G110 -> 16875 | H23: =H110 -> 23040.625 | I23: =I110 -> 23271.031 | J23: =J110 -> 23503.742 | K23: =K110 -> 23738.779 | L23: =L110 -> 23976.167 | M23: =M110 -> 24215.928 | ... Z23: =Z110 -> 27559.985
A25: MOBILITY DEVICE
A26: Current User | B26: Current User | G26: =G113*0.75 -> 1925.1647 | H26: =H113 -> 2653.3892 | I26: =I113 -> 2739.8921 | J26: =J113 -> 86.502911 | K26: =K113 -> 2828.5126 | L26: =L113 -> 2830.6301 | M26: =M113 -> 2832.7477 | N26: =N113 -> 2834.8653 | O26: =O113 -> 2836.9829 | ... Z26: =Z113 -> 2881.7075
A27: New User | B27: Mode shift (auto to transit+mob device) | F27: =F114 -> 0 | G27: =G114 -> 481.29117 | H27: =H114 -> 663.34729 | I27: =I114 -> 684.97302 | J27: =J114 -> 21.625728 | K27: =K114 -> 707.12814 | L27: =L114 -> 707.65754 | M27: =M114 -> 708.18693 | ... Z27: =Z114 -> 720.42687
B28: Trips not taken before (none to transit+mob device) | F28: =F115 -> 0 | G28: =G115 -> 288.7747 | H28: =H115 -> 398.00837 | I28: =I115 -> 410.98381 | J28: =J115 -> 12.975437 | K28: =K115 -> 424.27688 | L28: =L115 -> 424.59452 | M28: =M115 -> 424.91216 | ... Z28: =Z115 -> 432.25612
A30: ROAD
B31: AADT Georgia Avenue | C31: =(82025+61600)/2 -> 71812.5 | D31: =(82025+61600)/2 -> 71812.5 | E31: =(82025+61600)/2 -> 71812.5 | F31: =(82025+61600)/2 -> 71812.5 | G31: =(82025+61600)/2 -> 71812.5 | H31: =(82025+61600)/2 -> 71812.5 | I31: =(82025+61600)/2 -> 71812.5 | J31: =(82025+61600)/2 -> 71812.5 | ... Z31: =(82025+61600)/2 -> 71812.5
B32: AADT Forest Glen Road | C32: =(7550+13750)/2 -> 10650 | D32: =(7550+13750)/2 -> 10650 | E32: =(7550+13750)/2 -> 10650 | F32: =(7550+13750)/2 -> 10650 | G32: =(7550+13750)/2 -> 10650 | H32: =(7550+13750)/2 -> 10650 | I32: =(7550+13750)/2 -> 10650 | J32: =(7550+13750)/2 -> 10650 | ... Z32: =(7550+13750)/2 -> 10650
A33: Annual
A34: Construction Impact | B34: Current User | E34: =(E31+E32)*270 -> 22264875 | F34: =(F31+F32)*180 -> 14843250
A35: Long-Term Impact | B35: Current User | G35: =((G31+G32)*365) -> 30098812 | H35: =((H31+H32)*365) -> 30098812 | I35: =((I31+I32)*365) -> 30098812 | J35: =((J31+J32)*365) -> 30098812 | K35: =((K31+K32)*365) -> 30098812 | L35: =((L31+L32)*365) -> 30098812 | M35: =((M31+M32)*365) -> 30098812 | N35: =((N31+N32)*365) -> 30098812 | ... Z35: =((Z31+Z32)*365) -> 30098812
B36: New User (50% of VT reduced) | C36: =0.5*C42 -> 0 | D36: =0.5*D42 -> 0 | E36: =0.5*E42 -> 0 | F36: 0 | G36: =0.5*G42 -> -17115.537 | H36: =0.5*H42 -> -23437.433 | I36: =0.5*I42 -> -23836.998 | J36: =0.5*J42 -> -16690.899 | K36: =0.5*K42 -> -24408.534 | L36: =0.5*L42 -> -24580.539 | M36: =0.5*M42 -> -24754.205 | N36: =0.5*N42 -> -24929.55 | ... Z36: =0.5*Z42 -> -27229.909
B37: Total User | G37: =G35+G36 -> 30081697 | H37: =H35+H36 -> 30075375 | I37: =I35+I36 -> 30074976 | J37: =J35+J36 -> 30082122 | K37: =K35+K36 -> 30074404 | L37: =L35+L36 -> 30074232 | M37: =M35+M36 -> 30074058 | N37: =N35+N36 -> 30073883 | ... Z37: =Z35+Z36 -> 30071583
B39: TRAVEL IMPACTS
B40: Rail transit trips change | C40: =C7+C8+C13+C14+C22+C23+C27+C28 -> 0 | D40: =D7+D8+D13+D14+D22+D23+D27+D28 -> 0 | E40: =E7+E8+E13+E14+E22+E23+E27+E28 -> 0 | F40: =F7+F8+F13+F14+F22+F23+F27+F28 -> 0 | G40: =G7+G8+G13+G14+G22+G23+G27+G28 -> 54769.632 | H40: =H7+H8+H13+H14+H22+H23+H27+H28 -> 75051.895 | I40: =I7+I8+I13+I14+I22+I23+I27+I28 -> 76457.177 | J40: =J7+J8+J13+J14+J22+J23+J27+J28 -> 47951.953 | ... Z40: =Z7+Z8+Z13+Z14+Z22+Z23+Z27+Z28 -> 86583.477
B41: Bus transit trips change | C41: =-C18 -> 0 | D41: =-D18 -> 0 | E41: =-E18 -> 0 | F41: =-F18 -> 0 | G41: =-G18 -> -3375 | H41: =-H18 -> -4608.125 | I41: =-I18 -> -4654.2063 | J41: =-J18 -> -4700.7483 | ... Z41: =-Z18 -> -5511.9971
B42: Auto VT reduced | C42: =-(('FG Users'!C7+'FG Users'!C13+'FG Users'!C27+'FG Users'!C22)+('FG Users'!C17)) -> 0 | D42: =-(('FG Users'!D7+'FG Users'!D13+'FG Users'!D27+'FG Users'!D22)+('FG Users'!D17)) -> 0 | E42: =-(('FG Users'!E7+'FG Users'!E13+'FG Users'!E27+'FG Users'!E22)+('FG Users'!E17)) -> 0 | F42: =-(('FG Users'!F7+'FG Users'!F13+'FG Users'!F27+'FG Users'!F22)+('FG Users'!F17)) -> 0 | G42: =-(('FG Users'!G7+'FG Users'!G13+'FG Users'!G27+'FG Users'!G22)+('FG Users'!G17)) -> -34231.074 | H42: =-(('FG Users'!H7+'FG Users'!H13+'FG Users'!H27+'FG Users'!H22)+('FG Users'!H17)) -> -46874.867 | I42: =-(('FG Users'!I7+'FG Users'!I13+'FG Users'!I27+'FG Users'!I22)+('FG Users'!I17)) -> -47673.996 | J42: =-(('FG Users'!J7+'FG Users'!J13+'FG Users'!J27+'FG Users'!J22)+('FG Users'!J17)) -> -33381.798 | ... Z42: =-(('FG Users'!Z7+'FG Users'!Z13+'FG Users'!Z27+'FG Users'!Z22)+('FG Users'!Z17)) -> -54459.818
B43: Auto VMT reduced | C43: =-('Mode Operating Assumptions'!$C$27*('FG Users'!C7+'FG Users'!C13+'FG Users'!C27+'FG Users'!C22)+'Mode Operating Assumptions'!$C$18*('FG Users'!C17)) -> 0 | D43: =-('Mode Operating Assumptions'!$C$27*('FG Users'!D7+'FG Users'!D13+'FG Users'!D27+'FG Users'!D22)+'Mode Operating Assumptions'!$C$18*('FG Users'!D17)) -> 0 | E43: =-('Mode Operating Assumptions'!$C$27*('FG Users'!E7+'FG Users'!E13+'FG Users'!E27+'FG Users'!E22)+'Mode Operating Assumptions'!$C$18*('FG Users'!E17)) -> 0 | F43: =-('Mode Operating Assumptions'!$C$27*('FG Users'!F7+'FG Users'!F13+'FG Users'!F27+'FG Users'!F22)+'Mode Operating Assumptions'!$C$18*('FG Users'!F17)) -> 0 | G43: =-('Mode Operating Assumptions'!$C$27*('FG Users'!G7+'FG Users'!G13+'FG Users'!G27+'FG Users'!G22)+'Mode Operating Assumptions'!$C$18*('FG Users'!G17)) -> -190709.48 | H43: =-('Mode Operating Assumptions'!$C$27*('FG Users'!H7+'FG Users'!H13+'FG Users'!H27+'FG Users'!H22)+'Mode Operating Assumptions'!$C$18*('FG Users'!H17)) -> -261278.1 | I43: =-('Mode Operating Assumptions'!$C$27*('FG Users'!I7+'FG Users'!I13+'FG Users'!I27+'FG Users'!I22)+'Mode Operating Assumptions'!$C$18*('FG Users'!I17)) -> -266038.35 | J43: =-('Mode Operating Assumptions'!$C$27*('FG Users'!J7+'FG Users'!J13+'FG Users'!J27+'FG Users'!J22)+'Mode Operating Assumptions'!$C$18*('FG Users'!J17)) -> -172700.64 | ... Z43: =-('Mode Operating Assumptions'!$C$27*('FG Users'!Z7+'FG Users'!Z13+'FG Users'!Z27+'FG Users'!Z22)+'Mode Operating Assumptions'!$C$18*('FG Users'!Z17)) -> -302065.8
B44: Auto fuel savings | C44: =-(C43*'Mode Operating Assumptions'!$C$8/'Mode Operating Assumptions'!C11) -> 0 | D44: =-(D43*'Mode Operating Assumptions'!$C$8/'Mode Operating Assumptions'!D11) -> 0 | E44: =-(E43*'Mode Operating Assumptions'!$C$8/'Mode Operating Assumptions'!E11) -> 0 | F44: =-(F43*'Mode Operating Assumptions'!$C$8/'Mode Operating Assumptions'!G11) -> 0 | G44: =-(G43*'Mode Operating Assumptions'!$C$8/'Mode Operating Assumptions'!H11) -> 30769.601 | H44: =-(H43*'Mode Operating Assumptions'!$C$8/'Mode Operating Assumptions'!I11) -> 41283.847 | I44: =-(I43*'Mode Operating Assumptions'!$C$8/'Mode Operating Assumptions'!J11) -> 41184.578 | J44: =-(J43*'Mode Operating Assumptions'!$C$8/'Mode Operating Assumptions'!K11) -> 26204.492 | K44: =-(K43*'Mode Operating Assumptions'!$C$8/'Mode Operating Assumptions'!L11) -> 41338.721 | L44: =-(L43*'Mode Operating Assumptions'!$C$8/'Mode Operating Assumptions'!M11) -> 41587.979 | M44: =-(M43*'Mode Operating Assumptions'!$C$8/'Mode Operating Assumptions'!N11) -> 41839.568 | ... Z44: =-(Z43*'Mode Operating Assumptions'!$C$8/'Mode Operating Assumptions'!AA11) -> 45448.26
B49: Annual MetroRail Ridership, August of 2010 to July 2011
B51: Forest Glen | C51: 667689
A53: WMATA STATION ACCESS & CAPACITY STUDY | D53: Appendix B-E: Summary of Ridership Forecasts
B55: Daily Ent | F55: Daily Ext
...

Sheet NC
F1: 2013 | G1: 2014 | H1: 2015 | I1: 2016 | J1: 2017 | K1: 2018 | L1: 2019 | M1: 2020 | N1: 2021 | O1: 2022 | P1: 2023 | Q1: 2024 | R1: 2025 | S1: 2026 | T1: 2027 | U1: 2028 | V1: 2029 | W1: 2030 | X1: 2031 | Y1: 2032 | Z1: 2033 | AA1: 2034 | AB1: 2035 | AC1: 2036
D2: Factor | E2: Total | F2: Year 1 | G2: Year 2 | H2: Year 3 | I2: Year 4 | J2: Year 5 | K2: Year 6 | L2: Year 7 | M2: Year 8 | N2: Year 9 | O2: Year 10 | P2: Year 11 | Q2: Year 12 | R2: Year 13 | S2: Year 14 | T2: Year 15 | U2: Year 16 | V2: Year 17 | W2: Year 18 | X2: Year 19 | Y2: Year 20 | Z2: Year 21 | AA2: Year 22 | AB2: Year 23 | AC2: Year 24
A5: Project Costs | C5: O & M
C6: Construction | F6: -534024 | G6: -41400
A8: Users
B9: PEDESTRIAN
B10: Local | C10: Current User | F10: ='NC Users'!C5 -> 0 | G10: ='NC Users'!D5 -> 142212.45 | H10: ='NC Users'!E5 -> 143529.29 | I10: ='NC Users'!F5 -> 144846.13 | J10: ='NC Users'!G5 -> 146162.98 | K10: ='NC Users'!H5 -> 147479.82 | L10: ='NC Users'!I5 -> 148796.66 | M10: ='NC Users'!J5 -> 150113.5 | ... AC10: ='NC Users'!Z5 -> 140204.59 | AD10: =SUM(F10:AC10) -> 3349860.5
B11: Commute | C11: Trip shifted from auto to transit+ped | F11: ='NC Users'!C6 -> 0 | G11: ='NC Users'!D6 -> 2844.249 | H11: ='NC Users'!E6 -> 2870.5858 | I11: ='NC Users'!F6 -> 2896.9227 | J11: ='NC Users'!G6 -> 2923.2595 | K11: ='NC Users'!H6 -> 2949.5964 | L11: ='NC Users'!I6 -> 2975.9332 | M11: ='NC Users'!J6 -> 3002.27 | ... AC11: ='NC Users'!Z6 -> 2804.0917 | AD11: =SUM(F11:AC11) -> 66997.209
C12: Trips not taken before (none to transit+ped) | F12: ='NC Users'!C7 -> 0 | G12: ='NC Users'!D7 -> 2844.249 | H12: ='NC Users'!E7 -> 2870.5858 | I12: ='NC Users'!F7 -> 2896.9227 | J12: ='NC Users'!G7 -> 2923.2595 | K12: ='NC Users'!H7 -> 2949.5964 | L12: ='NC Users'!I7 -> 2975.9332 | M12: ='NC Users'!J7 -> 3002.27 | ... AC12: ='NC Users'!Z7 -> 2804.0917 | AD12: =SUM(F12:AC12) -> 66997.209
B14: BICYCLE
B15: Local | C15: Current User | F15: ='NC Users'!C11 -> 0 | G15: ='NC Users'!D11 -> 2693.4551 | H15: ='NC Users'!E11 -> 2718.3957 | I15: ='NC Users'!F11 -> 2743.3362 | J15: ='NC Users'!G11 -> 2768.2767 | K15: ='NC Users'!H11 -> 2793.2173 | L15: ='NC Users'!I11 -> 2818.1578 | M15: ='NC Users'!J11 -> 2843.0984 | ... AC15: ='NC Users'!Z11 -> 2655.4269 | AD15: =SUM(F15:AC15) -> 63445.211
B16: Commute | C16: Trip shifted from auto to transit+bike | F16: ='NC Users'!C12 -> 0 | G16: ='NC Users'!D12 -> 53.869103 | H16: ='NC Users'!E12 -> 54.367913 | I16: ='NC Users'!F12 -> 54.866724 | J16: ='NC Users'!G12 -> 55.365535 | K16: ='NC Users'!H12 -> 55.864346 | L16: ='NC Users'!I12 -> 56.363156 | M16: ='NC Users'!J12 -> 56.861967 | ... AC16: ='NC Users'!Z12 -> 53.108537 | AD16: =SUM(F16:AC16) -> 1268.9042
C17: Trips not taken before (none to transit+bike) | F17: ='NC Users'!C13 -> 0 | G17: ='NC Users'!D13 -> 53.869103 | H17: ='NC Users'!E13 -> 54.367913 | I17: ='NC Users'!F13 -> 54.866724 | J17: ='NC Users'!G13 -> 55.365535 | K17: ='NC Users'!H13 -> 55.864346 | L17: ='NC Users'!I13 -> 56.363156 | M17: ='NC Users'!J13 -> 56.861967 | ... AC17: ='NC Users'!Z13 -> 53.108537 | AD17: =SUM(F17:AC17) -> 1268.9042
C19: TRAVEL IMPACTS
C20: Rail transit trips change | F20: ='NC Users'!C24 -> 0 | G20: ='NC Users'!D24 -> 5796.2362 | H20: ='NC Users'!E24 -> 5849.9075 | I20: ='NC Users'!F24 -> 5903.5788 | J20: ='NC Users'!G24 -> 5957.2501 | K20: ='NC Users'!H24 -> 6010.9214 | L20: ='NC Users'!I24 -> 6064.5927 | M20: ='NC Users'!J24 -> 6118.264 | ... AC20: ='NC Users'!Z24 -> 5714.4005 | AD20: =SUM(F20:AC20) -> 136532.23
C21: Bus transit trips change | F21: ='NC Users'!C25 -> 0 | G21: ='NC Users'!D25 -> 0 | H21: ='NC Users'!E25 -> -1078.5026 | I21: ='NC Users'!F25 -> -1088.3976 | J21: ='NC Users'!G25 -> -1098.2926 | K21: ='NC Users'!H25 -> -1108.1875 | L21: ='NC Users'!I25 -> -1118.0825 | M21: ='NC Users'!J25 -> -1127.9775 | ... AC21: ='NC Users'!Z25 -> -1053.5202 | AD21: =SUM(F21:AC21) -> -24102.793
C22: Auto VT reduced | F22: ='NC Users'!C26 -> 0 | G22: ='NC Users'!D26 -> -2898.1181 | H22: ='NC Users'!E26 -> -2924.9537 | I22: ='NC Users'!F26 -> -2951.7894 | J22: ='NC Users'!G26 -> -2978.6251 | K22: ='NC Users'!H26 -> -3005.4607 | L22: ='NC Users'!I26 -> -3032.2964 | M22: ='NC Users'!J26 -> -3059.132 | ... AC22: ='NC Users'!Z26 -> -2857.2002 | AD22: =SUM(F22:AC22) -> -68266.113
C23: Auto VMT reduced | F23: ='NC Users'!C27 -> 0 | G23: ='NC Users'!D27 -> -18837.768 | H23: ='NC Users'!E27 -> -19012.199 | I23: ='NC Users'!F27 -> -19186.631 | J23: ='NC Users'!G27 -> -19361.063 | K23: ='NC Users'!H27 -> -19535.495 | L23: ='NC Users'!I27 -> -19709.926 | M23: ='NC Users'!J27 -> -19884.358 | ... AC23: ='NC Users'!Z27 -> -18571.802 | AD23: =SUM(F23:AC23) -> -443729.74
C24: Auto fuel savings | F24: ='NC Users'!C28 -> 0 | G24: ='NC Users'!D28 -> 3319.646 | H24: ='NC Users'!E28 -> 3274.8771 | I24: ='NC Users'!F28 -> 3232.0817 | J24: ='NC Users'!G28 -> 3191.1321 | K24: ='NC Users'!H28 -> 3151.9114 | L24: ='NC Users'!I28 -> 3114.3123 | M24: ='NC Users'!J28 -> 3078.2363 | ... AC24: ='NC Users'!Z28 -> 2795.7476 | AD24: =SUM(F24:AC24) -> 68944.601
A26: Non-Users
B27: ROAD
B28: Construction Impact | C28: Current User | F28: ='NC Users'!C18 -> 0 | G28: ='NC Users'!D18 -> 5514534.5 | H28: ='NC Users'!E18 -> 0 | I28: ='NC Users'!F18 -> 0 | J28: ='NC Users'!G18 -> 0 | K28: ='NC Users'!H18 -> 0 | L28: ='NC Users'!I18 -> 0 | M28: ='NC Users'!J18 -> 0 | ... AC28: ='NC Users'!Z18 -> 0 | AD28: =SUM(F28:AC28) -> 5514534.5
B29: Long-Term Impact | C29: Reduced Users | F29: ='NC Users'!C19 -> 0 | G29: ='NC Users'!D19 -> -1449.059 | H29: ='NC Users'!E19 -> -1462.4769 | I29: ='NC Users'!F19 -> -1475.8947 | J29: ='NC Users'!G19 -> -1489.3125 | K29: ='NC Users'!H19 -> -1502.7304 | L29: ='NC Users'!I19 -> -1516.1482 | M29: ='NC Users'!J19 -> -1529.566 | ... AC29: ='NC Users'!Z19 -> -1428.6001 | AD29: =SUM(F29:AC29) -> -34133.057
C30: Total Users | F30: ='NC Users'!C20 -> 0 | G30: ='NC Users'!D20 -> 0 | H30: ='NC Users'!E20 -> 5564134.8 | I30: ='NC Users'!F20 -> 5615184.2 | J30: ='NC Users'!G20 -> 5666233.7 | K30: ='NC Users'!H20 -> 5717283.1 | L30: ='NC Users'!I20 -> 5768332.5 | M30: ='NC Users'!J20 -> 5819381.9 | ... AC30: ='NC Users'!Z20 -> 5435247.4 | AD30: =SUM(F30:AC30) -> 1.2434943e+08
A33: STATE OF GOOD REPAIR
C34: New Construction for this project
A38: ECONOMIC COMPETITIVENESS
B40: PEDESTRIAN
B41: Local | C41: Current User
C42: TRAVEL TIME COST/SAVINGS
C43: Travel time savings (hour) | D43: =30/3600 -> 0.0083333333
C44: Value of time, ped, $/hour | D44: 26.21
C45: Total time cost/savings | F45: 0 | G45: 0 | H45: =$D$44*$D$43*H10 -> 31349.189 | I45: =$D$44*$D$43*I10 -> 31636.81 | J45: =$D$44*$D$43*J10 -> 31924.43 | K45: =$D$44*$D$43*K10 -> 32212.05 | L45: =$D$44*$D$43*L10 -> 32499.67 | M45: =$D$44*$D$43*M10 -> 32787.291 | N45: =$D$44*$D$43*N10 -> 32702.698 | O45: =$D$44*$D$43*O10 -> 32618.105 | ... AC45: =$D$44*$D$43*AC10 -> 30623.018 | AD45: =SUM(F45:AC45) -> 700603.78
B47: Commute | C47: Mode shift (auto to transit+ped) | F47: =F11 -> 0 | G47: =G11 -> 2844.249 | H47: =H11 -> 2870.5858 | I47: =I11 -> 2896.9227 | J47: =J11 -> 2923.2595 | K47: =K11 -> 2949.5964 | L47: =L11 -> 2975.9332 | M47: =M11 -> 3002.27 | ... AC47: =AC11 -> 2804.0917 | AD47: =SUM(F47:AC47) -> 66997.209
C48: TRAVEL TIME COST/SAVINGS
C49: travel time, auto | D49: varies | F49: ='Mode Operating Assumptions'!D29 -> 0.3910028 | G49: ='Mode Operating Assumptions'!E29 -> 0.39205715 | H49: ='Mode Operating Assumptions'!F29 -> 0.39311875 | I49: ='Mode Operating Assumptions'!G29 -> 0.39418767 | J49: ='Mode Operating Assumptions'!H29 -> 0.395264 | K49: ='Mode Operating Assumptions'!I29 -> 0.39634781 | L49: ='Mode Operating Assumptions'!J29 -> 0.39743917 | M49: ='Mode Operating Assumptions'!K29 -> 0.39853817 | ... AC49: ='Mode Operating Assumptions'!AA29 -> 0.41723012 | AD49: =SUM(F49:AC49) -> 9.6905878
C50: travel time, transit | D50: ='Mode Operating Assumptions'!C150 -> 0.38127572
C51: travel time, ped | D51: ='Mode Operating Assumptions'!C52 -> 0.234375
C52: Value of time, auto, $/hour | D52: 13.91
C53: Value of time, transit, $/hour | D53: 13.91
...

Sheet NC Users
A2: USERS and NON-USERS | C2: 2013 | D2: 2014 | E2: 2015 | F2: 2016 | G2: 2017 | H2: 2018 | I2: 2019 | J2: 2020 | K2: 2021 | L2: 2022 | M2: 2023 | N2: 2024 | O2: 2025 | P2: 2026 | Q2: 2027 | R2: 2028 | S2: 2029 | T2: 2030 | U2: 2031 | V2: 2032 | W2: 2033 | X2: 2034 | Y2: 2035 | Z2: 2036
C3: Year 1 | D3: Year 2 | E3: Year 3 | F3: Year 4 | G3: Year 5 | H3: Year 6 | I3: Year 7 | J3: Year 8 | K3: Year 9 | L3: Year 10 | M3: Year 11 | N3: Year 12 | O3: Year 13 | P3: Year 14 | Q3: Year 15 | R3: Year 16 | S3: Year 17 | T3: Year 18 | U3: Year 19 | V3: Year 20 | W3: Year 21 | X3: Year 22 | Y3: Year 23 | Z3: Year 24
A4: PEDESTRIAN
A5: Current User | B5: Current User | C5: 0 | D5: =D66 -> 142212.45 | E5: =E66 -> 143529.29 | F5: =F66 -> 144846.13 | G5: =G66 -> 146162.98 | H5: =H66 -> 147479.82 | I5: =I66 -> 148796.66 | J5: =J66 -> 150113.5 | K5: =K66 -> 149726.2 | ... Z5: =Z66 -> 140204.59
