Workbook

Sheet Summary
A1: FY 2012 TPB TIGER Grant Application - Cost and Schedule
H2: CY 2013 | L2: CY 2014 | P2: CY 2015 | T2: CY 2016
F3: FY2013 | J3: FY 2014 | N3: FY 2015 | R3: FY 2016 | V3: FY 2017 | Z3: TOTALS
F4: 1Q | G4: 2Q | H4: 3Q | I4: 4Q | J4: 1Q | K4: 2Q | L4: 3Q | M4: 4Q | N4: 1Q | O4: 2Q | P4: 3Q | Q4: 4Q | R4: 1Q | S4: 2Q | T4: 3Q | U4: 4Q | V4: 1Q | W4: 2Q | X4: 3Q | Y4: 4Q
A5: Project | B5: Total Budget | C5: TIGER | D5: Local | E5: Match
A6: District Of Columbia
A7: Fort Totten / 1st Place-Galloway Road Access Improvement Project | B7: ='DC Ftotten'!E30 -> 4171050 | C7: ='DC Ftotten'!E32 -> 3336840 | D7: ='DC Ftotten'!E34 -> 834210 | E7: =D7/B7 -> 0.2 | H7: ='DC Ftotten'!I30 -> 258750 | I7: ='DC Ftotten'!J30 -> 258750 | J7: ='DC Ftotten'!K30 -> 0 | K7: ='DC Ftotten'!L30 -> 1216336.5 | L7: ='DC Ftotten'!M30 -> 1216336.5 | M7: ='DC Ftotten'!N30 -> 1220877 | Z7: =SUM(H7:Y7) -> 4171050
A9: Maryland
A10: Forest Glen Metrorail Access Project | B10: ='MC F Glen'!E35 -> 15555000 | C10: ='MC F Glen'!E37 -> 10444000 | D10: ='MC F Glen'!E39 -> 5111000 | E10: =D10/B10 -> 0.32857602 | H10: ='MC F Glen'!I35 -> 105000 | I10: ='MC F Glen'!J35 -> 105000 | J10: ='MC F Glen'!K35 -> 412833.33 | K10: ='MC F Glen'!L35 -> 412833.33 | L10: ='MC F Glen'!M35 -> 412833.33 | M10: ='MC F Glen'!N35 -> 912833.33 | N10: ='MC F Glen'!O35 -> 496924.24 | O10: ='MC F Glen'!P35 -> 496924.24 | ... X10: ='MC F Glen'!Y35 -> 1793382.6 | Z10: =SUM(H10:Y10) -> 15555000
A12: Pedestrian Safety Measures for the New Carrollton Metrorail Station | B12: ='PG NewC'!E31 -> 575423.78 | C12: ='PG NewC'!E33 -> 402796.64 | D12: ='PG NewC'!E35 -> 172627.13 | E12: =D12/B12 -> 0.3 | J12: ='PG NewC'!I31 -> 51750 | K12: ='PG NewC'!J31 -> 72450 | L12: ='PG NewC'!K31 -> 259249.39 | M12: ='PG NewC'!L31 -> 150574.39 | N12: ='PG NewC'!M31 -> 41400 | Z12: =SUM(H12:Y12) -> 575423.78
A14: Rosslyn Circle Crossing | B14: ='Arl RCC'!E39 -> 4020000 | C14: ='Arl RCC'!E38 -> 750000 | D14: ='Arl RCC'!E37 -> 3270000 | E14: =D14/B14 -> 0.81343284 | H14: ='Arl RCC'!J35 -> 68600 | J14: ='Arl RCC'!L35 -> 65000 | K14: ='Arl RCC'!M35 -> 1376000 | L14: ='Arl RCC'!N35 -> 1000000 | M14: ='Arl RCC'!O35 -> 1510400 | Z14: =SUM(H14:Y14) -> 4020000
A16: West Hyattsville Metrorail Station Access Improvements | B16: ='PG WH'!E28 -> 710250 | C16: ='PG WH'!E30 -> 542750 | D16: ='PG WH'!E32 -> 167500 | E16: =D16/B16 -> 0.23583245 | K16: ='PG WH'!H26 -> 37500 | L16: ='PG WH'!I26 -> 257583.33 | M16: ='PG WH'!J26 -> 267583.33 | N16: ='PG WH'!K26 -> 147583.33 | Z16: =SUM(H16:Y16) -> 710250
A18: Virginia
A19: Arlington Army Navy Drive Multimodal Access Improvement Project | B19: ='Arl A-N'!E37 -> 6838879 | C19: ='Arl A-N'!E39 -> 4215983 | D19: ='Arl A-N'!E41 -> 2622896 | E19: =D19/B19 -> 0.38352718 | F19: ='Arl A-N'!G37 -> 483928.74 | G19: ='Arl A-N'!H37 -> 31050 | H19: ='Arl A-N'!I37 -> 1580975.2 | I19: ='Arl A-N'!J37 -> 1580975.2 | J19: ='Arl A-N'!K37 -> 1580975.2 | K19: ='Arl A-N'!L37 -> 1580975.2 | Z19: =SUM(F19:Y19) -> 6838879.5
A21: Bicycle Lockers at VRE Stations | B21: =VRE!E60 -> 283600.35 | C21: =VRE!E62 -> 226880.28 | D21: =VRE!E64 -> 56720.07 | E21: =D21/B21 -> 0.2 | L21: =VRE!I60 -> 65555 | M21: =VRE!J60 -> 108655 | N21: =VRE!K60 -> 56905 | O21: =VRE!L60 -> 44505 | P21: =VRE!M60 -> 7980 | Z21: =SUM(H21:Y21) -> 283600
A23: TOTAL Project Implementation Cost | B23: =SUM(B7:B22) -> 32154203 | C23: =SUM(C7:C22) -> 19919250 | D23: =SUM(D7:D22) -> 12234953 | E23: =D23/B23 -> 0.38050867 | F23: =SUM(F7:F22) -> 483928.74 | G23: =SUM(G7:G22) -> 31050 | H23: =SUM(H7:H22) -> 2013325.2 | I23: =SUM(I7:I22) -> 1944725.2 | J23: =SUM(J7:J22) -> 2110558.5 | K23: =SUM(K7:K22) -> 4696095 | L23: =SUM(L7:L22) -> 3211557.5 | M23: =SUM(M7:M22) -> 4170923.1 | ... X23: =SUM(X7:X22) -> 1793382.6 | Z23: =SUM(H23:Y23) -> 31639224
A26: Jobs Created/Retained | F26: =F23/(76923) -> 6.2910799 | G26: =G23/(76923) -> 0.4036504 | H26: =H23/(76923) -> 26.173253 | I26: =I23/(76923) -> 25.281453 | J26: =J23/(76923) -> 27.437288 | K26: =K23/(76923) -> 61.049296 | L26: =L23/(76923) -> 41.75029 | M26: =M23/(76923) -> 54.222054 | ... X26: =X23/(76923) -> 23.313997 | Z26: =SUM(H26:Y26) -> 411.31033
A28: Direct, On-Project Jobs | F28: =F26*0.64 -> 4.0262911 | G28: =G26*0.64 -> 0.25833626 | H28: =H26*0.64 -> 16.750882 | I28: =I26*0.64 -> 16.18013 | J28: =J26*0.64 -> 17.559864 | K28: =K26*0.64 -> 39.071549 | L28: =L26*0.64 -> 26.720185 | M28: =M26*0.64 -> 34.702115 | ... X28: =X26*0.64 -> 14.920958 | Z28: =SUM(H28:Y28) -> 263.23861
A29: Induced Jobs | F29: =F26*0.36 -> 2.2647888 | G29: =G26*0.36 -> 0.14531415 | H29: =H26*0.36 -> 9.4223713 | I29: =I26*0.36 -> 9.1013229 | J29: =J26*0.36 -> 9.8774237 | K29: =K26*0.36 -> 21.977747 | L29: =L26*0.36 -> 15.030104 | M29: =M26*0.36 -> 19.51994 | ... X29: =X26*0.36 -> 8.3930388 | Z29: =SUM(H29:Y29) -> 148.07172

Sheet DC Ftotten
A1: FY 2012 TPB TIGER Grant Application - Cost and Schedule | I1: 2013
G2: FY 2013 | K2: FY 2013
G3: 1Q | H3: 2Q | I3: 3Q | J3: 4Q | K3: 1Q | L3: 2Q | M3: 3Q | N3: 4Q
A4: Project | B4: Activity | C4: Lead Agency | D4: Workforce | E4: Budget | F4: Funding Source
A5: Fort Totten Station Access
B6: Included in TIGER Request
A7: 1. Final Design & Engineering | B7: Design | C7: DDOT | D7: Contractor | E7: 500000 | F7: TIGER
A8: Complete final design (30% to 100%) and engineering for project. | I8: 250000 | J8: 250000
A10: 2. Construction | B10: Construction | C10: DDOT | D10: Contractor | E10: 3530000 | F10: TIGER
A12: 2.1 1st Place NE Section
A13: Excavation, Milling, grading, curb and gutter, asphalt, pavement markings, catch basins, street lights | B13: Procure | C13: DDOT | D13: Contractor | E13: 752641 | L13: =$E13/3 -> 250880.33 | M13: =$E13/3 -> 250880.33 | N13: =$E13/3 -> 250880.33
A15: 2.2 WMATA property Section
A16: Excavation, Milling, grading, curb and gutter, asphalt, pavement markings, catch basins, street lights, rain garden | B16: Procure | C16: DDOT | D16: Contractor | E16: 1711513 | L16: =$E16/3 -> 570504.33 | M16: =$E16/3 -> 570504.33 | N16: =$E16/3 -> 570504.33
A18: 2.3 Pedestrian Plaza
A19: Pavers, secure bike parking, landscape | B19: Procure | C19: DDOT | D19: Contractor | E19: 622380 | L19: =$E19/3 -> 207460 | M19: =$E19/3 -> 207460 | N19: =$E19/3 -> 207460
A21: 2.4 Galloway Street NE Section
A22: Excavation, Milling, grading, curb and gutter, asphalt, pavement markings, retaining wall | B22: Procure | C22: DDOT | D22: Contractor | E22: 439079 | L22: =$E22/3 -> 146359.67 | M22: =$E22/3 -> 146359.67 | N22: =$E22/3 -> 146359.67
A24: Total Construction Costs (not rounded) | E24: =SUM(E13:E22) -> 3525613 | N24: =E10-E24 -> 4387
A27: Project Implementation Cost | E27: =E10+E7 -> 4030000 | I27: =SUM(I8:I25) -> 250000 | J27: =SUM(J8:J25) -> 250000 | K27: =SUM(K8:K25) -> 0 | L27: =SUM(L8:L25) -> 1175204.3 | M27: =SUM(M8:M25) -> 1175204.3 | N27: =SUM(N8:N25) -> 1179591.3
A28: COG PM Costs (3.5%) | E28: =E27*0.035 -> 141050 | I28: =I27*0.035 -> 8750 | J28: =J27*0.035 -> 8750 | K28: =K27*0.035 -> 0 | L28: =L27*0.035 -> 41132.152 | M28: =M27*0.035 -> 41132.152 | N28: =N27*0.035 -> 41285.697
A30: TOTAL Project Implementation Cost | E30: =E27+E28 -> 4171050 | I30: =I27+I28 -> 258750 | J30: =J27+J28 -> 258750 | K30: =K27+K28 -> 0 | L30: =L27+L28 -> 1216336.5 | M30: =M27+M28 -> 1216336.5 | N30: =N27+N28 -> 1220877 | P30: =SUM(I30:O30) -> 4171050
A32: Total TIGER Funds | E32: =E30*0.8 -> 3336840 | F32: =E32/E30 -> 0.8
A34: Total Other Funds (% match) | E34: =E30-E32 -> 834210 | F34: =E34/E30 -> 0.2
AC36: =$E36*6 -> 0
AC37: =$E37*6 -> 0

Sheet MC F Glen
A1: Forest Glen Pedestrian Passageway | I1: CY 2013 | M1: CY 2014 | Q1: CY 2015 | U1: CY 2016
A2: FY 2012 TPB TIGER Grant Application - Cost and Schedule | G2: FY 2013 | K2: FY 2014 | O2: FY 2015 | S2: FY 2016 | W2: FY 2017
G3: 1Q | H3: 2Q | I3: 3Q | J3: 4Q | K3: 1Q | L3: 2Q | M3: 3Q | N3: 4Q | O3: 1Q | P3: 2Q | Q3: 3Q | R3: 4Q | S3: 1Q | T3: 2Q | U3: 3Q | V3: 4Q | W3: 1Q | X3: 2Q | Y3: 3Q | Z3: 4Q
A4: Project | B4: Activity | C4: Lead Agency | D4: Workforce | E4: Budget | F4: Funding Source
A5: Forest Glen Pedestrian Passageway under
A6: Georgia Avenue
A8: 1. Planning | B8: Design | C8: County | D8: County | E8: =SUM(E9:E12) -> 210000 | F8: TIGER
A9: Management and Review (Mont. County) | E9: 50000 | I9: =E9/2 -> 25000 | J9: =E9/2 -> 25000 | AA9: =SUM(G9:Z9) -> 50000
A10: Agency (SHA and WMATA) Review | E10: 10000 | I10: =E10/2 -> 5000 | J10: =E10/2 -> 5000 | AA10: =SUM(G10:Z10) -> 10000
A11: Planning/NEPA Documentation | E11: 150000 | I11: =E11/2 -> 75000 | J11: =E11/2 -> 75000 | AA11: =SUM(G11:Z11) -> 150000
A13: 2. Final Design and Engineering | B13: Design | C13: County | D13: County | E13: =SUM(E14:E19) -> 2815000
A14: Management and Review (Mont. County) | E14: 150000 | K14: =($E$14/4) -> 37500 | L14: =($E$14/4) -> 37500 | M14: =($E$14/4) -> 37500 | N14: =($E$14/4) -> 37500 | AA14: =SUM(G14:Z14) -> 150000
A15: Management and Administration (MWCOG) | E15: =ROUND(0.035*SUM(E8,E14,E16:E18,E20,E23,E32),-4) -> 530000 | K15: =$E15/15 -> 35333.333 | L15: =$E15/15 -> 35333.333 | M15: =$E15/15 -> 35333.333 | N15: =$E15/15 -> 35333.333 | O15: =$E15/15 -> 35333.333 | P15: =$E15/15 -> 35333.333 | Q15: =$E15/15 -> 35333.333 | R15: =$E15/15 -> 35333.333 | ... Y15: =$E15/15 -> 35333.333 | AA15: =SUM(G15:Z15) -> 530000
A16: Agency (SHA and WMATA) Review | E16: 100000 | K16: =($E$16/4) -> 25000 | L16: =($E$16/4) -> 25000 | M16: =($E$16/4) -> 25000 | N16: =($E$16/4) -> 25000 | AA16: =SUM(G16:Z16) -> 100000
A17: Final design and engineering for project | E17: 1260000 | K17: =($E$17/4) -> 315000 | L17: =($E$17/4) -> 315000 | M17: =($E$17/4) -> 315000 | N17: =($E$17/4) -> 315000 | AA17: =SUM(G17:Z17) -> 1260000
A18: Construction Management and Inspection (Mont. County) | E18: 775000 | O18: =$E$18/11 -> 70454.545 | P18: =$E$18/11 -> 70454.545 | Q18: =$E$18/11 -> 70454.545 | R18: =$E$18/11 -> 70454.545 | S18: =$E$18/11 -> 70454.545 | T18: =$E$18/11 -> 70454.545 | U18: =$E$18/11 -> 70454.545 | V18: =$E$18/11 -> 70454.545 | ... Y18: =$E$18/11 -> 70454.545 | AA18: =SUM(G18:Z18) -> 775000
A20: 3. Land Acquisition | B20: Acquisition | C20: County | D20: County | E20: =SUM(E21:E22) -> 500000
A21: Acquire required Right-of-Way, Easements | E21: 500000 | N21: 500000 | AA21: =SUM(G21:Z21) -> 500000
A23: 4. Construct Pedestrian Passageway | B23: Construction | C23: County | D23: Contractor | E23: =SUM(E24:E30) -> 11530000
A24: Utility Relocation | E24: 585000 | O24: =($E$24/2) -> 292500 | P24: =($E$24/2) -> 292500 | AA24: =SUM(G24:Z24) -> 585000
A25: Install Support of Excavation | E25: 2160000 | Q25: =($E$25/4) -> 540000 | R25: =($E$25/4) -> 540000 | S25: =($E$25/4) -> 540000 | T25: =($E$25/4) -> 540000 | AA25: =SUM(G25:Z25) -> 2160000
A26: Excavate and Install Temporary Bridge | E26: 810000 | R26: =($E$26/12)*2 -> 135000 | S26: =($E$26/12)*3 -> 202500 | T26: =($E$26/12)*3 -> 202500 | U26: =($E$26/12)*3 -> 202500 | V26: =($E$26/12)*1 -> 67500 | AA26: =SUM(G26:Z26) -> 810000
A27: Construct Ped. Passageway and Station Tie-In | E27: 5975000 | U27: =($E$27/12)*1 -> 497916.67 | V27: =($E$27/12)*3 -> 1493750 | W27: =($E$27/12)*3 -> 1493750 | X27: =($E$27/12)*3 -> 1493750 | Y27: =($E$27/12)*2 -> 995833.33 | AA27: =SUM(G27:Z27) -> 5975000
A28: Maintenance of Traffic | E28: 1085000 | O28: =$E$28/11 -> 98636.364 | P28: =$E$28/11 -> 98636.364 | Q28: =$E$28/11 -> 98636.364 | R28: =$E$28/11 -> 98636.364 | S28: =$E$28/11 -> 98636.364 | T28: =$E$28/11 -> 98636.364 | U28: =$E$28/11 -> 98636.364 | V28: =$E$28/11 -> 98636.364 | ... Y28: =$E$28/11 -> 98636.364 | AA28: =SUM(G28:Z28) -> 1085000
A29: Conduct Roadway Restoration | E29: 915000 | W29: =($E$29/8)*2 -> 228750 | X29: =($E$29/8)*3 -> 343125 | Y29: =($E$29/8)*3 -> 343125 | AA29: =SUM(G29:Z29) -> 915000
A31: 5. Bike Share Stations | B31: Construction | C31: County | E31: =SUM(E32) -> 500000
A32: Construct Bike Share Stations | E32: 500000 | X32: =($E$32/2) -> 250000 | Y32: =($E$32/2) -> 250000 | AA32: =SUM(G32:Z32) -> 500000
A35: TOTAL Project Implementation Cost | E35: =E8+E13+E20+E23+E31 -> 15555000 | G35: =SUM(G5:G32) -> 0 | H35: =SUM(H5:H32) -> 0 | I35: =SUM(I5:I32) -> 105000 | J35: =SUM(J5:J32) -> 105000 | K35: =SUM(K5:K32) -> 412833.33 | L35: =SUM(L5:L32) -> 412833.33 | M35: =SUM(M5:M32) -> 412833.33 | N35: =SUM(N5:N32) -> 912833.33 | ... Y35: =SUM(Y5:Y32) -> 1793382.6 | AA35: =SUM(G35:Z35) -> 15555000
L36: =SUM(I35:L35) -> 1035666.7 | P36: =SUM(M35:P35) -> 2319515.2 | T36: =SUM(Q35:T35) -> 3517697 | X36: =SUM(U35:X35) -> 6888738.6
A37: Total TIGER Funds | E37: =E35-E39 -> 10444000 | F37: =E37/E35 -> 0.67142398
A39: Total Other Funds (% match) | E39: 5111000 | F39: =E39/E35 -> 0.32857602

Sheet PG NewC
A1: FY 2012 TPB TIGER Grant Application - Cost and Schedule | I1: CY 2013
G2: FY 2013 | K2: FY 2014
G3: 1Q | H3: 2Q | I3: 3Q | J3: 4Q | K3: 1Q | L3: 2Q | M3: 3Q | N3: 4Q
A4: Project | B4: Activity | C4: Lead Agency | D4: Workforce | E4: Budget | F4: Funding Source
A5: New Carrollton Safety Measures for the New Carrollton Metro Station
A7: 2. Construct Pedestrian Crossings | E7: =SUM(E9:E24) -> 555965 | F7: TIGER | O7: SUM
A9: 2.4 Install six new lights along roadway for Ellin Road | E9: 70965 | F9: =E9*0.7 -> 49675.5 | K9: =E9/2 -> 35482.5 | L9: =K9 -> 35482.5 | O9: =SUM(G9:M9) -> 70965
A11: 2.5 Upgrade existing geometry and signal to the latest ADA standards for pedestrian and overall safety
A12: at Garden City Drive at Corporate Place | E12: 270000 | F12: =E12*0.7 -> 189000 | I12: 50000 | J12: 50000 | K12: 100000 | L12: 70000 | O12: =SUM(G12:M12) -> 270000
A14: 2.6 Install pedestrian walkway on Ellin Road From Veterans Parkway to Emerson Place | E14: 140000 | F14: =E14*0.7 -> 98000 | J14: 20000 | K14: 40000 | L14: 40000 | M14: 40000 | O14: =SUM(G14:M14) -> 140000
A16: 2.8 Provide 10 trash receptacles | E16: 15000 | F16: =E16*0.7 -> 10500 | K16: 15000 | O16: =SUM(G16:M16) -> 15000
A18: 2.9 Provide 10 benches | E18: 15000 | F18: =E18*0.7 -> 10500 | K18: 15000 | O18: =SUM(G18:M18) -> 15000
A20: 3.0 Consolidate Bus Stops on Annapolis Road (WMATA) | E20: 15000 | F20: =E20*0.7 -> 10500 | K20: 15000 | O20: =SUM(G20:M20) -> 15000
A22: 3.1 Move Bus Stop closer to intersection of Annapolis Road and 85th Ave | E22: 15000 | F22: =E22*0.7 -> 10500 | K22: 15000 | O22: =SUM(G22:M22) -> 15000
A24: 3.2 Move Bus Stop close to Intersection of Annapolis Road and Riverdale Road | E24: 15000 | F24: =E24*0.7 -> 10500 | K24: 15000 | O24: =SUM(G24:M24) -> 15000
A27: Project Construction Cost | E27: =E7 -> 555965 | F27: =E27*0.7 -> 389175.5
A29: COG PM Costs | E29: =E27*0.035 -> 19458.775 | F29: =E29*0.7 -> 13621.142 | I29: =SUM(I9:I24)*0.035 -> 1750 | J29: =SUM(J9:J24)*0.035 -> 2450 | K29: =SUM(K9:K24)*0.035 -> 8766.8875 | L29: =SUM(L9:L24)*0.035 -> 5091.8875 | M29: =SUM(M9:M24)*0.035 -> 1400 | O29: =SUM(G29:M29) -> 19458.775
A31: TOTAL Project Implementation Cost (inc COG PM) | E31: =E27+E29 -> 575423.78 | F31: =F27+F29 -> 402796.64 | I31: =SUM(I9:I29) -> 51750 | J31: =SUM(J9:J29) -> 72450 | K31: =SUM(K9:K29) -> 259249.39 | L31: =SUM(L9:L29) -> 150574.39 | M31: =SUM(M9:M29) -> 41400 | O31: =SUM(G31:M31) -> 575423.78
A33: Total TIGER request | E33: =F31 -> 402796.64 | F33: =E33/E31 -> 0.7 | L33: =SUM(I31:L31) -> 534023.78
A35: Total Other Funds | E35: =E31-E33 -> 172627.13 | F35: =E35/E31 -> 0.3
S38: =$E38*6 -> 0 | X38: =$E38*6 -> 0 | AC38: =$E38*6 -> 0
S39: =$E39*6 -> 0 | AC39: =$E39*6 -> 0

Sheet Arl RCC
A1: FY 2012 TPB TIGER Grant Application - Cost and Schedule | F1: CY 2012 | J1: CY 2013 | N1: CY 2014
H2: FY 2013 | L2: FY 2014
H3: 1Q | I3: 2Q | J3: 3Q | K3: 4Q | L3: 1Q | M3: 2Q | N3: 3Q | O3: 4Q
A4: Project (By Study Corridor) | B4: Activity | C4: Lead Agency | D4: Workforce | E4: Budget | F4: Existing or New Infrastructure | G4: Funding Source
A5: Rosslyn Circle Crossing
A6: RTSP Grant
A7: FHWA / RSTP (80%) | E7: 800000
A8: State Match (20%) | E8: 200000
A9: 1. Planning | B9: Design | C9: County | D9: Contractor | E9: =SUM(E10:E24) -> 1068600 | F9: Ex. / New
A10: Arl Co Management and Review | B10: planning | E10: 60000 | G10: FHWA - | H10: 10000 | I10: 10000 | J10: 10000 | K10: 10000 | L10: 10000 | M10: 10000
A11: VDOT / FHWA Agency Review | B11: planning | E11: 40000 | G11: FHWA - | H11: 10000 | J11: 10000 | L11: 10000 | N11: 10000
A12: Planning/NEPA Documentation | B12: planning | E12: 60500 | G12: FHWA - | H12: 60500 | I12: (Tasks completed 2010)
A13: 25% Engineering | B13: Design | E13: 99000 | G13: FHWA - | H13: 99000 | I13: (Tasks completed 2011)
A14: 50% Engineering | B14: Design | E14: 153000 | G14: FHWA - | H14: 153000 | I14: (Tasks completed 2011)
A15: Public Involvement | B15: Design | E15: 37000 | G15: FHWA - | H15: 27000 | J15: 10000
A16: 60% Engineering | B16: Design | E16: 119000 | G16: FHWA - | H16: 119000
A17: Structure and Bridge Modifications | B17: Design | E17: 86600 | G17: FHWA - | I17: 49000 | J17: =E17-I17 -> 37600
A18: Structure and Bridge Modifications Ph II | B18: Design | E18: 183500 | G18: FHWA - | J18: =E18-J19 -> 114900
G19: Dev. Contribution / Tiger | J19: =68600 -> 68600
A20: VDOT Management and Administration | B20: Design | E20: 70000 | G20: FHWA - | K20: 70000
A21: Final design and engineering for project | B21: Design | E21: 50000 | G21: FHWA - | K21: =E21 -> 50000
A22: Bid Preparation | B22: Design | E22: 25000 | G22: FHWA - | L22: 25000
A23: Construction Management and Inspection | B23: Design | E23: 60000 | G23: FHWA - | M23: 20000 | N23: 20000 | O23: 20000
A24: Design Contingency / Final VDOT Revisions | B24: Design | E24: 25000 | G24: FHWA - | O24: =E24 -> 25000
A26: 3. Land Acquisition | B26: Acquisition | C26: County | D26: Contractor | E26: =E27 -> 45000 | F26: Ex. / New
A27: Acquire required Right-of-Way, Easements | B27: ROW | E27: 45000 | G27: Dev. Contribution / Tiger | L27: =E27 -> 45000
A29: 4. Construct trail, intersection and sidewalk upgrades | B29: Construction | C29: County | D29: Contractor | E29: =SUM(E30:E33) -> 3906400 | F29: Ex. / New
A30: VDOT Agency Inspection | B30: Construction | E30: 30000 | G30: Dev. Contribution / Tiger | L30: 20000 | O30: 10000
A31: Utility Relocation | B31: Construction | E31: 40000 | G31: Dev. Contribution / Tiger | M31: =E31 -> 40000
A32: Construct Ped and Bike access Improv. | B32: Construction | E32: 3336000 | G32: Dev. Contribution / Tiger | M32: 1336000 | N32: 1000000 | O32: 1000000
A33: 15% contingency and MWCOG PM fee (of const. cost) | B33: Construction | E33: =E32*0.15 -> 500400 | G33: Dev. Contribution / Tiger | O33: =E33 -> 500400
A35: TOTAL Project Implementation Cost | E35: =E26+E29+J19 -> 4020000 | H35: =SUM(H27:H33) -> 0 | I35: =SUM(I27:I33) -> 0 | J35: =J19 -> 68600 | K35: =SUM(K27:K33) -> 0 | L35: =SUM(L27:L33) -> 65000 | M35: =SUM(M27:M33) -> 1376000 | N35: =SUM(N27:N33) -> 1000000 | O35: =SUM(O27:O33) -> 1510400 | P35: =SUM(H35:O35) -> 4020000
A37: Developer Contribution | E37: 3270000
A38: Total Required TIGER Funds | E38: 750000
A39: TOTAL Funding Required | E39: =SUM(E37:E38) -> 4020000

Sheet PG WH
A1: FY 2012 TPB TIGER Grant Application - Cost and Schedule
I2: CY 2014
G3: FY 2014 | K3: FY 2015
G4: 1Q | H4: 2Q | I4: 3Q | J4: 4Q | K4: 1Q | L4: 2Q | M4: 3Q | N4: 4Q
A5: Project | B5: Activity | C5: Lead Agency | D5: Workforce | E5: Budget | F5: Funding Source
A6: West Hyattsville Access Improvments - Project Start Date - January 2012
C7: NOT FUNDED BY TIGER - Included in Local Matching
A8: 1. Planning, Design & Engineering | B8: Design | C8: County | D8: Consultant | F8: County
B9: Jamestown Road Sidewalk Design | E9: 37500 | H9: 37500
B10: (note: Design costs are not a part of Tiger request)
A12: Construction - Start Date - September 2013 | B12: Construction | C12: County | D12: Contractor | F12: TIGER 80%
A15: West Hyattsville Project Access Improvements
B18: Jamestown Road Sidewalk Construction | E18: 250000 | F18: =E18*0.8 -> 200000 | I18: 50000 | J18: 100000 | K18: 100000
B19: WMATA Secure Bike Station | E19: 400000 | F19: =E19*0.8 -> 320000 | I19: 200000 | J19: 160000 | K19: 40000
A21: Project Implementation Cost | E21: =E8+E12+SUM(E9:E19) -> 687500 | I21: =SUM(I18:I20) -> 250000 | J21: =SUM(J18:J20) -> 260000 | K21: =SUM(K18:K20) -> 140000
A23: Construction Costs | E23: =E18+E19 -> 650000 | F23: =SUM(F14:F19) -> 520000
A24: Plus COG PM Costs (3.5%) | E24: =E23*0.035 -> 22750 | F24: =E24 -> 22750 | I24: =$F24/3 -> 7583.3333 | J24: =$F24/3 -> 7583.3333 | K24: =$F24/3 -> 7583.3333
A26: TOTAL Project Construction Costs | E26: =E23+E24 -> 672750 | F26: =F23+E24 -> 542750 | H26: 37500 | I26: =I21+I24 -> 257583.33 | J26: =J21+J24 -> 267583.33 | K26: =K21+K24 -> 147583.33
A28: TOTAL Project Implementation Cost | E28: =E26+E9 -> 710250 | K28: =SUM(H26:K26) -> 710250
A30: Total TIGER Funds | E30: =F26 -> 542750 | F30: =E30/E28 -> 0.76416755
A32: Total Other Funds (% match) | E32: =E28-E30 -> 167500 | F32: =E32/E28 -> 0.23583245

Sheet Arl A-N
A1: FY 2012 TPB TIGER Grant Application - Cost and Schedule | I1: CY 2013
G2: FY 2013 | K2: FY 2014
G3: 1Q | H3: 2Q | I3: 3Q | J3: 4Q | K3: 1Q | L3: 2Q | M3: 3Q | N3: 4Q
A4: Project | B4: Activity | C4: Lead Agency | D4: Workforce | E4: Budget | F4: Funding Source
A5: Combined Pentagon / Pentagon City / Crystal City Access Improvement Project
A7: 1. Planning | B7: NOT FUNDED BY TIGER - Included in Local Matching
A8: Army Navy Drive | B8: Planning
A9: 30% design | C9: FHWA | F9: FHWA | G9: Finished as of FY 2011.
A10: 100% design and site coordination | C10: Arlington | F10: Arlington | I10: Completed mid-FY2013
A11: Bikesharing 5 initial stations | B11: Planning
A12: Plan station locations | C12: Arlington | F12: Arlington | G12: To be completed FY2012
A13: Obtain environmental clearance | C13: Arlington | F13: Arlington | G13: To be completed FY2012
A14: Bikesharing 5 additional stations | B14: Planning
A15: Plan station locations | C15: Arlington | F15: Arlington | G15: To be completed FY2012
A16: Obtain environmental clearance | C16: Arlington | F16: Arlington | G16: To be completed FY2012
A18: Total Planning Costs - all Local
A21: 2. Implementation | E21: Overall | F21: TIGER
A22: Army Navy Drive Construction | B22: Construction
A23: Arlington portion | E23: 2622896 | F23: Arlington | I23: =$E23/4 -> 655724 | J23: =$E23/4 -> 655724 | K23: =$E23/4 -> 655724 | L23: =$E23/4 -> 655724
A24: TIGER portion | E24: =4215983-SUM(E26:E30)-F33 -> 3487153 | F24: TIGER | I24: =$E24/4 -> 871788.25 | J24: =$E24/4 -> 871788.25 | K24: =$E24/4 -> 871788.25 | L24: =$E24/4 -> 871788.25
A25: Bikesharing 5 initial stations | B25: Construction
A26: Procurement | E26: 233782 | F26: TIGER | G26: 233782
A27: Installation | E27: 15000 | F27: TIGER | H27: 15000
A28: Bikesharing 5 additional stations | B28: Construction
A29: Procurement | E29: 233782 | F29: TIGER | G29: 233782
A30: Installation | E30: 15000 | F30: TIGER | H30: 15000
A32: Total Construction Costs | E32: =SUM(E23:E30) -> 6607613 | F32: =E32*0.62 -> 4096720.1
A33: COG PM (3.5%) of construction | F33: 231266 | G33: =0.035*(SUM(G23:G31)) -> 16364.74 | H33: =0.035*(SUM(H23:H31)) -> 1050 | I33: =0.035*(SUM(I23:I31)) -> 53462.929 | J33: =0.035*(SUM(J23:J31)) -> 53462.929 | K33: =0.035*(SUM(K23:K31)) -> 53462.929 | L33: =0.035*(SUM(L23:L31)) -> 53462.929 | N33: =SUM(G33:L33) -> 231266.46
A34: TOTAL | E34: =E32+F33 -> 6838879 | F34: =SUM(E24:E30)+F33 -> 4215983
A37: TOTAL Project Implementation Cost | E37: =E34+SUM(E9:E16) -> 6838879 | G37: =SUM(G23:G36)+SUM(E10:E16) -> 483928.74 | H37: =SUM(H23:H36)+SUM(F10:F16) -> 31050 | I37: =SUM(I23:I36)+SUM(G10:G16) -> 1580975.2 | J37: =SUM(J23:J36)+SUM(H10:H16) -> 1580975.2 | K37: =SUM(K23:K36)+SUM(I10:I16) -> 1580975.2 | L37: =SUM(L23:L36)+SUM(J10:J16) -> 1580975.2 | N37: =SUM(G37:M37) -> 6838879.5
A39: Total TIGER Funds (%) | E39: =F34 -> 4215983 | F39: =E39/E37 -> 0.61647282
A41: Total Other Funds (% match) | E41: =E37-E39 -> 2622896 | F41: =E41/E37 -> 0.38352718

Sheet VRE
A1: FY 2012 TPB TIGER Grant Application - Cost and Schedule
I2: CY 2013
G3: FY 2013 | K3: FY 2014
G4: 1Q | H4: 2Q | I4: 3Q | J4: 4Q | K4: 1Q | L4: 2Q | M4: 3Q | N4: 4Q
A5: Project | B5: Activity | C5: Lead Agency | D5: Workforce | E5: Budget | F5: Funding Source
A6: VRE Bike Lockers
A8: 1. Install Bike Lockers | E8: =SUM(E11:E57) -> 283600.35 | F8: TIGER
A9: Install bike lockers at eight (8) locations
A11: Broad Run
A12: Purchase lockers | B12: Procure | C12: VRE | D12: Manufacturer | E12: 11600 | I12: 5800 | J12: 5800
A13: Prepare site | B13: Construct | C13: VRE | D13: Contractor | E13: 7500 | J13: 3750 | K13: 3750
A14: Install | B14: Construct | C14: VRE | D14: Contractor | E14: 2000 | L14: 2000
A15: Permits, Inspection, Administration | C15: VRE | D15: VRE, MWCOG | E15: 5199.35 | I15: 1300 | J15: 1300 | K15: 1300 | L15: 1299
A17: Rippon
A18: Purchase lockers | B18: Procure | C18: VRE | D18: Manufacturer | E18: 11600 | I18: 5800 | J18: 5800
A19: Prepare site | B19: Construct | C19: VRE | D19: Contractor | E19: 7500 | J19: 3750 | K19: 3750
A20: Install | B20: Construct | C20: VRE | D20: Contractor | E20: 2000 | L20: 2000
A21: Permits, Inspection, Administration | B21: Construct | C21: VRE | D21: VRE, MWCOG | E21: 5882.45 | I21: 1470 | J21: 1470 | K21: 1470 | L21: 1473
A23: Woodbridge
A24: Purchase lockers | B24: Procure | C24: VRE | D24: Manufacturer | E24: 11600 | I24: 5800 | J24: 5800
A25: Prepare site | B25: Construct | C25: VRE | D25: Contractor | E25: 7500 | J25: 3750 | K25: 3750
A26: Install | B26: Construct | C26: VRE | D26: Contractor | E26: 2000 | L26: 2000
A27: Permits, Inspection, Administration | B27: Construct | C27: VRE | D27: VRE, MWCOG | E27: 5199.35 | I27: 1300 | J27: 1300 | K27: 1300 | L27: 1299
A29: Manassas
A30: Purchase lockers | B30: Procure | C30: VRE | D30: Manufacturer | E30: 11600 | I30: 5800 | J30: 5800
A31: Prepare site | B31: Construct | C31: VRE | D31: Contractor | E31: 7500 | J31: 3750 | K31: 3750
A32: Install | B32: Construct | C32: VRE | D32: Contractor | E32: 2000 | L32: 2000
A33: Permits, Inspection, Administration | B33: Construct | C33: VRE | D33: VRE, MWCOG | E33: 5199.35 | I33: 1300 | J33: 1300 | K33: 1300 | L33: 1299
A35: Manassas Park
A36: Purchase lockers | B36: Procure | C36: VRE | D36: Manufacturer | E36: 11600 | I36: 5800 | J36: 5800
A37: Prepare site | B37: Construct | C37: VRE | D37: Contractor | E37: 7500 | J37: 3750 | K37: 3750
A38: Install | B38: Construct | C38: VRE | D38: Contractor | E38: 2000 | L38: 2000
A39: Permits, Inspection, Administration | B39: Construct | C39: VRE | D39: VRE, MWCOG | E39: 5199.35 | I39: 1300 | J39: 1300 | K39: 1300 | L39: 1299
A41: Rolling Rd.
A42: Purchase lockers | B42: Procure | C42: VRE, Fairfax Co. | D42: Manufacturer | E42: 14500 | I42: 7250 | J42: 7250
A43: Prepare site | B43: Construct | C43: VRE, Fairfax Co. | D43: Contractor | E43: 7500 | J43: 3750 | K43: 3750
A44: Install | B44: Construct | C44: VRE, Fairfax Co. | D44: Contractor | E44: 2000 | L44: 2000
A45: Permits, Inspection, Administration | B45: Construct | C45: VRE, Fairfax Co. | D45: VRE, Fairfax Co., MWCOG | E45: 4462.5 | I45: 1115 | J45: 1115 | K45: 1115 | L45: 1118
A47: Lorton
A48: Purchase lockers | B48: Procure | C48: VRE, Fairfax Co. | D48: Manufacturer | E48: 11600 | I48: 5800 | J48: 5800
A49: Prepare site | B49: Construct | C49: VRE, Fairfax Co. | D49: Contractor | E49: 8200 | J49: 4100 | K49: 4100
A50: Install | B50: Construct | C50: VRE, Fairfax Co. | D50: Contractor | E50: 2000 | L50: 2000
A51: Permits, Inspection, Administration | B51: Construct | C51: VRE, Fairfax Co. | D51: VRE, Fairfax Co., MWCOG | E51: 4157.8 | I51: 1040 | J51: 1040 | K51: 1040 | L51: 1038
A53: Franconia-Springfield
A54: Purchase lockers + bike racks | B54: Procure | C54: VRE, Fairfax Co. | D54: Manufacturer | E54: 19400 | I54: 9700 | J54: 9700
A55: Prepare site | B55: Construct | C55: VRE, Fairfax Co. | D55: Contractor | E55: 49700 | J55: 16500 | K55: 16500 | L55: 16700
A56: Install | B56: Construct | C56: VRE, Fairfax Co. | D56: Contractor | E56: 3000 | M56: 3000
A57: Permits, Inspection, Administration | B57: Construct | C57: VRE, Fairfax Co. | D57: VRE, Fairfax Co., MWCOG | E57: 24900.2 | I57: 4980 | J57: 4980 | K57: 4980 | L57: 4980 | M57: 4980
A60: TOTAL Project Implementation Cost | E60: =E8 -> 283600.35 | I60: =SUM(I12:I57) -> 65555 | J60: =SUM(J12:J57) -> 108655 | K60: =SUM(K12:K57) -> 56905 | L60: =SUM(L12:L57) -> 44505 | M60: =SUM(M12:M57) -> 7980
A62: Total TIGER Funds | E62: =E60*0.8 -> 226880.28
A64: Total Other Funds (% match) | E64: =E60-E62 -> 56720.07
