Workbook

Sheet FY 2011 Metrobus Cuts
A1: SUMMARY OF FY 2011 SERVICE CHANGES
A2: DISTRICT OF COLUMBIA, MARYLAND AND VIRGINIA
A3: Metrobus System Summary - Board Approved Hearing Docket
A4: 40241
A6: Item | B6: Line/Route | D6: State | E6: R/ N-R | F6: CHANGE | G6: DAY | H6: ANNUAL PLATFORM HOURS | I6: PEAK BUSES | J6: ANNUAL RIDERS LOST | K6: ANNUAL COST SAVINGS | L6: ANNUAL REVENUE LOSS | M6: ANNUAL SUBSIDY SAVINGS
A7: 1 | B7: Headway Change / Trip Elimination | J7: (All Figures in Millions)
A8: 1.01 | B8: 31 | C8: Wisconsin Ave | D8: DC | E8: R | F8: Eliminate 1st four s/b and 1st six n/b trips | G8: WK | H8: -2065.5 | I8: 0 | J8: 0.037097671 | K8: 0.19785425 | L8: 0.029678137 | M8: 0.16817611
A9: 1.02 | B9: 31 | C9: Wisconsin Ave | D9: DC | E9: R | F9: Eliminate 1st two round trips | G9: SA | H9: -169.6 | I9: 0 | J9: 0.003046122 | K9: 0.016245984 | L9: 0.0024368976 | M9: 0.013809086
A10: 1.03 | B10: 62 | C10: Takoma Petworth | D10: DC | E10: R | F10: Off-peak headway widening | G10: WK | H10: -1173 | I10: 0 | J10: 0.021067813 | K10: 0.11236167 | L10: 0.016854251 | M10: 0.09550742
A11: 1.04 | B11: 64 | C11: Fort Totten - Petworth | D11: DC | E11: R | F11: Off-peak and Saturday headway widening | G11: WKSA | H11: -2017 | I11: 0 | J11: 0.036226581 | K11: 0.19320843 | L11: 0.028981265 | M11: 0.16422717
A12: 1.05 | B12: 70 | C12: Ga Ave - 7th St | D12: DC | E12: R | F12: Peak period headway widening | G12: WK | H12: -3621 | I12: -2 | J12: 0.065035423 | K12: 0.34685559 | L12: 0.052028339 | M12: 0.29482725
A13: 1.06 | B13: 80 | C13: N Cap St | D13: DC | E13: R | F13: Peak period headway widening | G13: WK | H13: -459 | I13: -1 | J13: 0.0082439269 | K13: 0.04396761 | L13: 0.0065951415 | M13: 0.037372469
A14: 1.07 | B14: 94 | C14: Stanton Rd | D14: DC | E14: R | F14: Peak period headway widening | G14: WK | H14: -1785 | I14: -1 | J14: 0.032059716 | K14: 0.17098515 | L14: 0.025647773 | M14: 0.14533738
A15: 1.08 | B15: 52-54 | C15: 14th St | D15: DC | E15: R | F15: Peak period headway widening | G15: WK | H15: -2295 | I15: -1 | J15: 0.041219634 | K15: 0.21983805 | L15: 0.032975708 | M15: 0.18686234
A16: 1.09 | B16: B8 | C16: Ft Lincoln Shuttle | D16: DC | E16: N-R | F16: Peak period headway widening | G16: WK | H16: -943.5 | I16: -1 | J16: 0.01694585 | K16: 0.090377865 | L16: 0.01355668 | M16: 0.076821185
A17: 1.1 | B17: G2 | C17: P St-LeDroit | D17: DC | E17: R | F17: Peak period, Saturday and Sunday headway widening | G17: WKSASU | H17: -2588.5 | I17: -1 | J17: 0.046491078 | K17: 0.24795242 | L17: 0.037192862 | M17: 0.21075955
A18: 1.11 | B18: G8 | C18: RI Ave | D18: DC | E18: R | F18: Peak period headway widening | G18: WK | H18: -357 | I18: -1 | J18: 0.0064119431 | K18: 0.03419703 | L18: 0.0051295545 | M18: 0.029067476
A19: 1.12 | B19: H6 | C19: Brookland Ft Linc | D19: DC | E19: N-R | F19: Off-peak headway widening | G19: WK | H19: -1402.5 | J19: 0.025189777 | K19: 0.13434547 | L19: 0.020151821 | M19: 0.11419365
A20: 1.13 | B20: H8 | C20: Park Rd - Brkland | D20: DC | E20: N-R | F20: Peak period headway widening | G20: WK | H20: -1147.5 | J20: 0.020609817 | K20: 0.10991903 | L20: 0.016487854 | M20: 0.093431171
A21: 1.14 | B21: L1,2 | C21: Conn Ave | D21: DC | E21: R | F21: Peak period headway widening | G21: WK | H21: -2091 | I21: -2 | J21: 0.037555667 | K21: 0.20029689 | L21: 0.030044534 | M21: 0.17025236
A22: 1.15 | B22: N6 | C22: Mass Ave | D22: DC | E22: R | F22: Saturday headway widening | G22: SA | H22: -519.4 | J22: 0.0093287486 | K22: 0.049753326 | L22: 0.0074629989 | M22: 0.042290327
A23: 1.16 | B23: P6 | C23: Anacostia Eck | D23: DC | E23: N-R | F23: Peak period headway widening | G23: WK | H23: -612 | I23: -1 | J23: 0.010991902 | K23: 0.05862348 | L23: 0.008793522 | M23: 0.049829958
A24: 1.17 | B24: V8 | C24: Minn Ave M St | D24: DC | E24: R | F24: Saturday headway widening | G24: SA | H24: -768.5 | J24: 0.01380274 | K24: 0.073614615 | L24: 0.011042192 | M24: 0.062572423
A25: 1.18 | B25: W2,3 | C25: Med Ctr Anacost | D25: DC | E25: N-R | F25: Saturday and Sunday headway widening | G25: SASU | H25: -1476 | J25: 0.026509882 | K25: 0.14138604 | L25: 0.021207906 | M25: 0.12017813
A26: 1.19 | B26: A12 | C26: MLK Jr Hwy | D26: MD | E26: R | F26: Widen AM rush and convert 3 late weekday trips to Friday only. | G26: WK | H26: -1404.21 | I26: -1 | J26: 0.025220489 | K26: 0.13450928 | L26: 0.020176391 | M26: 0.11433288
A27: 1.2 | B27: B24 | C27: Bowie Belair | D27: MD | E27: N-R | F27: Eliminate trip leaving Bowie P&R for New Carrollton Sta. Crofton at 7:54 PM. | G27: WK | H27: -127.5 | I27: 0 | J27: 0.0022899797 | K27: 0.012213225 | L27: 0.0018319838 | M27: 0.010381241
A28: 1.21 | B28: C11 | C28: Clinton | D28: MD | E28: R | F28: Eliminate trip leaving Branch Ave. Sta. for Clinton at 7:15 PM. | G28: WK | H28: -191.25 | I28: 0 | J28: 0.0034349695 | K28: 0.018319838 | L28: 0.0027479756 | M28: 0.015571862
A29: 1.22 | B29: C22,C26 | C29: Central Ave | D29: MD | E29: N-R | F29: Eliminate 2 late trips. | G29: WK | H29: -390.15 | I29: 0 | J29: 0.0070073378 | K29: 0.037372469 | L29: 0.0056058703 | M29: 0.031766598
A30: 1.23 | B30: C4 | C30: Greenbelt-Twnbrk | D30: MD | E30: R | F30: Change trip leaving Twinbrook Sta. for P. G. Plaza Sta. at 12:49 AM to Friday only. | G30: WK | H30: -152.25 | I30: 0 | J30: 0.0027345052 | K30: 0.014584028 | L30: 0.0021876041 | M30: 0.012396423
A31: 1.24 | B31: D12,D14 | C31: Oxon Hill Suitland | D31: MD | E31: R | F31: Eliminate 3 early and 1 late trips. | G31: WSa | H31: -298.96 | I31: 0 | J31: 0.0053695084 | K31: 0.028637378 | L31: 0.0042956068 | M31: 0.024341772
A32: 1.25 | B32: F12 | C32: Ardwick Ind Pk | D32: MD | E32: N-R | F32: Eliminate 3 late trips. | G32: WK | H32: -395.25 | I32: 0 | J32: 0.007098937 | K32: 0.037860998 | L32: 0.0056791496 | M32: 0.032181848
A33: 1.26 | B33: F13 | C33: Cheverly | D33: MD | E33: N-R | F33: Eliminate trip leaving New Carrollton Sta. for Wash. Business Park at 7:57 PM. | G33: WK | H33: 0 | J33: 0 | K33: 0 | L33: 0 | M33: 0
A34: 1.27 | B34: F2 | C34: Chillum Rd | D34: MD | E34: R | F34: Eliminate 1 early and 1 late trip. | G34: WKSA | H34: -232.09 | I34: 0 | J34: 0.0041684815 | K34: 0.022231901 | L34: 0.0033347852 | M34: 0.018897116
A35: 1.28 | B35: H12, 13 | C35: Marlow Hgts Temple Hills | D35: MD | E35: R | F35: Eliminate 3 late trips. | G35: WK | H35: -311.1 | I35: 0 | J35: 0.0055875504 | K35: 0.029800269 | L35: 0.0044700404 | M35: 0.025330229
A36: 1.29 | B36: J1,2 | C36: Beth Silv Spring | D36: MD | E36: R | F36: Convert 1 J2 trip to Friday only. Eliminate 7 late J2 trips. | G36: WKSASU | H36: -467.64 | I36: 0 | J36: 0.0083991067 | K36: 0.044795236 | L36: 0.0067192853 | M36: 0.03807595
A37: 1.3 | B37: J11,12 | C37: Marlboro Pike | D37: MD | E37: N-R | F37: Widen rush. Eliminate 4 late trips. | G37: WKSASU | H37: -826.19 | I37: -1 | J37: 0.014838889 | K37: 0.07914074 | L37: 0.011871111 | M37: 0.067269629
A38: 1.31 | B38: J4 | C38: Coll Pk Bethesda | D38: MD | E38: R | F38: Eliminate trip leaving College Park Sta. for Bethesda Sta. at 6:37 PM. | G38: WK | H38: -147.9 | I38: 0 | J38: 0.0026563764 | K38: 0.014167341 | L38: 0.0021251011 | M38: 0.01204224
A39: 1.32 | B39: K11,12,13 | C39: Forestville | D39: MD | E39: R | F39: Eliminate 3 early trips and 2 late trips. | G39: WKSU | H39: -442.2 | I39: 0 | J39: 0.0079421884 | K39: 0.042358338 | L39: 0.0063537507 | M39: 0.036004587
A40: 1.33 | B40: K6 | C40: NH Ave Md Line | D40: MD | E40: R | F40: Convert 2 late weekday trips to Friday only. Eliminate 2 late trips. | G40: WKSU | H40: -375.47 | I40: 0 | J40: 0.0067436759 | K40: 0.035966271 | L40: 0.0053949407 | M40: 0.030571331
A41: 1.34 | B41: P12 | C41: Eastover-Addison | D41: MD | E41: R | F41: Eliminate trip leaving Eastover for Addison Rd. Sta. at 12:10 AM. | G41: WK | H41: -300.9 | I41: 0 | J41: 0.0054043521 | K41: 0.028823211 | L41: 0.0043234816 | M41: 0.024499729
A42: 1.35 | B42: R2 | C42: Riggs Rd | D42: MD | E42: R | F42: Eliminate 2 early trips. | G42: SASU | H42: -49.05 | I42: 0 | J42: 0.00088096866 | K42: 0.0046984995 | L42: 0.00070477492 | M42: 0.0039937246
A43: 1.36 | B43: R4 | C43: Queens Chapel | D43: MD | E43: N-R | F43: Eliminate 3 early trips and 2 late trips. | G43: WKSASU | H43: -129.95 | I43: 0 | J43: 0.0023339832 | K43: 0.012447911 | L43: 0.0018671866 | M43: 0.010580724
A44: 1.37 | B44: T2 | C44: River Rd | D44: MD | E44: N-R | F44: Eliminate trip leaving Friendship Hts. Sta. for Rockville Sta. at 10:51 PM. | G44: WK | H44: -127.5 | I44: 0 | J44: 0.0022899797 | K44: 0.012213225 | L44: 0.0018319838 | M44: 0.010381241
A45: 1.38 | B45: V12 | C45: Dist Hgts Suitland | D45: MD | E45: R | F45: Eliminate 1 early and 1 late trip. | G45: WKSU | H45: -232.29 | I45: 0 | J45: 0.0041720736 | K45: 0.022251059 | L45: 0.0033376589 | M45: 0.0189134
... A47: 1.4 | B47: Y9 | C47: Ga Ave Md | D47: MD | E47: R | F47: Eliminate 4 late trips. | G47: SU | H47: -145.92 | I47: 0 | J47: 0.0026208144 | K47: 0.013977677 | L47: 0.0020966515 | M47: 0.011881025
A48: =+A47+0.01 -> 1.41 | B48: 7X,W | C48: Lincolnia-N Fairlington | D48: VA | E48: R | F48: Reduce peak frequency | G48: WK | H48: -3341 | I48: -1 | J48: =+K48*0.15*0.8 -> 0.0492 | K48: 0.41 | L48: =+K48*0.15 -> 0.0615 | M48: =+K48-L48 -> 0.3485
A49: =+A48+0.01 -> 1.42 | B49: 7E | C49: Lincolnia-N Fairlington | D49: VA | E49: R | F49: Reduce peak frequency | G49: WK | H49: -1414 | I49: -1 | J49: =+K49*0.15*0.8 -> 0.01764 | K49: 0.147 | L49: =+K49*0.15 -> 0.02205 | M49: =+K49-L49 -> 0.12495
A50: =+A49+0.01 -> 1.43 | B50: 7B,C | C50: Lincolnia-N Fairlington | D50: VA | E50: R | F50: Reduce peak frequency | G50: WK | H50: -900 | I50: -1 | J50: =+K50*0.15*0.8 -> 0.01332 | K50: 0.111 | L50: =+K50*0.15 -> 0.01665 | M50: =+K50-L50 -> 0.09435
A51: =+A50+0.01 -> 1.44 | B51: 8XWZ | C51: Foxchase-Seminary Valley | D51: VA | E51: R | F51: Reduce peak frequency | G51: WK | H51: -1285 | I51: -1 | J51: =+K51*0.15*0.8 -> 0.01896 | K51: 0.158 | L51: =+K51*0.15 -> 0.0237 | M51: =+K51-L51 -> 0.1343
A52: =+A51+0.01 -> 1.45 | B52: 10AE,9E | C52: Hunting Towers-Pentagon | D52: VA | E52: R | F52: Reduce peak frequency | G52: WK | H52: -1157 | I52: 0 | J52: =+K52*0.15*0.8 -> 0.01704 | K52: 0.142 | L52: =+K52*0.15 -> 0.0213 | M52: =+K52-L52 -> 0.1207
A53: =+A52+0.01 -> 1.46 | B53: 10A, 10B | C53: Hunting Towers-Ballston | D53: VA | E53: R | F53: Reduce midday frequency | G53: WK | H53: -3084 | I53: -1 | J53: =+K53*0.15*0.8 -> 0.04548 | K53: 0.379 | L53: =+K53*0.15 -> 0.05685 | M53: =+K53-L53 -> 0.32215
A54: =+A53+0.01 -> 1.47 | B54: 16G-W | C54: Col HgtsW Pentagon | D54: VA | E54: R | F54: Widen 16G headways to 15 minutes peak, 30 minutes off-peak | G54: WK | H54: -6630 | I54: -1 | J54: 0.11907894 | K54: 0.6350877 | L54: 0.095263155 | M54: 0.53982454
A55: =+A54+0.01 -> 1.48 | B55: 16G-W | C55: Col HgtsW Pentagon | D55: VA | E55: R | F55: Widen 16G headway to 30 minutes | G55: SA | H55: -1484 | I55: -2 | J55: 0.026653568 | K55: 0.14215236 | L55: 0.021322854 | M55: 0.12082951
A56: =+A55+0.01 -> 1.49 | B56: 1C | C56: Fair Oaks Dunn Loring | D56: VA | E56: R | F56: Discontinue last w/b trip (Fairfax Circle) | G56: WK | H56: -109.65 | I56: 0 | J56: 0.0019693825 | K56: 0.010503373 | L56: 0.001575506 | M56: 0.0089278675
F57: Section Subtotal | H57: -40801.58 | I57: -16 | J57: =SUM(J8:J56) -> 0.89446188 | K57: =SUM(K8:K56) -> 5.2553833 | L57: =SUM(L8:L56) -> 0.7883075 | M57: =SUM(M8:M56) -> 4.4670758
A58: 2 | B58: Route / Segment Elimination
A59: 2.01 | B59: 42 | C59: Mt Pleasant | D59: DC | E59: R | F59: Eliminate segment from McPherson Sq to 9th & G | G59: WKSASU | H59: -4850.4 | I59: -1 | J59: 0.087116215 | K59: 0.46461982 | L59: 0.069692972 | M59: 0.39492684
A60: 2.02 | B60: 60 | C60: Ft Totten Petworth | D60: DC | E60: R | F60: Eliminate 60. Keep 64 | G60: WK | H60: -5916 | I60: -2 | J60: 0.10625506 | K60: 0.56669364 | L60: 0.085004046 | M60: 0.48168959
A61: 2.03 | B61: 80 | C61: N Cap St | D61: DC | E61: R | F61: Eliminate segment from McPherson Sq to Kennedy Center every other trip | G61: WK | H61: -1351.5 | J61: 0.024273785 | K61: 0.12946019 | L61: 0.019419028 | M61: 0.11004116
A62: 2.04 | B62: 52-54 | C62: 14th St | D62: DC | E62: R | F62: Eliminate segment from McPherson Sq to L'Enfant Plaza every 3rd trip | G62: WKSA | H62: -1221.4 | J62: 0.021937107 | K62: 0.11699791 | L62: 0.017549686 | M62: 0.09944822
A63: 2.05 | B63: L4 | C63: Conn Ave | D63: DC | E63: R | F63: Eliminate L4. Keep L1,2 | G63: WK | H63: -2295 | J63: 0.041219634 | K63: 0.21983805 | L63: 0.032975708 | M63: 0.18686234
A64: 2.06 | B64: N3 | C64: Mass Ave | D64: DC | E64: R | F64: Eliminate N3. Keep N2, N4, N6 | G64: WK | H64: -4080 | I64: -3 | J64: 0.07327935 | K64: 0.3908232 | L64: 0.05862348 | M64: 0.33219972
A65: 2.07 | B65: P2 | C65: Anacostia-Eckington | D65: DC | E65: N-R | F65: Eliminate P2. Keep P1,6 | G65: WK | H65: -5431.5 | J65: 0.097553135 | K65: 0.52028339 | L65: 0.078042508 | M65: 0.44224088
A66: =+A65+0.01 -> 2.08 | B66: X1,3 | C66: Benning Rd - Potomac Park | D66: DC | E66: R | F66: Eliminate X3, keep X1 in conjunction with new X9 | G66: WK | H66: -4165 | I66: -4 | J66: 0.07 | K66: 0.4 | L66: 0.06 | M66: 0.34
A67: =+A66+0.01 -> 2.09 | B67: C8 | C67: College Pk White Fl | D67: MD | E67: R | F67: Eliminate off-peak and all day Saturday. | G67: WKSA | H67: -10164.46 | I67: 0 | J67: 0.18256005 | K67: 0.97365362 | L67: 0.14604804 | M67: 0.82760558
A68: =+A67+0.01 -> 2.1 | B68: J1 | C68: Beth Silv Spr | D68: MD | E68: R | F68: Eliminate segment between Medical Center Sta. and Mont Mall | G68: WK | H68: -3141.6 | I68: 0 | J68: 0.056425099 | K68: 0.30093386 | L68: 0.04514008 | M68: 0.25579378
A69: =+A68+0.01 -> 2.11 | B69: P17 18 19; W13,14 | C69: Oxon Hill Ft Wash; Bock Hill | D69: MD | E69: R | F69: Reroute to Southern Ave. Sta. or Branch Ave. Sta. | G69: WK | H69: -8667.45 | I69: 0 | J69: 0.15567282 | K69: 0.83025504 | L69: 0.12453826 | M69: 0.70571678
A70: =+A69+0.01 -> 2.12 | B70: 16G | C70: Col Hgts W-Pent City | D70: VA | E70: R | F70: Discontinue; reroute all 16B trips via Pentagon City all day | G70: SU | H70: -2073.66 | J70: 0.03724423 | K70: 0.19863589 | L70: 0.029795384 | M70: 0.16884051
A71: =+A70+0.01 -> 2.13 | B71: 16G-W | C71: Col Hgts W-Pent City | D71: VA | E71: R | F71: Discontinue 16H Pentagon City-Crystal City segment | G71: WK | H71: -68.85 | J71: 0.001236589 | K71: 0.0065951415 | L71: 0.00098927123 | M71: 0.0056058703
A72: =+A71+0.01 -> 2.14 | B72: 18P,R,S | C72: Spr Org Hunt Burke Ctr | D72: VA | E72: N-R | F72: Cut back 18R,S to Rolling Valley Mall P&R (retain 18P Pentagon- Burke Centre) | G72: WK | H72: -7208.34 | I72: -3 | J72: 0.12946629 | K72: 0.69048689 | L72: 0.10357303 | M72: 0.58691386
A73: =+A72+0.01 -> 2.15 | B73: 1E | C73: Wilson Blvd | D73: VA | E73: R | F73: Discontinue Dominion Hills loop | G73: WK | H73: -147.9 | J73: 0.0026563764 | K73: 0.014167341 | L73: 0.0021251011 | M73: 0.01204224
A74: =+A73+0.01 -> 2.16 | B74: 23C | C74: McLean Crystal City | D74: VA | E74: R | F74: Discontinue McLean-Langley and Walter Reed Dr./Four Mile Run Dr. segments | G74: WK | H74: -2978.4 | I74: -1 | J74: 0.053493926 | K74: 0.28530094 | L74: 0.04279514 | M74: 0.2425058
A75: =+A74+0.01 -> 2.17 | B75: 2T | C75: Tysons Dunn Loring | D75: VA | E75: R | F75: Discontinue Sunday service | G75: SU | H75: -947.91 | J75: 0.017025056 | K75: 0.090800299 | L75: 0.013620045 | M75: 0.077180254
F76: Section Subtotal | H76: -60544.37 | I76: -10 | J76: =SUM(J59:J75) -> 1.1574147 | K76: =SUM(K59:K75) -> 6.1995452 | L76: =SUM(L59:L75) -> 0.92993178 | M76: =SUM(M59:M75) -> 5.2696134
A77: 3 | B77: Line Elimination
A78: 3.01 | B78: A9 | C78: S Cap St | D78: DC | E78: R | F78: Eliminate line | G78: WK | H78: -6451.5 | I78: -5 | J78: 0.11587297 | K78: 0.61798919 | L78: 0.092698378 | M78: 0.52529081
A79: 3.02 | B79: H1 | C79: Brookland-Potomac Pk | D79: DC | E79: R | F79: Eliminate line | G79: WK | H79: -4921.5 | I79: -4 | J79: 0.088393216 | K79: 0.47143049 | L79: 0.070714573 | M79: 0.40071591
A80: 3.03 | B80: K1 | C80: Takoma W Reed | D80: DC | E80: N-R | F80: Eliminate line | G80: WK | H80: -3825 | I80: -2 | J80: 0.068699391 | K80: 0.36639675 | L80: 0.054959512 | M80: 0.31143724
A81: 3.04 | B81: M2 | C81: Ffx Vlg Naylor Rd | D81: DC | E81: N-R | F81: Eliminate line | G81: WK | H81: -1887 | I81: -1 | J81: 0.033891699 | K81: 0.18075573 | L81: 0.02711336 | M81: 0.15364237
A82: 3.05 | B82: N8 | C82: Van Ness Wesley Hgts | D82: DC | E82: N-R | F82: Eliminate line | G82: WK | H82: -10506 | I82: -3 | J82: 0.18869433 | K82: 1.0063697 | L82: 0.15095546 | M82: 0.85541428
A83: 3.06 | B83: V5 | C83: Ffx Vil L'Enfant | D83: DC | E83: R | F83: Eliminate line | G83: WK | H83: -5482.5 | I83: -6 | J83: 0.098469127 | K83: 0.52516868 | L83: 0.078775301 | M83: 0.44639337
A84: 3.07 | B84: Various | D84: DC | E84: N-R | F84: Eliminate 10 school lines | G84: WK | H84: -6375 | I84: -10 | J84: 0.11449898 | K84: 0.61066125 | L84: 0.091599187 | M84: 0.51906206
A85: 3.08 | B85: B27 | C85: Bowie New Carr | D85: MD | E85: N-R | F85: Eliminate all service. | G85: WK | H85: -3473.1 | I85: -2 | J85: 0.062379047 | K85: 0.33268825 | L85: 0.049903237 | M85: 0.28278501
A86: 3.09 | B86: B29,B31 | C86: Crofton New Carr | D86: MD | E86: N-R | F86: Eliminate all service. | G86: WK | H86: -3220.65 | I86: -2 | J86: 0.057844887 | K86: 0.30850606 | L86: 0.04627591 | M86: 0.26223015
A87: 3.1 | B87: C12,C14 | C87: Hillcrest Hgts | D87: MD | E87: R | F87: Eliminate all service. Divert H11,12 via Carriage Hill. | G87: WKSA | H87: -10183.55 | I87: -3 | J87: 0.18290292 | K87: 0.97548225 | L87: 0.14632234 | M87: 0.82915992
A88: 3.11 | B88: 13A,B | C88: Natl Pent DC | D88: VA | E88: R | F88: Discontinue line (replaced with extension of 16F to Federal Triangle) | G88: WK | H88: -12002.85 | I88: -5 | J88: 0.21557869 | K88: 1.149753 | L88: 0.17246295 | M88: 0.97729005
A89: 3.12 | B89: 15M | C89: GMU Tysons | D89: VA | E89: R | F89: Discontinue line | G89: WK | H89: -5908.35 | I89: -3 | J89: 0.10611766 | K89: 0.56596085 | L89: 0.084894127 | M89: 0.48106672
A90: 3.13 | B90: 17A,B,F,M | C90: Kings Pk | D90: VA | E90: N-R | F90: Discontinue line | G90: WK | H90: -15001.65 | I90: -7 | J90: 0.26943901 | K90: 1.4370081 | L90: 0.21555121 | M90: 1.2214568
A91: 3.14 | B91: 24T | C91: McLean Hamlet EFC | D91: VA | E91: N-R | F91: Discontinue line | G91: WK | H91: -4097.85 | I91: -2 | J91: 0.073599947 | K91: 0.39253305 | L91: 0.058879958 | M91: 0.33365309
A92: 3.15 | B92: 3T | C92: Pimmit Hills | D92: VA | E92: R | F92: Discontinue line | G92: WKSA | H92: -18626.35 | I92: -3 | J92: 0.33454646 | K92: 1.7842478 | L92: 0.26763716 | M92: 1.5166106
F93: Section Subtotal | H93: -111962.85 | I93: -58 | J93: =SUM(J78:J92) -> 2.0109283 | K93: =SUM(K78:K92) -> 10.724951 | L93: =SUM(L78:L92) -> 1.6087427 | M93: =SUM(M78:M92) -> 9.1162084
A94: 4 | B94: Restructure Service
A95: 4.01 | B95: E6/M4 | C95: Sibley/Stadium/Nebraska Ave | D95: DC | E95: N-R | F95: Restructure routes | G95: WK | H95: -3825 | I95: -1 | J95: 0.068699 | K95: 0.36639675 | L95: 0.054959512 | M95: 0.31143724
A96: 4.02 | B96: N2,4,6 | C96: Mass Ave | D96: DC | E96: R | F96: Restructure off-peak and reroute N2 | G96: WK | H96: -1530 | J96: 0.02748 | K96: 0.1465587 | L96: 0.021983805 | M96: 0.1245749
A97: 4.03 | B97: H2, H3 | C97: Crosstown Line | D97: DC | E97: R | F97: Reroute service for improved performance | G97: WKSASU | H97: 0 | I97: 0 | J97: 0 | K97: 0 | L97: 0 | M97: 0
A98: 4.04 | B98: H6 | C98: Brookland-Ft Lincoln Line | D98: DC | E98: R | F98: Reroute and shorten span of service | G98: WKSASU | H98: 0 | I98: 0 | J98: 0 | K98: 0 | L98: 0 | M98: 0
A99: =+A98+0.01 -> 4.05 | B99: C4,C2,J5 | C99: Grnblt/Twnbrk/Silv Spr | D99: MD | E99: R | F99: Eliminate C4 and late-night C2 trips Wheaton to Twinbrook Reroute J5. | G99: WKSASU | H99: -11761.52 | I99: -2 | J99: 0.211244 | K99: 1.126636 | L99: 0.1689954 | M99: 0.9576406
A100: =+A99+0.01 -> 4.06 | B100: C8,F4,F6,R2 | C100: Various | D100: MD | E100: R | F100: Restructure HYATTSVILLE service. Reroute C8, F4, F6, R2 | G100: WKSASU | H100: 7938.15 | J100: -0.142574 | K100: -0.76039539 | L100: -0.11405931 | M100: -0.64633608
A101: =+A100+0.01 -> 4.07 | B101: R12; T16,17 | C101: Kenil/N Carr; Grnblt | D101: MD | E101: N-R | F101: Restructure GREENBELT service. | G101: WKSA | H101: -6915 | I101: -3 | J101: 0.124198 | K101: 0.66238785 | L101: 0.099358178 | M101: 0.56302967
A102: =+A101+0.01 -> 4.08 | B102: R3 | C102: Grnblt/Ft Totten | D102: MD | E102: NR | F102: Restructure HYATTSVILLE service : Eliminate R3. | G102: WKSASU | H102: -15291.07 | J102: 0.274637 | K102: 1.4647316 | L102: 0.21970974 | M102: 1.2450219
...

Sheet Summary
A1: FY 2011 METROBUS SERVICE CHANGES
A2: =+'FY 2011 Metrobus Cuts'!A3:M3 -> Metrobus System Summary - Board Approved Hearing Docket
A3: =+'FY 2011 Metrobus Cuts'!A4 -> 40241
A4: CATEGORIES | C4: ANNUAL PLATFORMHOURS | D4: PEAK BUSES | E4: ANNUAL RIDERS LOST | F4: ANNUAL COST | G4: ANNUAL PASSENGER REVENUE | H4: ANNUAL SUBSIDY
A6: 1 | B6: =+'[1]Details All States'!E5 -> Headway Change / Trip Elimination | C6: =+'FY 2011 Metrobus Cuts'!H57 -> -40801.58 | D6: =+'FY 2011 Metrobus Cuts'!I57 -> -16 | E6: =+'FY 2011 Metrobus Cuts'!J57 -> 0.89446188 | F6: =+'FY 2011 Metrobus Cuts'!K57 -> 5.2553833 | G6: =+'FY 2011 Metrobus Cuts'!L57 -> 0.7883075 | H6: =+'FY 2011 Metrobus Cuts'!M57 -> 4.4670758
A8: 2 | B8: =+'[1]Details All States'!E6 -> Route / Segment Elimination | C8: =+'FY 2011 Metrobus Cuts'!H76 -> -60544.37 | D8: =+'FY 2011 Metrobus Cuts'!I76 -> -10 | E8: =+'FY 2011 Metrobus Cuts'!J76 -> 1.1574147 | F8: =+'FY 2011 Metrobus Cuts'!K76 -> 6.1995452 | G8: =+'FY 2011 Metrobus Cuts'!L76 -> 0.92993178 | H8: =+'FY 2011 Metrobus Cuts'!M76 -> 5.2696134
A10: 3 | B10: =+'[1]Details All States'!E7 -> Line Elimination | C10: =+'FY 2011 Metrobus Cuts'!H93 -> -111962.85 | D10: =+'FY 2011 Metrobus Cuts'!I93 -> -58 | E10: =+'FY 2011 Metrobus Cuts'!J93 -> 2.0109283 | F10: =+'FY 2011 Metrobus Cuts'!K93 -> 10.724951 | G10: =+'FY 2011 Metrobus Cuts'!L93 -> 1.6087427 | H10: =+'FY 2011 Metrobus Cuts'!M93 -> 9.1162084
A12: 4 | B12: =+'[1]Details All States'!E8 -> Restructure Service | C12: =+'FY 2011 Metrobus Cuts'!H110 -> -28044.833 | D12: =+'FY 2011 Metrobus Cuts'!I110 -> -3 | E12: =+'FY 2011 Metrobus Cuts'!J110 -> 0.580577 | F12: =+'FY 2011 Metrobus Cuts'!K110 -> 3.0964145 | G12: =+'FY 2011 Metrobus Cuts'!L110 -> 0.46446218 | H12: =+'FY 2011 Metrobus Cuts'!M110 -> 2.6319523
A14: 5 | B14: =+'[1]Details All States'!E9 -> Eliminate Overlap with Local Service | C14: =+'FY 2011 Metrobus Cuts'!H118 -> -26535.86 | D14: =+'FY 2011 Metrobus Cuts'!I118 -> -5 | E14: =+'FY 2011 Metrobus Cuts'!J118 -> 0.47659871 | F14: =+'FY 2011 Metrobus Cuts'!K118 -> 2.5418619 | G14: =+'FY 2011 Metrobus Cuts'!L118 -> 0.38127909 | H14: =+'FY 2011 Metrobus Cuts'!M118 -> 2.1605828
A16: 6 | B16: =+'[1]Details All States'!J5 -> Fare Change (In Revenue Section) | C16: =+'FY 2011 Metrobus Cuts'!H121 -> 0 | D16: =+'FY 2011 Metrobus Cuts'!I121 -> 0 | E16: =+'FY 2011 Metrobus Cuts'!J121 -> 0 | F16: =+'FY 2011 Metrobus Cuts'!K121 -> 0 | G16: =+'FY 2011 Metrobus Cuts'!L121 -> 0 | H16: =+'FY 2011 Metrobus Cuts'!M121 -> 0
A18: 7 | B18: =+'[1]Details All States'!J6 -> Reduced Holiday Service | C18: =+'FY 2011 Metrobus Cuts'!H126 -> -24582.39 | D18: =+'FY 2011 Metrobus Cuts'!I126 -> 0 | E18: =+'FY 2011 Metrobus Cuts'!J126 -> 0.44151509 | F18: =+'FY 2011 Metrobus Cuts'!K126 -> 2.3547471 | G18: =+'FY 2011 Metrobus Cuts'!L126 -> 0.35321207 | H18: =+'FY 2011 Metrobus Cuts'!M126 -> 2.0015351
A20: 8 | B20: =+'[1]Details All States'!J7 -> Weekend Late Night Service | C20: =+'FY 2011 Metrobus Cuts'!H135 -> -11459 | D20: =+'FY 2011 Metrobus Cuts'!I135 -> 0 | E20: =+'FY 2011 Metrobus Cuts'!J135 -> 0.2058205 | F20: =+'FY 2011 Metrobus Cuts'!K135 -> 1.0977093 | G20: =+'FY 2011 Metrobus Cuts'!L135 -> 0.1646564 | H20: =+'FY 2011 Metrobus Cuts'!M135 -> 0.93305294
A22: 9 | B22: =+'[1]Details All States'!J8 -> Seasonal Adjustments | C22: =+'FY 2011 Metrobus Cuts'!H140 -> -24583 | D22: =+'FY 2011 Metrobus Cuts'!I140 -> 0 | E22: =+'FY 2011 Metrobus Cuts'!J140 -> 0.1471717 | F22: =+'FY 2011 Metrobus Cuts'!K140 -> 0.78491571 | G22: =+'FY 2011 Metrobus Cuts'!L140 -> 0.11773736 | H22: =+'FY 2011 Metrobus Cuts'!M140 -> 0.66717836
A24: 10 | B24: =+'[1]Details All States'!J9 -> Impact of Bus Stop Reduction | C24: =+'FY 2011 Metrobus Cuts'!H145 -> -12800 | D24: =+'FY 2011 Metrobus Cuts'!I145 -> -9 | E24: =+'FY 2011 Metrobus Cuts'!J145 -> 0.229896 | F24: =+'FY 2011 Metrobus Cuts'!K145 -> 1.226112 | G24: =+'FY 2011 Metrobus Cuts'!L145 -> 0.1839168 | H24: =+'FY 2011 Metrobus Cuts'!M145 -> 1.0421952
B26: Metrobus System Totals | C26: =SUM(C6:C25) -> -341313.88 | D26: =SUM(D6:D25) -> -101 | E26: =SUM(E6:E25) -> 6.1443839 | F26: =SUM(F6:F25) -> 33.28164 | G26: =SUM(G6:G25) -> 4.9922458 | H26: =SUM(H6:H25) -> 28.289394
B28: Approved FY 2010 Totals | C28: 4082418 | D28: 1512 | E28: =139622*1000/1000000 -> 139.622 | F28: =506087000/1000000 -> 506.087 | G28: =119544000/1000000 -> 119.544 | H28: =+F28-G28 -> 386.543
B29: Percent Change FY 2010 to FY 2011 | C29: =+C26/C28 -> -0.083605815 | D29: =+D26/D28 -> -0.066798942 | E29: =+E26/E28 -> 0.044007276 | F29: =+F26/F28 -> 0.065762686 | G29: =+G26/G28 -> 0.041760739 | H29: =+H26/H28 -> 0.073185634

Sheet Sheet3
