Workbook

Sheet FY 2011 Metrobus Cuts
A1: SUMMARY OF FY 2011 SERVICE CHANGES
A2: DISTRICT OF COLUMBIA, MARYLAND AND VIRGINIA
A3: Metrobus System Summary - Board Approved Hearing Docket
A4: 40241
A6: Item | B6: Line/Route | D6: State | E6: R/ N-R | F6: CHANGE | G6: DAY | H6: ANNUAL PLATFORM HOURS | I6: PEAK BUSES | J6: ANNUAL RIDERS LOST | K6: ANNUAL COST SAVINGS | L6: ANNUAL REVENUE LOSS | M6: ANNUAL SUBSIDY SAVINGS
A7: 1 | B7: Headway Change / Trip Elimination | J7: (All Figures in Millions)
A8: 1.01 | B8: 31 | C8: Wisconsin Ave | D8: DC | E8: R | F8: Eliminate 1st four s/b and 1st six n/b trips | G8: WK | H8: -2065.5 | I8: 0 | J8: 0.037097671 | K8: 0.19785425 | L8: 0.029678137 | M8: 0.16817611
A9: 1.02 | B9: 31 | C9: Wisconsin Ave | D9: DC | E9: R | F9: Eliminate 1st two round trips | G9: SA | H9: -169.6 | I9: 0 | J9: 0.003046122 | K9: 0.016245984 | L9: 0.0024368976 | M9: 0.013809086
A10: 1.03 | B10: 62 | C10: Takoma Petworth | D10: DC | E10: R | F10: Off-peak headway widening | G10: WK | H10: -1173 | I10: 0 | J10: 0.021067813 | K10: 0.11236167 | L10: 0.016854251 | M10: 0.09550742
A11: 1.04 | B11: 64 | C11: Fort Totten - Petworth | D11: DC | E11: R | F11: Off-peak and Saturday headway widening | G11: WKSA | H11: -2017 | I11: 0 | J11: 0.036226581 | K11: 0.19320843 | L11: 0.028981265 | M11: 0.16422717
A12: 1.05 | B12: 70 | C12: Ga Ave - 7th St | D12: DC | E12: R | F12: Peak period headway widening | G12: WK | H12: -3621 | I12: -2 | J12: 0.065035423 | K12: 0.34685559 | L12: 0.052028339 | M12: 0.29482725
A13: 1.06 | B13: 80 | C13: N Cap St | D13: DC | E13: R | F13: Peak period headway widening | G13: WK | H13: -459 | I13: -1 | J13: 0.0082439269 | K13: 0.04396761 | L13: 0.0065951415 | M13: 0.037372469
A14: 1.07 | B14: 94 | C14: Stanton Rd | D14: DC | E14: R | F14: Peak period headway widening | G14: WK | H14: -1785 | I14: -1 | J14: 0.032059716 | K14: 0.17098515 | L14: 0.025647773 | M14: 0.14533738
A15: 1.08 | B15: 52-54 | C15: 14th St | D15: DC | E15: R | F15: Peak period headway widening | G15: WK | H15: -2295 | I15: -1 | J15: 0.041219634 | K15: 0.21983805 | L15: 0.032975708 | M15: 0.18686234
A16: 1.09 | B16: B8 | C16: Ft Lincoln Shuttle | D16: DC | E16: N-R | F16: Peak period headway widening | G16: WK | H16: -943.5 | I16: -1 | J16: 0.01694585 | K16: 0.090377865 | L16: 0.01355668 | M16: 0.076821185
A17: 1.1 | B17: G2 | C17: P St-LeDroit | D17: DC | E17: R | F17: Peak period, Saturday and Sunday headway widening | G17: WKSASU | H17: -2588.5 | I17: -1 | J17: 0.046491078 | K17: 0.24795242 | L17: 0.037192862 | M17: 0.21075955
A18: 1.11 | B18: G8 | C18: RI Ave | D18: DC | E18: R | F18: Peak period headway widening | G18: WK | H18: -357 | I18: -1 | J18: 0.0064119431 | K18: 0.03419703 | L18: 0.0051295545 | M18: 0.029067476
A19: 1.12 | B19: H6 | C19: Brookland Ft Linc | D19: DC | E19: N-R | F19: Off-peak headway widening | G19: WK | H19: -1402.5 | J19: 0.025189777 | K19: 0.13434547 | L19: 0.020151821 | M19: 0.11419365
A20: 1.13 | B20: H8 | C20: Park Rd - Brkland | D20: DC | E20: N-R | F20: Peak period headway widening | G20: WK | H20: -1147.5 | J20: 0.020609817 | K20: 0.10991903 | L20: 0.016487854 | M20: 0.093431171
A21: 1.14 | B21: L1,2 | C21: Conn Ave | D21: DC | E21: R | F21: Peak period headway widening | G21: WK | H21: -2091 | I21: -2 | J21: 0.037555667 | K21: 0.20029689 | L21: 0.030044534 | M21: 0.17025236
A22: 1.15 | B22: N6 | C22: Mass Ave | D22: DC | E22: R | F22: Saturday headway widening | G22: SA | H22: -519.4 | J22: 0.0093287486 | K22: 0.049753326 | L22: 0.0074629989 | M22: 0.042290327
A23: 1.16 | B23: P6 | C23: Anacostia Eck | D23: DC | E23: N-R | F23: Peak period headway widening | G23: WK | H23: -612 | I23: -1 | J23: 0.010991902 | K23: 0.05862348 | L23: 0.008793522 | M23: 0.049829958
A24: 1.17 | B24: V8 | C24: Minn Ave M St | D24: DC | E24: R | F24: Saturday headway widening | G24: SA | H24: -768.5 | J24: 0.01380274 | K24: 0.073614615 | L24: 0.011042192 | M24: 0.062572423
A25: 1.18 | B25: W2,3 | C25: Med Ctr Anacost | D25: DC | E25: N-R | F25: Saturday and Sunday headway widening | G25: SASU | H25: -1476 | J25: 0.026509882 | K25: 0.14138604 | L25: 0.021207906 | M25: 0.12017813
A26: 1.19 | B26: A12 | C26: MLK Jr Hwy | D26: MD | E26: R | F26: Widen AM rush and convert 3 late weekday trips to Friday only. | G26: WK | H26: -1404.21 | I26: -1 | J26: 0.025220489 | K26: 0.13450928 | L26: 0.020176391 | M26: 0.11433288
A27: 1.2 | B27: B24 | C27: Bowie Belair | D27: MD | E27: N-R | F27: Eliminate trip leaving Bowie P&R for New Carrollton Sta. Crofton at 7:54 PM. | G27: WK | H27: -127.5 | I27: 0 | J27: 0.0022899797 | K27: 0.012213225 | L27: 0.0018319838 | M27: 0.010381241
A28: 1.21 | B28: C11 | C28: Clinton | D28: MD | E28: R | F28: Eliminate trip leaving Branch Ave. Sta. for Clinton at 7:15 PM. | G28: WK | H28: -191.25 | I28: 0 | J28: 0.0034349695 | K28: 0.018319838 | L28: 0.0027479756 | M28: 0.015571862
A29: 1.22 | B29: C22,C26 | C29: Central Ave | D29: MD | E29: N-R | F29: Eliminate 2 late trips. | G29: WK | H29: -390.15 | I29: 0 | J29: 0.0070073378 | K29: 0.037372469 | L29: 0.0056058703 | M29: 0.031766598
A30: 1.23 | B30: C4 | C30: Greenbelt-Twnbrk | D30: MD | E30: R | F30: Change trip leaving Twinbrook Sta. for P. G. Plaza Sta. at 12:49 AM to Friday only. | G30: WK | H30: -152.25 | I30: 0 | J30: 0.0027345052 | K30: 0.014584028 | L30: 0.0021876041 | M30: 0.012396423
A31: 1.24 | B31: D12,D14 | C31: Oxon Hill Suitland | D31: MD | E31: R | F31: Eliminate 3 early and 1 late trips. | G31: WSa | H31: -298.96 | I31: 0 | J31: 0.0053695084 | K31: 0.028637378 | L31: 0.0042956068 | M31: 0.024341772
A32: 1.25 | B32: F12 | C32: Ardwick Ind Pk | D32: MD | E32: N-R | F32: Eliminate 3 late trips. | G32: WK | H32: -395.25 | I32: 0 | J32: 0.007098937 | K32: 0.037860998 | L32: 0.0056791496 | M32: 0.032181848
A33: 1.26 | B33: F13 | C33: Cheverly | D33: MD | E33: N-R | F33: Eliminate trip leaving New Carrollton Sta. for Wash. Business Park at 7:57 PM. | G33: WK | H33: 0 | J33: 0 | K33: 0 | L33: 0 | M33: 0
A34: 1.27 | B34: F2 | C34: Chillum Rd | D34: MD | E34: R | F34: Eliminate 1 early and 1 late trip. | G34: WKSA | H34: -232.09 | I34: 0 | J34: 0.0041684815 | K34: 0.022231901 | L34: 0.0033347852 | M34: 0.018897116
A35: 1.28 | B35: H12, 13 | C35: Marlow Hgts Temple Hills | D35: MD | E35: R | F35: Eliminate 3 late trips. | G35: WK | H35: -311.1 | I35: 0 | J35: 0.0055875504 | K35: 0.029800269 | L35: 0.0044700404 | M35: 0.025330229
A36: 1.29 | B36: J1,2 | C36: Beth Silv Spring | D36: MD | E36: R | F36: Convert 1 J2 trip to Friday only. Eliminate 7 late J2 trips. | G36: WKSASU | H36: -467.64 | I36: 0 | J36: 0.0083991067 | K36: 0.044795236 | L36: 0.0067192853 | M36: 0.03807595
A37: 1.3 | B37: J11,12 | C37: Marlboro Pike | D37: MD | E37: N-R | F37: Widen rush. Eliminate 4 late trips. | G37: WKSASU | H37: -826.19 | I37: -1 | J37: 0.014838889 | K37: 0.07914074 | L37: 0.011871111 | M37: 0.067269629
A38: 1.31 | B38: J4 | C38: Coll Pk Bethesda | D38: MD | E38: R | F38: Eliminate trip leaving College Park Sta. for Bethesda Sta. at 6:37 PM. | G38: WK | H38: -147.9 | I38: 0 | J38: 0.0026563764 | K38: 0.014167341 | L38: 0.0021251011 | M38: 0.01204224
A39: 1.32 | B39: K11,12,13 | C39: Forestville | D39: MD | E39: R | F39: Eliminate 3 early trips and 2 late trips. | G39: WKSU | H39: -442.2 | I39: 0 | J39: 0.0079421884 | K39: 0.042358338 | L39: 0.0063537507 | M39: 0.036004587
A40: 1.33 | B40: K6 | C40: NH Ave Md Line | D40: MD | E40: R | F40: Convert 2 late weekday trips to Friday only. Eliminate 2 late trips. | G40: WKSU | H40: -375.47 | I40: 0 | J40: 0.0067436759 | K40: 0.035966271 | L40: 0.0053949407 | M40: 0.030571331
A41: 1.34 | B41: P12 | C41: Eastover-Addison | D41: MD | E41: R | F41: Eliminate trip leaving Eastover for Addison Rd. Sta. at 12:10 AM. | G41: WK | H41: -300.9 | I41: 0 | J41: 0.0054043521 | K41: 0.028823211 | L41: 0.0043234816 | M41: 0.024499729
...

Sheet Summary
A1: FY 2011 METROBUS SERVICE CHANGES
A2: =+'FY 2011 Metrobus Cuts'!A3:M3 -> Metrobus System Summary - Board Approved Hearing Docket
A3: =+'FY 2011 Metrobus Cuts'!A4 -> 40241
A4: CATEGORIES | C4: ANNUAL PLATFORMHOURS | D4: PEAK BUSES | E4: ANNUAL RIDERS LOST | F4: ANNUAL COST | G4: ANNUAL PASSENGER REVENUE | H4: ANNUAL SUBSIDY
A6: 1 | B6: =+'[1]Details All States'!E5 -> Headway Change / Trip Elimination | C6: =+'FY 2011 Metrobus Cuts'!H57 -> -40801.58 | D6: =+'FY 2011 Metrobus Cuts'!I57 -> -16 | E6: =+'FY 2011 Metrobus Cuts'!J57 -> 0.89446188 | F6: =+'FY 2011 Metrobus Cuts'!K57 -> 5.2553833 | G6: =+'FY 2011 Metrobus Cuts'!L57 -> 0.7883075 | H6: =+'FY 2011 Metrobus Cuts'!M57 -> 4.4670758
A8: 2 | B8: =+'[1]Details All States'!E6 -> Route / Segment Elimination | C8: =+'FY 2011 Metrobus Cuts'!H76 -> -60544.37 | D8: =+'FY 2011 Metrobus Cuts'!I76 -> -10 | E8: =+'FY 2011 Metrobus Cuts'!J76 -> 1.1574147 | F8: =+'FY 2011 Metrobus Cuts'!K76 -> 6.1995452 | G8: =+'FY 2011 Metrobus Cuts'!L76 -> 0.92993178 | H8: =+'FY 2011 Metrobus Cuts'!M76 -> 5.2696134
A10: 3 | B10: =+'[1]Details All States'!E7 -> Line Elimination | C10: =+'FY 2011 Metrobus Cuts'!H93 -> -111962.85 | D10: =+'FY 2011 Metrobus Cuts'!I93 -> -58 | E10: =+'FY 2011 Metrobus Cuts'!J93 -> 2.0109283 | F10: =+'FY 2011 Metrobus Cuts'!K93 -> 10.724951 | G10: =+'FY 2011 Metrobus Cuts'!L93 -> 1.6087427 | H10: =+'FY 2011 Metrobus Cuts'!M93 -> 9.1162084
A12: 4 | B12: =+'[1]Details All States'!E8 -> Restructure Service | C12: =+'FY 2011 Metrobus Cuts'!H110 -> -28044.833 | D12: =+'FY 2011 Metrobus Cuts'!I110 -> -3 | E12: =+'FY 2011 Metrobus Cuts'!J110 -> 0.580577 | F12: =+'FY 2011 Metrobus Cuts'!K110 -> 3.0964145 | G12: =+'FY 2011 Metrobus Cuts'!L110 -> 0.46446218 | H12: =+'FY 2011 Metrobus Cuts'!M110 -> 2.6319523
A14: 5 | B14: =+'[1]Details All States'!E9 -> Eliminate Overlap with Local Service | C14: =+'FY 2011 Metrobus Cuts'!H118 -> -26535.86 | D14: =+'FY 2011 Metrobus Cuts'!I118 -> -5 | E14: =+'FY 2011 Metrobus Cuts'!J118 -> 0.47659871 | F14: =+'FY 2011 Metrobus Cuts'!K118 -> 2.5418619 | G14: =+'FY 2011 Metrobus Cuts'!L118 -> 0.38127909 | H14: =+'FY 2011 Metrobus Cuts'!M118 -> 2.1605828
A16: 6 | B16: =+'[1]Details All States'!J5 -> Fare Change (In Revenue Section) | C16: =+'FY 2011 Metrobus Cuts'!H121 -> 0 | D16: =+'FY 2011 Metrobus Cuts'!I121 -> 0 | E16: =+'FY 2011 Metrobus Cuts'!J121 -> 0 | F16: =+'FY 2011 Metrobus Cuts'!K121 -> 0 | G16: =+'FY 2011 Metrobus Cuts'!L121 -> 0 | H16: =+'FY 2011 Metrobus Cuts'!M121 -> 0
A18: 7 | B18: =+'[1]Details All States'!J6 -> Reduced Holiday Service | C18: =+'FY 2011 Metrobus Cuts'!H126 -> -24582.39 | D18: =+'FY 2011 Metrobus Cuts'!I126 -> 0 | E18: =+'FY 2011 Metrobus Cuts'!J126 -> 0.44151509 | F18: =+'FY 2011 Metrobus Cuts'!K126 -> 2.3547471 | G18: =+'FY 2011 Metrobus Cuts'!L126 -> 0.35321207 | H18: =+'FY 2011 Metrobus Cuts'!M126 -> 2.0015351
A20: 8 | B20: =+'[1]Details All States'!J7 -> Weekend Late Night Service | C20: =+'FY 2011 Metrobus Cuts'!H135 -> -11459 | D20: =+'FY 2011 Metrobus Cuts'!I135 -> 0 | E20: =+'FY 2011 Metrobus Cuts'!J135 -> 0.2058205 | F20: =+'FY 2011 Metrobus Cuts'!K135 -> 1.0977093 | G20: =+'FY 2011 Metrobus Cuts'!L135 -> 0.1646564 | H20: =+'FY 2011 Metrobus Cuts'!M135 -> 0.93305294
A22: 9 | B22: =+'[1]Details All States'!J8 -> Seasonal Adjustments | C22: =+'FY 2011 Metrobus Cuts'!H140 -> -24583 | D22: =+'FY 2011 Metrobus Cuts'!I140 -> 0 | E22: =+'FY 2011 Metrobus Cuts'!J140 -> 0.1471717 | F22: =+'FY 2011 Metrobus Cuts'!K140 -> 0.78491571 | G22: =+'FY 2011 Metrobus Cuts'!L140 -> 0.11773736 | H22: =+'FY 2011 Metrobus Cuts'!M140 -> 0.66717836
A24: 10 | B24: =+'[1]Details All States'!J9 -> Impact of Bus Stop Reduction | C24: =+'FY 2011 Metrobus Cuts'!H145 -> -12800 | D24: =+'FY 2011 Metrobus Cuts'!I145 -> -9 | E24: =+'FY 2011 Metrobus Cuts'!J145 -> 0.229896 | F24: =+'FY 2011 Metrobus Cuts'!K145 -> 1.226112 | G24: =+'FY 2011 Metrobus Cuts'!L145 -> 0.1839168 | H24: =+'FY 2011 Metrobus Cuts'!M145 -> 1.0421952
B26: Metrobus System Totals | C26: =SUM(C6:C25) -> -341313.88 | D26: =SUM(D6:D25) -> -101 | E26: =SUM(E6:E25) -> 6.1443839 | F26: =SUM(F6:F25) -> 33.28164 | G26: =SUM(G6:G25) -> 4.9922458 | H26: =SUM(H6:H25) -> 28.289394
B28: Approved FY 2010 Totals | C28: 4082418 | D28: 1512 | E28: =139622*1000/1000000 -> 139.622 | F28: =506087000/1000000 -> 506.087 | G28: =119544000/1000000 -> 119.544 | H28: =+F28-G28 -> 386.543
B29: Percent Change FY 2010 to FY 2011 | C29: =+C26/C28 -> -0.083605815 | D29: =+D26/D28 -> -0.066798942 | E29: =+E26/E28 -> 0.044007276 | F29: =+F26/F28 -> 0.065762686 | G29: =+G26/G28 -> 0.041760739 | H29: =+H26/H28 -> 0.073185634

Sheet Sheet3
