Workbook

Sheet Summary Table
A2: Summary Tables by Project Component: 3% and 7% Discount Rates
A5: ('000s of $, 3% Discount Rate for Costs and Benefits) | B5: Fort Totten / 1st Place-Galloway Road Access Improvement Project | C5: Forest Glen Metro Access Project | D5: Pedestrian Safety Measures for the New Carrollton Metro Station | E5: Safer Walkways to Transit: Twinbrook Metro Station | F5: West Hyattsville Improvements | G5: Army Navy Drive Multimodal Access Improvement Project | H5: Bicycle Lockers at Virginia Railway Express (VRE) Stations
A6: Costs | B6: =FT!D217 -> 7295.0522 | C6: ='Forest Glen'!D330 -> 22615.218 | D6: =NC!D221 -> 1194.214 | E6: =TB!D218 -> 1209.2011 | F6: =WH!D214 -> 1169.0063 | G6: ='A-N Drive'!D281 -> 18294.7 | H6: =VRE!D159 -> 736.24994
A7: Capital | B7: =FT!D218 -> 3864.7028 | C7: ='Forest Glen'!D331 -> 16002.447 | D7: =NC!D222 -> 819.36085 | E7: =TB!D219 -> 472.79666 | F7: =WH!D215 -> 670.53916 | G7: ='A-N Drive'!D282 -> 6478.7163 | H7: =VRE!D160 -> 267.10111
A8: Operating | B8: =FT!D219 -> 0 | C8: ='Forest Glen'!D332 -> 1221.3842 | D8: =NC!D223 -> 0 | E8: =TB!D220 -> 0 | F8: =WH!D216 -> 0 | G8: ='A-N Drive'!D283 -> 0 | H8: =VRE!D161 -> 67.599326
A9: Construction Impacts | B9: =FT!D220 -> 82.140825 | C9: ='Forest Glen'!D333 -> 538.94921 | D9: =NC!D224 -> 142.87962 | E9: =TB!D221 -> 33.479022 | F9: =WH!D217 -> 0 | G9: ='A-N Drive'!D284 -> 525.60937 | H9: =VRE!D162 -> 0
A10: Accident | B10: =FT!D221 -> 3348.2086 | C10: ='Forest Glen'!D334 -> 4852.4383 | D10: =NC!D225 -> 231.97355 | E10: =TB!D222 -> 702.9254 | F10: =WH!D218 -> 498.4671 | G10: ='A-N Drive'!D285 -> 11290.375 | H10: =VRE!D163 -> 401.5495
A12: Benefits | B12: =FT!D223 -> 15388.858 | C12: ='Forest Glen'!D336 -> 23006.361 | D12: =NC!D227 -> 3226.2821 | E12: =TB!D224 -> 4126.0219 | F12: =WH!D220 -> 4714.0482 | G12: ='A-N Drive'!D287 -> 40261.888 | H12: =VRE!D165 -> 2225.4546
A13: Net Travel Time Savings | B13: =FT!D224 -> 161.89298 | C13: ='Forest Glen'!D337 -> 1959.4339 | D13: =NC!D228 -> 153.93621 | E13: =TB!D225 -> 427.07501 | F13: =WH!D221 -> 1277.4313 | G13: ='A-N Drive'!D288 -> -4318.1609 | H13: =VRE!D166 -> -155.16014
A14: Net Travel Cost Savings | B14: =FT!D225 -> 4581.1183 | C14: ='Forest Glen'!D338 -> 4270.6994 | D14: =NC!D229 -> 650.38925 | E14: =TB!D226 -> 1843.99 | F14: =WH!D222 -> 1077.8518 | G14: ='A-N Drive'!D289 -> 10720.088 | H14: =VRE!D167 -> 897.15468
A15: Increased Access | B15: =FT!D226 -> 120.61861 | C15: ='Forest Glen'!D339 -> 3350.8547 | D15: =NC!D230 -> 13.584587 | E15: =TB!D227 -> 74.282643 | F15: =WH!D223 -> 181.62853 | G15: ='A-N Drive'!D290 -> 6346.7689 | H15: =VRE!D168 -> 40.658042
A16: Congestion Reduction | B16: =FT!D227 -> 889.52886 | C16: ='Forest Glen'!D340 -> 3984.2588 | D16: =NC!D231 -> 1094.1331 | E16: =TB!D228 -> 387.85151 | F16: =WH!D224 -> 62.904988 | G16: ='A-N Drive'!D291 -> 2258.9408 | H16: =VRE!D169 -> 138.92631
A17: Environmental | B17: =FT!D228 -> 1106.6644 | C17: ='Forest Glen'!D341 -> 789.98018 | D17: =NC!D232 -> 157.77897 | E17: =TB!D229 -> 440.8717 | F17: =WH!D225 -> 261.17342 | G17: ='A-N Drive'!D292 -> 1928.6378 | H17: =VRE!D170 -> 538.64043
A18: Health Benefits | B18: =FT!D229 -> 0.3559486 | C18: ='Forest Glen'!D342 -> 11.354036 | D18: =NC!D233 -> 0.036350495 | E18: =TB!D230 -> 0.30218142 | F18: =WH!D226 -> 1.1028345 | G18: ='A-N Drive'!D293 -> 26.680614 | H18: =VRE!D171 -> 1.1788669
... A23: Benefit-Cost Ratio | B23: =FT!D234 -> 2.1094924 | C23: ='Forest Glen'!D347 -> 1.4490412 | D23: =NC!D238 -> 2.7015946 | E23: =TB!D235 -> 3.4121884 | F23: =WH!D231 -> 4.032526 | G23: ='A-N Drive'!D298 -> 2.2007405 | H23: =VRE!D176 -> 3.022689
A26: ('000s of $, 7% Discount Rate for Costs and Benefits) | B26: Fort Totten / 1st Place-Galloway Road Access Improvement Project | C26: Forest Glen Metro Access Project | D26: Pedestrian Safety Measures for the New Carrollton Metro Station | E26: Safer Walkways to Transit: Twinbrook Metro Station | F26: West Hyattsville Improvements | G26: Army Navy Drive Multimodal Access Improvement Project | H26: Bicycle Lockers at Virginia Railway Express (VRE) Stations
A27: Costs | B27: =FT!D238 -> 5542.9997 | C27: ='Forest Glen'!D351 -> 18309.409 | D27: =NC!D242 -> 1014.1041 | E27: =TB!D239 -> 913.95976 | F27: =WH!D235 -> 941.77282 | G27: ='A-N Drive'!D302 -> 13851.23 | H27: =VRE!D180 -> 527.11863
A28: Capital | B28: =FT!D239 -> 3503.8922 | C28: ='Forest Glen'!D352 -> 14176.776 | D28: =NC!D243 -> 732.59427 | E28: =TB!D240 -> 438.10811 | F28: =WH!D236 -> 622.65263 | G28: ='A-N Drive'!D303 -> 6043.432 | H28: =VRE!D181 -> 247.25124
A29: Operating | B29: =FT!D240 -> 0 | C29: ='Forest Glen'!D353 -> 746.78814 | D29: =NC!D244 -> 0 | E29: =TB!D241 -> 0 | F29: =WH!D237 -> 0 | G29: ='A-N Drive'!D304 -> 0 | H29: =VRE!D182 -> 43.475921
A30: Construction Impacts | B30: =FT!D241 -> 76.114247 | C30: ='Forest Glen'!D354 -> 470.08266 | D30: =NC!D245 -> 132.3967 | E30: =TB!D242 -> 31.022705 | F30: =WH!D238 -> 0 | G30: ='A-N Drive'!D305 -> 496.62901 | H30: =VRE!D183 -> 0
A31: Accident | B31: =FT!D242 -> 1962.9933 | C31: ='Forest Glen'!D355 -> 2915.7614 | D31: =NC!D246 -> 149.11316 | E31: =TB!D243 -> 444.82894 | F31: =WH!D239 -> 319.12019 | G31: ='A-N Drive'!D306 -> 7311.1689 | H31: =VRE!D184 -> 236.39147
A33: Benefits | B33: =FT!D244 -> 9895.7584 | C33: ='Forest Glen'!D357 -> 13896.053 | D33: =NC!D248 -> 2074.4979 | E33: =TB!D245 -> 2612.6979 | F33: =WH!D241 -> 3019.3757 | G33: ='A-N Drive'!D308 -> 25914.018 | H33: =VRE!D186 -> 1316.3935
A34: Net Travel Time Savings | B34: =FT!D245 -> 94.091346 | C34: ='Forest Glen'!D358 -> 1181.0279 | D34: =NC!D249 -> 97.377979 | E34: =TB!D246 -> 265.79193 | F34: =WH!D242 -> 815.08666 | G34: ='A-N Drive'!D309 -> -2768.6575 | H34: =VRE!D187 -> -92.810745
A35: Net Travel Cost Savings | B35: =FT!D246 -> 2951.1312 | C35: ='Forest Glen'!D359 -> 2568.5747 | D35: =NC!D250 -> 418.07179 | E35: =TB!D247 -> 1166.9234 | F35: =WH!D243 -> 690.04405 | G35: ='A-N Drive'!D310 -> 6912.6537 | H35: =VRE!D188 -> 528.15335
A36: Increased Access | B36: =FT!D247 -> 66.053282 | C36: ='Forest Glen'!D360 -> 2009.1681 | D36: =NC!D251 -> 8.2080087 | E36: =TB!D248 -> 45.517292 | F36: =WH!D244 -> 115.59695 | G36: ='A-N Drive'!D311 -> 4109.639 | H36: =VRE!D189 -> 24.362292
A37: Congestion Reduction | B37: =FT!D248 -> 569.60878 | C37: ='Forest Glen'!D361 -> 2434.1721 | D37: =NC!D252 -> 703.31141 | E37: =TB!D249 -> 245.44223 | F37: =WH!D245 -> 40.271969 | G37: ='A-N Drive'!D312 -> 1469.2883 | H37: =VRE!D190 -> 81.785666
A38: Environmental | B38: =FT!D249 -> 734.71518 | C38: ='Forest Glen'!D362 -> 483.25548 | D38: =NC!D253 -> 104.15346 | E38: =TB!D250 -> 286.60436 | F38: =WH!D246 -> 172.04245 | G38: ='A-N Drive'!D313 -> 1279.6247 | H38: =VRE!D191 -> 324.41033
A39: Health Benefits | B39: =FT!D250 -> 0.19035924 | C39: ='Forest Glen'!D363 -> 6.8188821 | D39: =NC!D254 -> 0.023366186 | E39: =TB!D251 -> 0.19122803 | F39: =WH!D247 -> 0.7060381 | G39: ='A-N Drive'!D314 -> 17.323391 | H39: =VRE!D192 -> 0.69399682
... A44: Benefit-Cost Ratio | B44: =FT!D255 -> 1.7852713 | C44: ='Forest Glen'!D368 -> 1.029498 | D44: =NC!D259 -> 2.0456458 | E44: =TB!D256 -> 2.8586575 | F44: =WH!D252 -> 3.2060553 | G44: ='A-N Drive'!D319 -> 1.8708821 | H44: =VRE!D197 -> 2.4973382
A48: Overall Project Summary Tables: 3% and 7% Discount Rates
A50: Current ($2011) Dollars
A51: Rate of Return | B51: =IRR(B99:Y99) -> 0.15532061
A52: Benefit/Cost Ratio | B52: =-SUM(B98:Y98)/SUM(B97:Y97) -> 2.2929134
A53: 3% Discount Rate
A54: Rate of Return | B54: =IRR(B102:Y102) -> 0.12167049
A55: Benefit/Cost Ratio | B55: =(SUM(FT!F231:AC231)+ SUM('Forest Glen'!F344:AC344)+ SUM(NC!F235:AC235)+ SUM(TB!F232:AC232)+ SUM(WH!F228:AC228)+ SUM('A-N Drive'!F295:AC295)+ SUM(VRE!F173:AC173))/- (SUM(FT!F222:AC222)+ SUM('Forest Glen'!F335:AC335)+ SUM(NC!F226:AC226)+ SUM(TB!F223:AC223)+ SUM(WH!F219:AC219)+ SUM('A-N Drive'!F286:AC286)+ SUM(VRE!F164:AC164)) -> 1.902495
A56: 7% Discount Rate
A57: Rate of Return | B57: =IRR(B105:Y105) -> 0.079738883
A58: Benefit/Cost Ratio | B58: =(SUM(FT!F252:AC252)+ SUM('Forest Glen'!F365:AC365)+ SUM(NC!F256:AC256)+ SUM(TB!F253:AC253)+ SUM(WH!F249:AC249)+ SUM('A-N Drive'!F316:AC316)+ SUM(VRE!F194:AC194))/- (SUM(FT!F243:AC243)+ SUM('Forest Glen'!F356:AC356)+ SUM(NC!F247:AC247)+ SUM(TB!F244:AC244)+ SUM(WH!F240:AC240)+ SUM('A-N Drive'!F307:AC307)+ SUM(VRE!F185:AC185)) -> 1.5198379
A60: User Trips | B60: 2020 (Year 9) | C60: 2035 (Year 24) | D60: Total (2012 to 2035)
...

Sheet FT
F1: 2012 | G1: 2013 | H1: 2014 | I1: 2015 | J1: 2016 | K1: 2017 | L1: 2018 | M1: 2019 | N1: 2020 | O1: 2021 | P1: 2022 | Q1: 2023 | R1: 2024 | S1: 2025 | T1: 2026 | U1: 2027 | V1: 2028 | W1: 2029 | X1: 2030 | Y1: 2031 | Z1: 2032 | AA1: 2033 | AB1: 2034 | AC1: 2035
D2: Factor | E2: Total | F2: Year 1 | G2: Year 2 | H2: Year 3 | I2: Year 4 | J2: Year 5 | K2: Year 6 | L2: Year 7 | M2: Year 8 | N2: Year 9 | O2: Year 10 | P2: Year 11 | Q2: Year 12 | R2: Year 13 | S2: Year 14 | T2: Year 15 | U2: Year 16 | V2: Year 17 | W2: Year 18 | X2: Year 19 | Y2: Year 20 | Z2: Year 21 | AA2: Year 22 | AB2: Year 23 | AC2: Year 24
A5: Project Costs | C5: O & M
C6: Construction | G6: -1733836.5 | H6: -2437213.5
AD7: =SUM(F7:AC7) -> 0
A8: Users | AD8: =SUM(F8:AC8) -> 0
B9: PEDESTRIAN | AD9: =SUM(F9:AC9) -> 0
B10: Local | C10: Current User | F10: ='FT Users'!C5 -> 0 | G10: ='FT Users'!D5 -> 371484.73 | H10: ='FT Users'!E5 -> 750782.16 | I10: ='FT Users'!F5 -> 758594.86 | J10: ='FT Users'!G5 -> 766407.57 | K10: ='FT Users'!H5 -> 774220.28 | L10: ='FT Users'!I5 -> 782032.98 | M10: ='FT Users'!J5 -> 789845.69 | ... AC10: ='FT Users'!Z5 -> 834102.52 | AD10: =SUM(F10:AC10) -> 18047456
B11: Commute | C11: Trip shifted from auto to transit+ped | F11: ='FT Users'!C6 -> 0 | G11: ='FT Users'!D6 -> 22289.084 | H11: ='FT Users'!E6 -> 45046.93 | I11: ='FT Users'!F6 -> 45515.692 | J11: ='FT Users'!G6 -> 45984.454 | K11: ='FT Users'!H6 -> 46453.217 | L11: ='FT Users'!I6 -> 46921.979 | M11: ='FT Users'!J6 -> 47390.741 | ... AC11: ='FT Users'!Z6 -> 50046.151 | AD11: =SUM(F11:AC11) -> 1082847.3
C12: Trips not taken before (none to transit+ped) | F12: ='FT Users'!C7 -> 0 | G12: ='FT Users'!D7 -> 14859.389 | H12: ='FT Users'!E7 -> 30031.286 | I12: ='FT Users'!F7 -> 30343.795 | J12: ='FT Users'!G7 -> 30656.303 | K12: ='FT Users'!H7 -> 30968.811 | L12: ='FT Users'!I7 -> 31281.319 | M12: ='FT Users'!J7 -> 31593.827 | ... AC12: ='FT Users'!Z7 -> 33364.101 | AD12: =SUM(F12:AC12) -> 721898.22
AD13: =SUM(F13:AC13) -> 0
B14: BICYCLE | AD14: =SUM(F14:AC14) -> 0
B15: Local | C15: Current User | F15: ='FT Users'!C11 -> 0 | G15: ='FT Users'!D11 -> 2319.072 | H15: ='FT Users'!E11 -> 5272.6421 | I15: ='FT Users'!F11 -> 5993.9395 | J15: ='FT Users'!G11 -> 6813.9105 | K15: ='FT Users'!H11 -> 7746.0534 | L15: ='FT Users'!I11 -> 8805.7135 | M15: ='FT Users'!J11 -> 10010.335 | ... AC15: ='FT Users'!Z11 -> 77874.21 | AD15: =SUM(F15:AC15) -> 610906.5
B16: Commute | C16: Trip shifted from auto to transit+bike | F16: ='FT Users'!C12 -> 0 | G16: ='FT Users'!D12 -> 115.9536 | H16: ='FT Users'!E12 -> 263.6321 | I16: ='FT Users'!F12 -> 299.69698 | J16: ='FT Users'!G12 -> 340.69552 | K16: ='FT Users'!H12 -> 387.30267 | L16: ='FT Users'!I12 -> 440.28568 | M16: ='FT Users'!J12 -> 500.51676 | ... AC16: ='FT Users'!Z12 -> 3893.7105 | AD16: =SUM(F16:AC16) -> 30545.325
C17: Trips not taken before (none to transit+bike) | F17: ='FT Users'!C13 -> 0 | G17: ='FT Users'!D13 -> 92.76288 | H17: ='FT Users'!E13 -> 210.90568 | I17: ='FT Users'!F13 -> 239.75758 | J17: ='FT Users'!G13 -> 272.55642 | K17: ='FT Users'!H13 -> 309.84214 | L17: ='FT Users'!I13 -> 352.22854 | M17: ='FT Users'!J13 -> 400.41341 | ... AC17: ='FT Users'!Z13 -> 3114.9684 | AD17: =SUM(F17:AC17) -> 24436.26 | AG17: Comp. Grpah
AD18: =SUM(F18:AC18) -> 0 | AG18: =AD45+AD57+AD64 -> 6805472.2
C19: TRAVEL IMPACTS | AD19: =SUM(F19:AC19) -> 0 | AG19: =+#REF!+#REF!+#REF!+AD167+AD165 -> #REF!
C20: Rail transit trips change | F20: ='FT Users'!C24 -> 0 | G20: ='FT Users'!D24 -> 37357.189 | H20: ='FT Users'!E24 -> 75552.754 | I20: ='FT Users'!F24 -> 76398.941 | J20: ='FT Users'!G24 -> 77254.009 | K20: ='FT Users'!H24 -> 78119.172 | L20: ='FT Users'!I24 -> 78995.812 | M20: ='FT Users'!J24 -> 79885.499 | ... AC20: ='FT Users'!Z24 -> 90418.931 | AD20: =SUM(F20:AC20) -> 1859727.1
C21: Bus transit trips change | F21: ='FT Users'!C25 -> 0 | G21: ='FT Users'!D25 -> 0 | H21: ='FT Users'!E25 -> -37747.311 | I21: ='FT Users'!F25 -> -38170.079 | J21: ='FT Users'!G25 -> -38597.284 | K21: ='FT Users'!H25 -> -39029.533 | L21: ='FT Users'!I25 -> -39467.515 | M21: ='FT Users'!J25 -> -39912.016 | ... AC21: ='FT Users'!Z25 -> -45174.68 | AD21: =SUM(F21:AC21) -> -910483.89
C22: Auto VT reduced | F22: ='FT Users'!C26 -> 0 | G22: ='FT Users'!D26 -> -22405.037 | H22: ='FT Users'!E26 -> -45310.562 | I22: ='FT Users'!F26 -> -45815.389 | J22: ='FT Users'!G26 -> -46325.15 | K22: ='FT Users'!H26 -> -46840.519 | L22: ='FT Users'!I26 -> -47362.265 | M22: ='FT Users'!J26 -> -47891.258 | ... AC22: ='FT Users'!Z26 -> -53939.862 | AD22: =SUM(F22:AC22) -> -1113392.7
C23: Auto VMT reduced | F23: ='FT Users'!C27 -> 0 | G23: ='FT Users'!D27 -> -145632.74 | H23: ='FT Users'!E27 -> -294518.65 | I23: ='FT Users'!F27 -> -297800.03 | J23: ='FT Users'!G27 -> -301113.47 | K23: ='FT Users'!H27 -> -304463.37 | L23: ='FT Users'!I27 -> -307854.72 | M23: ='FT Users'!J27 -> -311293.18 | ... AC23: ='FT Users'!Z27 -> -350609.1 | AD23: =SUM(F23:AC23) -> -7237052.3
C24: Auto fuel savings | F24: ='FT Users'!C28 -> 0 | G24: ='FT Users'!D28 -> 25663.823 | H24: ='FT Users'!E28 -> 50731.237 | I24: ='FT Users'!F28 -> 50165.869 | J24: ='FT Users'!G28 -> 49630.172 | K24: ='FT Users'!H28 -> 49122.973 | L24: ='FT Users'!I28 -> 48643.293 | M24: ='FT Users'!J28 -> 48190.339 | ... AC24: ='FT Users'!Z28 -> 52779.724 | AD24: =SUM(F24:AC24) -> 1119222.1
AD25: =SUM(F25:AC25) -> 0
A26: Non-Users | AD26: =SUM(F26:AC26) -> 0
B27: ROAD | AD27: =SUM(F27:AC27) -> 0
B28: Construction Impact | C28: Current User | F28: ='FT Users'!C18 -> 0 | G28: ='FT Users'!D18 -> 3140924.4 | H28: ='FT Users'!E18 -> 0 | I28: ='FT Users'!F18 -> 0 | J28: ='FT Users'!G18 -> 0 | K28: ='FT Users'!H18 -> 0 | L28: ='FT Users'!I18 -> 0 | M28: ='FT Users'!J18 -> 0 | ... AC28: ='FT Users'!Z18 -> 0 | AD28: =SUM(F28:AC28) -> 3140924.4
B29: Long-Term Impact | C29: Reduced Users | F29: ='FT Users'!C19 -> 0 | G29: ='FT Users'!D19 -> -11202.519 | H29: ='FT Users'!E19 -> -22655.281 | I29: ='FT Users'!F19 -> -22907.694 | J29: ='FT Users'!G19 -> -23162.575 | K29: ='FT Users'!H19 -> -23420.26 | L29: ='FT Users'!I19 -> -23681.132 | M29: ='FT Users'!J19 -> -23945.629 | ... AC29: ='FT Users'!Z19 -> -26969.931 | AD29: =SUM(F29:AC29) -> -556696.33
C30: Current User | F30: ='FT Users'!C20 -> 0 | G30: ='FT Users'!D20 -> 0 | H30: ='FT Users'!E20 -> 3151297.5 | I30: ='FT Users'!F20 -> 3184073.5 | J30: ='FT Users'!G20 -> 3216847.1 | K30: ='FT Users'!H20 -> 3249617.8 | L30: ='FT Users'!I20 -> 3282385.4 | M30: ='FT Users'!J20 -> 3315149.3 | ... AC30: ='FT Users'!Z20 -> 3499222 | AD30: =SUM(F30:AC30) -> 74180172
AD31: =SUM(F31:AC31) -> 0
AD32: =SUM(F32:AC32) -> 0
A33: STATE OF GOOD REPAIR | AD33: =SUM(F33:AC33) -> 0
C34: New Construction for this project | AD34: =SUM(F34:AC34) -> 0
AD35: =SUM(F35:AC35) -> 0
AD36: =SUM(F36:AC36) -> 0
AD37: =SUM(F37:AC37) -> 0
A38: ECONOMIC COMPETITIVENESS | AD38: =SUM(F38:AC38) -> 0
AD39: =SUM(F39:AC39) -> 0
B40: PEDESTRIAN | AD40: =SUM(F40:AC40) -> 0
B41: Local | C41: Current User | AD41: =SUM(F41:AC41) -> 0
C42: TRAVEL TIME COST/SAVINGS | AD42: =SUM(F42:AC42) -> 0
...

Sheet FT Users
A2: USERS and NON-USERS | C2: 2012 | D2: 2013 | E2: 2014 | F2: 2015 | G2: 2016 | H2: 2017 | I2: 2018 | J2: 2019 | K2: 2020 | L2: 2021 | M2: 2022 | N2: 2023 | O2: 2024 | P2: 2025 | Q2: 2026 | R2: 2027 | S2: 2028 | T2: 2029 | U2: 2030 | V2: 2031 | W2: 2032 | X2: 2033 | Y2: 2034 | Z2: 2035
C3: Year 1 | D3: Year 2 | E3: Year 3 | F3: Year 4 | G3: Year 5 | H3: Year 6 | I3: Year 7 | J3: Year 8 | K3: Year 9 | L3: Year 10 | M3: Year 11 | N3: Year 12 | O3: Year 13 | P3: Year 14 | Q3: Year 15 | R3: Year 16 | S3: Year 17 | T3: Year 18 | U3: Year 19 | V3: Year 20 | W3: Year 21 | X3: Year 22 | Y3: Year 23 | Z3: Year 24
A4: PEDESTRIAN
A5: Current User | B5: Current User | C5: 0 | D5: =D66*0.5 -> 371484.73 | E5: =E66 -> 750782.16 | F5: =F66 -> 758594.86 | G5: =G66 -> 766407.57 | H5: =H66 -> 774220.28 | I5: =I66 -> 782032.98 | J5: =J66 -> 789845.69 | K5: =K66 -> 797658.39 | L5: =L66 -> 800088 | ... Z5: =Z66 -> 834102.52
A6: New User | B6: Mode shift (auto to transit+ped) | C6: =C68 -> 0 | D6: =D68*0.5 -> 22289.084 | E6: =E68 -> 45046.93 | F6: =F68 -> 45515.692 | G6: =G68 -> 45984.454 | H6: =H68 -> 46453.217 | I6: =I68 -> 46921.979 | J6: =J68 -> 47390.741 | K6: =K68 -> 47859.504 | L6: =L68 -> 48005.28 | ... Z6: =Z68 -> 50046.151
B7: Trips not taken before (none to transit+ped) | C7: =C69 -> 0 | D7: =D69*0.5 -> 14859.389 | E7: =E69 -> 30031.286 | F7: =F69 -> 30343.795 | G7: =G69 -> 30656.303 | H7: =H69 -> 30968.811 | I7: =I69 -> 31281.319 | J7: =J69 -> 31593.827 | K7: =K69 -> 31906.336 | L7: =L69 -> 32003.52 | ... Z7: =Z69 -> 33364.101
A10: BICYCLE
A11: Current User | B11: Current User | C11: 0 | D11: =D75*0.5 -> 2319.072 | E11: =E75 -> 5272.6421 | F11: =F75 -> 5993.9395 | G11: =G75 -> 6813.9105 | H11: =H75 -> 7746.0534 | I11: =I75 -> 8805.7135 | J11: =J75 -> 10010.335 | K11: =K75 -> 11379.749 | L11: =L75 -> 12936.499 | ... Z11: =Z75 -> 77874.21
A12: New User | B12: Trip shifted from auto to transit+bike | C12: =C77 -> 0 | D12: =D77*0.5 -> 115.9536 | E12: =E77 -> 263.6321 | F12: =F77 -> 299.69698 | G12: =G77 -> 340.69552 | H12: =H77 -> 387.30267 | I12: =I77 -> 440.28568 | J12: =J77 -> 500.51676 | K12: =K77 -> 568.98745 | L12: =L77 -> 646.82493 | ... Z12: =Z77 -> 3893.7105
B13: Trips not taken before (none to transit+bike) | C13: =C78 -> 0 | D13: =D78*0.5 -> 92.76288 | E13: =E78 -> 210.90568 | F13: =F78 -> 239.75758 | G13: =G78 -> 272.55642 | H13: =H78 -> 309.84214 | I13: =I78 -> 352.22854 | J13: =J78 -> 400.41341 | K13: =K78 -> 455.18996 | L13: =L78 -> 517.45995 | ... Z13: =Z78 -> 3114.9684
A16: ROAD
B17: Vehicle - Metro Access | C17: 0 | E17: =SUM(E55:E58)*$B$66 -> 3173952.8 | F17: =SUM(F55:F58)*$B$66 -> 3206981.2 | G17: =SUM(G55:G58)*$B$66 -> 3240009.7 | H17: =SUM(H55:H58)*$B$66 -> 3273038.1 | I17: =SUM(I55:I58)*$B$66 -> 3306066.5 | J17: =SUM(J55:J58)*$B$66 -> 3339095 | K17: =SUM(K55:K58)*$B$66 -> 3372123.4 | L17: =SUM(L55:L58)*$B$66 -> 3382394.6 | ... Z17: =SUM(Z55:Z58)*$B$66 -> 3526192
A18: Construction Impact | B18: Current User | D18: =SUM(D55:D58)*$B$66 -> 3140924.4
B19: New User (50% of VT reduced) | C19: =0.5*C26 -> 0 | D19: =0.5*D26 -> -11202.519 | E19: =0.5*E26 -> -22655.281 | F19: =0.5*F26 -> -22907.694 | G19: =0.5*G26 -> -23162.575 | H19: =0.5*H26 -> -23420.26 | I19: =0.5*I26 -> -23681.132 | J19: =0.5*J26 -> -23945.629 | ... Z19: =0.5*Z26 -> -26969.931
A20: Long-Term Impact | B20: Current User | D20: 0 | E20: =(E17)+E19 -> 3151297.5 | F20: =(F17)+F19 -> 3184073.5 | G20: =(G17)+G19 -> 3216847.1 | H20: =(H17)+H19 -> 3249617.8 | I20: =(I17)+I19 -> 3282385.4 | J20: =(J17)+J19 -> 3315149.3 | K20: =(K17)+K19 -> 3347909.1 | L20: =(L17)+L19 -> 3358068.6 | ... Z20: =(Z17)+Z19 -> 3499222
B23: TRAVEL IMPACTS
B24: Rail transit trips change | C24: =C6+C7+C12+C13 -> 0 | D24: =D6+D7+D12+D13 -> 37357.189 | E24: =E6+E7+E12+E13 -> 75552.754 | F24: =F6+F7+F12+F13 -> 76398.941 | G24: =G6+G7+G12+G13 -> 77254.009 | H24: =H6+H7+H12+H13 -> 78119.172 | I24: =I6+I7+I12+I13 -> 78995.812 | J24: =J6+J7+J12+J13 -> 79885.499 | ... Z24: =Z6+Z7+Z12+Z13 -> 90418.931
B25: Bus transit trips change | E25: =-E24*$A$57 -> -37747.311 | F25: =-F24*$A$57 -> -38170.079 | G25: =-G24*$A$57 -> -38597.284 | H25: =-H24*$A$57 -> -39029.533 | I25: =-I24*$A$57 -> -39467.515 | J25: =-J24*$A$57 -> -39912.016 | K25: =-K24*$A$57 -> -40363.927 | L25: =-L24*$A$57 -> -40555.314 | ... Z25: =-Z24*$A$57 -> -45174.68
B26: Auto VT reduced | C26: =-(C6+C12) -> 0 | D26: =-(D6+D12) -> -22405.037 | E26: =-(E6+E12) -> -45310.562 | F26: =-(F6+F12) -> -45815.389 | G26: =-(G6+G12) -> -46325.15 | H26: =-(H6+H12) -> -46840.519 | I26: =-(I6+I12) -> -47362.265 | J26: =-(J6+J12) -> -47891.258 | ... Z26: =-(Z6+Z12) -> -53939.862
B27: Auto VMT reduced | C27: =-('Mode Operating Assumptions'!$C$27*(C6+C12)) -> 0 | D27: =-('Mode Operating Assumptions'!$C$27*(D6+D12)) -> -145632.74 | E27: =-('Mode Operating Assumptions'!$C$27*(E6+E12)) -> -294518.65 | F27: =-('Mode Operating Assumptions'!$C$27*(F6+F12)) -> -297800.03 | G27: =-('Mode Operating Assumptions'!$C$27*(G6+G12)) -> -301113.47 | H27: =-('Mode Operating Assumptions'!$C$27*(H6+H12)) -> -304463.37 | I27: =-('Mode Operating Assumptions'!$C$27*(I6+I12)) -> -307854.72 | J27: =-('Mode Operating Assumptions'!$C$27*(J6+J12)) -> -311293.18 | ... Z27: =-('Mode Operating Assumptions'!$C$27*(Z6+Z12)) -> -350609.1
B28: Auto fuel savings | C28: =-(C27*'Mode Operating Assumptions'!$C$8/'Mode Operating Assumptions'!C11) -> 0 | D28: =-(D27*'Mode Operating Assumptions'!$C$8/'Mode Operating Assumptions'!D11) -> 25663.823 | E28: =-(E27*'Mode Operating Assumptions'!$C$8/'Mode Operating Assumptions'!E11) -> 50731.237 | F28: =-(F27*'Mode Operating Assumptions'!$C$8/'Mode Operating Assumptions'!F11) -> 50165.869 | G28: =-(G27*'Mode Operating Assumptions'!$C$8/'Mode Operating Assumptions'!G11) -> 49630.172 | H28: =-(H27*'Mode Operating Assumptions'!$C$8/'Mode Operating Assumptions'!H11) -> 49122.973 | I28: =-(I27*'Mode Operating Assumptions'!$C$8/'Mode Operating Assumptions'!I11) -> 48643.293 | J28: =-(J27*'Mode Operating Assumptions'!$C$8/'Mode Operating Assumptions'!J11) -> 48190.339 | ... Z28: =-(Z27*'Mode Operating Assumptions'!$C$8/'Mode Operating Assumptions'!Z11) -> 52779.724
A36: Mezzanine | B36: Daily Ent | F36: Daily Ext
B37: 2005 | C37: 2010 | D37: 2020 | E37: 2030 | F37: 2005 | G37: 2010 | H37: 2020 | I37: 2030
A38: Fort Totten | B38: 6231.8571 | C38: 6483.6279 | D38: 7211.7942 | E38: 7414.1734 | F38: 6507.0952 | G38: 6653.8829 | H38: 7352.1938 | I38: 7593.4229
D39: =(D38-C38)/10 -> 72.816629 | E39: =(E38-D38)/10 -> 20.237923 | H39: =(H38-G38)/10 -> 69.831088 | I39: =(I38-H38)/10 -> 24.122911
D40: =D39/C38 -> 0.011230846 | E40: =E39/D38 -> 0.0028062258 | H40: =H39/G38 -> 0.010494788 | I40: =I39/H38 -> 0.0032810494
C42: 2012 | D42: 2013 | E42: 2014 | F42: 2015 | G42: 2016 | H42: 2017 | I42: 2018 | J42: 2019 | K42: 2020 | L42: 2021 | M42: 2022 | N42: 2023 | O42: 2024 | P42: 2025 | Q42: 2026 | R42: 2027 | S42: 2028 | T42: 2029 | U42: 2030 | V42: 2031 | W42: 2032 | X42: 2033 | Y42: 2034 | Z42: 2035
C43: Year 1 | D43: Year 2 | E43: Year 3 | F43: Year 4 | G43: Year 5 | H43: Year 6 | I43: Year 7 | J43: Year 8 | K43: Year 9 | L43: Year 10 | M43: Year 11 | N43: Year 12 | O43: Year 13 | P43: Year 14 | Q43: Year 15 | R43: Year 16 | S43: Year 17 | T43: Year 18 | U43: Year 19 | V43: Year 20 | W43: Year 21 | X43: Year 22 | Y43: Year 23 | Z43: Year 24
B44: Daily users (Entry + Exit) | C44: =$C$38*(1+($D$40*(C42-2010)))+$G$38*(1+($H$40*(C42-2010))) -> 13422.806 | D44: =$C$38*(1+($D$40*(D42-2010)))+$G$38*(1+($H$40*(D42-2010))) -> 13565.454 | E44: =$C$38*(1+($D$40*(E42-2010)))+$G$38*(1+($H$40*(E42-2010))) -> 13708.102 | F44: =$C$38*(1+($D$40*(F42-2010)))+$G$38*(1+($H$40*(F42-2010))) -> 13850.749 | G44: =$C$38*(1+($D$40*(G42-2010)))+$G$38*(1+($H$40*(G42-2010))) -> 13993.397 | H44: =$C$38*(1+($D$40*(H42-2010)))+$G$38*(1+($H$40*(H42-2010))) -> 14136.045 | I44: =$C$38*(1+($D$40*(I42-2010)))+$G$38*(1+($H$40*(I42-2010))) -> 14278.692 | J44: =$C$38*(1+($D$40*(J42-2010)))+$G$38*(1+($H$40*(J42-2010))) -> 14421.34 | K44: =H38+D38 -> 14563.988 | L44: =$D$38*(1+($E$40*(L42-2020)))+$H$38*(1+($I$40*(L42-2020))) -> 14608.349 | M44: =$D$38*(1+($E$40*(M42-2020)))+$H$38*(1+($I$40*(M42-2020))) -> 14652.71 | N44: =$D$38*(1+($E$40*(N42-2020)))+$H$38*(1+($I$40*(N42-2020))) -> 14697.07 | O44: =$D$38*(1+($E$40*(O42-2020)))+$H$38*(1+($I$40*(O42-2020))) -> 14741.431 | P44: =$D$38*(1+($E$40*(P42-2020)))+$H$38*(1+($I$40*(P42-2020))) -> 14785.792 | Q44: =$D$38*(1+($E$40*(Q42-2020)))+$H$38*(1+($I$40*(Q42-2020))) -> 14830.153 | R44: =$D$38*(1+($E$40*(R42-2020)))+$H$38*(1+($I$40*(R42-2020))) -> 14874.514 | S44: =$D$38*(1+($E$40*(S42-2020)))+$H$38*(1+($I$40*(S42-2020))) -> 14918.875 | ... Z44: =$D$38*(1+($E$40*(Z42-2020)))+$H$38*(1+($I$40*(Z42-2020))) -> 15229.4
U45: =I38+E38 -> 15007.596
A47: Station Name | B47: Total | C47: ALEXANDRIA DASH | D47: AMTRAK, MARC OR VRE | E47: ARLINGTON TRANSIT (ART) | F47: Dropped off | G47: BICYCLE | H47: DC CIRCULATOR | I47: DRIVE A CAR | J47: FAIRFAX CITY CUE | K47: FAIRFAX CONNECTOR | L47: METROBUS | M47: MONTGOMERY RIDE ON | N47: OTHER BUS | O47: PRINCE GEORGE'S THE BUS | P47: RIDE WITH SOMEONE WHO PARKED | Q47: TAXI | R47: WALK
A48: FORT TOTTEN | B48: 6712.9455 | F48: 864.07885 | I48: 884.33072 | L48: 3317.1395 | N48: 36.75071 | P48: 44.79456 | Q48: 33.92263 | R48: 1531.9285
D49: =D48/$B48 -> 0 | E49: =E48/$B48 -> 0 | F49: =F48/$B48 -> 0.12871829 | G49: =G48/$B48 -> 0 | H49: =H48/$B48 -> 0 | I49: =I48/$B48 -> 0.13173513 | J49: =J48/$B48 -> 0 | K49: =K48/$B48 -> 0 | ... R49: =R48/$B48 -> 0.22820512
B50: Metrorail Mode of Access Study 2007 (All Day Access Absolute)
C51: 2012 | D51: 2013 | E51: 2014 | F51: 2015 | G51: 2016 | H51: 2017 | I51: 2018 | J51: 2019 | K51: 2020 | L51: 2021 | M51: 2022 | N51: 2023 | O51: 2024 | P51: 2025 | Q51: 2026 | R51: 2027 | S51: 2028 | T51: 2029 | U51: 2030 | V51: 2031 | W51: 2032 | X51: 2033 | Y51: 2034 | Z51: 2035
C52: Year 1 | D52: Year 2 | E52: Year 3 | F52: Year 4 | G52: Year 5 | H52: Year 6 | I52: Year 7 | J52: Year 8 | K52: Year 9 | L52: Year 10 | M52: Year 11 | N52: Year 12 | O52: Year 13 | P52: Year 14 | Q52: Year 15 | R52: Year 16 | S52: Year 17 | T52: Year 18 | U52: Year 19 | V52: Year 20 | W52: Year 21 | X52: Year 22 | Y52: Year 23 | Z52: Year 24
A53: =R49 -> 0.22820512 | B53: Walk | C53: =C$59*$A53 -> 3063.1531 | D53: =D$59*$A53 -> 3095.7061 | E53: =E$59*$A53 -> 3128.259 | F53: =F$59*$A53 -> 3160.8119 | G53: =G$59*$A53 -> 3193.3649 | H53: =H$59*$A53 -> 3225.9178 | I53: =I$59*$A53 -> 3258.4708 | J53: =J$59*$A53 -> 3291.0237 | ... Z53: =Z$59*$A53 -> 3475.4272
A54: =G49 -> 0 | B54: Bicycle | C54: =C$59*$A54 -> 0 | D54: =D$59*$A54 -> 0 | E54: =E$59*$A54 -> 0 | F54: =F$59*$A54 -> 0 | G54: =G$59*$A54 -> 0 | H54: =H$59*$A54 -> 0 | I54: =I$59*$A54 -> 0 | J54: =J$59*$A54 -> 0 | ... Z54: =Z$59*$A54 -> 0
A55: =I49 -> 0.13173513 | B55: Car - Park | C55: =C$59*$A55 -> 1768.2551 | D55: =D$59*$A55 -> 1787.0468 | E55: =E$59*$A55 -> 1805.8385 | F55: =F$59*$A55 -> 1824.6302 | G55: =G$59*$A55 -> 1843.4219 | H55: =H$59*$A55 -> 1862.2136 | I55: =I$59*$A55 -> 1881.0054 | J55: =J$59*$A55 -> 1899.7971 | ... Z55: =Z$59*$A55 -> 2006.247
A56: =F49 -> 0.12871829 | B56: Car - Drop-off | C56: =C$59*$A56 -> 1727.7606 | D56: =D$59*$A56 -> 1746.122 | E56: =E$59*$A56 -> 1764.4834 | F56: =F$59*$A56 -> 1782.8447 | G56: =G$59*$A56 -> 1801.2061 | H56: =H$59*$A56 -> 1819.5675 | I56: =I$59*$A56 -> 1837.9289 | J56: =J$59*$A56 -> 1856.2902 | ... Z56: =Z$59*$A56 -> 1960.3023
...

Sheet Forest Glen
F1: 2012 | G1: 2013 | H1: 2014 | I1: 2015 | J1: 2016 | K1: 2017 | L1: 2018 | M1: 2019 | N1: 2020 | O1: 2021 | P1: 2022 | Q1: 2023 | R1: 2024 | S1: 2025 | T1: 2026 | U1: 2027 | V1: 2028 | W1: 2029 | X1: 2030 | Y1: 2031 | Z1: 2032 | AA1: 2033 | AB1: 2034 | AC1: 2035
D2: Factor | E2: Total | F2: Year 1 | G2: Year 2 | H2: Year 3 | I2: Year 4 | J2: Year 5 | K2: Year 6 | L2: Year 7 | M2: Year 8 | N2: Year 9 | O2: Year 10 | P2: Year 11 | Q2: Year 12 | R2: Year 13 | S2: Year 14 | T2: Year 15 | U2: Year 16 | V2: Year 17 | W2: Year 18 | X2: Year 19 | Y2: Year 20 | Z2: Year 21 | AA2: Year 22 | AB2: Year 23 | AC2: Year 24
A5: Project Costs | C5: O & M | J5: -92400 | K5: -92400 | L5: -92400 | M5: -92400 | N5: -92400 | O5: -92400 | P5: -92400 | Q5: -92400 | R5: -92400 | S5: -92400 | T5: -92400 | U5: -92400 | V5: -92400 | W5: -92400 | X5: -92400 | Y5: -92400 | Z5: -92400 | AA5: -92400 | AB5: -92400 | AC5: -92400 | AD5: =SUM(F5:AC5) -> -1848000
C6: Construction | F6: -1110000 | G6: -3630000 | H6: -4543333.3 | I6: -6620625 | J6: -1696041.7 | AD6: =SUM(F6:AC6) -> -17600000
AD7: =SUM(F7:AC7) -> 0
A8: Users | AD8: =SUM(F8:AC8) -> 0
B9: PEDESTRIAN | AD9: =SUM(F9:AC9) -> 0
B10: Local | C10: Current User | F10: ='FG Users'!C6 -> 0 | G10: ='FG Users'!D6 -> 0 | H10: ='FG Users'!E6 -> 0 | I10: ='FG Users'!F6 -> 0 | J10: ='FG Users'!G6 -> 198905 | K10: ='FG Users'!H6 -> 275077.66 | L10: ='FG Users'!I6 -> 285316.05 | M10: ='FG Users'!J6 -> 295935.51 | ... AC10: ='FG Users'!Z6 -> 310375.09 | AD10: =SUM(F10:AC10) -> 5993789.5
B11: Commute | C11: Trip shifted from auto to transit+ped | I11: ='FG Users'!F7 -> 0 | J11: ='FG Users'!G7 -> 9945.25 | K11: ='FG Users'!H7 -> 13753.883 | L11: ='FG Users'!I7 -> 14265.803 | M11: ='FG Users'!J7 -> 14796.776 | N11: ='FG Users'!K7 -> 15347.512 | O11: ='FG Users'!L7 -> 15358.869 | P11: ='FG Users'!M7 -> 15370.234 | ... AC11: ='FG Users'!Z7 -> 15518.754 | AD11: =SUM(F11:AC11) -> 299689.47
C12: Trips not taken before (none to transit+ped) | I12: ='FG Users'!F8 -> 0 | J12: ='FG Users'!G8 -> 9945.25 | K12: ='FG Users'!H8 -> 13753.883 | L12: ='FG Users'!I8 -> 14265.803 | M12: ='FG Users'!J8 -> 14796.776 | N12: ='FG Users'!K8 -> 15347.512 | O12: ='FG Users'!L8 -> 15358.869 | P12: ='FG Users'!M8 -> 15370.234 | ... AC12: ='FG Users'!Z8 -> 15518.754 | AD12: =SUM(F12:AC12) -> 299689.47
AD13: =SUM(F13:AC13) -> 0
B14: BICYCLE | AD14: =SUM(F14:AC14) -> 0
B15: Local | C15: Current User | F15: ='FG Users'!C12 -> 0 | G15: ='FG Users'!D12 -> 0 | H15: ='FG Users'!E12 -> 0 | I15: ='FG Users'!F12 -> 0 | J15: ='FG Users'!G12 -> 3871.0496 | K15: ='FG Users'!H12 -> 5353.5067 | L15: ='FG Users'!I12 -> 5552.7643 | M15: ='FG Users'!J12 -> 5759.4382 | ... AC15: ='FG Users'!Z12 -> 6040.4583 | AD15: =SUM(F15:AC15) -> 116649.94
B16: Commute | C16: Trip shifted from auto to transit+bike | I16: ='FG Users'!F13 -> 0 | J16: ='FG Users'!G13 -> 193.55248 | K16: ='FG Users'!H13 -> 267.67534 | L16: ='FG Users'!I13 -> 277.63821 | M16: ='FG Users'!J13 -> 287.97191 | N16: ='FG Users'!K13 -> 298.69022 | O16: ='FG Users'!L13 -> 298.91125 | P16: ='FG Users'!M13 -> 299.13245 | ... AC16: ='FG Users'!Z13 -> 302.02291 | AD16: =SUM(F16:AC16) -> 5832.497
C17: Trips not taken before (none to transit+bike) | I17: ='FG Users'!F14 -> 0 | J17: ='FG Users'!G14 -> 193.55248 | K17: ='FG Users'!H14 -> 267.67534 | L17: ='FG Users'!I14 -> 277.63821 | M17: ='FG Users'!J14 -> 287.97191 | N17: ='FG Users'!K14 -> 298.69022 | O17: ='FG Users'!L14 -> 298.91125 | P17: ='FG Users'!M14 -> 299.13245 | ... AC17: ='FG Users'!Z14 -> 302.02291 | AD17: =SUM(F17:AC17) -> 5832.497 | AG17: Comp. Grpah
AD18: =SUM(F18:AC18) -> 0 | AG18: =AD59+AD71+AD78 -> 5264435.7
B19: BIKESHARE | AD19: =SUM(F19:AC19) -> 0 | AG19: =AD98+AD105 -> 22406.46
B20: Local | C20: Trips shifted from auto | I20: ='FG Users'!F17 -> 0 | J20: ='FG Users'!G17 -> 6750 | K20: ='FG Users'!H17 -> 9216.25 | L20: ='FG Users'!I17 -> 9308.4125 | M20: ='FG Users'!J17 -> 9401.4966 | N20: ='FG Users'!K17 -> 9495.5116 | O20: ='FG Users'!L17 -> 9590.4667 | P20: ='FG Users'!M17 -> 9686.3714 | ... AC20: ='FG Users'!Z17 -> 11023.994 | AD20: =SUM(F20:AC20) -> 198548.41 | AG20: =AD132+AD145 -> 4126011.4
C21: Trips shifted from bus | I21: ='FG Users'!F18 -> 0 | J21: ='FG Users'!G18 -> 3375 | K21: ='FG Users'!H18 -> 4608.125 | L21: ='FG Users'!I18 -> 4654.2063 | M21: ='FG Users'!J18 -> 4700.7483 | N21: ='FG Users'!K18 -> 4747.7558 | O21: ='FG Users'!L18 -> 4795.2334 | P21: ='FG Users'!M18 -> 4843.1857 | ... AC21: ='FG Users'!Z18 -> 5511.9971 | AD21: =SUM(F21:AC21) -> 99274.206 | AG21: =AD98+AD104 -> 22406.46
C22: Trips shifted from personal bike | I22: ='FG Users'!F19 -> 0 | J22: ='FG Users'!G19 -> 3375 | K22: ='FG Users'!H19 -> 4608.125 | L22: ='FG Users'!I19 -> 4654.2063 | M22: ='FG Users'!J19 -> 4700.7483 | N22: ='FG Users'!K19 -> 4747.7558 | O22: ='FG Users'!L19 -> 4795.2334 | P22: ='FG Users'!M19 -> 4843.1857 | ... AC22: ='FG Users'!Z19 -> 5511.9971 | AD22: =SUM(F22:AC22) -> 99274.206 | AG22: =AD206 -> 5145595.1
C23: Trips shifted from walking | I23: ='FG Users'!F20 -> 0 | J23: ='FG Users'!G20 -> 10125 | K23: ='FG Users'!H20 -> 13824.375 | L23: ='FG Users'!I20 -> 13962.619 | M23: ='FG Users'!J20 -> 14102.245 | N23: ='FG Users'!K20 -> 14243.267 | O23: ='FG Users'!L20 -> 14385.7 | P23: ='FG Users'!M20 -> 14529.557 | ... AC23: ='FG Users'!Z20 -> 16535.991 | AD23: =SUM(F23:AC23) -> 297822.62 | AG23: =AD219 -> 5432460.6
C24: Trips not taken before | I24: ='FG Users'!F21 -> 0 | J24: ='FG Users'!G21 -> 10125 | K24: ='FG Users'!H21 -> 13824.375 | L24: ='FG Users'!I21 -> 13962.619 | M24: ='FG Users'!J21 -> 14102.245 | N24: ='FG Users'!K21 -> 14243.267 | O24: ='FG Users'!L21 -> 14385.7 | P24: ='FG Users'!M21 -> 14529.557 | ... AC24: ='FG Users'!Z21 -> 16535.991 | AD24: =SUM(F24:AC24) -> 297822.62 | AG24: =AD222 -> 859487.68
B25: Commute | C25: Trips shifted from auto to transit+bikeshare | I25: ='FG Users'!F22 -> 0 | J25: ='FG Users'!G22 -> 16875 | K25: ='FG Users'!H22 -> 23040.625 | L25: ='FG Users'!I22 -> 23271.031 | M25: ='FG Users'!J22 -> 23503.742 | N25: ='FG Users'!K22 -> 23738.779 | O25: ='FG Users'!L22 -> 23976.167 | P25: ='FG Users'!M22 -> 24215.928 | ... AC25: ='FG Users'!Z22 -> 27559.985 | AD25: =SUM(F25:AC25) -> 496371.03 | AG25: =AD237 -> 335127.55
C26: Trips not taken before (none to transit+bikeshare) | I26: ='FG Users'!F23 -> 0 | J26: ='FG Users'!G23 -> 16875 | K26: ='FG Users'!H23 -> 23040.625 | L26: ='FG Users'!I23 -> 23271.031 | M26: ='FG Users'!J23 -> 23503.742 | N26: ='FG Users'!K23 -> 23738.779 | O26: ='FG Users'!L23 -> 23976.167 | P26: ='FG Users'!M23 -> 24215.928 | ... AC26: ='FG Users'!Z23 -> 27559.985 | AD26: =SUM(F26:AC26) -> 496371.03 | AG26: =AD242 -> 17412.929
AD27: =SUM(F27:AC27) -> 0 | AG27: =AD272 -> 5754564.5
B28: MOBILITY DEVICE | AD28: =SUM(F28:AC28) -> 0 | AG28: =SUM(AG18:AG27) -> 26979908
B29: Local | C29: Current User | F29: ='FG Users'!C26 -> 0 | G29: ='FG Users'!D26 -> 0 | H29: ='FG Users'!E26 -> 0 | I29: ='FG Users'!F26 -> 0 | J29: ='FG Users'!G26 -> 1831.6613 | K29: ='FG Users'!H26 -> 2533.1143 | L29: ='FG Users'!I26 -> 2627.3968 | M29: ='FG Users'!J26 -> 2725.1886 | ... AC29: ='FG Users'!Z26 -> 2858.1586 | AD29: =SUM(F29:AC29) -> 55195.155
B30: Commute | C30: Mode shift (auto to transit+mob device) | I30: ='FG Users'!F27 -> 0 | J30: ='FG Users'!G27 -> 457.91533 | K30: ='FG Users'!H27 -> 633.27858 | L30: ='FG Users'!I27 -> 656.84921 | M30: ='FG Users'!J27 -> 681.29714 | N30: ='FG Users'!K27 -> 706.65502 | O30: ='FG Users'!L27 -> 707.17794 | P30: ='FG Users'!M27 -> 707.70125 | ... AC30: ='FG Users'!Z27 -> 714.53965 | AD30: =SUM(F30:AC30) -> 13798.789
C31: Trips not taken before (none to transit+mob device) | I31: ='FG Users'!F28 -> 0 | J31: ='FG Users'!G28 -> 274.7492 | K31: ='FG Users'!H28 -> 379.96715 | L31: ='FG Users'!I28 -> 394.10953 | M31: ='FG Users'!J28 -> 408.77828 | N31: ='FG Users'!K28 -> 423.99301 | O31: ='FG Users'!L28 -> 424.30677 | P31: ='FG Users'!M28 -> 424.62075 | ... AC31: ='FG Users'!Z28 -> 428.72379 | AD31: =SUM(F31:AC31) -> 8279.2732 | AG31: Bikeshare
AD32: =SUM(F32:AC32) -> 0 | AG32: -500000
B33: TRAVEL IMPACTS | AD33: =SUM(F33:AC33) -> 0 | AG33: =+AD132+AD145+AD193+AD262+AD260 -> 1058458.6
C34: Rail transit trips change | F34: ='FG Users'!C40 -> 0 | G34: ='FG Users'!D40 -> 0 | H34: ='FG Users'!E40 -> 0 | I34: ='FG Users'!F40 -> 0 | J34: ='FG Users'!G40 -> 54760.27 | K34: ='FG Users'!H40 -> 75137.612 | L34: ='FG Users'!I40 -> 76679.903 | M34: ='FG Users'!J40 -> 78267.054 | ... AC34: ='FG Users'!Z40 -> 87904.789 | AD34: =SUM(F34:AC34) -> 1625864.1
C35: Bus transit trips change | F35: ='FG Users'!C41 -> 0 | G35: ='FG Users'!D41 -> 0 | H35: ='FG Users'!E41 -> 0 | I35: ='FG Users'!F41 -> 0 | J35: ='FG Users'!G41 -> -3375 | K35: ='FG Users'!H41 -> -4608.125 | L35: ='FG Users'!I41 -> -4654.2063 | M35: ='FG Users'!J41 -> -4700.7483 | ... AC35: ='FG Users'!Z41 -> -5511.9971 | AD35: =SUM(F35:AC35) -> -99274.206
C36: Auto VT reduced | F36: ='FG Users'!C42 -> 0 | G36: ='FG Users'!D42 -> 0 | H36: ='FG Users'!E42 -> 0 | I36: ='FG Users'!F42 -> 0 | J36: ='FG Users'!G42 -> -34221.718 | K36: ='FG Users'!H42 -> -46911.712 | L36: ='FG Users'!I42 -> -47779.734 | M36: ='FG Users'!J42 -> -48671.283 | ... AC36: ='FG Users'!Z42 -> -55119.296 | AD36: =SUM(F36:AC36) -> -1014240.2
C37: Auto VMT reduced | F37: ='FG Users'!C43 -> 0 | G37: ='FG Users'!D43 -> 0 | H37: ='FG Users'!E43 -> 0 | I37: ='FG Users'!F43 -> 0 | J37: ='FG Users'!G43 -> -190648.67 | K37: ='FG Users'!H43 -> -261517.59 | L37: ='FG Users'!I43 -> -266725.65 | M37: ='FG Users'!J43 -> -272082.29 | ... AC37: ='FG Users'!Z43 -> -306352.41 | AD37: =SUM(F37:AC37) -> -5657398.3
C38: Auto fuel savings | F38: ='FG Users'!C44 -> 0 | G38: ='FG Users'!D44 -> 0 | H38: ='FG Users'!E44 -> 0 | I38: ='FG Users'!F44 -> 0 | J38: ='FG Users'!G44 -> 30759.789 | K38: ='FG Users'!H44 -> 41321.689 | L38: ='FG Users'!I44 -> 41290.976 | M38: ='FG Users'!J44 -> 41284.029 | ... AC38: ='FG Users'!Z44 -> 46093.216 | AD38: =SUM(F38:AC38) -> 859487.68
AD39: =SUM(F39:AC39) -> 0
A40: Non-Users | AD40: =SUM(F40:AC40) -> 0
B41: ROAD | AD41: =SUM(F41:AC41) -> 0
B42: Construction Impact | C42: Current User | F42: ='FG Users'!C34 -> 0 | G42: ='FG Users'!D34 -> 0 | H42: ='FG Users'!E34 -> 14843250 | I42: ='FG Users'!F34 -> 22264875 | J42: ='FG Users'!G34 -> 0 | K42: ='FG Users'!H34 -> 0 | L42: ='FG Users'!I34 -> 0 | M42: ='FG Users'!J34 -> 0 | ... AC42: ='FG Users'!Z34 -> 0 | AD42: =SUM(F42:AC42) -> 37108125
...

Sheet FG Users
A3: USERS and NON-USERS | C3: 2012 | D3: 2013 | E3: 2014 | F3: 2015 | G3: 2016 | H3: 2017 | I3: 2018 | J3: 2019 | K3: 2020 | L3: 2021 | M3: 2022 | N3: 2023 | O3: 2024 | P3: 2025 | Q3: 2026 | R3: 2027 | S3: 2028 | T3: 2029 | U3: 2030 | V3: 2031 | W3: 2032 | X3: 2033 | Y3: 2034 | Z3: 2035
C4: Year 1 | D4: Year 2 | E4: Year 3 | F4: Year 4 | G4: Year 5 | H4: Year 6 | I4: Year 7 | J4: Year 8 | K4: Year 9 | L4: Year 10 | M4: Year 11 | N4: Year 12 | O4: Year 13 | P4: Year 14 | Q4: Year 15 | R4: Year 16 | S4: Year 17 | T4: Year 18 | U4: Year 19 | V4: Year 20 | W4: Year 21 | X4: Year 22 | Y4: Year 23 | Z4: Year 24
A5: PEDESTRIAN
A6: Current User | B6: Current User | G6: =G93*0.75 -> 198905 | H6: =H93 -> 275077.66 | I6: =I93 -> 285316.05 | J6: =J93 -> 295935.51 | K6: =K93 -> 306950.23 | L6: =L93 -> 307177.38 | M6: =M93 -> 307404.69 | N6: =N93 -> 307632.17 | O6: =O93 -> 307859.81 | ... Z6: =Z93 -> 310375.09
A7: New User | B7: Mode shift (auto to transit+ped) | C7: =C96 -> 0 | D7: =D96 -> 0 | E7: =E96 -> 0 | F7: =F95 -> 0 | G7: =G95 -> 9945.25 | H7: =H95 -> 13753.883 | I7: =I95 -> 14265.803 | J7: =J95 -> 14796.776 | K7: =K95 -> 15347.512 | L7: =L95 -> 15358.869 | M7: =M95 -> 15370.234 | ... Z7: =Z95 -> 15518.754
B8: Trips not taken before (none to transit+ped) | C8: =C97 -> 0 | D8: =D97 -> 0 | E8: =E97 -> 0 | F8: =F96 -> 0 | G8: =G96 -> 9945.25 | H8: =H96 -> 13753.883 | I8: =I96 -> 14265.803 | J8: =J96 -> 14796.776 | K8: =K96 -> 15347.512 | L8: =L96 -> 15358.869 | M8: =M96 -> 15370.234 | ... Z8: =Z96 -> 15518.754
A11: BICYCLE
A12: Current User | B12: Current User | G12: =G100*0.75 -> 3871.0496 | H12: =H100 -> 5353.5067 | I12: =I100 -> 5552.7643 | J12: =J100 -> 5759.4382 | K12: =K100 -> 5973.8044 | L12: =L100 -> 5978.2251 | M12: =M100 -> 5982.6489 | N12: =N100 -> 5987.0761 | O12: =O100 -> 5991.5065 | ... Z12: =Z100 -> 6040.4583
A13: New User | B13: Trip shifted from auto to transit+bike | C13: =C101 -> 0 | D13: =D101 -> 0 | E13: =E101 -> 0 | F13: =F101 -> 0 | G13: =G101 -> 193.55248 | H13: =H101 -> 267.67534 | I13: =I101 -> 277.63821 | J13: =J101 -> 287.97191 | ... Z13: =Z101 -> 302.02291
B14: Trips not taken before (none to transit+bike) | C14: =C102 -> 0 | D14: =D102 -> 0 | E14: =E102 -> 0 | F14: =F102 -> 0 | G14: =G102 -> 193.55248 | H14: =H102 -> 267.67534 | I14: =I102 -> 277.63821 | J14: =J102 -> 287.97191 | ... Z14: =Z102 -> 302.02291
A16: BIKESHARE
A17: New User | B17: Trips shifted from auto | F17: =F108 -> 0 | G17: =G108 -> 6750 | H17: =H108 -> 9216.25 | I17: =I108 -> 9308.4125 | J17: =J108 -> 9401.4966 | K17: =K108 -> 9495.5116 | L17: =L108 -> 9590.4667 | M17: =M108 -> 9686.3714 | ... Z17: =Z108 -> 11023.994
B18: Trips shifted from bus | F18: =F109 -> 0 | G18: =G109 -> 3375 | H18: =H109 -> 4608.125 | I18: =I109 -> 4654.2063 | J18: =J109 -> 4700.7483 | K18: =K109 -> 4747.7558 | L18: =L109 -> 4795.2334 | M18: =M109 -> 4843.1857 | ... Z18: =Z109 -> 5511.9971
B19: Trips shifted from personal bike | F19: =F110 -> 0 | G19: =G110 -> 3375 | H19: =H110 -> 4608.125 | I19: =I110 -> 4654.2063 | J19: =J110 -> 4700.7483 | K19: =K110 -> 4747.7558 | L19: =L110 -> 4795.2334 | M19: =M110 -> 4843.1857 | ... Z19: =Z110 -> 5511.9971
B20: Trips shifted from walking | F20: =F111 -> 0 | G20: =G111 -> 10125 | H20: =H111 -> 13824.375 | I20: =I111 -> 13962.619 | J20: =J111 -> 14102.245 | K20: =K111 -> 14243.267 | L20: =L111 -> 14385.7 | M20: =M111 -> 14529.557 | ... Z20: =Z111 -> 16535.991
B21: Trips not taken before | F21: =F112 -> 0 | G21: =G112 -> 10125 | H21: =H112 -> 13824.375 | I21: =I112 -> 13962.619 | J21: =J112 -> 14102.245 | K21: =K112 -> 14243.267 | L21: =L112 -> 14385.7 | M21: =M112 -> 14529.557 | ... Z21: =Z112 -> 16535.991
B22: Trips shifted from auto to transit+bikeshare | F22: =F113 -> 0 | G22: =G113 -> 16875 | H22: =H113 -> 23040.625 | I22: =I113 -> 23271.031 | J22: =J113 -> 23503.742 | K22: =K113 -> 23738.779 | L22: =L113 -> 23976.167 | M22: =M113 -> 24215.928 | ... Z22: =Z113 -> 27559.985
B23: Trips not taken before (none to transit+bikeshare) | F23: =F114 -> 0 | G23: =G114 -> 16875 | H23: =H114 -> 23040.625 | I23: =I114 -> 23271.031 | J23: =J114 -> 23503.742 | K23: =K114 -> 23738.779 | L23: =L114 -> 23976.167 | M23: =M114 -> 24215.928 | ... Z23: =Z114 -> 27559.985
A25: MOBILITY DEVICE
A26: Current User | B26: Current User | G26: =G117*0.75 -> 1831.6613 | H26: =H117 -> 2533.1143 | I26: =I117 -> 2627.3968 | J26: =J117 -> 2725.1886 | K26: =K117 -> 2826.6201 | L26: =L117 -> 2828.7118 | M26: =M117 -> 2830.805 | N26: =N117 -> 2832.8998 | O26: =O117 -> 2834.9962 | ... Z26: =Z117 -> 2858.1586
A27: New User | B27: Mode shift (auto to transit+mob device) | F27: =F118 -> 0 | G27: =G118 -> 457.91533 | H27: =H118 -> 633.27858 | I27: =I118 -> 656.84921 | J27: =J118 -> 681.29714 | K27: =K118 -> 706.65502 | L27: =L118 -> 707.17794 | M27: =M118 -> 707.70125 | ... Z27: =Z118 -> 714.53965
B28: Trips not taken before (none to transit+mob device) | F28: =F119 -> 0 | G28: =G119 -> 274.7492 | H28: =H119 -> 379.96715 | I28: =I119 -> 394.10953 | J28: =J119 -> 408.77828 | K28: =K119 -> 423.99301 | L28: =L119 -> 424.30677 | M28: =M119 -> 424.62075 | ... Z28: =Z119 -> 428.72379
A30: ROAD
B31: AADT Georgia Avenue | C31: =(82025+61600)/2 -> 71812.5 | D31: =(82025+61600)/2 -> 71812.5 | E31: =(82025+61600)/2 -> 71812.5 | F31: =(82025+61600)/2 -> 71812.5 | G31: =(82025+61600)/2 -> 71812.5 | H31: =(82025+61600)/2 -> 71812.5 | I31: =(82025+61600)/2 -> 71812.5 | J31: =(82025+61600)/2 -> 71812.5 | ... Z31: =(82025+61600)/2 -> 71812.5
B32: AADT Forest Glen Road | C32: =(7550+13750)/2 -> 10650 | D32: =(7550+13750)/2 -> 10650 | E32: =(7550+13750)/2 -> 10650 | F32: =(7550+13750)/2 -> 10650 | G32: =(7550+13750)/2 -> 10650 | H32: =(7550+13750)/2 -> 10650 | I32: =(7550+13750)/2 -> 10650 | J32: =(7550+13750)/2 -> 10650 | ... Z32: =(7550+13750)/2 -> 10650
A33: Annual
A34: Construction Impact | B34: Current User | E34: =(E31+E32)*180 -> 14843250 | F34: =(F31+F32)*270 -> 22264875
B35: New User (50% of VT reduced) | C35: =0.5*C42 -> 0 | D35: =0.5*D42 -> 0 | E35: =0.5*E42 -> 0 | F35: 0 | G35: =0.5*G42 -> -17110.859 | H35: =0.5*H42 -> -23455.856 | I35: =0.5*I42 -> -23889.867 | J35: =0.5*J42 -> -24335.641 | K35: =0.5*K42 -> -24793.574 | L35: =0.5*L42 -> -24965.796 | M35: =0.5*M42 -> -25139.684 | N35: =0.5*N42 -> -25315.255 | ... Z35: =0.5*Z42 -> -27559.648
A36: Long-Term Impact | B36: Current User | G36: =((G31+G32)*365)+G35 -> 30081702 | H36: =((H31+H32)*365)+H35 -> 30075357 | I36: =((I31+I32)*365)+I35 -> 30074923 | J36: =((J31+J32)*365)+J35 -> 30074477 | K36: =((K31+K32)*365)+K35 -> 30074019 | L36: =((L31+L32)*365)+L35 -> 30073847 | M36: =((M31+M32)*365)+M35 -> 30073673 | N36: =((N31+N32)*365)+N35 -> 30073497 | ... Z36: =((Z31+Z32)*365)+Z35 -> 30071253
B39: TRAVEL IMPACTS
B40: Rail transit trips change | C40: =C7+C8+C13+C14+C22+C23+C27+C28 -> 0 | D40: =D7+D8+D13+D14+D22+D23+D27+D28 -> 0 | E40: =E7+E8+E13+E14+E22+E23+E27+E28 -> 0 | F40: =F7+F8+F13+F14+F22+F23+F27+F28 -> 0 | G40: =G7+G8+G13+G14+G22+G23+G27+G28 -> 54760.27 | H40: =H7+H8+H13+H14+H22+H23+H27+H28 -> 75137.612 | I40: =I7+I8+I13+I14+I22+I23+I27+I28 -> 76679.903 | J40: =J7+J8+J13+J14+J22+J23+J27+J28 -> 78267.054 | ... Z40: =Z7+Z8+Z13+Z14+Z22+Z23+Z27+Z28 -> 87904.789
B41: Bus transit trips change | C41: =-C18 -> 0 | D41: =-D18 -> 0 | E41: =-E18 -> 0 | F41: =-F18 -> 0 | G41: =-G18 -> -3375 | H41: =-H18 -> -4608.125 | I41: =-I18 -> -4654.2063 | J41: =-J18 -> -4700.7483 | ... Z41: =-Z18 -> -5511.9971
B42: Auto VT reduced | C42: =-(('FG Users'!C7+'FG Users'!C13+'FG Users'!C27+'FG Users'!C22)+('FG Users'!C17)) -> 0 | D42: =-(('FG Users'!D7+'FG Users'!D13+'FG Users'!D27+'FG Users'!D22)+('FG Users'!D17)) -> 0 | E42: =-(('FG Users'!E7+'FG Users'!E13+'FG Users'!E27+'FG Users'!E22)+('FG Users'!E17)) -> 0 | F42: =-(('FG Users'!F7+'FG Users'!F13+'FG Users'!F27+'FG Users'!F22)+('FG Users'!F17)) -> 0 | G42: =-(('FG Users'!G7+'FG Users'!G13+'FG Users'!G27+'FG Users'!G22)+('FG Users'!G17)) -> -34221.718 | H42: =-(('FG Users'!H7+'FG Users'!H13+'FG Users'!H27+'FG Users'!H22)+('FG Users'!H17)) -> -46911.712 | I42: =-(('FG Users'!I7+'FG Users'!I13+'FG Users'!I27+'FG Users'!I22)+('FG Users'!I17)) -> -47779.734 | J42: =-(('FG Users'!J7+'FG Users'!J13+'FG Users'!J27+'FG Users'!J22)+('FG Users'!J17)) -> -48671.283 | ... Z42: =-(('FG Users'!Z7+'FG Users'!Z13+'FG Users'!Z27+'FG Users'!Z22)+('FG Users'!Z17)) -> -55119.296
B43: Auto VMT reduced | C43: =-('Mode Operating Assumptions'!$C$27*('FG Users'!C7+'FG Users'!C13+'FG Users'!C27+'FG Users'!C22)+'Mode Operating Assumptions'!$C$18*('FG Users'!C17)) -> 0 | D43: =-('Mode Operating Assumptions'!$C$27*('FG Users'!D7+'FG Users'!D13+'FG Users'!D27+'FG Users'!D22)+'Mode Operating Assumptions'!$C$18*('FG Users'!D17)) -> 0 | E43: =-('Mode Operating Assumptions'!$C$27*('FG Users'!E7+'FG Users'!E13+'FG Users'!E27+'FG Users'!E22)+'Mode Operating Assumptions'!$C$18*('FG Users'!E17)) -> 0 | F43: =-('Mode Operating Assumptions'!$C$27*('FG Users'!F7+'FG Users'!F13+'FG Users'!F27+'FG Users'!F22)+'Mode Operating Assumptions'!$C$18*('FG Users'!F17)) -> 0 | G43: =-('Mode Operating Assumptions'!$C$27*('FG Users'!G7+'FG Users'!G13+'FG Users'!G27+'FG Users'!G22)+'Mode Operating Assumptions'!$C$18*('FG Users'!G17)) -> -190648.67 | H43: =-('Mode Operating Assumptions'!$C$27*('FG Users'!H7+'FG Users'!H13+'FG Users'!H27+'FG Users'!H22)+'Mode Operating Assumptions'!$C$18*('FG Users'!H17)) -> -261517.59 | I43: =-('Mode Operating Assumptions'!$C$27*('FG Users'!I7+'FG Users'!I13+'FG Users'!I27+'FG Users'!I22)+'Mode Operating Assumptions'!$C$18*('FG Users'!I17)) -> -266725.65 | J43: =-('Mode Operating Assumptions'!$C$27*('FG Users'!J7+'FG Users'!J13+'FG Users'!J27+'FG Users'!J22)+'Mode Operating Assumptions'!$C$18*('FG Users'!J17)) -> -272082.29 | ... Z43: =-('Mode Operating Assumptions'!$C$27*('FG Users'!Z7+'FG Users'!Z13+'FG Users'!Z27+'FG Users'!Z22)+'Mode Operating Assumptions'!$C$18*('FG Users'!Z17)) -> -306352.41
B44: Auto fuel savings | C44: =-(C43*'Mode Operating Assumptions'!$C$8/'Mode Operating Assumptions'!C11) -> 0 | D44: =-(D43*'Mode Operating Assumptions'!$C$8/'Mode Operating Assumptions'!D11) -> 0 | E44: =-(E43*'Mode Operating Assumptions'!$C$8/'Mode Operating Assumptions'!E11) -> 0 | F44: =-(F43*'Mode Operating Assumptions'!$C$8/'Mode Operating Assumptions'!G11) -> 0 | G44: =-(G43*'Mode Operating Assumptions'!$C$8/'Mode Operating Assumptions'!H11) -> 30759.789 | H44: =-(H43*'Mode Operating Assumptions'!$C$8/'Mode Operating Assumptions'!I11) -> 41321.689 | I44: =-(I43*'Mode Operating Assumptions'!$C$8/'Mode Operating Assumptions'!J11) -> 41290.976 | J44: =-(J43*'Mode Operating Assumptions'!$C$8/'Mode Operating Assumptions'!K11) -> 41284.029 | K44: =-(K43*'Mode Operating Assumptions'!$C$8/'Mode Operating Assumptions'!L11) -> 42097.824 | L44: =-(L43*'Mode Operating Assumptions'!$C$8/'Mode Operating Assumptions'!M11) -> 42347.108 | M44: =-(M43*'Mode Operating Assumptions'!$C$8/'Mode Operating Assumptions'!N11) -> 42598.733 | ... Z44: =-(Z43*'Mode Operating Assumptions'!$C$8/'Mode Operating Assumptions'!AA11) -> 46093.216
B49: Annual MetroRail Ridership, August of 2010 to July 2011
B51: Forest Glen | C51: 667689
A53: WMATA STATION ACCESS & CAPACITY STUDY | D53: Appendix B-E: Summary of Ridership Forecasts
B55: Mezzanine | C55: Peak 0.5 Hr Ent | G55: Peak 0.5 Hr Ext | K55: Peak 1 Hr Ent | O55: Peak 1 Hr Ext | S55: Daily Ent | W55: Daily Ext
A56: Forest Glen | C56: 2005 | D56: 2010 | E56: 2020 | F56: 2030 | G56: 2005 | H56: 2010 | I56: 2020 | J56: 2030 | K56: 2005 | L56: 2010 | M56: 2020 | N56: 2030 | O56: 2005 | P56: 2010 | Q56: 2020 | R56: 2030 | S56: 2005 | T56: 2010 | U56: 2020 | V56: 2030 | W56: 2005 | X56: 2010 | Y56: 2020 | Z56: 2030
...

Sheet NC
F1: 2012 | G1: 2013 | H1: 2014 | I1: 2015 | J1: 2016 | K1: 2017 | L1: 2018 | M1: 2019 | N1: 2020 | O1: 2021 | P1: 2022 | Q1: 2023 | R1: 2024 | S1: 2025 | T1: 2026 | U1: 2027 | V1: 2028 | W1: 2029 | X1: 2030 | Y1: 2031 | Z1: 2032 | AA1: 2033 | AB1: 2034 | AC1: 2035
D2: Factor | E2: Total | F2: Year 1 | G2: Year 2 | H2: Year 3 | I2: Year 4 | J2: Year 5 | K2: Year 6 | L2: Year 7 | M2: Year 8 | N2: Year 9 | O2: Year 10 | P2: Year 11 | Q2: Year 12 | R2: Year 13 | S2: Year 14 | T2: Year 15 | U2: Year 16 | V2: Year 17 | W2: Year 18 | X2: Year 19 | Y2: Year 20 | Z2: Year 21 | AA2: Year 22 | AB2: Year 23 | AC2: Year 24
A5: Project Costs | C5: O & M
C6: Construction | G6: -100000 | H6: -742095 | I6: -51750
AD7: =SUM(F7:AC7) -> 0
A8: Users | AD8: =SUM(F8:AC8) -> 0
B9: PEDESTRIAN | AD9: =SUM(F9:AC9) -> 0
B10: Local | C10: Current User | F10: ='NC Users'!C5 -> 0 | G10: ='NC Users'!D5 -> 0 | H10: ='NC Users'!E5 -> 227539.92 | I10: ='NC Users'!F5 -> 229646.87 | J10: ='NC Users'!G5 -> 231753.81 | K10: ='NC Users'!H5 -> 233860.76 | L10: ='NC Users'!I5 -> 235967.71 | M10: ='NC Users'!J5 -> 238074.66 | ... AC10: ='NC Users'!Z5 -> 230886.37 | AD10: =SUM(F10:AC10) -> 5165387.5
B11: Commute | C11: Trip shifted from auto to transit+ped | F11: ='NC Users'!C6 -> 0 | G11: ='NC Users'!D6 -> 0 | H11: ='NC Users'!E6 -> 6826.1976 | I11: ='NC Users'!F6 -> 6889.406 | J11: ='NC Users'!G6 -> 6952.6144 | K11: ='NC Users'!H6 -> 7015.8228 | L11: ='NC Users'!I6 -> 7079.0313 | M11: ='NC Users'!J6 -> 7142.2397 | ... AC11: ='NC Users'!Z6 -> 6926.5912 | AD11: =SUM(F11:AC11) -> 154961.63
C12: Trips not taken before (none to transit+ped) | F12: ='NC Users'!C7 -> 0 | G12: ='NC Users'!D7 -> 0 | H12: ='NC Users'!E7 -> 4550.7984 | I12: ='NC Users'!F7 -> 4592.9373 | J12: ='NC Users'!G7 -> 4635.0763 | K12: ='NC Users'!H7 -> 4677.2152 | L12: ='NC Users'!I7 -> 4719.3542 | M12: ='NC Users'!J7 -> 4761.4931 | ... AC12: ='NC Users'!Z7 -> 4617.7275 | AD12: =SUM(F12:AC12) -> 103307.75
AD13: =SUM(F13:AC13) -> 0
B14: BICYCLE | AD14: =SUM(F14:AC14) -> 0
B15: Local | C15: Current User | F15: ='NC Users'!C11 -> 0 | G15: ='NC Users'!D11 -> 0 | H15: ='NC Users'!E11 -> 4309.5282 | I15: ='NC Users'!F11 -> 4349.4331 | J15: ='NC Users'!G11 -> 4389.3379 | K15: ='NC Users'!H11 -> 4429.2428 | L15: ='NC Users'!I11 -> 4469.1477 | M15: ='NC Users'!J11 -> 4509.0525 | ... AC15: ='NC Users'!Z11 -> 4372.9089 | AD15: =SUM(F15:AC15) -> 97830.672
B16: Commute | C16: Trip shifted from auto to transit+bike | F16: ='NC Users'!C12 -> 0 | G16: ='NC Users'!D12 -> 0 | H16: ='NC Users'!E12 -> 129.28585 | I16: ='NC Users'!F12 -> 130.48299 | J16: ='NC Users'!G12 -> 131.68014 | K16: ='NC Users'!H12 -> 132.87728 | L16: ='NC Users'!I12 -> 134.07443 | M16: ='NC Users'!J12 -> 135.27158 | ... AC16: ='NC Users'!Z12 -> 131.18727 | AD16: =SUM(F16:AC16) -> 2934.9202
C17: Trips not taken before (none to transit+bike) | F17: ='NC Users'!C13 -> 0 | G17: ='NC Users'!D13 -> 0 | H17: ='NC Users'!E13 -> 86.190564 | I17: ='NC Users'!F13 -> 86.988661 | J17: ='NC Users'!G13 -> 87.786759 | K17: ='NC Users'!H13 -> 88.584856 | L17: ='NC Users'!I13 -> 89.382953 | M17: ='NC Users'!J13 -> 90.18105 | ... AC17: ='NC Users'!Z13 -> 87.458178 | AD17: =SUM(F17:AC17) -> 1956.6134 | AG17: Comp. Grpah
AD18: =SUM(F18:AC18) -> 0 | AG18: =AD45+AD57+AD64 -> 1162051.6
C19: TRAVEL IMPACTS | AD19: =SUM(F19:AC19) -> 0 | AG19: =+#REF!+#REF!+#REF!+AD166+AD164 -> #REF!
C20: Rail transit trips change | F20: ='NC Users'!C24 -> 0 | G20: ='NC Users'!D24 -> 0 | H20: ='NC Users'!E24 -> 11592.472 | I20: ='NC Users'!F24 -> 11699.815 | J20: ='NC Users'!G24 -> 11807.158 | K20: ='NC Users'!H24 -> 11914.5 | L20: ='NC Users'!I24 -> 12021.843 | M20: ='NC Users'!J24 -> 12129.185 | ... AC20: ='NC Users'!Z24 -> 11762.964 | AD20: =SUM(F20:AC20) -> 263160.91
C21: Bus transit trips change | F21: ='NC Users'!C25 -> 0 | G21: ='NC Users'!D25 -> 0 | H21: ='NC Users'!E25 -> -2137.2153 | I21: ='NC Users'!F25 -> -2157.0053 | J21: ='NC Users'!G25 -> -2176.7952 | K21: ='NC Users'!H25 -> -2196.5851 | L21: ='NC Users'!I25 -> -2216.3751 | M21: ='NC Users'!J25 -> -2236.165 | ... AC21: ='NC Users'!Z25 -> -2168.6476 | AD21: =SUM(F21:AC21) -> -48516.961
C22: Auto VT reduced | F22: ='NC Users'!C26 -> 0 | G22: ='NC Users'!D26 -> 0 | H22: ='NC Users'!E26 -> -6955.4834 | I22: ='NC Users'!F26 -> -7019.889 | J22: ='NC Users'!G26 -> -7084.2946 | K22: ='NC Users'!H26 -> -7148.7001 | L22: ='NC Users'!I26 -> -7213.1057 | M22: ='NC Users'!J26 -> -7277.5113 | ... AC22: ='NC Users'!Z26 -> -7057.7784 | AD22: =SUM(F22:AC22) -> -157896.55
C23: Auto VMT reduced | F23: ='NC Users'!C27 -> 0 | G23: ='NC Users'!D27 -> 0 | H23: ='NC Users'!E27 -> -45210.642 | I23: ='NC Users'!F27 -> -45629.278 | J23: ='NC Users'!G27 -> -46047.915 | K23: ='NC Users'!H27 -> -46466.551 | L23: ='NC Users'!I27 -> -46885.187 | M23: ='NC Users'!J27 -> -47303.823 | ... AC23: ='NC Users'!Z27 -> -45875.56 | AD23: =SUM(F23:AC23) -> -1026327.5
C24: Auto fuel savings | F24: ='NC Users'!C28 -> 0 | G24: ='NC Users'!D28 -> 0 | H24: ='NC Users'!E28 -> 7787.5945 | I24: ='NC Users'!F28 -> 7686.4749 | J24: ='NC Users'!G28 -> 7589.7166 | K24: ='NC Users'!H28 -> 7497.0433 | L24: ='NC Users'!I28 -> 7408.2019 | M24: ='NC Users'!J28 -> 7322.9593 | ... AC24: ='NC Users'!Z28 -> 6905.9798 | AD24: =SUM(F24:AC24) -> 158462.04
AD25: =SUM(F25:AC25) -> 0
A26: Non-Users | AD26: =SUM(F26:AC26) -> 0
B27: ROAD | AD27: =SUM(F27:AC27) -> 0
B28: Construction Impact | C28: Current User | F28: ='NC Users'!C18 -> 0 | G28: ='NC Users'!D18 -> 5463471.6 | H28: ='NC Users'!E18 -> 0 | I28: ='NC Users'!F18 -> 0 | J28: ='NC Users'!G18 -> 0 | K28: ='NC Users'!H18 -> 0 | L28: ='NC Users'!I18 -> 0 | M28: ='NC Users'!J18 -> 0 | ... AC28: ='NC Users'!Z18 -> 0 | AD28: =SUM(F28:AC28) -> 5463471.6
B29: Long-Term Impact | C29: Reduced Users | F29: ='NC Users'!C19 -> 0 | G29: ='NC Users'!D19 -> 0 | H29: ='NC Users'!E19 -> -3477.7417 | I29: ='NC Users'!F19 -> -3509.9445 | J29: ='NC Users'!G19 -> -3542.1473 | K29: ='NC Users'!H19 -> -3574.3501 | L29: ='NC Users'!I19 -> -3606.5528 | M29: ='NC Users'!J19 -> -3638.7556 | ... AC29: ='NC Users'!Z19 -> -3528.8892 | AD29: =SUM(F29:AC29) -> -78948.273
C30: Current User | F30: ='NC Users'!C20 -> 0 | G30: ='NC Users'!D20 -> 0 | H30: ='NC Users'!E20 -> 5511056.7 | I30: ='NC Users'!F20 -> 5562087.3 | J30: ='NC Users'!G20 -> 5613118 | K30: ='NC Users'!H20 -> 5664148.6 | L30: ='NC Users'!I20 -> 5715179.2 | M30: ='NC Users'!J20 -> 5766209.9 | ... AC30: ='NC Users'!Z20 -> 5592108.4 | AD30: =SUM(F30:AC30) -> 1.2510659e+08
AD31: =SUM(F31:AC31) -> 0
AD32: =SUM(F32:AC32) -> 0
A33: STATE OF GOOD REPAIR | AD33: =SUM(F33:AC33) -> 0
C34: New Construction for this project | AD34: =SUM(F34:AC34) -> 0
AD35: =SUM(F35:AC35) -> 0
AD36: =SUM(F36:AC36) -> 0
AD37: =SUM(F37:AC37) -> 0
A38: ECONOMIC COMPETITIVENESS | AD38: =SUM(F38:AC38) -> 0
AD39: =SUM(F39:AC39) -> 0
B40: PEDESTRIAN | AD40: =SUM(F40:AC40) -> 0
B41: Local | C41: Current User | AD41: =SUM(F41:AC41) -> 0
C42: TRAVEL TIME COST/SAVINGS | AD42: =SUM(F42:AC42) -> 0
...

Sheet NC Users
A2: USERS and NON-USERS | C2: 2012 | D2: 2013 | E2: 2014 | F2: 2015 | G2: 2016 | H2: 2017 | I2: 2018 | J2: 2019 | K2: 2020 | L2: 2021 | M2: 2022 | N2: 2023 | O2: 2024 | P2: 2025 | Q2: 2026 | R2: 2027 | S2: 2028 | T2: 2029 | U2: 2030 | V2: 2031 | W2: 2032 | X2: 2033 | Y2: 2034 | Z2: 2035
C3: Year 1 | D3: Year 2 | E3: Year 3 | F3: Year 4 | G3: Year 5 | H3: Year 6 | I3: Year 7 | J3: Year 8 | K3: Year 9 | L3: Year 10 | M3: Year 11 | N3: Year 12 | O3: Year 13 | P3: Year 14 | Q3: Year 15 | R3: Year 16 | S3: Year 17 | T3: Year 18 | U3: Year 19 | V3: Year 20 | W3: Year 21 | X3: Year 22 | Y3: Year 23 | Z3: Year 24
A4: PEDESTRIAN
A5: Current User | B5: Current User | C5: 0 | D5: 0 | E5: =E66 -> 227539.92 | F5: =F66 -> 229646.87 | G5: =G66 -> 231753.81 | H5: =H66 -> 233860.76 | I5: =I66 -> 235967.71 | J5: =J66 -> 238074.66 | K5: =K66 -> 240181.6 | L5: =L66 -> 239561.92 | ... Z5: =Z66 -> 230886.37
A6: New User | B6: Mode shift (auto to transit+ped) | C6: =C68 -> 0 | D6: =D68 -> 0 | E6: =E68 -> 6826.1976 | F6: =F68 -> 6889.406 | G6: =G68 -> 6952.6144 | H6: =H68 -> 7015.8228 | I6: =I68 -> 7079.0313 | J6: =J68 -> 7142.2397 | ... Z6: =Z68 -> 6926.5912
B7: Trips not taken before (none to transit+ped) | C7: =C69 -> 0 | D7: =D69 -> 0 | E7: =E69 -> 4550.7984 | F7: =F69 -> 4592.9373 | G7: =G69 -> 4635.0763 | H7: =H69 -> 4677.2152 | I7: =I69 -> 4719.3542 | J7: =J69 -> 4761.4931 | ... Z7: =Z69 -> 4617.7275
A10: BICYCLE
A11: Current User | B11: Current User | C11: 0 | D11: 0 | E11: =E73 -> 4309.5282 | F11: =F73 -> 4349.4331 | G11: =G73 -> 4389.3379 | H11: =H73 -> 4429.2428 | I11: =I73 -> 4469.1477 | J11: =J73 -> 4509.0525 | K11: =K73 -> 4548.9574 | L11: =L73 -> 4537.2208 | ... Z11: =Z73 -> 4372.9089
A12: New User | B12: Trip shifted from auto to transit+bike | C12: =C75 -> 0 | D12: =D75 -> 0 | E12: =E75 -> 129.28585 | F12: =F75 -> 130.48299 | G12: =G75 -> 131.68014 | H12: =H75 -> 132.87728 | I12: =I75 -> 134.07443 | J12: =J75 -> 135.27158 | ... Z12: =Z75 -> 131.18727
B13: Trips not taken before (none to transit+bike) | C13: =C76 -> 0 | D13: =D76 -> 0 | E13: =E76 -> 86.190564 | F13: =F76 -> 86.988661 | G13: =G76 -> 87.786759 | H13: =H76 -> 88.584856 | I13: =I76 -> 89.382953 | J13: =J76 -> 90.18105 | ... Z13: =Z76 -> 87.458178
A16: ROAD
B17: Vehicle - Metro Access | C17: 0 | E17: =SUM(E55:E58)*$B$66 -> 5514534.5 | F17: =SUM(F55:F58)*$B$66 -> 5565597.3 | G17: =SUM(G55:G58)*$B$66 -> 5616660.1 | H17: =SUM(H55:H58)*$B$66 -> 5667723 | I17: =SUM(I55:I58)*$B$66 -> 5718785.8 | J17: =SUM(J55:J58)*$B$66 -> 5769848.6 | K17: =SUM(K55:K58)*$B$66 -> 5820911.5 | L17: =SUM(L55:L58)*$B$66 -> 5805893.2 | ... Z17: =SUM(Z55:Z58)*$B$66 -> 5595637.3
A18: Construction Impact | B18: Current User | D18: =SUM(D55:D58)*$B$66 -> 5463471.6
B19: New User (50% of VT reduced) | C19: =0.5*C26 -> 0 | D19: =0.5*D26 -> 0 | E19: =0.5*E26 -> -3477.7417 | F19: =0.5*F26 -> -3509.9445 | G19: =0.5*G26 -> -3542.1473 | H19: =0.5*H26 -> -3574.3501 | I19: =0.5*I26 -> -3606.5528 | J19: =0.5*J26 -> -3638.7556 | ... Z19: =0.5*Z26 -> -3528.8892
A20: Long-Term Impact | B20: Current User | D20: 0 | E20: =(E17)+E19 -> 5511056.7 | F20: =(F17)+F19 -> 5562087.3 | G20: =(G17)+G19 -> 5613118 | H20: =(H17)+H19 -> 5664148.6 | I20: =(I17)+I19 -> 5715179.2 | J20: =(J17)+J19 -> 5766209.9 | K20: =(K17)+K19 -> 5817240.5 | L20: =(L17)+L19 -> 5802231.7 | ... Z20: =(Z17)+Z19 -> 5592108.4
B23: TRAVEL IMPACTS
B24: Rail transit trips change | C24: =C6+C7+C12+C13 -> 0 | D24: =D6+D7+D12+D13 -> 0 | E24: =E6+E7+E12+E13 -> 11592.472 | F24: =F6+F7+F12+F13 -> 11699.815 | G24: =G6+G7+G12+G13 -> 11807.158 | H24: =H6+H7+H12+H13 -> 11914.5 | I24: =I6+I7+I12+I13 -> 12021.843 | J24: =J6+J7+J12+J13 -> 12129.185 | ... Z24: =Z6+Z7+Z12+Z13 -> 11762.964
