Workbook

Sheet Intro
B3: Introduction
B6: GCoM Climate Risk and Vulnerability Assessments
B7: This tool was created based on the GCoM Climate Risk and Vulnerability Assessment framework. All inputs provided in this tool can be reported for a GCoM-compliant CRVA. The framework consists of two main parts: evaluation of climate hazards and evaluation of factors impacting adaptive capacity. The Metro Washington Region is developing a regional climate action and adaptation plan. This CRVA will be included in the Plan. Data and assessments from local jurisdictions will help to paint a fuller picture of climate risks in the region. In filling out this tool, please be sure to note and explain any reasoning for changes/additions to the climate hazards, impacts, or adaptive capacity factors.
B16: Key
B18: Required Inputs | E18: Cells with light blue backgrounds and blue text are input cells that are REQUIRED
B20: Optional Inputs | E20: Cells with light grey backgrounds and blue, italicized text are input cells that are OPTIONAL
B22: Information | E22: Cells with white backgrounds and black/grey text are fixed cells, calculations, or tool guidance. Do not overwrite these.
E24: The green tab contains an overview of the CRVA inputs.
E26: The light blue tabs are for each identified climate hazard.
E28: The dark blue tab covers adaptive capacity.
E30: The grey tabs are for supplemental information and guidance for the tool.

Sheet Summary
B3: Climate Risk and Vulnerability Assessment
B5: Area/Region
B7: Metro Washington Region
B10: Climate Hazards
B12: Hazard | C12: Probability | D12: Consequence | E12: Risk
B13: Extreme Heat Days | C13: ='Extreme Heat Days'!C17 -> 3 | D13: ='Extreme Heat Days'!C29 -> 2 | E13: =D13*C13 -> 6
B14: Drought | C14: =Drought!C17 -> 2 | D14: =Drought!C29 -> 3 | E14: =D14*C14 -> 6
B15: Flooding | C15: ='Flooding (Flash and Riverine)'!C17 -> 3 | D15: ='Flooding (Flash and Riverine)'!C29 -> 3 | E15: =D15*C15 -> 9
B16: Lightning/Thunderstorm | C16: =LightningThunderstorm!C17 -> 2 | D16: =LightningThunderstorm!C29 -> 2 | E16: =D16*C16 -> 4
B17: Extreme Winter Conditions | C17: ='Extreme Winter Conditions'!C17 -> 2 | D17: ='Extreme Winter Conditions'!C29 -> 2 | E17: =D17*C17 -> 4
B18: Coastal Flooding | C18: ='Coastal Flooding'!C17 -> 3 | D18: ='Coastal Flooding'!C29 -> 2 | E18: =D18*C18 -> 6
B21: Adaptive Capacity
B23: Factor | C23: Degree of Challenge
B24: ='Adaptive Capacity'!C11 -> Access to Basic Services | C24: ='Adaptive Capacity'!L11 -> Moderate
B25: ='Adaptive Capacity'!C12 -> Access to Healthcare | C25: ='Adaptive Capacity'!L12 -> Moderate
B26: ='Adaptive Capacity'!C13 -> Public Health | C26: ='Adaptive Capacity'!L13 -> Moderate
B27: ='Adaptive Capacity'!C14 -> Housing | C27: ='Adaptive Capacity'!L14 -> Moderate
B28: ='Adaptive Capacity'!C15 -> Poverty | C28: ='Adaptive Capacity'!L15 -> Moderate
B29: ='Adaptive Capacity'!C16 -> Economic Health | C29: ='Adaptive Capacity'!L16 -> Low
B30: ='Adaptive Capacity'!C17 -> Environmental Conditions | C30: ='Adaptive Capacity'!L17 -> Moderate
B31: ='Adaptive Capacity'!C18 -> Infrastructure Conditions / Maintenance | C31: ='Adaptive Capacity'!L18 -> High
B32: ='Adaptive Capacity'!C19 -> Community Engagement | C32: ='Adaptive Capacity'!L19 -> Moderate

Sheet Extreme Heat Days
B3: Extreme Heat Days
B5: Description
B6: [OPTIONAL] Description of the climate hazard or its impacts
B7: Average annual temperature has risen 4°F over the last 100 years and is projected to continue to rise. [6] Currently, there are around 30 days above 90°F and 3 days above 100°F on average. Depending on future emissions, there could be as many as 100 days above 90°F and 30 days above 100°F by the late 21st century. [2] The number of extreme heat days will increase and heatwaves will last longer and occur more frequently. The number of days where the heat index is >95°F could increase from an average of 30 per year to 75 per year by 2080. [8]
B12: Determining Risk Level
C14: Probability of Hazard
C15: Determine the current probability (likelihood of occurrence) of the hazard based on the options provided (do not know, low, moderate, high).
C16: Probability | E16: GCoM Options
C17: 3 | E17: 3 | F17: High | G17: Extremely likely that the hazard occurs (e.g., greater than 1 in 20 chance of occurrence)
E18: 2 | F18: Moderate | G18: Likely that the hazard occurs (e.g., between 1 in 20 and 1 in 200 chance of occurrence)
E19: 1 | F19: Low | G19: Unlikely that the hazard occurs (e.g., between 1 in 200 and 1 in 2,000 chance of occurrence)
E20: 0 | F20: Do not know | G20: Region has not experienced or observed climate hazards in the past or has no ways of accurately reporting this information based on evidence of data
C22: Description
C26: Consequence of Hazard
C27: Determine the current consequence (outcome/impact/gravity) of the hazard based on the options provided (do not know, low, moderate, high).
C28: Consequence | E28: GCoM Options
C29: 2 | E29: 3 | F29: High | G29: The hazard represents a high (or the highest) level of potential concern for your jurisdiction. When it occurs, the hazard results in (extremely) serious impacts to the jurisdiction and (catastrophic) interruptions to day-to-day life.
E30: 2 | F30: Moderate | G30: The hazard represents a moderate level of potential concern for your jurisdiction. When it occurs, the hazard results in impacts to your jurisdiction, but these are moderately significant to day-to-day life.
E31: 1 | F31: Low | G31: The hazard represents a lower (the lowest) level of potential concern for your jurisdiction. When it occurs, the hazard results in impacts to your jurisdiction, but these are deemed less significant (or insignificant) to day-to-day life.
E32: 0 | F32: Do not know | G32: City has not experienced or observed climate hazards in the past of has no ways of accurately reporting this information based on evidence or data.
C34: Description
C38: Risk Level
C39: A hazard risk level is determined for current and future scenarios. Risk is determined based on the probability and consequence of a particular hazard. [Risk = Probability x Consequence]
C40: Risk
C41: =C29*C17 -> 6
B48: Qualifying Impacts
C50: Past Impacts
C51: Include a description of the impacts experienced in the past including loss of human lives, economic and non-economic losses, environmental and other impacts.
C52: Heat is the number one cause of weather-related injuries and fatalities in the region. Although impacts from heat may go underreported, deaths and injuries (1 death/year, 10 injuries/year) are small compared to other causes of injuries and deaths. [1] In 2012, DC experienced a record-breaking heatwave when temperatures soared above 956F for 11 straight days. This previously unprecedented event could occur every one to two years by the 2050s. [7]
C58: Intensity | I58: Frequency | O58: Timescale
C59: How strong the hazard is | I59: How often the hazard occurs in the region | O59: The timescale by which these changes are expected to occur
C60: Change in Intensity | I60: Change in Frequency | O60: Timescale
C61: Increase | Decrease | No change | Not known | I61: Increase | Decrease | No change | Not known | O61: Immediately | Short Term (by 2025) | Medium Term (by 2050) | Long Term (after 2050) | Not known
C63: Increase | I63: Increase | O63: Short Term
C67: Description | I67: Description | O67: Description
C72: Future Impacts
C73: Select the sectors, assets, or services that are currently most impacted by the hazard and those that will be most impacted in the future. A general assessment of the magnitude of impact for each sector, asset, or service must be included.
C75: Sectors, Assets, and Services | F75: Magnitude of Future Impact Low | Moderate | High | Unknown | L75: Description
C76: Energy | F76: High | L76: Higher temperatures can increase cooling costs and energy demand, although they would also bring a slight decrease in heating costs in winter, and can change the lifetime of roofs and other structural materials [4]
C77: Public Health | F77: High | L77: Increased cases of vector-borne diseases, such as West Nile virus; stronger, more frequent heat waves; increased cases of asthma and exacerbation of chronic respiratory diseases [2] More unhealthy air days (Ozone) from heat events
...

Sheet Coastal Flooding
B3: Coastal Flooding
B5: Description
B6: [OPTIONAL] Description of the climate hazard or its impacts
B7: The Chesapeake Bay has experienced 1 foot of sea level rise over the last century and could experience another 1 – 3 feet of sea level rise by 2100. [1] The Virginia Governor's Commission on Climate Change recommended that at a minimum, Virginia should plan for at least a 2.3 foot rise in sea level. The fill range of sea level rise expected throughout the Chesapeake Bay region is estimated to be between 2.3 - 5.2 feet, with great local variability as a result of subsidence (or land sinking.) [8] By 2080, the U.S. Army Corps of Engineers predicts up to 3.4 feet of additional sea level rise in DC. While this estimate accounts for both ice loss and ocean warming, recent studies have found faster rates of ice loss, which could result in even higher sea levels by the end of the century. DC is also vulnerable to coastal stroms, like hurricanes, that cause storm surge flooding. Climate change can make these storms stronger. More intense storms coupled with rising sea levels puts the District at even greater risk for coastal flooding in the future. [7]
B12: Determining Risk Level
C14: Probability of Hazard
C15: Determine the current probability (likelihood of occurrence) of the hazard based on the options provided (do not know, low, moderate, high).
C16: Probability | E16: GCoM Options
C17: 3 | E17: 3 | F17: High | G17: Extremely likely that the hazard occurs (e.g., greater than 1 in 20 chance of occurrence)
E18: 2 | F18: Moderate | G18: Likely that the hazard occurs (e.g., between 1 in 20 and 1 in 200 chance of occurrence)
E19: 1 | F19: Low | G19: Unlikely that the hazard occurs (e.g., between 1 in 200 and 1 in 2,000 chance of occurrence)
E20: 0 | F20: Do not know | G20: Region has not experienced or observed climate hazards in the past or has no ways of accurately reporting this information based on evidence of data
C22: Description
C26: Consequence of Hazard
C27: Determine the current consequence (outcome/impact/gravity) of the hazard based on the options provided (do not know, low, moderate, high).
C28: Consequence | E28: GCoM Options
C29: 2 | E29: 3 | F29: High | G29: The hazard represents a high (or the highest) level of potential concern for your jurisdiction. When it occurs, the hazard results in (extremely) serious impacts to the jurisdiction and (catastrophic) interruptions to day-to-day life.
E30: 2 | F30: Moderate | G30: The hazard represents a moderate level of potential concern for your jurisdiction. When it occurs, the hazard results in impacts to your jurisdiction, but these are moderately significant to day-to-day life.
E31: 1 | F31: Low | G31: The hazard represents a lower (the lowest) level of potential concern for your jurisdiction. When it occurs, the hazard results in impacts to your jurisdiction, but these are deemed less significant (or insignificant) to day-to-day life.
E32: 0 | F32: Do not know | G32: City has not experienced or observed climate hazards in the past of has no ways of accurately reporting this information based on evidence or data.
C34: Description
C35: Limited coverage from a full regional perspective. Overland and riverine flooding higher risk.
C38: Risk Level
C39: A hazard risk level is determined for current and future scenarios. Risk is determined based on the probability and consequence of a particular hazard. [Risk = Probability x Consequence]
C40: Risk
C41: =C29*C17 -> 6
B48: Qualifying Impacts
C50: Past Impacts
C51: Include a description of the impacts experienced in the past including loss of human lives, economic and non-economic losses, environmental and other impacts.
C52: In Washington, DC, water levels for the Potomac and Anacostia Rivers, both tidal rivers, have increased 11 inches in the past 90 years due to sea level rise and subsidence. As a result, nuisance flooding along our riverfront has increased by more than 300%, according to the National Oceanic and Atmospheric Administration. [7]
C58: Intensity | I58: Frequency | O58: Timescale
C59: How strong the hazard is | I59: How often the hazard occurs in the region | O59: The timescale by which these changes are expected to occur
C60: Change in Intensity | I60: Change in Frequency | O60: Timescale
C61: Increase | Decrease | No change | Not known | I61: Increase | Decrease | No change | Not known | O61: Immediately | Short Term (by 2025) | Medium Term (by 2050) | Long Term (after 2050) | Not known
C63: Increase | I63: Increase | O63: Medium Term
C67: Description | I67: Description | O67: Description
C72: Future Impacts
C73: Select the sectors, assets, or services that are currently most impacted by the hazard and those that will be most impacted in the future. A general assessment of the magnitude of impact for each sector, asset, or service must be included.
C75: Sectors, Assets, and Services | F75: Magnitude of Future Impact Low | Moderate | High | Unknown | L75: Description
C76: Water Supply and Sanitation | F76: Moderate | L76: Higher sea levels = increased flooding and shoreline loss, degrade water quality [2] saltwater contamination of fresh water used for drinking water and irrigation for some smaller communities utilizing water from the Potomac estuary [2] Water utilities all working on resiliency plans and have done a lot of hardening of infrastructure.
...

Sheet Flooding (Flash and Riverine)
B3: Flooding (Flash and Riverine)
B5: Description
B6: [OPTIONAL] Description of the climate hazard or its impacts
B7: There are three main types of flood risk in the National Capital Region, including: (1) Overbank flooding, caused by rivers, (2) Tidal flooding, caused by storm surge, and (3) Urban drainage flooding, caused by limited sewer capacity [1] The DC Climate Ready Plan indicates that today's one in 100-year participation event could become a one in 25-year event by mid-century, and a one in 15-year event by the 2080's. [8] Annual amounts of precipitation have not changed significantly; however, more precipitation is falling in the fall and winter and less in the summer. What is expected to change significantly is the frequency and intensity of heavy precipitation events, from rain to snow, that can cause flooding and pollution from stormwater runoff. [7]
B12: Determining Risk Level
C14: Probability of Hazard
C15: Determine the current probability (likelihood of occurrence) of the hazard based on the options provided (do not know, low, moderate, high).
C16: Probability | E16: GCoM Options
C17: 3 | E17: 3 | F17: High | G17: Extremely likely that the hazard occurs (e.g., greater than 1 in 20 chance of occurrence)
E18: 2 | F18: Moderate | G18: Likely that the hazard occurs (e.g., between 1 in 20 and 1 in 200 chance of occurrence)
E19: 1 | F19: Low | G19: Unlikely that the hazard occurs (e.g., between 1 in 200 and 1 in 2,000 chance of occurrence)
E20: 0 | F20: Do not know | G20: Region has not experienced or observed climate hazards in the past or has no ways of accurately reporting this information based on evidence of data
C22: Description
C26: Consequence of Hazard
C27: Determine the current consequence (outcome/impact/gravity) of the hazard based on the options provided (do not know, low, moderate, high).
C28: Consequence | E28: GCoM Options
C29: 3 | E29: 3 | F29: High | G29: The hazard represents a high (or the highest) level of potential concern for your jurisdiction. When it occurs, the hazard results in (extremely) serious impacts to the jurisdiction and (catastrophic) interruptions to day-to-day life.
E30: 2 | F30: Moderate | G30: The hazard represents a moderate level of potential concern for your jurisdiction. When it occurs, the hazard results in impacts to your jurisdiction, but these are moderately significant to day-to-day life.
E31: 1 | F31: Low | G31: The hazard represents a lower (the lowest) level of potential concern for your jurisdiction. When it occurs, the hazard results in impacts to your jurisdiction, but these are deemed less significant (or insignificant) to day-to-day life.
E32: 0 | F32: Do not know | G32: City has not experienced or observed climate hazards in the past of has no ways of accurately reporting this information based on evidence or data.
C34: Description
C38: Risk Level
C39: A hazard risk level is determined for current and future scenarios. Risk is determined based on the probability and consequence of a particular hazard. [Risk = Probability x Consequence]
C40: Risk
C41: =C29*C17 -> 9
B48: Qualifying Impacts
C50: Past Impacts
C51: Include a description of the impacts experienced in the past including loss of human lives, economic and non-economic losses, environmental and other impacts.
C52: Flooding annualized loss estimates for Northern Virginia: $3,912,000 [1] In June of 2006, the District experienced several days of heavy rain, the equivalent of a 200-year storm, which overwhelmed the sewer system and caused significant flooding of the Federal Triangle area downtown. The flooding shut down federal agencies and several Smithsonian museums, inundating the 9th and 12th Street tunnels under the National Mall, and flooding two Metro stations. The Federal Trianle flood, which resulted in millions of dollars in damage, demonstrated the potential costly impacts of increasingly frequent and severe rain events. [7]
C58: Intensity | I58: Frequency | O58: Timescale
C59: How strong the hazard is | I59: How often the hazard occurs in the region | O59: The timescale by which these changes are expected to occur
C60: Change in Intensity | I60: Change in Frequency | O60: Timescale
C61: Increase | Decrease | No change | Not known | I61: Increase | Decrease | No change | Not known | O61: Immediately | Short Term (by 2025) | Medium Term (by 2050) | Long Term (after 2050) | Not known
C63: Increase | I63: Increase | O63: Immediately
C67: Description | I67: Description | O67: Description
C72: Future Impacts
C73: Select the sectors, assets, or services that are currently most impacted by the hazard and those that will be most impacted in the future. A general assessment of the magnitude of impact for each sector, asset, or service must be included.
C75: Sectors, Assets, and Services | F75: Magnitude of Future Impact Low | Moderate | High | Unknown | L75: Description
C76: Water Supply and Sanitation | F76: Moderate | L76: Changes in precipitation patterns = heavier rainfall, flooding, increased pollutant runoff, degraded water quality [2]
C77: Environment, Biodiversity, and Forestry | F77: Moderate | L77: Heightened risk of and vulnerability to inundation of wetlands and other low-lying lands; degraded water quality increasing the risk of harmful algal blooms that thrive from runoff, and harming fish and crab populations [2]
...

Sheet Drought
B3: Drought
B5: Description
B6: [OPTIONAL] Description of the climate hazard or its impacts
B7: According to the US Global Change Research Program, drought areas are expected to expand in the Southeast U.S. due to climate change, but increased precipitation is expected in the Northeast – the MWCOG Region straddles the Northeast and Southeast regions. [1]
B12: Determining Risk Level
C14: Probability of Hazard
C15: Determine the current probability (likelihood of occurrence) of the hazard based on the options provided (do not know, low, moderate, high).
C16: Probability | E16: GCoM Options
C17: 2 | E17: 3 | F17: High | G17: Extremely likely that the hazard occurs (e.g., greater than 1 in 20 chance of occurrence)
E18: 2 | F18: Moderate | G18: Likely that the hazard occurs (e.g., between 1 in 20 and 1 in 200 chance of occurrence)
E19: 1 | F19: Low | G19: Unlikely that the hazard occurs (e.g., between 1 in 200 and 1 in 2,000 chance of occurrence)
E20: 0 | F20: Do not know | G20: Region has not experienced or observed climate hazards in the past or has no ways of accurately reporting this information based on evidence of data
C22: Description
C26: Consequence of Hazard
C27: Determine the current consequence (outcome/impact/gravity) of the hazard based on the options provided (do not know, low, moderate, high).
C28: Consequence | E28: GCoM Options
C29: 3 | E29: 3 | F29: High | G29: The hazard represents a high (or the highest) level of potential concern for your jurisdiction. When it occurs, the hazard results in (extremely) serious impacts to the jurisdiction and (catastrophic) interruptions to day-to-day life.
E30: 2 | F30: Moderate | G30: The hazard represents a moderate level of potential concern for your jurisdiction. When it occurs, the hazard results in impacts to your jurisdiction, but these are moderately significant to day-to-day life.
E31: 1 | F31: Low | G31: The hazard represents a lower (the lowest) level of potential concern for your jurisdiction. When it occurs, the hazard results in impacts to your jurisdiction, but these are deemed less significant (or insignificant) to day-to-day life.
E32: 0 | F32: Do not know | G32: City has not experienced or observed climate hazards in the past of has no ways of accurately reporting this information based on evidence or data.
C34: Description
C38: Risk Level
C39: A hazard risk level is determined for current and future scenarios. Risk is determined based on the probability and consequence of a particular hazard. [Risk = Probability x Consequence]
C40: Risk
C41: =C29*C17 -> 6
B48: Qualifying Impacts
C50: Past Impacts
C51: Include a description of the impacts experienced in the past including loss of human lives, economic and non-economic losses, environmental and other impacts.
C52: Although drought accounts for only a small percentage of hazard events in the region, it is the fifth highest cause of natural hazards losses, due to crop damage. [1] Drought annualized loss estimates for Northern Virginia: $2,207,000 [1]
C58: Intensity | I58: Frequency | O58: Timescale
C59: How strong the hazard is | I59: How often the hazard occurs in the region | O59: The timescale by which these changes are expected to occur
C60: Change in Intensity | I60: Change in Frequency | O60: Timescale
C61: Increase | Decrease | No change | Not known | I61: Increase | Decrease | No change | Not known | O61: Immediately | Short Term (by 2025) | Medium Term (by 2050) | Long Term (after 2050) | Not known
C63: Increase | I63: Increase | O63: Medium Term
C67: Description | I67: Description | O67: Description
C72: Future Impacts
C73: Select the sectors, assets, or services that are currently most impacted by the hazard and those that will be most impacted in the future. A general assessment of the magnitude of impact for each sector, asset, or service must be included.
C75: Sectors, Assets, and Services | F75: Magnitude of Future Impact Low | Moderate | High | Unknown | L75: Description
C76: Water Supply and Sanitation | F76: High | L76: Changes in precipitation patterns = prolonged droughts, degraded water quality [2] Increased demand for water; lower base flows in surface waters and reservoir levels in the summer and fall [2]
C77: Public Health | F77: Moderate
...

Sheet LightningThunderstorm
B3: Lightning / Thunderstorm
B5: Description
B6: [OPTIONAL] Description of the climate hazard or its impacts
B7: Climate change research points to possibly fewer hurricanes and severe storms overall, but more of the strongest storms. [1] Incrase in intensity of coastal storms such as nor-easters and hurricances [1]
B12: Determining Risk Level
C14: Probability of Hazard
C15: Determine the current probability (likelihood of occurrence) of the hazard based on the options provided (do not know, low, moderate, high).
C16: Probability | E16: GCoM Options
C17: 2 | E17: 3 | F17: High | G17: Extremely likely that the hazard occurs (e.g., greater than 1 in 20 chance of occurrence)
E18: 2 | F18: Moderate | G18: Likely that the hazard occurs (e.g., between 1 in 20 and 1 in 200 chance of occurrence)
E19: 1 | F19: Low | G19: Unlikely that the hazard occurs (e.g., between 1 in 200 and 1 in 2,000 chance of occurrence)
E20: 0 | F20: Do not know | G20: Region has not experienced or observed climate hazards in the past or has no ways of accurately reporting this information based on evidence of data
C22: Description
C26: Consequence of Hazard
C27: Determine the current consequence (outcome/impact/gravity) of the hazard based on the options provided (do not know, low, moderate, high).
C28: Consequence | E28: GCoM Options
C29: 2 | E29: 3 | F29: High | G29: The hazard represents a high (or the highest) level of potential concern for your jurisdiction. When it occurs, the hazard results in (extremely) serious impacts to the jurisdiction and (catastrophic) interruptions to day-to-day life.
E30: 2 | F30: Moderate | G30: The hazard represents a moderate level of potential concern for your jurisdiction. When it occurs, the hazard results in impacts to your jurisdiction, but these are moderately significant to day-to-day life.
E31: 1 | F31: Low | G31: The hazard represents a lower (the lowest) level of potential concern for your jurisdiction. When it occurs, the hazard results in impacts to your jurisdiction, but these are deemed less significant (or insignificant) to day-to-day life.
E32: 0 | F32: Do not know | G32: City has not experienced or observed climate hazards in the past of has no ways of accurately reporting this information based on evidence or data.
C34: Description
C38: Risk Level
C39: A hazard risk level is determined for current and future scenarios. Risk is determined based on the probability and consequence of a particular hazard. [Risk = Probability x Consequence]
C40: Risk
C41: =C29*C17 -> 4
B48: Qualifying Impacts
C50: Past Impacts
C51: Include a description of the impacts experienced in the past including loss of human lives, economic and non-economic losses, environmental and other impacts.
C52: Hurricanes, thunderstorms, lightning, hail, wind, and tornadoes combined costs the region over $14 million in damage annually [1] Severe thunderstorms annualized loss estimates for Northern Virginia: $1,110,000 [1]
C58: Intensity | I58: Frequency | O58: Timescale
C59: How strong the hazard is | I59: How often the hazard occurs in the region | O59: The timescale by which these changes are expected to occur
C60: Change in Intensity | I60: Change in Frequency | O60: Timescale
C61: Increase | Decrease | No change | Not known | I61: Increase | Decrease | No change | Not known | O61: Immediately | Short Term (by 2025) | Medium Term (by 2050) | Long Term (after 2050) | Not known
C63: Increase | I63: Decrease | O63: Short Term
C67: Description | I67: Description | O67: Description
I68: There is not a lot of supporting research but some research points to possibly fewer storms, but more severe storms
C72: Future Impacts
C73: Select the sectors, assets, or services that are currently most impacted by the hazard and those that will be most impacted in the future. A general assessment of the magnitude of impact for each sector, asset, or service must be included.
C75: Sectors, Assets, and Services | F75: Magnitude of Future Impact Low | Moderate | High | Unknown | L75: Description
C76: Energy | F76: Moderate | L76: Power outages [1] (the 2012 Derecho)
...

Sheet Extreme Winter Conditions
B3: Extreme Winter Conditions
B5: Description
B6: [OPTIONAL] Description of the climate hazard or its impacts
B7: Winter weather may cause increased costs if heavy precipitation falls on a day when the temperature is below freezing. [1] Annual amounts of precipitation have not changed significantly; however, more precipitation is falling in the fall and winter and less in the summer. What is expected to change significantly is the frequency and intensity of heavy precipitation events, from rain to snow, that can cause flooding and pollution from stormwater runoff. [7]
B12: Determining Risk Level
C14: Probability of Hazard
C15: Determine the current probability (likelihood of occurrence) of the hazard based on the options provided (do not know, low, moderate, high).
C16: Probability | E16: GCoM Options
C17: 2 | E17: 3 | F17: High | G17: Extremely likely that the hazard occurs (e.g., greater than 1 in 20 chance of occurrence)
E18: 2 | F18: Moderate | G18: Likely that the hazard occurs (e.g., between 1 in 20 and 1 in 200 chance of occurrence)
E19: 1 | F19: Low | G19: Unlikely that the hazard occurs (e.g., between 1 in 200 and 1 in 2,000 chance of occurrence)
E20: 0 | F20: Do not know | G20: Region has not experienced or observed climate hazards in the past or has no ways of accurately reporting this information based on evidence of data
C22: Description
C26: Consequence of Hazard
C27: Determine the current consequence (outcome/impact/gravity) of the hazard based on the options provided (do not know, low, moderate, high).
C28: Consequence | E28: GCoM Options
C29: 2 | E29: 3 | F29: High | G29: The hazard represents a high (or the highest) level of potential concern for your jurisdiction. When it occurs, the hazard results in (extremely) serious impacts to the jurisdiction and (catastrophic) interruptions to day-to-day life.
E30: 2 | F30: Moderate | G30: The hazard represents a moderate level of potential concern for your jurisdiction. When it occurs, the hazard results in impacts to your jurisdiction, but these are moderately significant to day-to-day life.
E31: 1 | F31: Low | G31: The hazard represents a lower (the lowest) level of potential concern for your jurisdiction. When it occurs, the hazard results in impacts to your jurisdiction, but these are deemed less significant (or insignificant) to day-to-day life.
E32: 0 | F32: Do not know | G32: City has not experienced or observed climate hazards in the past of has no ways of accurately reporting this information based on evidence or data.
C34: Description
C38: Risk Level
C39: A hazard risk level is determined for current and future scenarios. Risk is determined based on the probability and consequence of a particular hazard. [Risk = Probability x Consequence]
C40: Risk
C41: =C29*C17 -> 4
B48: Qualifying Impacts
C50: Past Impacts
C51: Include a description of the impacts experienced in the past including loss of human lives, economic and non-economic losses, environmental and other impacts.
C52: Winter storms annualized loss estimates for Northern Virginia: $109,000 [1]
C58: Intensity | I58: Frequency | O58: Timescale
C59: How strong the hazard is | I59: How often the hazard occurs in the region | O59: The timescale by which these changes are expected to occur
C60: Change in Intensity | I60: Change in Frequency | O60: Timescale
C61: Increase | Decrease | No change | Not known | I61: Increase | Decrease | No change | Not known | O61: Immediately | Short Term (by 2025) | Medium Term (by 2050) | Long Term (after 2050) | Not known
C63: Increase | I63: Increase | O63: Medium Term
C67: Description | I67: Description | O67: Description
C72: Future Impacts
C73: Select the sectors, assets, or services that are currently most impacted by the hazard and those that will be most impacted in the future. A general assessment of the magnitude of impact for each sector, asset, or service must be included.
C75: Sectors, Assets, and Services | F75: Magnitude of Future Impact Low | Moderate | High | Unknown | L75: Description
C76: Transport | F76: High
C77: Waste Management | F77: Medium
...

Sheet Adaptive Capacity
B3: Adaptive Capacity
B5: Determining Adaptive Capacity of the Region
C7: Adaptive Capacity
C8: Determine the degree in which the region is able to adapt to climate change. Select factors that will affect the region's adaptive capcity and influence climate resilience efforts by hindering the climate change adaptation actions within the reigional jurisdiction.
C10: Factor Select from dropdown | E10: Effect on Adaptive Capacity | L10: Degree of Challenge High | Moderate | Low | No Change/Do Not Know
C11: Access to Basic Services | E11: Transportation and power disruptions [1] | L11: Moderate
C12: Access to Healthcare | E12: Transportation and power disruptions [1] | L12: Moderate
C13: Public Health | E13: Increased health impacts due to heat, vector-borne diseases, severe events, and flooding; water quality and air quality issues [1] | L13: Moderate
C14: Housing | E14: Aging building stock in areas vulnerable to leaking, wind damage, or high cooling costs [1] | L14: Moderate
C15: Poverty | E15: Localized poverty [1] | L15: Moderate
C16: Economic Health | E16: Damage to property, power outages, changing heating and cooling demands/costs, etc. [1] | L16: Low
C17: Environmental Conditions | E17: Impact on street trees, ecosystems, crops, invasive species, damage to natural and landscaped areas [1] | L17: Moderate
C18: Infrastructure Conditions / Maintenance | E18: Aging transportation, water utility, and energy utility infrastructure that already incur sizeable maintenance costs [1] | L18: High
C19: Community Engagement | L19: Moderate

Sheet Sources
B3: Sources
B5: 1 | C5: COG_Adaptation Summary Report_Final, July 2013.
B6: 2 | C6: National Capital Region Climate Change Report, November 2008.
B7: 3 | C7: Building a Climate Resilient National Capital Region, 2014.
B8: 4 | C8: EPA-COG-Adaptation Guidebook-final, November 2013.
B9: 5 | C9: NASA_DCmetroClimCg FINAL NOV 2012
B10: 6 | C10: 2017 – 2020 CEEPC Regional Climate and Energy Action Plan, March 2017.
B11: 7 | C11: Climate Ready DC and associated CRVA
B12: 8 | C12: NOVA Resiliency Roadmap
B13: 9 | C13: University of Maryland Center for Environmental Science, Sea-level Projections for Maryland 2018

Sheet Dropdowns
B3: Sectors, Assets, and Services | D3: Adaptive Capacity Factors
B4: Transport | D4: Access to Basic Services
B5: Energy | D5: Access to Healthcare
B6: Information & Communications Technology (ICT) | D6: Access to Education
B7: Water Supply and Sanitation | D7: Public Health
B8: Waste Management | D8: Cost of Living
B9: Public Health | D9: Housing
B10: Law and Order | D10: Poverty
B11: Emergency Services | D11: Inequality
B12: Land Use Planning | D12: Unemployment
B13: Education | D13: Migration
B14: Food and Agriculture | D14: Economic Health
... B21: Other _________________ | D21: Land Use Planning
D22: Access to Quality / Relevant Data
D23: Community Engagement
D24: Rapid Urbanization
D25: Resource Availability
D26: Environmental Conditions
D27: Infrastructure Conditions / Maintenance
D28: Infrastructure Capacity
D29: Other ___________________
