Workbook

Sheet QCEW
A2: Sort | B2: Source | C2: AreaType | D2: StName | E2: Jurisdiction | F2: 2000 | G2: 2005 | H2: 2010 | I2: 2011 | J2: 2012 | K2: 2013 | L2: 2014 | M2: 2015 | N2: 2016
A3: 1 | B3: QCEW | C3: County | D3: District of Col | E3: District Of Columbia | F3: 636.179 | G3: 667.512 | H3: 693.274 | I3: 707.359 | J3: 714.93 | K3: 724.27 | L3: 729.349 | M3: 743.596 | N3: 756.35
A4: 2 | B4: QCEW | C4: County | D4: Virginia | E4: Arlington County, Virginia | F4: 158.242 | G4: 154.08 | H4: 162.679 | I4: 168.271 | J4: 165.776 | K4: 165.044 | L4: 164.576 | M4: 170.256 | N4: 172.806
A5: 3 | B5: QCEW | C5: County | D5: Virginia | E5: Alexandria City, Virginia | F5: 91.892 | G5: 93.602 | H5: 95.948 | I5: 94.568 | J5: 95.584 | K5: 95.203 | L5: 94.946 | M5: 96.328 | N5: 94.843
A6: 4 | B6: QCEW | C6: County | D6: Maryland | E6: Montgomery County, Maryland | F6: 447.208 | G6: 458.809 | H6: 441.887 | I6: 447.238 | J6: 450.496 | K6: 451.869 | L6: 455.82 | M6: 459.667 | N6: 463.836
A7: 5 | B7: QCEW | C7: County | D7: Maryland | E7: Prince George's County, Maryland | F7: 303.252 | G7: 312.819 | H7: 299.093 | I7: 298.676 | J7: 299.516 | K7: 299.713 | L7: 303.015 | M7: 306.137 | N7: 312.048
A8: 6 | B8: QCEW | C8: County | D8: Virginia | E8: Fairfax County, Virginia | F8: 537.746 | G8: 565.72 | H8: 573.551 | I8: 581.12 | J8: 590.49 | K8: 586.818 | L8: 579.539 | M8: 586.87 | N8: 595.256
A9: 7 | B9: QCEW | C9: County | D9: Virginia | E9: Fairfax City, Virginia | F9: 16.795 | G9: 23.674 | H9: 19.877 | I9: 19.509 | J9: 19.731 | K9: 19.49 | L9: 19.664 | M9: 19.567 | N9: 19.215
A10: 8 | B10: QCEW | C10: County | D10: Virginia | E10: Falls Church City, Virginia | F10: 14.517 | G10: 14.612 | H10: 12.395 | I10: 11.713 | J10: 11.2 | K10: 10.125 | L10: 11.032 | M10: 11.545 | N10: 11.596
A11: 9 | B11: QCEW | C11: County | D11: Virginia | E11: Loudoun County, Virginia | F11: 87.369 | G11: 120.791 | H11: 132.34 | I11: 137.434 | J11: 141.249 | K11: 146.358 | L11: 148.593 | M11: 154.56 | N11: 159.761
A12: 10 | B12: QCEW | C12: County | D12: Virginia | E12: Prince William County, Virginia | F12: 77.934 | G12: 100.832 | H12: 103.877 | I12: 108.137 | J12: 112.954 | K12: 116.645 | L12: 119.463 | M12: 122.607 | N12: 126.296
A13: 11 | B13: QCEW | C13: County | D13: Virginia | E13: Manassas City, Virginia | F13: 19.87 | G13: 24.53 | H13: 23.743 | I13: 24.218 | J13: 24.247 | K13: 22.966 | L13: 22.992 | M13: 22.771 | N13: 22.62
A14: 12 | B14: QCEW | C14: County | D14: Virginia | E14: Manassas Park City, Virginia | F14: 3.912 | G14: 3.836 | H14: 2.824 | I14: 2.902 | J14: 2.733 | K14: 2.743 | L14: 2.848 | M14: 2.984 | N14: 3.279
... A16: 14 | B16: QCEW | C16: County | D16: Maryland | E16: Frederick County, Maryland | F16: 77.069 | G16: 91.127 | H16: 91.669 | I16: 90.503 | J16: 92.58 | K16: 94.789 | L16: 95.257 | M16: 98.19 | N16: 99.48
F17: =SUM(F3:F16) -> 2508.084 | G17: =SUM(G3:G16) -> 2672.674 | H17: =SUM(H3:H16) -> 2693.501 | I17: =SUM(I3:I16) -> 2732.057 | J17: =SUM(J3:J16) -> 2762.033 | K17: =SUM(K3:K16) -> 2776.776 | L17: =SUM(L3:L16) -> 2788.319 | M17: =SUM(M3:M16) -> 2837.197 | N17: =SUM(N3:N16) -> 2880.323
F18: =SUM(F8:F10) -> 569.058 | G18: =SUM(G8:G10) -> 604.006 | H18: =SUM(H8:H10) -> 605.823 | I18: =SUM(I8:I10) -> 612.342 | J18: =SUM(J8:J10) -> 621.421 | K18: =SUM(K8:K10) -> 616.433 | L18: =SUM(L8:L10) -> 610.235 | M18: =SUM(M8:M10) -> 617.982 | N18: =SUM(N8:N10) -> 626.067

Sheet CES & QCEW-Northern Virginia
A1: Northern Virginia Adjustment
A2: CES
A3: Metropolitan Area or Division | B3: 2000 | C3: 2005 | D3: 2010 | E3: 2011 | F3: 2012 | G3: 2013 | H3: 2014 | I3: 2015 | J3: 2016
A4: 47894- Washington-Arlington-Alexandria, D.C.-Va.-Md.-W.Va. Metropolitan Division | B4: 2149.3 | C4: 2367.1 | D4: 2424 | E4: 2462.5 | F4: 2498.3 | G4: 2521.5 | H4: 2534.2 | I4: 2585.2 | J4: 2635.5
A5: District of Columbia | B5: 650.3 | C5: 682.2 | D5: 712.1 | E5: 726.2 | F5: 734.7 | G5: 748.1 | H5: 753.3 | I5: 769.2 | J5: 782.2
A6: 94781 - Calvert County, Charles County, Prince George’s County | B6: 378.4 | C6: 388.4 | D6: 377 | E6: 376 | F6: 377.1 | G6: 379.4 | H6: 383.7 | I6: 389.5 | J6: 398.6
A7: Northern Virginia, Va. | B7: =+B4-B5-B6 -> 1120.6 | C7: =+C4-C5-C6 -> 1296.5 | D7: =+D4-D5-D6 -> 1334.9 | E7: =+E4-E5-E6 -> 1360.3 | F7: =+F4-F5-F6 -> 1386.5 | G7: =+G4-G5-G6 -> 1394 | H7: =+H4-H5-H6 -> 1397.2 | I7: =+I4-I5-I6 -> 1426.5 | J7: =+J4-J5-J6 -> 1454.7
A8: Note: CES downloaded 6/22/2017; BLS revised estimates after Baseline Employment Estimates first computed in 2015
A10: QCEW
A11: Jurisdiction / Metro Area | B11: 2000 | C11: 2005 | D11: 2010 | E11: 2011 | F11: 2012 | G11: 2013 | H11: 2014 | I11: 2015 | J11: 2016
A12: District of Columbia | B12: 636.179 | C12: 667.512 | D12: 693.274 | E12: 707.359 | F12: 714.93 | G12: 724.27 | H12: 729.119 | I12: 743.596 | J12: 756.35
A13: Calvert, Charles, Prince George's | B13: =+([1]QCEW!I4+[1]QCEW!I6+[1]QCEW!I10)/1000 -> 356.233 | C13: =+([1]QCEW!J4+[1]QCEW!J6+[1]QCEW!J10)/1000 -> 374.331 | D13: =+([1]QCEW!K4+[1]QCEW!K6+[1]QCEW!K10)/1000 -> 360.503 | E13: =+([1]QCEW!L4+[1]QCEW!L6+[1]QCEW!L10)/1000 -> 360.303 | F13: =+([1]QCEW!M4+[1]QCEW!M6+[1]QCEW!M10)/1000 -> 361.51 | G13: =+([1]QCEW!N4+[1]QCEW!N6+[1]QCEW!N10)/1000 -> 362.001 | H13: =+([1]QCEW!O4+[1]QCEW!O6+[1]QCEW!O10)/1000 -> 365.972 | I13: =+([1]QCEW!P4+[1]QCEW!P6+[1]QCEW!P10)/1000 -> 370.895 | J13: =+([1]QCEW!Q4+[1]QCEW!Q6+[1]QCEW!Q10)/1000 -> 379.125
A14: 47894 - District of Columbia, Calvert, Charles, Prince George's, Arlington, Clarke, Fairfax, Fauquier, Loudoun, Prince William, Spotsylvania, Stafford, Warren, Alexandria City, Fairfax City, Falls Church City, Fredericksburg City, Manassas City, Manassas Park City, Jefferson County, WV | B14: 2116.046 | C14: 2280.322 | D14: 2321.484 | E14: 2358.782 | F14: 2386.423 | G14: 2399.499 | H14: 2408.089 | I14: 2453.932 | J14: 2496.146
A15: COG Northern Virginia Arlington, Clarke, Fairfax, Fauquier, Loudoun, Prince William, Spotsylvania, Stafford, Warren, Alexandria City, Fairfax City, Falls Church City, Fredericksburg City, Manassas City, Manassas Park City, Jefferson County, WV | B15: =+B14-B13-B12 -> 1123.634 | C15: =+C14-C13-C12 -> 1238.479 | D15: =+D14-D13-D12 -> 1267.707 | E15: =+E14-E13-E12 -> 1291.12 | F15: =+F14-F13-F12 -> 1309.983 | G15: =+G14-G13-G12 -> 1313.228 | H15: =+H14-H13-H12 -> 1312.998 | I15: =+I14-I13-I12 -> 1339.441 | J15: =+J14-J13-J12 -> 1360.671
A16: Note: QCEW downloaded 6/22/2017 - few revision; 2014 revised folowing initial memo in 2015; BLS will likely revise 2016 estimate in fall 2017

Sheet CES Adjustment
A1: Metro Area QCEW-CES Comparison
A2: Source | B2: Jurisdiction / Metro Area | C2: 2000 | D2: 2005 | E2: 2010 | F2: 2011 | G2: 2012 | H2: 2013 | I2: 2014 | J2: 2015 | K2: 2016
A3: QCEW | B3: District of Columbia | C3: =+QCEW!F3 -> 636.179 | D3: =+QCEW!G3 -> 667.512 | E3: =+QCEW!H3 -> 693.274 | F3: =+QCEW!I3 -> 707.359 | G3: =+QCEW!J3 -> 714.93 | H3: =+QCEW!K3 -> 724.27 | I3: =+QCEW!L3 -> 729.349 | J3: =+QCEW!M3 -> 743.596 | K3: =+QCEW!N3 -> 756.35
A4: QCEW | B4: Montgomery, Frederick | C4: =SUM(QCEW!F6,QCEW!F16) -> 524.277 | D4: =SUM(QCEW!G6,QCEW!G16) -> 549.936 | E4: =SUM(QCEW!H6,QCEW!H16) -> 533.556 | F4: =SUM(QCEW!I6,QCEW!I16) -> 537.741 | G4: =SUM(QCEW!J6,QCEW!J16) -> 543.076 | H4: =SUM(QCEW!K6,QCEW!K16) -> 546.658 | I4: =SUM(QCEW!L6,QCEW!L16) -> 551.077 | J4: =SUM(QCEW!M6,QCEW!M16) -> 557.857 | K4: =SUM(QCEW!N6,QCEW!N16) -> 563.316
A5: QCEW | B5: Calvert, Charles, Prince George's | C5: =+'CES & QCEW-Northern Virginia'!B13 -> 356.233 | D5: =+'CES & QCEW-Northern Virginia'!C13 -> 374.331 | E5: =+'CES & QCEW-Northern Virginia'!D13 -> 360.503 | F5: =+'CES & QCEW-Northern Virginia'!E13 -> 360.303 | G5: =+'CES & QCEW-Northern Virginia'!F13 -> 361.51 | H5: =+'CES & QCEW-Northern Virginia'!G13 -> 362.001 | I5: =+'CES & QCEW-Northern Virginia'!H13 -> 365.972 | J5: =+'CES & QCEW-Northern Virginia'!I13 -> 370.895 | K5: =+'CES & QCEW-Northern Virginia'!J13 -> 379.125
A6: QCEW | B6: Northern Virginia | C6: =+'CES & QCEW-Northern Virginia'!B15 -> 1123.634 | D6: =+'CES & QCEW-Northern Virginia'!C15 -> 1238.479 | E6: =+'CES & QCEW-Northern Virginia'!D15 -> 1267.707 | F6: =+'CES & QCEW-Northern Virginia'!E15 -> 1291.12 | G6: =+'CES & QCEW-Northern Virginia'!F15 -> 1309.983 | H6: =+'CES & QCEW-Northern Virginia'!G15 -> 1313.228 | I6: =+'CES & QCEW-Northern Virginia'!H15 -> 1312.998 | J6: =+'CES & QCEW-Northern Virginia'!I15 -> 1339.441 | K6: =+'CES & QCEW-Northern Virginia'!J15 -> 1360.671
A7: QCEW | B7: Region | C7: =SUM(C3:C6) -> 2640.323 | D7: =SUM(D3:D6) -> 2830.258 | E7: =SUM(E3:E6) -> 2855.04 | F7: =SUM(F3:F6) -> 2896.523 | G7: =SUM(G3:G6) -> 2929.499 | H7: =SUM(H3:H6) -> 2946.157 | I7: =SUM(I3:I6) -> 2959.396 | J7: =SUM(J3:J6) -> 3011.789 | K7: =SUM(K3:K6) -> 3059.462
A8: CES | B8: District of Columbia | C8: =+'CES & QCEW-Northern Virginia'!B5 -> 650.3 | D8: =+'CES & QCEW-Northern Virginia'!C5 -> 682.2 | E8: =+'CES & QCEW-Northern Virginia'!D5 -> 712.1 | F8: =+'CES & QCEW-Northern Virginia'!E5 -> 726.2 | G8: =+'CES & QCEW-Northern Virginia'!F5 -> 734.7 | H8: =+'CES & QCEW-Northern Virginia'!G5 -> 748.1 | I8: =+'CES & QCEW-Northern Virginia'!H5 -> 753.3 | J8: =+'CES & QCEW-Northern Virginia'!I5 -> 769.2 | K8: =+'CES & QCEW-Northern Virginia'!J5 -> 782.2
A9: CES | B9: 43524 - Silver Spring-Frederick-Rockville, MD Metropolitan Division | C9: 545.4 | D9: 568 | E9: 562 | F9: 567 | G9: 571.1 | H9: 576 | I9: 581.9 | J9: 588.6 | K9: 593.9
A10: CES | B10: 94781 - Calvert County, Charles County, Prince George's County | C10: =+'CES & QCEW-Northern Virginia'!B6 -> 378.4 | D10: =+'CES & QCEW-Northern Virginia'!C6 -> 388.4 | E10: =+'CES & QCEW-Northern Virginia'!D6 -> 377 | F10: =+'CES & QCEW-Northern Virginia'!E6 -> 376 | G10: =+'CES & QCEW-Northern Virginia'!F6 -> 377.1 | H10: =+'CES & QCEW-Northern Virginia'!G6 -> 379.4 | I10: =+'CES & QCEW-Northern Virginia'!H6 -> 383.7 | J10: =+'CES & QCEW-Northern Virginia'!I6 -> 389.5 | K10: =+'CES & QCEW-Northern Virginia'!J6 -> 398.6
A11: CES | B11: Northern Virginia | C11: =+'CES & QCEW-Northern Virginia'!B7 -> 1120.6 | D11: =+'CES & QCEW-Northern Virginia'!C7 -> 1296.5 | E11: =+'CES & QCEW-Northern Virginia'!D7 -> 1334.9 | F11: =+'CES & QCEW-Northern Virginia'!E7 -> 1360.3 | G11: =+'CES & QCEW-Northern Virginia'!F7 -> 1386.5 | H11: =+'CES & QCEW-Northern Virginia'!G7 -> 1394 | I11: =+'CES & QCEW-Northern Virginia'!H7 -> 1397.2 | J11: =+'CES & QCEW-Northern Virginia'!I7 -> 1426.5 | K11: =+'CES & QCEW-Northern Virginia'!J7 -> 1454.7
A12: CES | B12: Region | C12: =SUM(C8:C11) -> 2694.7 | D12: =SUM(D8:D11) -> 2935.1 | E12: =SUM(E8:E11) -> 2986 | F12: =SUM(F8:F11) -> 3029.5 | G12: =SUM(G8:G11) -> 3069.4 | H12: =SUM(H8:H11) -> 3097.5 | I12: =SUM(I8:I11) -> 3116.1 | J12: =SUM(J8:J11) -> 3173.8 | K12: =SUM(K8:K11) -> 3229.4
A13: Adjustment Factor | B13: District of Columbia | C13: =+ROUND(C8/C3,3) -> 1.022 | D13: =+ROUND(D8/D3,3) -> 1.022 | E13: =+ROUND(E8/E3,3) -> 1.027 | F13: =+ROUND(F8/F3,3) -> 1.027 | G13: =+ROUND(G8/G3,3) -> 1.028 | H13: =+ROUND(H8/H3,3) -> 1.033 | I13: =+ROUND(I8/I3,3) -> 1.033 | J13: =+ROUND(J8/J3,3) -> 1.034 | K13: =+ROUND(K8/K3,3) -> 1.034
A14: Adjustment Factor | B14: 43524 - Silver Spring-Frederick-Rockville, MD Metropolitan Division | C14: =+ROUND(C9/C4,3) -> 1.04 | D14: =+ROUND(D9/D4,3) -> 1.033 | E14: =+ROUND(E9/E4,3) -> 1.053 | F14: =+ROUND(F9/F4,3) -> 1.054 | G14: =+ROUND(G9/G4,3) -> 1.052 | H14: =+ROUND(H9/H4,3) -> 1.054 | I14: =+ROUND(I9/I4,3) -> 1.056 | J14: =+ROUND(J9/J4,3) -> 1.055 | K14: =+ROUND(K9/K4,3) -> 1.054
A15: Adjustment Factor | B15: 94781 - Calvert County, Charles County, Prince George's County | C15: =+ROUND(C10/C5,3) -> 1.062 | D15: =+ROUND(D10/D5,3) -> 1.038 | E15: =+ROUND(E10/E5,3) -> 1.046 | F15: =+ROUND(F10/F5,3) -> 1.044 | G15: =+ROUND(G10/G5,3) -> 1.043 | H15: =+ROUND(H10/H5,3) -> 1.048 | I15: =+ROUND(I10/I5,3) -> 1.048 | J15: =+ROUND(J10/J5,3) -> 1.05 | K15: =+ROUND(K10/K5,3) -> 1.051
A16: Adjustment Factor | B16: Northern Virginia | C16: =+ROUND(C11/C6,3) -> 0.997 | D16: =+ROUND(D11/D6,3) -> 1.047 | E16: =+ROUND(E11/E6,3) -> 1.053 | F16: =+ROUND(F11/F6,3) -> 1.054 | G16: =+ROUND(G11/G6,3) -> 1.058 | H16: =+ROUND(H11/H6,3) -> 1.062 | I16: =+ROUND(I11/I6,3) -> 1.064 | J16: =+ROUND(J11/J6,3) -> 1.065 | K16: =+ROUND(K11/K6,3) -> 1.069
A17: Adjustment Factor | B17: Region | C17: =+ROUND(C12/C7,3) -> 1.021 | D17: =+ROUND(D12/D7,3) -> 1.037 | E17: =+ROUND(E12/E7,3) -> 1.046 | F17: =+ROUND(F12/F7,3) -> 1.046 | G17: =+ROUND(G12/G7,3) -> 1.048 | H17: =+ROUND(H12/H7,3) -> 1.051 | I17: =+ROUND(I12/I7,3) -> 1.053 | J17: =+ROUND(J12/J7,3) -> 1.054 | K17: =+ROUND(K12/K7,3) -> 1.056
A19: =+'CES & QCEW-Northern Virginia'!A8 -> Note: CES downloaded 6/22/2017; BLS revised estimates after Baseline Employment Estimates first computed in 2015
A20: =+'CES & QCEW-Northern Virginia'!A16 -> Note: QCEW downloaded 6/22/2017 - few revision; 2014 revised folowing initial memo in 2015; BLS will likely revise 2016 estimate in fall 2017

Sheet Self Employment 
C1: 2013 | G1: 2015
B2: Jurisdiction of Work | C2: Wage and Salary Employment | D2: Self-Employed Not Incorporated & Unpaid Family | E2: Total Workers | F2: Self-Employment Factor 2013 | G2: Covered Employment | H2: Self-Employed Not Incorporated & Unpaid Family | I2: Total Workers | J2: Self-Employment Factor
A3: 1 | B3: District Of Columbia | C3: 773.434 | D3: 26.978 | E3: 800.412 | F3: =+ROUND(E3/C3,2) -> 1.03 | G3: 817690 | H3: 31923 | I3: 849613 | J3: =+ROUND(I3/G3,2) -> 1.04
A4: 2 | B4: Arlington County | C4: 188.531 | D4: 5.718 | E4: 194.249 | F4: =+ROUND(E4/C4,2) -> 1.03 | G4: 186637 | H4: 7539 | I4: 194176 | J4: =+ROUND(I4/G4,2) -> 1.04
A5: 3 | B5: Alexandria City | C5: 92.01 | D5: 4.994 | E5: 97.004 | F5: =+ROUND(E5/C5,2) -> 1.05 | G5: 94023 | H5: 4790 | I5: 98813 | J5: =+ROUND(I5/G5,2) -> 1.05
A6: 4 | B6: Montgomery County | C6: 474.672 | D6: 30.108 | E6: 504.78 | F6: =+ROUND(E6/C6,2) -> 1.06 | G6: 483061 | H6: 32204 | I6: 515265 | J6: =+ROUND(I6/G6,2) -> 1.07
A7: 5 | B7: Prince George's County | C7: 309.353 | D7: 16.771 | E7: 326.124 | F7: =+ROUND(E7/C7,2) -> 1.05 | G7: 338998 | H7: 16079 | I7: 355077 | J7: =+ROUND(I7/G7,2) -> 1.05
A8: 6 | B8: Fairfax County | C8: 641.958 | D8: 33.077 | E8: 675.035 | F8: =+ROUND(E8/C8,2) -> 1.05 | G8: 641754 | H8: 29592 | I8: 671346 | J8: =+ROUND(I8/G8,2) -> 1.05
A9: 9 | B9: Loudoun County | C9: 146.653 | D9: 7.004 | E9: 153.657 | F9: =+ROUND(E9/C9,2) -> 1.05 | G9: 152455 | H9: 9094 | I9: 161549 | J9: =+ROUND(I9/G9,2) -> 1.06
A10: 10 | B10: Prince William County | C10: 159.138 | D10: 8.273 | E10: 167.411 | F10: =+ROUND(E10/C10,2) -> 1.05 | G10: 158581 | H10: 6883 | I10: 165464 | J10: =+ROUND(I10/G10,2) -> 1.04
A11: 13 | B11: Charles County | C11: 40.576 | D11: 1.913 | E11: 42.489 | F11: =+ROUND(E11/C11,2) -> 1.05 | G11: 38557 | H11: 1842 | I11: 40399 | J11: =+ROUND(I11/G11,2) -> 1.05
A12: 14 | B12: Frederick County | C12: 100.554 | D12: 5.645 | E12: 106.199 | F12: =+ROUND(E12/C12,2) -> 1.06 | G12: 103346 | H12: 6496 | I12: 109842 | J12: =+ROUND(I12/G12,2) -> 1.06
B13: Region | C13: 2926.879 | D13: 140.481 | E13: 3067.36 | F13: =+ROUND(E13/C13,2) -> 1.05 | G13: =SUM(G3:G12) -> 3015102 | H13: =SUM(H3:H12) -> 146442 | I13: =SUM(I3:I12) -> 3161544 | J13: =+ROUND(I13/G13,2) -> 1.05
B14: Source: Census ACS 1-Year PUMS estimates

Sheet Military
A1: Sort | B1: Jurisdiction | C1: 2000 | D1: 2005 | E1: 2010 | F1: 2011 | G1: 2012 | H1: 2013 | I1: 2014 | J1: 2015 | K1: 2016
A2: 1 | B2: District of Columbia | C2: 12.76 | D2: 18.005 | E2: 18.976 | F2: 10.785 | G2: 11.409 | H2: 9.096 | I2: 9.102 | J2: =+I2 -> 9.102 | K2: =+J2 -> 9.102
A3: 2 | B3: Arlington | C3: 15.796 | D3: 17.742 | E3: 9.086 | F3: 12.507 | G3: 12.852 | H3: 13.491 | I3: 10.503 | J3: =+I3 -> 10.503 | K3: =+J3 -> 10.503
A4: 3 | B4: Alexandria | C4: 0 | D4: 0 | E4: 0 | F4: 0 | G4: 0.012 | H4: 0.008 | I4: 0.032 | J4: =+I4 -> 0.032 | K4: =+J4 -> 0.032
A5: 4 | B5: Montgomery | C5: 2.726 | D5: 4.096 | E5: 3.881 | F5: 3.103 | G5: 3.392 | H5: 4.614 | I5: 5.013 | J5: =+I5 -> 5.013 | K5: =+J5 -> 5.013
A6: 5 | B6: Prince George's | C6: 8.323 | D6: 8.418 | E6: 7.455 | F6: 4.561 | G6: 4.72 | H6: 4.685 | I6: 4.403 | J6: =+I6 -> 4.403 | K6: =+J6 -> 4.403
A7: 6 | B7: Fairfax | C7: 4.117 | D7: 4.337 | E7: 6.807 | F7: 3.773 | G7: 4.049 | H7: 4.061 | I7: 4.126 | J7: =+I7 -> 4.126 | K7: =+J7 -> 4.126
A8: 8 | B8: Falls Church | C8: 0 | D8: 0 | E8: 0 | F8: 0 | G8: 0 | H8: 0 | I8: 0 | J8: =+I8 -> 0 | K8: =+J8 -> 0
A9: 10 | B9: Prince William | C9: 6.652 | D9: 11.987 | E9: 6.266 | F9: 6.737 | G9: 7.444 | H9: 7.919 | I9: 7.465 | J9: =+I9 -> 7.465 | K9: =+J9 -> 7.465
A10: 13 | B10: Charles | C10: 0.29 | D10: 0.493 | E10: 0.001 | F10: 0.903 | G10: 0.848 | H10: 0.716 | I10: 0.737 | J10: =+I10 -> 0.737 | K10: =+J10 -> 0.737
A11: 14 | B11: Frederick | C11: 1.482 | D11: 1.545 | E11: 1.39 | F11: 1.239 | G11: 0.96 | H11: 0.987 | I11: 0.958 | J11: =+I11 -> 0.958 | K11: =+J11 -> 0.958
B12: Region | C12: =SUM(C2:C11) -> 52.146 | D12: =SUM(D2:D11) -> 66.623 | E12: 45.283 | F12: 43.608 | G12: 45.686 | H12: 45.577 | I12: 42.339 | J12: =+I12 -> 42.339 | K12: =+J12 -> 42.339
B14: Source: See Appendix B. Military Employment.

Sheet Baseline Employment
B1: Jurisdiction | C1: 2000 | D1: 2005 | E1: 2010 | F1: 2011 | G1: 2012 | H1: 2013 | I1: 2014 | J1: 2015 | K1: 2016
A2: 1 | B2: District Of Columbia | C2: =+QCEW!F3*'CES Adjustment'!C13*'Self Employment '!$F3+Military!C2 -> 682.44019 | D2: =+QCEW!F3*'CES Adjustment'!D13*'Self Employment '!$F3+Military!D2 -> 687.68519 | E2: =+QCEW!H3*'CES Adjustment'!E13*'Self Employment '!$F3+Military!E2 -> 752.32817 | F2: =+QCEW!I3*'CES Adjustment'!F13*'Self Employment '!$F3+Military!F2 -> 759.03642 | G2: =+QCEW!J3*'CES Adjustment'!G13*'Self Employment '!$F3+Military!G2 -> 768.40548 | H2: =+QCEW!K3*'CES Adjustment'!H13*'Self Employment '!$F3+Military!H2 -> 779.71204 | I2: =+QCEW!L3*'CES Adjustment'!I13*'Self Employment '!$F3+Military!I2 -> 785.12204 | J2: =+QCEW!M3*'CES Adjustment'!J13*'Self Employment '!$J3+Military!J2 -> 808.73539 | K2: =+QCEW!N3*'CES Adjustment'!K13*'Self Employment '!$J3+Military!K2 -> 822.45054
A3: 2 | B3: Arlington County | C3: =+QCEW!F4*'CES Adjustment'!C16*'Self Employment '!$F4+Military!C3 -> 178.29629 | D3: =+QCEW!F4*'CES Adjustment'!D16*'Self Employment '!$F4+Military!D3 -> 188.39176 | E3: =+QCEW!H4*'CES Adjustment'!E16*'Self Employment '!$F4+Military!E3 -> 185.52602 | F3: =+QCEW!I4*'CES Adjustment'!F16*'Self Employment '!$F4+Military!F3 -> 195.18536 | G3: =+QCEW!J4*'CES Adjustment'!G16*'Self Employment '!$F4+Military!G3 -> 193.50474 | H3: =+QCEW!K4*'CES Adjustment'!H16*'Self Employment '!$F4+Military!H3 -> 194.02603 | I3: =+QCEW!L4*'CES Adjustment'!I16*'Self Employment '!$F4+Military!I3 -> 190.86513 | J3: =+QCEW!M4*'CES Adjustment'!J16*'Self Employment '!$J4+Military!J3 -> 199.07855 | K3: =+QCEW!N4*'CES Adjustment'!K16*'Self Employment '!$J4+Military!K3 -> 202.6218
A4: 3 | B4: Alexandria City | C4: =+QCEW!F5*'CES Adjustment'!C16*'Self Employment '!$F5+Military!C4 -> 96.19714 | D4: =+QCEW!F5*'CES Adjustment'!D16*'Self Employment '!$F5+Military!D4 -> 101.02147 | E4: =+QCEW!H5*'CES Adjustment'!E16*'Self Employment '!$F5+Military!E4 -> 106.08491 | F4: =+QCEW!I5*'CES Adjustment'!F16*'Self Employment '!$F5+Military!F4 -> 104.65841 | G4: =+QCEW!J5*'CES Adjustment'!G16*'Self Employment '!$F5+Military!G4 -> 106.19627 | H4: =+QCEW!K5*'CES Adjustment'!H16*'Self Employment '!$F5+Military!H4 -> 106.16887 | I4: =+QCEW!L5*'CES Adjustment'!I16*'Self Employment '!$F5+Military!I4 -> 106.10567 | J4: =+QCEW!M5*'CES Adjustment'!J16*'Self Employment '!$J5+Military!J4 -> 107.75079 | K4: =+QCEW!N5*'CES Adjustment'!K16*'Self Employment '!$J5+Military!K4 -> 106.48853
A5: 4 | B5: Montgomery County | C5: =+QCEW!F6*'CES Adjustment'!C14*'Self Employment '!$F6+Military!C5 -> 495.7281 | D5: =+QCEW!F6*'CES Adjustment'!D14*'Self Employment '!$F6+Military!D5 -> 493.77982 | E5: =+QCEW!H6*'CES Adjustment'!E14*'Self Employment '!$F6+Military!E5 -> 497.10643 | F5: =+QCEW!I6*'CES Adjustment'!F14*'Self Employment '!$F6+Military!F5 -> 502.77518 | G5: =+QCEW!J6*'CES Adjustment'!G14*'Self Employment '!$F6+Military!G5 -> 505.7491 | H5: =+QCEW!K6*'CES Adjustment'!H14*'Self Employment '!$F6+Military!H5 -> 509.46012 | I5: =+QCEW!L6*'CES Adjustment'!I14*'Self Employment '!$F6+Military!I5 -> 515.23968 | J5: =+QCEW!M6*'CES Adjustment'!J14*'Self Employment '!$J6+Military!J5 -> 523.90809 | K5: =+QCEW!N6*'CES Adjustment'!K14*'Self Employment '!$J6+Military!K5 -> 528.11796
A6: 5 | B6: Prince George's County | C6: =+QCEW!F7*'CES Adjustment'!C15*'Self Employment '!$F7+Military!C6 -> 346.47931 | D6: =+QCEW!F7*'CES Adjustment'!D15*'Self Employment '!$F7+Military!D6 -> 338.93235 | E6: =+QCEW!H7*'CES Adjustment'!E15*'Self Employment '!$F7+Military!E6 -> 335.94884 | F6: =+QCEW!I7*'CES Adjustment'!F15*'Self Employment '!$F7+Military!F6 -> 331.96963 | G6: =+QCEW!J7*'CES Adjustment'!G15*'Self Employment '!$F7+Military!G6 -> 332.73495 | H6: =+QCEW!K7*'CES Adjustment'!H15*'Self Employment '!$F7+Military!H6 -> 334.48919 | I6: =+QCEW!L7*'CES Adjustment'!I15*'Self Employment '!$F7+Military!I6 -> 337.84071 | J6: =+QCEW!M7*'CES Adjustment'!J15*'Self Employment '!$J7+Military!J6 -> 341.91904 | K6: =+QCEW!N7*'CES Adjustment'!K15*'Self Employment '!$J7+Military!K6 -> 348.76357
A7: 6 | B7: Fairfax County | C7: =+QCEW!F8*'CES Adjustment'!C16*'Self Employment '!$F8+Military!C7 -> 567.0564 | D7: =+QCEW!F8*'CES Adjustment'!D16*'Self Employment '!$F8+Military!D7 -> 595.50807 | E7: =+QCEW!H8*'CES Adjustment'!E16*'Self Employment '!$F8+Military!E7 -> 640.95366 | F7: =+QCEW!I8*'CES Adjustment'!F16*'Self Employment '!$F8+Military!F7 -> 646.8985 | G7: =+QCEW!J8*'CES Adjustment'!G16*'Self Employment '!$F8+Military!G7 -> 660.02434 | H7: =+QCEW!K8*'CES Adjustment'!H16*'Self Employment '!$F8+Military!H7 -> 658.42175 | I7: =+QCEW!L8*'CES Adjustment'!I16*'Self Employment '!$F8+Military!I7 -> 651.58697 | J7: =+QCEW!M8*'CES Adjustment'!J16*'Self Employment '!$J8+Military!J7 -> 660.39338 | K7: =+QCEW!N8*'CES Adjustment'!K16*'Self Employment '!$J8+Military!K7 -> 672.2711
A8: 7 | B8: Fairfax City | C8: =+QCEW!F9*'CES Adjustment'!C16*'Self Employment '!$F8 -> 17.581846 | D8: =+QCEW!F9*'CES Adjustment'!D16*'Self Employment '!$F8 -> 18.463583 | E8: =+QCEW!H9*'CES Adjustment'!E16*'Self Employment '!$F8 -> 21.977005 | F8: =+QCEW!I9*'CES Adjustment'!F16*'Self Employment '!$F8 -> 21.59061 | G8: =+QCEW!J9*'CES Adjustment'!G16*'Self Employment '!$F8 -> 21.919168 | H8: =+QCEW!K9*'CES Adjustment'!H16*'Self Employment '!$F8 -> 21.733299 | I8: =+QCEW!L9*'CES Adjustment'!I16*'Self Employment '!$F8 -> 21.968621 | J8: =+QCEW!M9*'CES Adjustment'!J16*'Self Employment '!$J8 -> 21.880798 | K8: =+QCEW!N9*'CES Adjustment'!K16*'Self Employment '!$J8 -> 21.567877
A9: 8 | B9: Falls Church City | C9: =QCEW!F10*'CES Adjustment'!C16*'Self Employment '!$F8+Military!C8 -> 15.197121 | D9: =QCEW!F10*'CES Adjustment'!D16*'Self Employment '!$F8+Military!D8 -> 15.959264 | E9: =QCEW!H10*'CES Adjustment'!E16*'Self Employment '!$F8+Military!E8 -> 13.704532 | F9: =+QCEW!I10*'CES Adjustment'!F16*'Self Employment '!$F8+Military!F8 -> 12.962777 | G9: =+QCEW!J10*'CES Adjustment'!G16*'Self Employment '!$F8+Military!G8 -> 12.44208 | H9: =+QCEW!K10*'CES Adjustment'!H16*'Self Employment '!$F8+Military!H8 -> 11.290388 | I9: =+QCEW!L10*'CES Adjustment'!I16*'Self Employment '!$F8+Military!I8 -> 12.32495 | J9: =+QCEW!M10*'CES Adjustment'!J16*'Self Employment '!$J8+Military!J8 -> 12.910196 | K9: =+QCEW!N10*'CES Adjustment'!K16*'Self Employment '!$J8+Military!K8 -> 13.01593
A10: 9 | B10: Loudoun County | C10: =+QCEW!F11*'CES Adjustment'!C16*'Self Employment '!$F9 -> 91.462238 | D10: =+QCEW!F11*'CES Adjustment'!D16*'Self Employment '!$F9 -> 96.04911 | E10: =+QCEW!H11*'CES Adjustment'!E16*'Self Employment '!$F9 -> 146.32172 | F10: =+QCEW!I11*'CES Adjustment'!F16*'Self Employment '!$F9 -> 152.09821 | G10: =+QCEW!J11*'CES Adjustment'!G16*'Self Employment '!$F9 -> 156.91351 | H10: =+QCEW!K11*'CES Adjustment'!H16*'Self Employment '!$F9 -> 163.20381 | I10: =+QCEW!L11*'CES Adjustment'!I16*'Self Employment '!$F9 -> 166.0081 | J10: =+QCEW!M11*'CES Adjustment'!J16*'Self Employment '!$J9 -> 174.48278 | K10: =+QCEW!N11*'CES Adjustment'!K16*'Self Employment '!$J9 -> 181.03158
A11: 10 | B11: Prince William County | C11: =+QCEW!F12*'CES Adjustment'!C16*'Self Employment '!$F10+Military!C9 -> 88.237208 | D11: =+QCEW!F12*'CES Adjustment'!D16*'Self Employment '!$F10+Military!D9 -> 97.663743 | E11: =+QCEW!H12*'CES Adjustment'!E16*'Self Employment '!$F10+Military!E9 -> 121.11761 | F11: =+QCEW!I12*'CES Adjustment'!F16*'Self Employment '!$F10+Military!F9 -> 126.41222 | G11: =+QCEW!J12*'CES Adjustment'!G16*'Self Employment '!$F10+Military!G9 -> 132.9246 | H11: =+QCEW!K12*'CES Adjustment'!H16*'Self Employment '!$F10+Military!H9 -> 137.98984 | I11: =+QCEW!L12*'CES Adjustment'!I16*'Self Employment '!$F10+Military!I9 -> 140.92906 | J11: =+QCEW!M12*'CES Adjustment'!J16*'Self Employment '!$J10+Military!J9 -> 143.26451 | K11: =+QCEW!N12*'CES Adjustment'!K16*'Self Employment '!$J10+Military!K9 -> 147.87584
A12: 11 | B12: Manassas City | C12: =+QCEW!F13*'CES Adjustment'!C16*'Self Employment '!$F10 -> 20.80091 | D12: =+QCEW!F13*'CES Adjustment'!D16*'Self Employment '!$F10 -> 21.844085 | E12: =+QCEW!H13*'CES Adjustment'!E16*'Self Employment '!$F10 -> 26.251448 | F12: =+QCEW!I13*'CES Adjustment'!F16*'Self Employment '!$F10 -> 26.802061 | G12: =+QCEW!J13*'CES Adjustment'!G16*'Self Employment '!$F10 -> 26.935992 | H12: =+QCEW!K13*'CES Adjustment'!H16*'Self Employment '!$F10 -> 25.609387 | I12: =+QCEW!L13*'CES Adjustment'!I16*'Self Employment '!$F10 -> 25.686662 | J12: =+QCEW!M13*'CES Adjustment'!J16*'Self Employment '!$J10 -> 25.22116 | K12: =+QCEW!N13*'CES Adjustment'!K16*'Self Employment '!$J10 -> 25.148011
A13: 12 | B13: Manassas Park City | C13: =+QCEW!F14*'CES Adjustment'!C16*'Self Employment '!$F10 -> 4.0952772 | D13: =+QCEW!F14*'CES Adjustment'!D16*'Self Employment '!$F10 -> 4.3006572 | E13: =+QCEW!H14*'CES Adjustment'!E16*'Self Employment '!$F10 -> 3.1223556 | F13: =+QCEW!I14*'CES Adjustment'!F16*'Self Employment '!$F10 -> 3.2116434 | G13: =+QCEW!J14*'CES Adjustment'!G16*'Self Employment '!$F10 -> 3.0360897 | H13: =+QCEW!K14*'CES Adjustment'!H16*'Self Employment '!$F10 -> 3.0587193 | I13: =+QCEW!L14*'CES Adjustment'!I16*'Self Employment '!$F10 -> 3.1817856 | J13: =+QCEW!M14*'CES Adjustment'!J16*'Self Employment '!$J10 -> 3.3050784 | K13: =+QCEW!N14*'CES Adjustment'!K16*'Self Employment '!$J10 -> 3.645461
A14: 13 | B14: Charles County | C14: =+QCEW!F15*'CES Adjustment'!C15*'Self Employment '!$F11+Military!C10 -> 40.543995 | D14: =+QCEW!F15*'CES Adjustment'!D15*'Self Employment '!$F11+Military!D10 -> 39.8373 | E14: =+QCEW!H15*'CES Adjustment'!E15*'Self Employment '!$F11+Military!E10 -> 44.310815 | F14: =+QCEW!I15*'CES Adjustment'!F15*'Self Employment '!$F11+Military!F10 -> 45.199346 | G14: =+QCEW!J15*'CES Adjustment'!G15*'Self Employment '!$F11+Military!G10 -> 45.253047 | H14: =+QCEW!K15*'CES Adjustment'!H15*'Self Employment '!$F11+Military!H10 -> 45.549597 | I14: =+QCEW!L15*'CES Adjustment'!I15*'Self Employment '!$F11+Military!I10 -> 46.10099 | J14: =+QCEW!M15*'CES Adjustment'!J15*'Self Employment '!$J11+Military!J10 -> 47.173198 | K14: =+QCEW!N15*'CES Adjustment'!K15*'Self Employment '!$J11+Military!K10 -> 48.120126
A15: 14 | B15: Frederick County | C15: =+QCEW!F16*'CES Adjustment'!C14*'Self Employment '!$F12+Military!C11 -> 86.442866 | D15: =+QCEW!F16*'CES Adjustment'!D14*'Self Employment '!$F12+Military!D11 -> 85.934014 | E15: =+QCEW!H16*'CES Adjustment'!E14*'Self Employment '!$F12+Military!E11 -> 103.7091 | F15: =+QCEW!I16*'CES Adjustment'!F14*'Self Employment '!$F12+Military!F11 -> 102.35257 | G15: =+QCEW!J16*'CES Adjustment'!G14*'Self Employment '!$F12+Military!G11 -> 104.19781 | H15: =+QCEW!K16*'CES Adjustment'!H14*'Self Employment '!$F12+Military!H11 -> 106.88906 | I15: =+QCEW!L16*'CES Adjustment'!I14*'Self Employment '!$F12+Military!I11 -> 107.58488 | J15: =+QCEW!M16*'CES Adjustment'!J14*'Self Employment '!$J12+Military!J11 -> 110.76388 | K15: =+QCEW!N16*'CES Adjustment'!K14*'Self Employment '!$J12+Military!K11 -> 112.10104
B16: Region | C16: =SUM(C2:C15) -> 2730.5589 | D16: =SUM(D2:D15) -> 2785.3704 | E16: =SUM(E2:E15) -> 2998.4626 | F16: =SUM(F2:F15) -> 3031.1529 | G16: =SUM(G2:G15) -> 3070.2372 | H16: =SUM(H2:H15) -> 3097.6021 | I16: =SUM(I2:I15) -> 3110.5452 | J16: =SUM(J2:J15) -> 3180.7868 | K16: =SUM(K2:K15) -> 3233.2194
