Workbook

Sheet Notes
B1: This attached spreadsheet has 8 tabs described below. Emissions are annual (tons per year).
B2: Nonpoint, Point Annual_Daily, Point ERCs, Point GF, M-A-R, NR Mobile, OR Mobile, Quasi Pt
B3: For Nonpoint- Nonpoint from the EPAs emission modeling platform+ MDE (missing from the EPA)
B4: M-A-R- Commercial Marine Vessels (C1C2, C3 files), Aircraft- Included in point inventory but separate folder, RailRoad- from Nonpoint datasets
B5: Quasi Pt (Andrew AFB): From the Pt dataset
B6: Data Source: https://www.epa.gov/air-emissions-modeling/2022v1-emissions-modeling-platform (View the 2022v1 Emissions Data Retrieval Tool)
B8: POINT | C8: Have tpd & tpy. Need to incorporate Doris Mcleods CAMD tpd analysis
C9: Have EPA GF for most Facilities
B10: POINT ERC | C10: Have tpy and tpd data. GF should be 1
B12: NONPOINT | C12: Annual appears done. Need temporalization to tpd and GF (MARAMA)
B14: M-A-R | C14: Annual appears done. Need temporalization to tpd and GF to 2032 & 2038. (MARAMA?)
B16: NR MOBILE MODEL | C16: Sunil will run for all needed years
B18: ONROAD MOBILE | C18: TPB will run for all needed years
B20: QUASI-POINT | C20: Andrews AFB - Do we have daily emissions for Andrews?? | H20: Updated

Sheet Summary
C1: 2022 | D1: 2022 | F1: 2022 | G1: 2022 | I1: 2032 | J1: 2032 | L1: 2038 | M1: 2038
A2: State | B2: Category | C2: NOx (tpy) | D2: VOC (tpy) | F2: NOx (tpd) | G2: VOC (tpd) | I2: NOx (tpd) | J2: VOC (tpd) | L2: NOx (tpd) | M2: VOC (tpd)
A3: Maryland | B3: Point | C3: ='Point Annual_Daily_SCC-Rev2'!G749 -> 2016.402 | D3: ='Point Annual_Daily_SCC-Rev2'!H749 -> 481.11711 | F3: ='Point Annual_Daily_SCC-Rev2'!I749 -> 36.072994 | G3: ='Point Annual_Daily_SCC-Rev2'!J749 -> 2.8725652 | I3: ='Point Annual_Daily_SCC-Rev2'!K749 -> 36.63764 | J3: ='Point Annual_Daily_SCC-Rev2'!O749 -> 2.9897678 | L3: ='Point Annual_Daily_SCC-Rev2'!L749 -> 36.809008 | M3: ='Point Annual_Daily_SCC-Rev2'!P749 -> 3.1494489
A4: Maryland | B4: NonPoint | C4: ='Non Point Rev3'!D248 -> 4733.1236 | D4: ='NonPoint Sunil data in MD forma'!C841 -> 21508.133 | F4: ='Non Point Rev3'!G248 -> 11.927806 | G4: ='Non Point Rev3'!G826 -> 65.439828 | I4: ='Non Point Rev3'!H248 -> 12.721733 | J4: ='Non Point Rev3'!H826 -> 68.380241 | L4: ='Non Point Rev3'!I248 -> 13.144318 | M4: ='Non Point Rev3'!I826 -> 69.754037
A5: Maryland | B5: M-A-R | C5: ='M-A-R Rev2'!C269 -> 1234.8239 | D5: ='Non Point Rev3'!D826 -> 21175.933
A6: Maryland | B6: NR Mobile
A7: Maryland | B7: OR Mobile
A8: Maryland | B8: Quasi Point | C8: ='Quasi Pt V2'!G29 -> 288.50757 | D8: ='Quasi Pt V2'!H29 -> 140.27362 | F8: ='Quasi Pt V2'!I29 -> 0.87939073 | G8: ='Quasi Pt V2'!J29 -> 0.38685565 | I8: ='Quasi by SCC'!I18 -> 0.8800686 | J8: ='Quasi by SCC'!K18 -> 0.38883614 | L8: ='Quasi by SCC'!J18 -> 0.88053867 | M8: ='Quasi by SCC'!L18 -> 0.39018399
C10: =SUM(C3:C8) -> 8272.8571 | D10: =SUM(D3:D8) -> 43305.456 | F10: =SUM(F3:F8) -> 48.880191 | G10: =SUM(G3:G8) -> 68.699249 | I10: =SUM(I3:I8) -> 50.239441 | J10: =SUM(J3:J8) -> 71.758845 | L10: =SUM(L3:L8) -> 50.833865 | M10: =SUM(M3:M8) -> 73.29367

Sheet Hawi_NP
A1: EPA Region | B1: State | C1: State-County | D1: Pollutant | E1: 2022 Emissions (Tons) | F1: 2032 Emissions (Tons) | G1: 2038 Emissions (Tons) | H1: SCC Code | I1: Sector | J1: SCC Level 1 | K1: SCC Level 2 | L1: SCC Level 3 | M1: SCC Level 4 | N1: Source Description
A2: 3 | B2: Maryland | C2: MD-Calvert | D2: NOx | E2: 0.948756 | F2: 0.948756 | G2: 0.948756 | H2: 2801500141 | I2: Fires - Agricultural Field Burning | J2: Miscellaneous Area Sources | K2: Agriculture Production - Crops | L2: Agricultural Field Burning - whole field set on fire | M2: Field Crop is Bean (red): Headfire Burning | N2: Nonpoint
A3: 3 | B3: Maryland | C3: MD-Calvert | D3: NOx | E3: 0.400694 | F3: 0.400694 | G3: 0.400694 | H3: 2801500150 | I3: Fires - Agricultural Field Burning | J3: Miscellaneous Area Sources | K3: Agriculture Production - Crops | L3: Agricultural Field Burning - whole field set on fire | M3: Field Crop is Corn: Burning Techniques Not Important | N3: Nonpoint
A4: 3 | B4: Maryland | C4: MD-Calvert | D4: NOx | E4: 0.069476634 | F4: 0.080229157 | G4: 0.086617585 | H4: 2810060100 | I4: Miscellaneous Non-Industrial Not Elsewhere Classified | J4: Miscellaneous Area Sources | K4: Other Combustion | L4: Cremation | M4: Humans | N4: Nonpoint
A5: 3 | B5: Maryland | C5: MD-Calvert | D5: NOx | E5: 0.5781752 | F5: 0.66765625 | G5: 0.72081989 | H5: 2810025000 | I5: Miscellaneous Non-Industrial Not Elsewhere Classified | J5: Miscellaneous Area Sources | K5: Other Combustion | L5: Residential Grilling (see 23-02-002-xxx for Commercial) | M5: Total | N5: Nonpoint
A6: 3 | B6: Maryland | C6: MD-Calvert | D6: NOx | E6: 2.2547 | F6: 2.2547 | G6: 2.2547 | H6: 2811015002 | I6: Fires - Prescribed Fires | J6: Miscellaneous Area Sources | K6: Other Combustion - as Event | L6: Prescribed Forest Burning | M6: Flaming | N6: Nonpoint
A7: 3 | B7: Maryland | C7: MD-Calvert | D7: NOx | E7: 1.3014927 | F7: 1.3554349 | G7: 1.3365488 | H7: 2103004001 | I7: Fuel Comb - Comm/Institutional - Oil | J7: Stationary Source Fuel Combustion | K7: Commercial/Institutional | L7: Distillate Oil | M7: Boilers | N7: Nonpoint
A8: 3 | B8: Maryland | C8: MD-Calvert | D8: NOx | E8: 2.0686891 | F8: 2.1544289 | G8: 2.1244099 | H8: 2103004002 | I8: Fuel Comb - Comm/Institutional - Oil | J8: Stationary Source Fuel Combustion | K8: Commercial/Institutional | L8: Distillate Oil | M8: IC Engines | N8: Nonpoint
A9: 3 | B9: Maryland | C9: MD-Calvert | D9: NOx | E9: 0.026751368 | F9: 0.017105442 | G9: 0.01427597 | H9: 2103011000 | I9: Fuel Comb - Comm/Institutional - Oil | J9: Stationary Source Fuel Combustion | K9: Commercial/Institutional | L9: Kerosene | M9: Total: All Combustor Types | N9: Nonpoint
A10: 3 | B10: Maryland | C10: MD-Calvert | D10: NOx | E10: 1.6043272 | F10: 2.2846872 | G10: 2.5480812 | H10: 2103007000 | I10: Fuel Comb - Comm/Institutional - Other | J10: Stationary Source Fuel Combustion | K10: Commercial/Institutional | L10: Liquified Petroleum Gas (LPG) | M10: Total: All Combustor Types | N10: Nonpoint
A11: 3 | B11: Maryland | C11: MD-Calvert | D11: NOx | E11: 21.230148 | F11: 18.395022 | G11: 16.925679 | H11: 2103006000 | I11: Fuel Comb - Comm/Institutional - Natural Gas | J11: Stationary Source Fuel Combustion | K11: Commercial/Institutional | L11: Natural Gas | M11: Total: Boilers and IC Engines | N11: Nonpoint
A12: 3 | B12: Maryland | C12: MD-Calvert | D12: NOx | E12: 0.80150118 | F12: 0.80150118 | G12: 0.80150118 | H12: 2103008000 | I12: Fuel Comb - Comm/Institutional - Biomass | J12: Stationary Source Fuel Combustion | K12: Commercial/Institutional | L12: Wood | M12: Total: All Boiler Types | N12: Nonpoint
A13: 3 | B13: Maryland | C13: MD-Calvert | D13: NOx | E13: 0.84779087 | F13: 0.63834186 | G13: 0.5322573 | H13: 2102001000 | I13: Fuel Comb - Industrial Boilers, ICEs - Coal | J13: Stationary Source Fuel Combustion | K13: Industrial | L13: Anthracite Coal | M13: Total: All Boiler Types | N13: Nonpoint
... A245: 3 | B245: Maryland | C245: MD-Calvert | D245: VOC | E245: 0.14384924 | F245: 0.14981128 | G245: 0.14772387 | H245: 2103004002 | I245: Fuel Comb - Comm/Institutional - Oil | J245: Stationary Source Fuel Combustion | K245: Commercial/Institutional | L245: Distillate Oil | M245: IC Engines | N245: Nonpoint
A246: 3 | B246: Maryland | C246: MD-Calvert | D246: VOC | E246: 0.00045477327 | F246: 0.00029079252 | G246: - | H246: 2103011000 | I246: Fuel Comb - Comm/Institutional - Oil | J246: Stationary Source Fuel Combustion | K246: Commercial/Institutional | L246: Kerosene | M246: Total: All Combustor Types | N246: Nonpoint
A247: 3 | B247: Maryland | C247: MD-Calvert | D247: VOC | E247: 0.058626165 | F247: 0.083488238 | G247: 0.09311332 | H247: 2103007000 | I247: Fuel Comb - Comm/Institutional - Other | J247: Stationary Source Fuel Combustion | K247: Commercial/Institutional | L247: Liquified Petroleum Gas (LPG) | M247: Total: All Combustor Types | N247: Nonpoint
A248: 3 | B248: Maryland | C248: MD-Calvert | D248: VOC | E248: 1.1676579 | F248: 1.2178441 | G248: 1.228964 | H248: 2103006000 | I248: Fuel Comb - Comm/Institutional - Natural Gas | J248: Stationary Source Fuel Combustion | K248: Commercial/Institutional | L248: Natural Gas | M248: Total: Boilers and IC Engines | N248: Nonpoint
A249: 3 | B249: Maryland | C249: MD-Calvert | D249: VOC | E249: 0.061934186 | F249: 0.061934186 | G249: 0.061934186 | H249: 2103008000 | I249: Fuel Comb - Comm/Institutional - Biomass | J249: Stationary Source Fuel Combustion | K249: Commercial/Institutional | L249: Wood | M249: Total: All Boiler Types | N249: Nonpoint
A250: 3 | B250: Maryland | C250: MD-Calvert | D250: VOC | E250: 0.028259699 | F250: 0.021278065 | G250: 0.017741912 | H250: 2102001000 | I250: Fuel Comb - Industrial Boilers, ICEs - Coal | J250: Stationary Source Fuel Combustion | K250: Industrial | L250: Anthracite Coal | M250: Total: All Boiler Types | N250: Nonpoint
A251: 3 | B251: Maryland | C251: MD-Calvert | D251: VOC | E251: 0.061627368 | F251: 0.046402162 | G251: 0.038690694 | H251: 2102002000 | I251: Fuel Comb - Industrial Boilers, ICEs - Coal | J251: Stationary Source Fuel Combustion | K251: Industrial | L251: Bituminous/Subbituminous Coal | M251: Total: All Boiler Types | N251: Nonpoint
A252: 3 | B252: Maryland | C252: MD-Calvert | D252: VOC | E252: 0.02250484 | F252: 0.024280234 | G252: 0.025166864 | H252: 2102008000 | I252: Fuel Comb - Industrial Boilers, ICEs - Biomass | J252: Stationary Source Fuel Combustion | K252: Industrial | L252: Wood | M252: Total: All Boiler Types | N252: Nonpoint
A253: 3 | B253: Maryland | C253: MD-Calvert | D253: VOC | E253: 0.73079123 | F253: 0.41229001 | G253: 0.31985466 | H253: 2104004000 | I253: Fuel Comb - Residential - Oil | J253: Stationary Source Fuel Combustion | K253: Residential | L253: Distillate Oil | M253: Total: All Combustor Types | N253: Nonpoint
A254: 3 | B254: Maryland | C254: MD-Calvert | D254: VOC | E254: 1.8007203 | F254: 1.8007203 | G254: 1.8007203 | H254: 2104009000 | I254: Fuel Comb - Residential - Wood | J254: Stationary Source Fuel Combustion | K254: Residential | L254: Firelog | M254: Total: All Combustor Types | N254: Nonpoint
A255: 3 | B255: Maryland | C255: MD-Calvert | D255: VOC | E255: 0.0080083239 | F255: 0.0045180508 | G255: 0.0035051046 | H255: 2104011000 | I255: Fuel Comb - Residential - Oil | J255: Stationary Source Fuel Combustion | K255: Residential | L255: Kerosene | M255: Total: All Heater Types | N255: Nonpoint
A256: 3 | B256: Maryland | C256: MD-Calvert | D256: VOC | E256: 0.6261523 | F256: 0.54999167 | G256: 0.54952449 | H256: 2104007000 | I256: Fuel Comb - Residential - Other | J256: Stationary Source Fuel Combustion | K256: Residential | L256: Liquified Petroleum Gas (LPG) | M256: Total: All Combustor Types | N256: Nonpoint
A257: 3 | B257: Maryland | C257: MD-Calvert | D257: VOC | E257: 0.3348511 | F257: 0.31883238 | G257: 0.31680874 | H257: 2104006000 | I257: Fuel Comb - Residential - Natural Gas | J257: Stationary Source Fuel Combustion | K257: Residential | L257: Natural Gas | M257: Total: All Combustor Types | N257: Nonpoint
A258: 3 | B258: Maryland | C258: MD-Calvert | D258: VOC | E258: 7.6238153 | F258: 7.6238153 | G258: 7.6238153 | H258: 2104008100 | I258: Fuel Comb - Residential - Wood | J258: Stationary Source Fuel Combustion | K258: Residential | L258: Wood | M258: Fireplace: general | N258: Nonpoint
... A671: 3 | B671: Maryland | C671: MD-Prince George's | D671: VOC | E671: 7.066475 | F671: 7.6149746 | G671: 7.892021 | H671: 2630020000 | I671: Waste Disposal | J671: Waste Disposal, Treatment, and Recovery | K671: Wastewater Treatment | L671: Public Owned | M671: Total Processed | N671: Nonpoint
A672: 3 | B672: Maryland | C672: MD-Calvert | D672: VOC | E672: 18.55 | H672: 2440000000 | I672: Industrial Adhesives | N672: Nonpoint
A673: 3 | B673: Maryland | C673: MD-Charles | D673: VOC | E673: 33.67 | H673: 2440000000 | I673: Industrial Adhesives | N673: Nonpoint
A674: 3 | B674: Maryland | C674: MD-Frederick | D674: VOC | E674: 57.45 | H674: 2440000000 | I674: Industrial Adhesives | N674: Nonpoint
A675: 3 | B675: Maryland | C675: MD-Montgomery | D675: VOC | E675: 207.25 | H675: 2440000000 | I675: Industrial Adhesives | N675: Nonpoint
A676: 3 | B676: Maryland | C676: MD-Prince George's | D676: VOC | E676: 185.51 | H676: 2440000000 | I676: Industrial Adhesives | N676: Nonpoint
A677: 3 | B677: Maryland | C677: MD-Calvert | D677: VOC | E677: 0.000565 | H677: 2102007000 | I677: Fuel Combustion LPG Industrial | N677: Nonpoint
A678: 3 | B678: Maryland | C678: MD-Charles | D678: VOC | E678: 0.000839 | H678: 2102007000 | I678: Fuel Combustion LPG Industrial | N678: Nonpoint
A679: 3 | B679: Maryland | C679: MD-Montgomery | D679: VOC | E679: 0.007029 | H679: 2102007000 | I679: Fuel Combustion LPG Industrial | N679: Nonpoint
A680: 3 | B680: Maryland | C680: MD-Prince George's | D680: VOC | E680: 0.008576 | H680: 2102007000 | I680: Fuel Combustion LPG Industrial | N680: Nonpoint
A681: 3 | B681: Maryland | C681: MD-Calvert | D681: NOx | E681: 0.015469 | H681: 2102007000 | I681: Fuel Combustion LPG Industrial | N681: Nonpoint
A682: 3 | B682: Maryland | C682: MD-Charles | D682: NOx | E682: 0.022954 | H682: 2102007000 | I682: Fuel Combustion LPG Industrial | N682: Nonpoint
A683: 3 | B683: Maryland | C683: MD-Montgomery | D683: NOx | E683: 0.192365 | H683: 2102007000 | I683: Fuel Combustion LPG Industrial | N683: Nonpoint
...

Sheet NonPointRev1
A1: EPA Region | B1: State | C1: State-County | D1: Pollutant | E1: 2022 Emissions (Tons) | F1: 2032 Emissions (Tons) | G1: 2038 Emissions (Tons) | H1: SCC Code | I1: Sector | J1: SCC Level 1 | K1: SCC Level 2 | L1: SCC Level 3 | M1: SCC Level 4 | N1: Source Description
A2: 3 | B2: Maryland | C2: MD-Calvert | D2: NOx | E2: 0.948756 | F2: 0.948756 | G2: 0.948756 | H2: 2801500141 | I2: Fires - Agricultural Field Burning | J2: Miscellaneous Area Sources | K2: Agriculture Production - Crops | L2: Agricultural Field Burning - whole field set on fire | M2: Field Crop is Bean (red): Headfire Burning | N2: Nonpoint
A3: 3 | B3: Maryland | C3: MD-Calvert | D3: NOx | E3: 0.400694 | F3: 0.400694 | G3: 0.400694 | H3: 2801500150 | I3: Fires - Agricultural Field Burning | J3: Miscellaneous Area Sources | K3: Agriculture Production - Crops | L3: Agricultural Field Burning - whole field set on fire | M3: Field Crop is Corn: Burning Techniques Not Important | N3: Nonpoint
A4: 3 | B4: Maryland | C4: MD-Calvert | D4: NOx | E4: 0.069476634 | F4: 0.080229157 | G4: 0.086617585 | H4: 2810060100 | I4: Miscellaneous Non-Industrial Not Elsewhere Classified | J4: Miscellaneous Area Sources | K4: Other Combustion | L4: Cremation | M4: Humans | N4: Nonpoint
A5: 3 | B5: Maryland | C5: MD-Calvert | D5: NOx | E5: 0.5781752 | F5: 0.66765625 | G5: 0.72081989 | H5: 2810025000 | I5: Miscellaneous Non-Industrial Not Elsewhere Classified | J5: Miscellaneous Area Sources | K5: Other Combustion | L5: Residential Grilling (see 23-02-002-xxx for Commercial) | M5: Total | N5: Nonpoint
A6: 3 | B6: Maryland | C6: MD-Calvert | D6: NOx | E6: 2.2547 | F6: 2.2547 | G6: 2.2547 | H6: 2811015002 | I6: Fires - Prescribed Fires | J6: Miscellaneous Area Sources | K6: Other Combustion - as Event | L6: Prescribed Forest Burning | M6: Flaming | N6: Nonpoint
A7: 3 | B7: Maryland | C7: MD-Calvert | D7: NOx | E7: 1.3014927 | F7: 1.3554349 | G7: 1.3365488 | H7: 2103004001 | I7: Fuel Comb - Comm/Institutional - Oil | J7: Stationary Source Fuel Combustion | K7: Commercial/Institutional | L7: Distillate Oil | M7: Boilers | N7: Nonpoint
A8: 3 | B8: Maryland | C8: MD-Calvert | D8: NOx | E8: 2.0686891 | F8: 2.1544289 | G8: 2.1244099 | H8: 2103004002 | I8: Fuel Comb - Comm/Institutional - Oil | J8: Stationary Source Fuel Combustion | K8: Commercial/Institutional | L8: Distillate Oil | M8: IC Engines | N8: Nonpoint
A9: 3 | B9: Maryland | C9: MD-Calvert | D9: NOx | E9: 0.026751368 | F9: 0.017105442 | G9: 0.01427597 | H9: 2103011000 | I9: Fuel Comb - Comm/Institutional - Oil | J9: Stationary Source Fuel Combustion | K9: Commercial/Institutional | L9: Kerosene | M9: Total: All Combustor Types | N9: Nonpoint
A10: 3 | B10: Maryland | C10: MD-Calvert | D10: NOx | E10: 1.6043272 | F10: 2.2846872 | G10: 2.5480812 | H10: 2103007000 | I10: Fuel Comb - Comm/Institutional - Other | J10: Stationary Source Fuel Combustion | K10: Commercial/Institutional | L10: Liquified Petroleum Gas (LPG) | M10: Total: All Combustor Types | N10: Nonpoint
A11: 3 | B11: Maryland | C11: MD-Calvert | D11: NOx | E11: 21.230148 | F11: 18.395022 | G11: 16.925679 | H11: 2103006000 | I11: Fuel Comb - Comm/Institutional - Natural Gas | J11: Stationary Source Fuel Combustion | K11: Commercial/Institutional | L11: Natural Gas | M11: Total: Boilers and IC Engines | N11: Nonpoint
A12: 3 | B12: Maryland | C12: MD-Calvert | D12: NOx | E12: 0.80150118 | F12: 0.80150118 | G12: 0.80150118 | H12: 2103008000 | I12: Fuel Comb - Comm/Institutional - Biomass | J12: Stationary Source Fuel Combustion | K12: Commercial/Institutional | L12: Wood | M12: Total: All Boiler Types | N12: Nonpoint
A13: 3 | B13: Maryland | C13: MD-Calvert | D13: NOx | E13: 0.84779087 | F13: 0.63834186 | G13: 0.5322573 | H13: 2102001000 | I13: Fuel Comb - Industrial Boilers, ICEs - Coal | J13: Stationary Source Fuel Combustion | K13: Industrial | L13: Anthracite Coal | M13: Total: All Boiler Types | N13: Nonpoint
... A245: 3 | B245: Maryland | C245: MD-Calvert | D245: VOC | E245: 0.14384924 | F245: 0.14981128 | G245: 0.14772387 | H245: 2103004002 | I245: Fuel Comb - Comm/Institutional - Oil | J245: Stationary Source Fuel Combustion | K245: Commercial/Institutional | L245: Distillate Oil | M245: IC Engines | N245: Nonpoint
A246: 3 | B246: Maryland | C246: MD-Calvert | D246: VOC | E246: 0.00045477327 | F246: 0.00029079252 | G246: - | H246: 2103011000 | I246: Fuel Comb - Comm/Institutional - Oil | J246: Stationary Source Fuel Combustion | K246: Commercial/Institutional | L246: Kerosene | M246: Total: All Combustor Types | N246: Nonpoint
A247: 3 | B247: Maryland | C247: MD-Calvert | D247: VOC | E247: 0.058626165 | F247: 0.083488238 | G247: 0.09311332 | H247: 2103007000 | I247: Fuel Comb - Comm/Institutional - Other | J247: Stationary Source Fuel Combustion | K247: Commercial/Institutional | L247: Liquified Petroleum Gas (LPG) | M247: Total: All Combustor Types | N247: Nonpoint
A248: 3 | B248: Maryland | C248: MD-Calvert | D248: VOC | E248: 1.1676579 | F248: 1.2178441 | G248: 1.228964 | H248: 2103006000 | I248: Fuel Comb - Comm/Institutional - Natural Gas | J248: Stationary Source Fuel Combustion | K248: Commercial/Institutional | L248: Natural Gas | M248: Total: Boilers and IC Engines | N248: Nonpoint
A249: 3 | B249: Maryland | C249: MD-Calvert | D249: VOC | E249: 0.061934186 | F249: 0.061934186 | G249: 0.061934186 | H249: 2103008000 | I249: Fuel Comb - Comm/Institutional - Biomass | J249: Stationary Source Fuel Combustion | K249: Commercial/Institutional | L249: Wood | M249: Total: All Boiler Types | N249: Nonpoint
A250: 3 | B250: Maryland | C250: MD-Calvert | D250: VOC | E250: 0.028259699 | F250: 0.021278065 | G250: 0.017741912 | H250: 2102001000 | I250: Fuel Comb - Industrial Boilers, ICEs - Coal | J250: Stationary Source Fuel Combustion | K250: Industrial | L250: Anthracite Coal | M250: Total: All Boiler Types | N250: Nonpoint
A251: 3 | B251: Maryland | C251: MD-Calvert | D251: VOC | E251: 0.061627368 | F251: 0.046402162 | G251: 0.038690694 | H251: 2102002000 | I251: Fuel Comb - Industrial Boilers, ICEs - Coal | J251: Stationary Source Fuel Combustion | K251: Industrial | L251: Bituminous/Subbituminous Coal | M251: Total: All Boiler Types | N251: Nonpoint
A252: 3 | B252: Maryland | C252: MD-Calvert | D252: VOC | E252: 0.02250484 | F252: 0.024280234 | G252: 0.025166864 | H252: 2102008000 | I252: Fuel Comb - Industrial Boilers, ICEs - Biomass | J252: Stationary Source Fuel Combustion | K252: Industrial | L252: Wood | M252: Total: All Boiler Types | N252: Nonpoint
A253: 3 | B253: Maryland | C253: MD-Calvert | D253: VOC | E253: 0.73079123 | F253: 0.41229001 | G253: 0.31985466 | H253: 2104004000 | I253: Fuel Comb - Residential - Oil | J253: Stationary Source Fuel Combustion | K253: Residential | L253: Distillate Oil | M253: Total: All Combustor Types | N253: Nonpoint
A254: 3 | B254: Maryland | C254: MD-Calvert | D254: VOC | E254: 1.8007203 | F254: 1.8007203 | G254: 1.8007203 | H254: 2104009000 | I254: Fuel Comb - Residential - Wood | J254: Stationary Source Fuel Combustion | K254: Residential | L254: Firelog | M254: Total: All Combustor Types | N254: Nonpoint
A255: 3 | B255: Maryland | C255: MD-Calvert | D255: VOC | E255: 0.0080083239 | F255: 0.0045180508 | G255: 0.0035051046 | H255: 2104011000 | I255: Fuel Comb - Residential - Oil | J255: Stationary Source Fuel Combustion | K255: Residential | L255: Kerosene | M255: Total: All Heater Types | N255: Nonpoint
A256: 3 | B256: Maryland | C256: MD-Calvert | D256: VOC | E256: 0.6261523 | F256: 0.54999167 | G256: 0.54952449 | H256: 2104007000 | I256: Fuel Comb - Residential - Other | J256: Stationary Source Fuel Combustion | K256: Residential | L256: Liquified Petroleum Gas (LPG) | M256: Total: All Combustor Types | N256: Nonpoint
A257: 3 | B257: Maryland | C257: MD-Calvert | D257: VOC | E257: 0.3348511 | F257: 0.31883238 | G257: 0.31680874 | H257: 2104006000 | I257: Fuel Comb - Residential - Natural Gas | J257: Stationary Source Fuel Combustion | K257: Residential | L257: Natural Gas | M257: Total: All Combustor Types | N257: Nonpoint
A258: 3 | B258: Maryland | C258: MD-Calvert | D258: VOC | E258: 7.6238153 | F258: 7.6238153 | G258: 7.6238153 | H258: 2104008100 | I258: Fuel Comb - Residential - Wood | J258: Stationary Source Fuel Combustion | K258: Residential | L258: Wood | M258: Fireplace: general | N258: Nonpoint
... A671: 3 | B671: Maryland | C671: MD-Prince George's | D671: VOC | E671: 7.066475 | F671: 7.6149746 | G671: 7.892021 | H671: 2630020000 | I671: Waste Disposal | J671: Waste Disposal, Treatment, and Recovery | K671: Wastewater Treatment | L671: Public Owned | M671: Total Processed | N671: Nonpoint
A674: RESERVED FOR MDE ADDED NONPOINT SOURCE CATEGORIES
A675: EPA Region | B675: State | C675: State-County | D675: Pollutant | E675: 2022 Emissions (Tons) | F675: 2032 Emissions (Tons) | G675: 2038 Emissions (Tons) | H675: SCC Code | I675: Sector | J675: SCC Level 1 | K675: SCC Level 2 | L675: SCC Level 3 | M675: SCC Level 4 | N675: Source Description
A676: 3 | B676: Maryland | C676: MD-Calvert | D676: VOC | E676: 18.55 | H676: 2440000000 | I676: Industrial Adhesives | N676: Nonpoint
A677: 3 | B677: Maryland | C677: MD-Charles | D677: VOC | E677: 33.67 | H677: 2440000000 | I677: Industrial Adhesives | N677: Nonpoint
A678: 3 | B678: Maryland | C678: MD-Frederick | D678: VOC | E678: 57.45 | H678: 2440000000 | I678: Industrial Adhesives | N678: Nonpoint
A679: 3 | B679: Maryland | C679: MD-Montgomery | D679: VOC | E679: 207.25 | H679: 2440000000 | I679: Industrial Adhesives | N679: Nonpoint
A680: 3 | B680: Maryland | C680: MD-Prince George's | D680: VOC | E680: 185.51 | H680: 2440000000 | I680: Industrial Adhesives | N680: Nonpoint
A681: 3 | B681: Maryland | C681: MD-Calvert | D681: VOC | E681: 0.000565 | H681: 2102007000 | I681: Fuel Combustion LPG Industrial | N681: Nonpoint
A682: 3 | B682: Maryland | C682: MD-Charles | D682: VOC | E682: 0.000839 | H682: 2102007000 | I682: Fuel Combustion LPG Industrial | N682: Nonpoint
A683: 3 | B683: Maryland | C683: MD-Montgomery | D683: VOC | E683: 0.007029 | H683: 2102007000 | I683: Fuel Combustion LPG Industrial | N683: Nonpoint
A684: 3 | B684: Maryland | C684: MD-Prince George's | D684: VOC | E684: 0.008576 | H684: 2102007000 | I684: Fuel Combustion LPG Industrial | N684: Nonpoint
A685: 3 | B685: Maryland | C685: MD-Calvert | D685: NOx | E685: 0.015469 | H685: 2102007000 | I685: Fuel Combustion LPG Industrial | N685: Nonpoint
...

Sheet Non Point Rev3
A1: State-County | B1: Pollutant | C1: SCC | D1: 2022 Emissions (Tons) | E1: 2032 Emissions (Tons) | F1: 2038 Emissions (Tons) | G1: 2022 tpd | H1: 2032tpd | I1: 2038tpd | J1: 2032GF | K1: 2038GF | L1: Surrogate Growth | M1: Sector | N1: SCC Level 1 | O1: SCC Level 2 | P1: SCC Level 3 | Q1: SCC Level 4 | R1: Source Description | U1: Surrogates | V1: Lookup | W1: 2032 | X1: 2038 | Y1: Surrogates
A2: MD-Calvert | B2: NOx | C2: 2801500141 | D2: 0.948756 | E2: =D2*J2 -> 0.948756 | F2: =D2*K2 -> 0.948756 | G2: 0.0025993315 | H2: =G2*J2 -> 0.0025993315 | I2: =G2*K2 -> 0.0025993315 | J2: =W2 -> 1 | K2: =X2 -> 1 | L2: =U2 -> No Growth | M2: Fires - Agricultural Field Burning | N2: Miscellaneous Area Sources | O2: Agriculture Production - Crops | P2: Agricultural Field Burning - whole field set on fire | Q2: Field Crop is Bean (red): Headfire Burning | R2: Nonpoint | U2: =VLOOKUP(C2,'Surrogate NP'!A:B,2,FALSE) -> No Growth | V2: =CONCATENATE(A2,U2) -> MD-CalvertNo Growth | W2: =VLOOKUP(V2,'NP Surrogates-Update 4.7'!A:C,2,FALSE) -> 1 | X2: =VLOOKUP(V2,'NP Surrogates-Update 4.7'!A:C,3,FALSE) -> 1 | Y2: No Growth
A3: MD-Calvert | B3: NOx | C3: 2801500150 | D3: 0.400694 | E3: =D3*J3 -> 0.400694 | F3: =D3*K3 -> 0.400694 | G3: 0.0010977918 | H3: =G3*J3 -> 0.0010977918 | I3: =G3*K3 -> 0.0010977918 | J3: =W3 -> 1 | K3: =X3 -> 1 | L3: =U3 -> No Growth | M3: Fires - Agricultural Field Burning | N3: Miscellaneous Area Sources | O3: Agriculture Production - Crops | P3: Agricultural Field Burning - whole field set on fire | Q3: Field Crop is Corn: Burning Techniques Not Important | R3: Nonpoint | U3: =VLOOKUP(C3,'Surrogate NP'!A:B,2,FALSE) -> No Growth | V3: =CONCATENATE(A3,U3) -> MD-CalvertNo Growth | W3: =VLOOKUP(V3,'NP Surrogates-Update 4.7'!A:C,2,FALSE) -> 1 | X3: =VLOOKUP(V3,'NP Surrogates-Update 4.7'!A:C,3,FALSE) -> 1 | Y3: No Growth
A4: MD-Calvert | B4: NOx | C4: 2810060100 | D4: 0.069476634 | E4: =D4*J4 -> 0.072442254 | F4: =D4*K4 -> 0.073452652 | G4: 0.00026721782 | H4: =G4*J4 -> 0.00027862405 | I4: =G4*K4 -> 0.0002825102 | J4: =W4 -> 1.0426851 | K4: =X4 -> 1.0572281 | L4: =U4 -> Population | M4: Miscellaneous Non-Industrial Not Elsewhere Classified | N4: Miscellaneous Area Sources | O4: Other Combustion | P4: Cremation | Q4: Humans | R4: Nonpoint | U4: =VLOOKUP(C4,'Surrogate NP'!A:B,2,FALSE) -> Population | V4: =CONCATENATE(A4,U4) -> MD-CalvertPopulation | W4: =VLOOKUP(V4,'NP Surrogates-Update 4.7'!A:C,2,FALSE) -> 1.0426851 | X4: =VLOOKUP(V4,'NP Surrogates-Update 4.7'!A:C,3,FALSE) -> 1.0572281 | Y4: Population
A5: MD-Calvert | B5: NOx | C5: 2810025000 | D5: 0.5781752 | E5: =D5*J5 -> 0.60285469 | F5: =D5*K5 -> 0.61126309 | G5: 0.0015840416 | H5: =G5*J5 -> 0.0016516567 | I5: =G5*K5 -> 0.0016746934 | J5: =W5 -> 1.0426851 | K5: =X5 -> 1.0572281 | L5: =U5 -> Population | M5: Miscellaneous Non-Industrial Not Elsewhere Classified | N5: Miscellaneous Area Sources | O5: Other Combustion | P5: Residential Grilling (see 23-02-002-xxx for Commercial) | Q5: Total | R5: Nonpoint | U5: =VLOOKUP(C5,'Surrogate NP'!A:B,2,FALSE) -> Population | V5: =CONCATENATE(A5,U5) -> MD-CalvertPopulation | W5: =VLOOKUP(V5,'NP Surrogates-Update 4.7'!A:C,2,FALSE) -> 1.0426851 | X5: =VLOOKUP(V5,'NP Surrogates-Update 4.7'!A:C,3,FALSE) -> 1.0572281 | Y5: Population
A6: MD-Calvert | B6: NOx | C6: 2811015002 | D6: 2.2547 | E6: =D6*J6 -> 2.2547 | F6: =D6*K6 -> 2.2547 | G6: 0.0061772603 | H6: =G6*J6 -> 0.0061772603 | I6: =G6*K6 -> 0.0061772603 | J6: =W6 -> 1 | K6: =X6 -> 1 | L6: =U6 -> No Growth | M6: Fires - Prescribed Fires | N6: Miscellaneous Area Sources | O6: Other Combustion - as Event | P6: Prescribed Forest Burning | Q6: Flaming | R6: Nonpoint | U6: =VLOOKUP(C6,'Surrogate NP'!A:B,2,FALSE) -> No Growth | V6: =CONCATENATE(A6,U6) -> MD-CalvertNo Growth | W6: =VLOOKUP(V6,'NP Surrogates-Update 4.7'!A:C,2,FALSE) -> 1 | X6: =VLOOKUP(V6,'NP Surrogates-Update 4.7'!A:C,3,FALSE) -> 1 | Y6: No Growth
A7: MD-Calvert | B7: NOx | C7: 2103004001 | D7: 1.3014927 | E7: =D7*J7 -> 1.3456534 | F7: =D7*K7 -> 1.3689932 | G7: 4.7610941e-06 | H7: =G7*J7 -> 4.922642e-06 | I7: =G7*K7 -> 5.0080233e-06 | J7: =W7 -> 1.0339308 | K7: =X7 -> 1.051864 | L7: =U7 -> Employment | M7: Fuel Comb - Comm/Institutional - Oil | N7: Stationary Source Fuel Combustion | O7: Commercial/Institutional | P7: Distillate Oil | Q7: Boilers | R7: Nonpoint | U7: =VLOOKUP(C7,'Surrogate NP'!A:B,2,FALSE) -> Employment | V7: =CONCATENATE(A7,U7) -> MD-CalvertEmployment | W7: =VLOOKUP(V7,'NP Surrogates-Update 4.7'!A:C,2,FALSE) -> 1.0339308 | X7: =VLOOKUP(V7,'NP Surrogates-Update 4.7'!A:C,3,FALSE) -> 1.051864 | Y7: Employment
A8: MD-Calvert | B8: NOx | C8: 2103004002 | D8: 2.0686891 | E8: =D8*J8 -> 2.1388814 | F8: =D8*K8 -> 2.1759795 | G8: 7.5676364e-06 | H8: =G8*J8 -> 7.8244126e-06 | I8: =G8*K8 -> 7.960124e-06 | J8: =W8 -> 1.0339308 | K8: =X8 -> 1.051864 | L8: =U8 -> Employment | M8: Fuel Comb - Comm/Institutional - Oil | N8: Stationary Source Fuel Combustion | O8: Commercial/Institutional | P8: Distillate Oil | Q8: IC Engines | R8: Nonpoint | U8: =VLOOKUP(C8,'Surrogate NP'!A:B,2,FALSE) -> Employment | V8: =CONCATENATE(A8,U8) -> MD-CalvertEmployment | W8: =VLOOKUP(V8,'NP Surrogates-Update 4.7'!A:C,2,FALSE) -> 1.0339308 | X8: =VLOOKUP(V8,'NP Surrogates-Update 4.7'!A:C,3,FALSE) -> 1.051864 | Y8: Employment
A9: MD-Calvert | B9: NOx | C9: 2103011000 | D9: 0.026751368 | E9: =D9*J9 -> 0.027659064 | F9: =D9*K9 -> 0.0281388 | G9: 9.7861311e-08 | H9: =G9*J9 -> 1.0118183e-07 | I9: =G9*K9 -> 1.0293679e-07 | J9: =W9 -> 1.0339308 | K9: =X9 -> 1.051864 | L9: =U9 -> Employment | M9: Fuel Comb - Comm/Institutional - Oil | N9: Stationary Source Fuel Combustion | O9: Commercial/Institutional | P9: Kerosene | Q9: Total: All Combustor Types | R9: Nonpoint | U9: =VLOOKUP(C9,'Surrogate NP'!A:B,2,FALSE) -> Employment | V9: =CONCATENATE(A9,U9) -> MD-CalvertEmployment | W9: =VLOOKUP(V9,'NP Surrogates-Update 4.7'!A:C,2,FALSE) -> 1.0339308 | X9: =VLOOKUP(V9,'NP Surrogates-Update 4.7'!A:C,3,FALSE) -> 1.051864 | Y9: Employment
A10: MD-Calvert | B10: NOx | C10: 2103007000 | D10: 1.6043272 | E10: =D10*J10 -> 1.6587633 | F10: =D10*K10 -> 1.6875339 | G10: 0.0050193914 | H10: =G10*J10 -> 0.0051897035 | I10: =G10*K10 -> 0.0052797168 | J10: =W10 -> 1.0339308 | K10: =X10 -> 1.051864 | L10: =U10 -> Employment | M10: Fuel Comb - Comm/Institutional - Other | N10: Stationary Source Fuel Combustion | O10: Commercial/Institutional | P10: Liquified Petroleum Gas (LPG) | Q10: Total: All Combustor Types | R10: Nonpoint | U10: =VLOOKUP(C10,'Surrogate NP'!A:B,2,FALSE) -> Employment | V10: =CONCATENATE(A10,U10) -> MD-CalvertEmployment | W10: =VLOOKUP(V10,'NP Surrogates-Update 4.7'!A:C,2,FALSE) -> 1.0339308 | X10: =VLOOKUP(V10,'NP Surrogates-Update 4.7'!A:C,3,FALSE) -> 1.051864 | Y10: Employment
A11: MD-Calvert | B11: NOx | C11: 2103006000 | D11: 21.230148 | E11: =D11*J11 -> 21.950505 | F11: =D11*K11 -> 22.331228 | G11: 0.066421877 | H11: =G11*J11 -> 0.068675626 | I11: =G11*K11 -> 0.069866778 | J11: =W11 -> 1.0339308 | K11: =X11 -> 1.051864 | L11: =U11 -> Employment | M11: Fuel Comb - Comm/Institutional - Natural Gas | N11: Stationary Source Fuel Combustion | O11: Commercial/Institutional | P11: Natural Gas | Q11: Total: Boilers and IC Engines | R11: Nonpoint | U11: =VLOOKUP(C11,'Surrogate NP'!A:B,2,FALSE) -> Employment | V11: =CONCATENATE(A11,U11) -> MD-CalvertEmployment | W11: =VLOOKUP(V11,'NP Surrogates-Update 4.7'!A:C,2,FALSE) -> 1.0339308 | X11: =VLOOKUP(V11,'NP Surrogates-Update 4.7'!A:C,3,FALSE) -> 1.051864 | Y11: Employment
A12: MD-Calvert | B12: NOx | C12: 2103008000 | D12: 0.80150118 | E12: =D12*J12 -> 0.82869678 | F12: =D12*K12 -> 0.8430702 | G12: 2.9320353e-06 | H12: =G12*J12 -> 3.0315217e-06 | I12: =G12*K12 -> 3.0841023e-06 | J12: =W12 -> 1.0339308 | K12: =X12 -> 1.051864 | L12: =U12 -> Employment | M12: Fuel Comb - Comm/Institutional - Biomass | N12: Stationary Source Fuel Combustion | O12: Commercial/Institutional | P12: Wood | Q12: Total: All Boiler Types | R12: Nonpoint | U12: =VLOOKUP(C12,'Surrogate NP'!A:B,2,FALSE) -> Employment | V12: =CONCATENATE(A12,U12) -> MD-CalvertEmployment | W12: =VLOOKUP(V12,'NP Surrogates-Update 4.7'!A:C,2,FALSE) -> 1.0339308 | X12: =VLOOKUP(V12,'NP Surrogates-Update 4.7'!A:C,3,FALSE) -> 1.051864 | Y12: Employment
A13: MD-Calvert | B13: NOx | C13: 2102001000 | D13: 0.84779087 | E13: =D13*J13 -> 0.84779087 | F13: =D13*K13 -> 0.84779087 | G13: 0 | H13: =G13*J13 -> 0 | I13: =G13*K13 -> 0 | J13: =W13 -> 1 | K13: =X13 -> 1 | L13: =U13 -> No Growth | M13: Fuel Comb - Industrial Boilers, ICEs - Coal | N13: Stationary Source Fuel Combustion | O13: Industrial | P13: Anthracite Coal | Q13: Total: All Boiler Types | R13: Nonpoint | U13: =VLOOKUP(C13,'Surrogate NP'!A:B,2,FALSE) -> No Growth | V13: =CONCATENATE(A13,U13) -> MD-CalvertNo Growth | W13: =VLOOKUP(V13,'NP Surrogates-Update 4.7'!A:C,2,FALSE) -> 1 | X13: =VLOOKUP(V13,'NP Surrogates-Update 4.7'!A:C,3,FALSE) -> 1 | Y13: No Growth
... A36: MD-Calvert | B36: NOx | C36: 2610000500 | D36: 8.581144 | E36: =D36*J36 -> 8.581144 | F36: =D36*K36 -> 8.581144 | G36: 0.023509984 | H36: =G36*J36 -> 0.023509984 | I36: =G36*K36 -> 0.023509984 | J36: =W36 -> 1 | K36: =X36 -> 1 | L36: =U36 -> No Growth | M36: Waste Disposal | N36: Waste Disposal, Treatment, and Recovery | O36: Open Burning | P36: All Categories | Q36: Land Clearing Debris (use 28-10-005-000 for Logging Debris Burning) | R36: Nonpoint | U36: =VLOOKUP(C36,'Surrogate NP'!A:B,2,FALSE) -> No Growth | V36: =CONCATENATE(A36,U36) -> MD-CalvertNo Growth | W36: =VLOOKUP(V36,'NP Surrogates-Update 4.7'!A:C,2,FALSE) -> 1 | X36: =VLOOKUP(V36,'NP Surrogates-Update 4.7'!A:C,3,FALSE) -> 1 | Y36: No Growth
A37: MD-Calvert | B37: NOx | C37: 2810001001 | D37: 0.000464 | E37: =D37*J37 -> 0.000464 | F37: =D37*K37 -> 0.000464 | G37: 1.2712329e-06 | H37: =G37*J37 -> 1.2712329e-06 | I37: =G37*K37 -> 1.2712329e-06 | J37: =W37 -> 1 | K37: =X37 -> 1 | L37: =U37 -> No Growth | M37: Fires-Wildfire | R37: Nonpoint | U37: =VLOOKUP(C37,'Surrogate NP'!A:B,2,FALSE) -> No Growth | V37: =CONCATENATE(A37,U37) -> MD-CalvertNo Growth | W37: =VLOOKUP(V37,'NP Surrogates-Update 4.7'!A:C,2,FALSE) -> 1 | X37: =VLOOKUP(V37,'NP Surrogates-Update 4.7'!A:C,3,FALSE) -> 1 | Y37: No Growth
A38: MD-Calvert | B38: NOx | C38: 2810001002 | D38: 0.318748 | E38: =D38*J38 -> 0.318748 | F38: =D38*K38 -> 0.318748 | G38: 0.00087328219 | H38: =G38*J38 -> 0.00087328219 | I38: =G38*K38 -> 0.00087328219 | J38: =W38 -> 1 | K38: =X38 -> 1 | L38: =U38 -> No Growth | M38: Fires-Wildfire | R38: Nonpoint | U38: =VLOOKUP(C38,'Surrogate NP'!A:B,2,FALSE) -> No Growth | V38: =CONCATENATE(A38,U38) -> MD-CalvertNo Growth | W38: =VLOOKUP(V38,'NP Surrogates-Update 4.7'!A:C,2,FALSE) -> 1 | X38: =VLOOKUP(V38,'NP Surrogates-Update 4.7'!A:C,3,FALSE) -> 1 | Y38: No Growth
A39: MD-Calvert | B39: NOx | C39: 2610000400 | D39: 0.1628157 | E39: =D39*J39 -> 0.1628157 | F39: =D39*K39 -> 0.1628157 | G39: 0.0001070569 | H39: =G39*J39 -> 0.0001070569 | I39: =G39*K39 -> 0.0001070569 | J39: =W39 -> 1 | K39: =X39 -> 1 | L39: =U39 -> No Growth | M39: Waste Disposal | N39: Waste Disposal, Treatment, and Recovery | O39: Open Burning | P39: All Categories | Q39: Yard Waste - Brush Species Unspecified | R39: Nonpoint | U39: =VLOOKUP(C39,'Surrogate NP'!A:B,2,FALSE) -> No Growth | V39: =CONCATENATE(A39,U39) -> MD-CalvertNo Growth | W39: =VLOOKUP(V39,'NP Surrogates-Update 4.7'!A:C,2,FALSE) -> 1 | X39: =VLOOKUP(V39,'NP Surrogates-Update 4.7'!A:C,3,FALSE) -> 1 | Y39: No Growth
A40: MD-Calvert | B40: NOx | C40: 2610000100 | D40: 0.2018914 | E40: =D40*J40 -> 0.2018914 | F40: =D40*K40 -> 0.2018914 | G40: 0 | H40: =G40*J40 -> 0 | I40: =G40*K40 -> 0 | J40: =W40 -> 1 | K40: =X40 -> 1 | L40: =U40 -> No Growth | M40: Waste Disposal | N40: Waste Disposal, Treatment, and Recovery | O40: Open Burning | P40: All Categories | Q40: Yard Waste - Leaf Species Unspecified | R40: Nonpoint | U40: =VLOOKUP(C40,'Surrogate NP'!A:B,2,FALSE) -> No Growth | V40: =CONCATENATE(A40,U40) -> MD-CalvertNo Growth | W40: =VLOOKUP(V40,'NP Surrogates-Update 4.7'!A:C,2,FALSE) -> 1 | X40: =VLOOKUP(V40,'NP Surrogates-Update 4.7'!A:C,3,FALSE) -> 1 | Y40: No Growth
A41: MD-Calvert | B41: NOx | C41: 2610030000 | D41: 10.25108 | E41: =D41*J41 -> 10.25108 | F41: =D41*K41 -> 10.25108 | G41: 0.028085151 | H41: =G41*J41 -> 0.028085151 | I41: =G41*K41 -> 0.028085151 | J41: =W41 -> 1 | K41: =X41 -> 1 | L41: =U41 -> No Growth | M41: Waste Disposal | N41: Waste Disposal, Treatment, and Recovery | O41: Open Burning | P41: Residential | Q41: Household Waste (use 26-10-000-xxx for Yard Wastes) | R41: Nonpoint | U41: =VLOOKUP(C41,'Surrogate NP'!A:B,2,FALSE) -> No Growth | V41: =CONCATENATE(A41,U41) -> MD-CalvertNo Growth | W41: =VLOOKUP(V41,'NP Surrogates-Update 4.7'!A:C,2,FALSE) -> 1 | X41: =VLOOKUP(V41,'NP Surrogates-Update 4.7'!A:C,3,FALSE) -> 1 | Y41: No Growth
A42: MD-Calvert | B42: NOx | C42: 2102007000 | D42: 0.015469 | E42: =D42*J42 -> 0.015469 | F42: =D42*K42 -> 0.015469 | G42: 4.9580128e-05 | H42: =G42*J42 -> 4.9580128e-05 | I42: =G42*K42 -> 4.9580128e-05 | J42: =W42 -> 1 | K42: =X42 -> 1 | L42: =U42 -> No Growth | M42: Fuel Combustion LPG Industrial | R42: Nonpoint | U42: =VLOOKUP(C42,'Surrogate NP'!A:B,2,FALSE) -> No Growth | V42: =CONCATENATE(A42,U42) -> MD-CalvertNo Growth | W42: =VLOOKUP(V42,'NP Surrogates-Update 4.7'!A:C,2,FALSE) -> 1 | X42: =VLOOKUP(V42,'NP Surrogates-Update 4.7'!A:C,3,FALSE) -> 1 | Y42: No Growth
A43: MD-Calvert | B43: NOx | C43: 2103005000 | D43: 0.04433014 | E43: =D43*J43 -> 0.04433014 | F43: =D43*K43 -> 0.04433014 | G43: 0.00014208378 | H43: =G43*J43 -> 0.00014208378 | I43: =G43*K43 -> 0.00014208378 | J43: =W43 -> 1 | K43: =X43 -> 1 | L43: =U43 -> No Growth | M43: Fuel Combustion Residual Comm/Institutional | R43: Nonpoint | U43: =VLOOKUP(C43,'Surrogate NP'!A:B,2,FALSE) -> No Growth | V43: =CONCATENATE(A43,U43) -> MD-CalvertNo Growth | W43: =VLOOKUP(V43,'NP Surrogates-Update 4.7'!A:C,2,FALSE) -> 1 | X43: =VLOOKUP(V43,'NP Surrogates-Update 4.7'!A:C,3,FALSE) -> 1 | Y43: No Growth
A44: MD-Calvert | B44: NOx | C44: 2102005000 | D44: 0.018720444 | E44: =D44*J44 -> 0.018720444 | F44: =D44*K44 -> 0.018720444 | G44: 6.0001424e-05 | H44: =G44*J44 -> 6.0001424e-05 | I44: =G44*K44 -> 6.0001424e-05 | J44: =W44 -> 1 | K44: =X44 -> 1 | L44: =U44 -> No Growth | M44: Fuel Combustion Residual Industrial | R44: Nonpoint | U44: =VLOOKUP(C44,'Surrogate NP'!A:B,2,FALSE) -> No Growth | V44: =CONCATENATE(A44,U44) -> MD-CalvertNo Growth | W44: =VLOOKUP(V44,'NP Surrogates-Update 4.7'!A:C,2,FALSE) -> 1 | X44: =VLOOKUP(V44,'NP Surrogates-Update 4.7'!A:C,3,FALSE) -> 1 | Y44: No Growth
A45: MD-Calvert | B45: NOx | C45: 2102004001 | D45: 0.061520805 | E45: =D45*J45 -> 0.061520805 | F45: =D45*K45 -> 0.061520805 | G45: 0.00019718207 | H45: =G45*J45 -> 0.00019718207 | I45: =G45*K45 -> 0.00019718207 | J45: =W45 -> 1 | K45: =X45 -> 1 | L45: =U45 -> No Growth | M45: Fuel Combustion Distillate Industrial | R45: Nonpoint | U45: =VLOOKUP(C45,'Surrogate NP'!A:B,2,FALSE) -> No Growth | V45: =CONCATENATE(A45,U45) -> MD-CalvertNo Growth | W45: =VLOOKUP(V45,'NP Surrogates-Update 4.7'!A:C,2,FALSE) -> 1 | X45: =VLOOKUP(V45,'NP Surrogates-Update 4.7'!A:C,3,FALSE) -> 1 | Y45: No Growth
A46: MD-Calvert | B46: NOx | C46: 2102004002 | D46: 1.2386189 | E46: =D46*J46 -> 1.2386189 | F46: =D46*K46 -> 1.2386189 | G46: 0.0039699323 | H46: =G46*J46 -> 0.0039699323 | I46: =G46*K46 -> 0.0039699323 | J46: =W46 -> 1 | K46: =X46 -> 1 | L46: =U46 -> No Growth | M46: Fuel Combustion Distillate Industrial | R46: Nonpoint | U46: =VLOOKUP(C46,'Surrogate NP'!A:B,2,FALSE) -> No Growth | V46: =CONCATENATE(A46,U46) -> MD-CalvertNo Growth | W46: =VLOOKUP(V46,'NP Surrogates-Update 4.7'!A:C,2,FALSE) -> 1 | X46: =VLOOKUP(V46,'NP Surrogates-Update 4.7'!A:C,3,FALSE) -> 1 | Y46: No Growth
A47: MD-Calvert | B47: NOx | C47: 2810030000 | D47: 0.02819127 | E47: =D47*J47 -> 0.02819127 | F47: =D47*K47 -> 0.02819127 | G47: 6.1789085e-05 | H47: =G47*J47 -> 6.1789085e-05 | I47: =G47*K47 -> 6.1789085e-05 | J47: =W47 -> 1 | K47: =X47 -> 1 | L47: =U47 -> No Growth | M47: Structure Fires | R47: Nonpoint | U47: =VLOOKUP(C47,'Surrogate NP'!A:B,2,FALSE) -> No Growth | V47: =CONCATENATE(A47,U47) -> MD-CalvertNo Growth | W47: =VLOOKUP(V47,'NP Surrogates-Update 4.7'!A:C,2,FALSE) -> 1 | X47: =VLOOKUP(V47,'NP Surrogates-Update 4.7'!A:C,3,FALSE) -> 1 | Y47: No Growth
A48: MD-Calvert | B48: NOx | C48: 2810050000 | D48: 0.0524256 | E48: =D48*J48 -> 0.0524256 | F48: =D48*K48 -> 0.0524256 | G48: 0.00014363178 | H48: =G48*J48 -> 0.00014363178 | I48: =G48*K48 -> 0.00014363178 | J48: =W48 -> 1 | K48: =X48 -> 1 | L48: =U48 -> No Growth | M48: Vehicle Fires | R48: Nonpoint | U48: =VLOOKUP(C48,'Surrogate NP'!A:B,2,FALSE) -> No Growth | V48: =CONCATENATE(A48,U48) -> MD-CalvertNo Growth | W48: =VLOOKUP(V48,'NP Surrogates-Update 4.7'!A:C,2,FALSE) -> 1 | X48: =VLOOKUP(V48,'NP Surrogates-Update 4.7'!A:C,3,FALSE) -> 1 | Y48: No Growth
A49: MD-Calvert | B49: NOX | C49: 2810060200 | D49: 1.638195e-05 | E49: =D49*J49 -> 1.638195e-05 | F49: =D49*K49 -> 1.638195e-05 | G49: 7.5609e-08 | H49: =G49*J49 -> 7.5609e-08 | I49: =G49*K49 -> 7.5609e-08 | J49: =W49 -> 1 | K49: =X49 -> 1 | L49: =U49 -> No Growth | M49: Animal Cremation | R49: Nonpoint | U49: =VLOOKUP(C49,'Surrogate NP'!A:B,2,FALSE) -> No Growth | V49: =CONCATENATE(A49,U49) -> MD-CalvertNo Growth | W49: =VLOOKUP(V49,'NP Surrogates-Update 4.7'!A:C,2,FALSE) -> 1 | X49: =VLOOKUP(V49,'NP Surrogates-Update 4.7'!A:C,3,FALSE) -> 1 | Y49: No Growth
A50: MD-Calvert Total | D50: =SUBTOTAL(9,D2:D49) -> 122.06971 | E50: =SUBTOTAL(9,E2:E49) -> 126.96617 | F50: =SUBTOTAL(9,F2:F49) -> 128.69995 | G50: =SUBTOTAL(9,G2:G49) -> 0.24947636 | H50: =SUBTOTAL(9,H2:H49) -> 0.25662034 | I50: =SUBTOTAL(9,I2:I49) -> 0.25938436
A51: MD-Charles | B51: NOx | C51: 2801500141 | D51: 0.474378 | E51: =D51*J51 -> 0.474378 | F51: =D51*K51 -> 0.474378 | G51: 0.0012996658 | H51: =G51*J51 -> 0.0012996658 | I51: =G51*K51 -> 0.0012996658 | J51: =W51 -> 1 | K51: =X51 -> 1 | L51: =U51 -> No Growth | M51: Fires - Agricultural Field Burning | N51: Miscellaneous Area Sources | O51: Agriculture Production - Crops | P51: Agricultural Field Burning - whole field set on fire | Q51: Field Crop is Bean (red): Headfire Burning | R51: Nonpoint | U51: =VLOOKUP(C51,'Surrogate NP'!A:B,2,FALSE) -> No Growth | V51: =CONCATENATE(A51,U51) -> MD-CharlesNo Growth | W51: =VLOOKUP(V51,'NP Surrogates-Update 4.7'!A:C,2,FALSE) -> 1 | X51: =VLOOKUP(V51,'NP Surrogates-Update 4.7'!A:C,3,FALSE) -> 1 | Y51: No Growth
A52: MD-Charles | B52: NOx | C52: 2801500150 | D52: 3.205552 | E52: =D52*J52 -> 3.205552 | F52: =D52*K52 -> 3.205552 | G52: 0.0087823342 | H52: =G52*J52 -> 0.0087823342 | I52: =G52*K52 -> 0.0087823342 | J52: =W52 -> 1 | K52: =X52 -> 1 | L52: =U52 -> No Growth | M52: Fires - Agricultural Field Burning | N52: Miscellaneous Area Sources | O52: Agriculture Production - Crops | P52: Agricultural Field Burning - whole field set on fire | Q52: Field Crop is Corn: Burning Techniques Not Important | R52: Nonpoint | U52: =VLOOKUP(C52,'Surrogate NP'!A:B,2,FALSE) -> No Growth | V52: =CONCATENATE(A52,U52) -> MD-CharlesNo Growth | W52: =VLOOKUP(V52,'NP Surrogates-Update 4.7'!A:C,2,FALSE) -> 1 | X52: =VLOOKUP(V52,'NP Surrogates-Update 4.7'!A:C,3,FALSE) -> 1 | Y52: No Growth
A53: MD-Charles | B53: NOx | C53: 2810060100 | D53: 0.11998722 | E53: =D53*J53 -> 0.13844342 | F53: =D53*K53 -> 0.1462819 | G53: 0.00046148932 | H53: =G53*J53 -> 0.00053247471 | I53: =G53*K53 -> 0.00056262269 | J53: =W53 -> 1.1538181 | K53: =X53 -> 1.2191456 | L53: =U53 -> Population | M53: Miscellaneous Non-Industrial Not Elsewhere Classified | N53: Miscellaneous Area Sources | O53: Other Combustion | P53: Cremation | Q53: Humans | R53: Nonpoint | U53: =VLOOKUP(C53,'Surrogate NP'!A:B,2,FALSE) -> Population | V53: =CONCATENATE(A53,U53) -> MD-CharlesPopulation | W53: =VLOOKUP(V53,'NP Surrogates-Update 4.7'!A:C,2,FALSE) -> 1.1538181 | X53: =VLOOKUP(V53,'NP Surrogates-Update 4.7'!A:C,3,FALSE) -> 1.2191456 | Y53: Population
A54: MD-Charles | B54: NOx | C54: 2810005001 | D54: 0.000916 | E54: =D54*J54 -> 0.000916 | F54: =D54*K54 -> 0.000916 | G54: 2.509589e-06 | H54: =G54*J54 -> 2.509589e-06 | I54: =G54*K54 -> 2.509589e-06 | J54: =W54 -> 1 | K54: =X54 -> 1 | L54: =U54 -> No Growth | M54: Waste Disposal | N54: Miscellaneous Area Sources | O54: Other Combustion | P54: Managed Burning, Slash (Logging Debris) | Q54: Pile Burning | R54: Nonpoint | U54: =VLOOKUP(C54,'Surrogate NP'!A:B,2,FALSE) -> No Growth | V54: =CONCATENATE(A54,U54) -> MD-CharlesNo Growth | W54: =VLOOKUP(V54,'NP Surrogates-Update 4.7'!A:C,2,FALSE) -> 1 | X54: =VLOOKUP(V54,'NP Surrogates-Update 4.7'!A:C,3,FALSE) -> 1 | Y54: No Growth
A55: MD-Charles | B55: NOx | C55: 2810025000 | D55: 0.9844864 | E55: =D55*J55 -> 1.1359182 | F55: =D55*K55 -> 1.2002323 | G55: 0.002697223 | H55: =G55*J55 -> 0.0031121046 | I55: =G55*K55 -> 0.0032883077 | J55: =W55 -> 1.1538181 | K55: =X55 -> 1.2191456 | L55: =U55 -> Population | M55: Miscellaneous Non-Industrial Not Elsewhere Classified | N55: Miscellaneous Area Sources | O55: Other Combustion | P55: Residential Grilling (see 23-02-002-xxx for Commercial) | Q55: Total | R55: Nonpoint | U55: =VLOOKUP(C55,'Surrogate NP'!A:B,2,FALSE) -> Population | V55: =CONCATENATE(A55,U55) -> MD-CharlesPopulation | W55: =VLOOKUP(V55,'NP Surrogates-Update 4.7'!A:C,2,FALSE) -> 1.1538181 | X55: =VLOOKUP(V55,'NP Surrogates-Update 4.7'!A:C,3,FALSE) -> 1.2191456 | Y55: Population
A56: MD-Charles | B56: NOx | C56: 2811015002 | D56: 9.88627 | E56: =D56*J56 -> 9.88627 | F56: =D56*K56 -> 9.88627 | G56: 0.027085671 | H56: =G56*J56 -> 0.027085671 | I56: =G56*K56 -> 0.027085671 | J56: =W56 -> 1 | K56: =X56 -> 1 | L56: =U56 -> No Growth | M56: Fires - Prescribed Fires | N56: Miscellaneous Area Sources | O56: Other Combustion - as Event | P56: Prescribed Forest Burning | Q56: Flaming | R56: Nonpoint | U56: =VLOOKUP(C56,'Surrogate NP'!A:B,2,FALSE) -> No Growth | V56: =CONCATENATE(A56,U56) -> MD-CharlesNo Growth | W56: =VLOOKUP(V56,'NP Surrogates-Update 4.7'!A:C,2,FALSE) -> 1 | X56: =VLOOKUP(V56,'NP Surrogates-Update 4.7'!A:C,3,FALSE) -> 1 | Y56: No Growth
A57: MD-Charles | B57: NOx | C57: 2811015001 | D57: 0.000487 | E57: =D57*J57 -> 0.000487 | F57: =D57*K57 -> 0.000487 | G57: 1.3342466e-06 | H57: =G57*J57 -> 1.3342466e-06 | I57: =G57*K57 -> 1.3342466e-06 | J57: =W57 -> 1 | K57: =X57 -> 1 | L57: =U57 -> No Growth | M57: Fires - Prescribed Fires | N57: Miscellaneous Area Sources | O57: Other Combustion - as Event | P57: Prescribed Forest Burning | Q57: Smoldering | R57: Nonpoint | U57: =VLOOKUP(C57,'Surrogate NP'!A:B,2,FALSE) -> No Growth | V57: =CONCATENATE(A57,U57) -> MD-CharlesNo Growth | W57: =VLOOKUP(V57,'NP Surrogates-Update 4.7'!A:C,2,FALSE) -> 1 | X57: =VLOOKUP(V57,'NP Surrogates-Update 4.7'!A:C,3,FALSE) -> 1 | Y57: No Growth
A58: MD-Charles | B58: NOx | C58: 2810001001 | D58: 0.000287 | E58: =D58*J58 -> 0.000287 | F58: =D58*K58 -> 0.000287 | G58: 7.8630137e-07 | H58: =G58*J58 -> 7.8630137e-07 | I58: =G58*K58 -> 7.8630137e-07 | J58: =W58 -> 1 | K58: =X58 -> 1 | L58: =U58 -> No Growth | M58: Fires-Wildfire | R58: Nonpoint | U58: =VLOOKUP(C58,'Surrogate NP'!A:B,2,FALSE) -> No Growth | V58: =CONCATENATE(A58,U58) -> MD-CharlesNo Growth | W58: =VLOOKUP(V58,'NP Surrogates-Update 4.7'!A:C,2,FALSE) -> 1 | X58: =VLOOKUP(V58,'NP Surrogates-Update 4.7'!A:C,3,FALSE) -> 1 | Y58: No Growth
A59: MD-Charles | B59: NOx | C59: 2810001002 | D59: 0.206613 | E59: =D59*J59 -> 0.206613 | F59: =D59*K59 -> 0.206613 | G59: 0.00056606301 | H59: =G59*J59 -> 0.00056606301 | I59: =G59*K59 -> 0.00056606301 | J59: =W59 -> 1 | K59: =X59 -> 1 | L59: =U59 -> No Growth | M59: Fires-Wildfire | R59: Nonpoint | U59: =VLOOKUP(C59,'Surrogate NP'!A:B,2,FALSE) -> No Growth | V59: =CONCATENATE(A59,U59) -> MD-CharlesNo Growth | W59: =VLOOKUP(V59,'NP Surrogates-Update 4.7'!A:C,2,FALSE) -> 1 | X59: =VLOOKUP(V59,'NP Surrogates-Update 4.7'!A:C,3,FALSE) -> 1 | Y59: No Growth
A60: MD-Charles | B60: NOx | C60: 2103004001 | D60: 2.470588 | E60: =D60*J60 -> 2.8398328 | F60: =D60*K60 -> 3.055026 | G60: 9.0378548e-06 | H60: =G60*J60 -> 1.0388619e-05 | I60: =G60*K60 -> 1.1175834e-05 | J60: =W60 -> 1.1494563 | K60: =X60 -> 1.2365583 | L60: =U60 -> Employment | M60: Fuel Comb - Comm/Institutional - Oil | N60: Stationary Source Fuel Combustion | O60: Commercial/Institutional | P60: Distillate Oil | Q60: Boilers | R60: Nonpoint | U60: =VLOOKUP(C60,'Surrogate NP'!A:B,2,FALSE) -> Employment | V60: =CONCATENATE(A60,U60) -> MD-CharlesEmployment | W60: =VLOOKUP(V60,'NP Surrogates-Update 4.7'!A:C,2,FALSE) -> 1.1494563 | X60: =VLOOKUP(V60,'NP Surrogates-Update 4.7'!A:C,3,FALSE) -> 1.2365583 | Y60: Employment
A61: MD-Charles | B61: NOx | C61: 2103004002 | D61: 3.9269345 | E61: =D61*J61 -> 4.5138394 | F61: =D61*K61 -> 4.8558833 | G61: 1.4365432e-05 | H61: =G61*J61 -> 1.6512436e-05 | I61: =G61*K61 -> 1.7763694e-05 | J61: =W61 -> 1.1494563 | K61: =X61 -> 1.2365583 | L61: =U61 -> Employment | M61: Fuel Comb - Comm/Institutional - Oil | N61: Stationary Source Fuel Combustion | O61: Commercial/Institutional | P61: Distillate Oil | Q61: IC Engines | R61: Nonpoint | U61: =VLOOKUP(C61,'Surrogate NP'!A:B,2,FALSE) -> Employment | V61: =CONCATENATE(A61,U61) -> MD-CharlesEmployment | W61: =VLOOKUP(V61,'NP Surrogates-Update 4.7'!A:C,2,FALSE) -> 1.1494563 | X61: =VLOOKUP(V61,'NP Surrogates-Update 4.7'!A:C,3,FALSE) -> 1.2365583 | Y61: Employment
A62: MD-Charles | B62: NOx | C62: 2103011000 | D62: 0.050781388 | E62: =D62*J62 -> 0.058370984 | F62: =D62*K62 -> 0.062794146 | G62: 1.8576744e-07 | H62: =G62*J62 -> 2.1353155e-07 | I62: =G62*K62 -> 2.2971227e-07 | J62: =W62 -> 1.1494563 | K62: =X62 -> 1.2365583 | L62: =U62 -> Employment | M62: Fuel Comb - Comm/Institutional - Oil | N62: Stationary Source Fuel Combustion | O62: Commercial/Institutional | P62: Kerosene | Q62: Total: All Combustor Types | R62: Nonpoint | U62: =VLOOKUP(C62,'Surrogate NP'!A:B,2,FALSE) -> Employment | V62: =CONCATENATE(A62,U62) -> MD-CharlesEmployment | W62: =VLOOKUP(V62,'NP Surrogates-Update 4.7'!A:C,2,FALSE) -> 1.1494563 | X62: =VLOOKUP(V62,'NP Surrogates-Update 4.7'!A:C,3,FALSE) -> 1.2365583 | Y62: Employment
...

Sheet NP Surrogates-Update 4.7
A1: Lookup | B1: GF-2032 | C1: GF-2038 | G1: SCC | H1: MD Surrogates | P1: GF-2032 | Q1: GF-2038
A2: MD-CalvertHousehold | B2: 1.0717053 | C2: 1.0941989 | G2: 2275001000 | H2: EPA EMP | P2: 1.0781186 | Q2: 1.1360828
A3: MD-CharlesHousehold | B3: 1.1901346 | C3: 1.2607033 | G3: 2275020000 | H3: EPA EMP | P3: 1.1901346 | Q3: 1.2760094
A4: MD-FrederickHousehold | B4: 1.1641131 | C4: 1.2555086 | G4: 2275050011 | H4: EPA EMP | P4: 1.1641131 | Q4: 1.2746261
A5: MD-MontgomeryHousehold | B5: 1.0822577 | C5: 1.1254829 | G5: 2275050012 | H5: EPA EMP | P5: 1.0822577 | Q5: 1.1336223
A6: MD-Prince George'sHousehold | B6: 1.0807754 | C6: 1.1296394 | G6: 2275060011 | H6: EPA EMP | P6: 1.0807754 | Q6: 1.1380552
A7: MD-CalvertPopulation | B7: 1.0426851 | C7: 1.0572281 | G7: 2275060012 | H7: EPA EMP | P7: 1.0831151 | Q7: 1.1397754
A8: MD-CharlesPopulation | B8: 1.1538181 | C8: 1.2191456 | G8: 2275070000 | H8: SCC Absent in MD | P8: 1.1538181 | Q8: 1.2340005
A9: MD-FrederickPopulation | B9: 1.1642435 | C9: 1.2562188 | G9: 2102001000 | H9: No Growth | P9: 1.1642435 | Q9: 1.2754594
A10: MD-MontgomeryPopulation | B10: 1.0583628 | C10: 1.0918242 | G10: 2102002000 | H10: No Growth | P10: 1.0583628 | Q10: 1.0985016
A11: MD-Prince George'sPopulation | B11: 1.0745674 | C11: 1.1211793 | G11: 2102004001 | H11: No Growth | P11: 1.0745674 | Q11: 1.1295473
A12: MD-CalvertEmployment | B12: 1.0339308 | C12: 1.051864 | G12: 2102004002 | H12: No Growth | P12: 1.0952962 | Q12: 1.1552913
A13: MD-CharlesEmployment | B13: 1.1494563 | C13: 1.2365583 | G13: 2102006000 | H13: No Growth | P13: 1.1494563 | Q13: 1.2517134
... A16: MD-Prince George'sEmployment | B16: 1.0691583 | C16: 1.1120864 | G16: 2102011000 | H16: No Growth | P16: 1.0691583 | Q16: 1.1205492
A17: MD-CalvertNo Growth | B17: 1 | C17: 1 | G17: 2103001000 | H17: Employment
A18: MD-CharlesNo Growth | B18: 1 | C18: 1 | G18: 2103002000 | H18: Employment
A19: MD-FrederickNo Growth | B19: 1 | C19: 1 | G19: 2103004001 | H19: Employment
A20: MD-MontgomeryNo Growth | B20: 1 | C20: 1 | G20: 2103004002 | H20: Employment
A21: MD-Prince George'sNo Growth | B21: 1 | C21: 1 | G21: 2103006000 | H21: Employment
A22: MD-CalvertGas Sales | B22: 0.972643 | C22: 0.948192 | G22: 2103007000 | H22: Employment
A23: MD-CharlesGas Sales | B23: 0.972643 | C23: 0.948192 | G23: 2103008000 | H23: Employment
A24: MD-FrederickGas Sales | B24: 0.972643 | C24: 0.948192 | G24: 2103011000 | H24: Employment
A25: MD-MontgomeryGas Sales | B25: 0.972643 | C25: 0.948192 | G25: 2104004000 | H25: Household
A26: MD-Prince George'sGas Sales | B26: 0.972643 | C26: 0.948192 | G26: 2104006000 | H26: Household
G27: 2104007000 | H27: Household
G28: 2104008100 | H28: Household
G29: 2104008210 | H29: Household
G30: 2104008220 | H30: Household
G31: 2104008230 | H31: Household
G32: 2104008310 | H32: Household
G33: 2104008320 | H33: Household
G34: 2104008330 | H34: Household
G35: 2104008400 | H35: Household
G36: 2104008510 | H36: Household
G37: 2104008530 | H37: Household
G38: 2104008610 | H38: Household
... G184: 2660000000 | H184: No Growth

Sheet Surrogate NP
A1: SCC | B1: MD Surrogates | K1: LookUp | L1: State County FIPS | M1: Growth Basis | N1: County | P1: GF-2032 | Q1: GF-2038
A2: 2275001000 | B2: EPA EMP | K2: 24009HSE | L2: 24009 | M2: HSE | N2: MD-Calvert | O2: =CONCATENATE(N2,M2) -> MD-CalvertHSE | P2: 1.0781186 | Q2: 1.1360828
A3: 2275020000 | B3: EPA EMP | K3: 24017HSE | L3: 24017 | M3: HSE | N3: MD-Charles | O3: =CONCATENATE(N3,M3) -> MD-CharlesHSE | P3: 1.1901346 | Q3: 1.2760094
A4: 2275050011 | B4: EPA EMP | K4: 24021HSE | L4: 24021 | M4: HSE | N4: MD-Frederick | O4: =CONCATENATE(N4,M4) -> MD-FrederickHSE | P4: 1.1641131 | Q4: 1.2746261
A5: 2275050012 | B5: EPA EMP | K5: 24031HSE | L5: 24031 | M5: HSE | N5: MD-Montgomery | O5: =CONCATENATE(N5,M5) -> MD-MontgomeryHSE | P5: 1.0822577 | Q5: 1.1336223
A6: 2275060011 | B6: EPA EMP | K6: 24033HSE | L6: 24033 | M6: HSE | N6: MD-Prince George's | O6: =CONCATENATE(N6,M6) -> MD-Prince George'sHSE | P6: 1.0807754 | Q6: 1.1380552
A7: 2275060012 | B7: EPA EMP | K7: 24009POP | L7: 24009 | M7: POP | N7: MD-Calvert | O7: =CONCATENATE(N7,M7) -> MD-CalvertPOP | P7: 1.0831151 | Q7: 1.1397754
A8: 2275070000 | B8: SCC Absent in MD | K8: 24017POP | L8: 24017 | M8: POP | N8: MD-Charles | O8: =CONCATENATE(N8,M8) -> MD-CharlesPOP | P8: 1.1538181 | Q8: 1.2340005
A9: 2102001000 | B9: No Growth | K9: 24021POP | L9: 24021 | M9: POP | N9: MD-Frederick | O9: =CONCATENATE(N9,M9) -> MD-FrederickPOP | P9: 1.1642435 | Q9: 1.2754594
A10: 2102002000 | B10: No Growth | K10: 24031POP | L10: 24031 | M10: POP | N10: MD-Montgomery | O10: =CONCATENATE(N10,M10) -> MD-MontgomeryPOP | P10: 1.0583628 | Q10: 1.0985016
A11: 2102004001 | B11: No Growth | K11: 24033POP | L11: 24033 | M11: POP | N11: MD-Prince George's | O11: =CONCATENATE(N11,M11) -> MD-Prince George'sPOP | P11: 1.0745674 | Q11: 1.1295473
A12: 2102004002 | B12: No Growth | K12: 24009EMP | L12: 24009 | M12: EMP | N12: MD-Calvert | O12: =CONCATENATE(N12,M12) -> MD-CalvertEMP | P12: 1.0952962 | Q12: 1.1552913
A13: 2102006000 | B13: No Growth | K13: 24017EMP | L13: 24017 | M13: EMP | N13: MD-Charles | O13: =CONCATENATE(N13,M13) -> MD-CharlesEMP | P13: 1.1494563 | Q13: 1.2517134
... A21: 2103006000 | B21: Employment | K21: 24033No Growth | L21: 24033 | M21: No Growth | N21: MD-Prince George's | O21: =CONCATENATE(N21,M21) -> MD-Prince George'sNo Growth | P21: 1 | Q21: 1
A22: 2103007000 | B22: Employment | K22: 24009Gas Sales | M22: Gas Sales | N22: MD-Calvert | O22: =CONCATENATE(N22,M22) -> MD-CalvertGas Sales
A23: 2103008000 | B23: Employment | K23: 24017Gas Sales | M23: Gas Sales | N23: MD-Charles | O23: =CONCATENATE(N23,M23) -> MD-CharlesGas Sales
A24: 2103011000 | B24: Employment | K24: 24021Gas Sales | M24: Gas Sales | N24: MD-Frederick | O24: =CONCATENATE(N24,M24) -> MD-FrederickGas Sales
A25: 2104004000 | B25: Household | K25: 24031Gas Sales | M25: Gas Sales | N25: MD-Montgomery | O25: =CONCATENATE(N25,M25) -> MD-MontgomeryGas Sales
A26: 2104006000 | B26: Household | K26: 24033Gas Sales | M26: Gas Sales | N26: MD-Prince George's | O26: =CONCATENATE(N26,M26) -> MD-Prince George'sGas Sales
A27: 2104007000 | B27: Household
A28: 2104008100 | B28: Household
A29: 2104008210 | B29: Household
A30: 2104008220 | B30: Household
A31: 2104008230 | B31: Household
A32: 2104008310 | B32: Household
A33: 2104008320 | B33: Household
A34: 2104008330 | B34: Household
A35: 2104008400 | B35: Household
A36: 2104008510 | B36: Household
A37: 2104008530 | B37: Household
A38: 2104008610 | B38: Household
... A184: 2660000000 | B184: No Growth

Sheet Quasi by SCC
A1: master ai name | B1: O3 NAA | C1: SCC | D1: operations days per year | E1: 2022NOX (tpy) | F1: 2022VOC (tpy) | G1: 2022NOX (tpd) | H1: 2022VOC (tpd) | I1: NOX 2032 (tpd) | J1: NOX 2038 (tpd) | K1: VOC 2032 (tpd) | L1: VOC 2038 (tpd) | M1: GF-NOX-2032 | N1: GF-NOX-2038 | O1: GF-VOC-2032 | P1: GF-VOC-2038
A2: Andrews Air Force Base | B2: MWCOG | C2: 10300503 | D2: 365 | E2: 0.213525 | F2: 0.01095 | G2: 0.000585 | H2: 3e-05 | I2: =G2*M2 -> 0.000585 | J2: =G2*N2 -> 0.000585 | K2: =H2*O2 -> 3.6270147e-05 | L2: =H2*P2 -> 4.0524778e-05 | M2: 1 | N2: 1 | O2: 1.2090049 | P2: 1.3508259
A3: Andrews Air Force Base | B3: MWCOG | C3: 10300603 | D3: 365 | E3: 2.3141 | F3: 0.1241 | G3: 0.00634 | H3: 0.00034 | I3: =G3*M3 -> 0.00634 | J3: =G3*N3 -> 0.00634 | K3: =H3*O3 -> 0.00041106167 | L3: =H3*P3 -> 0.00045928082 | M3: 1 | N3: 1 | O3: 1.2090049 | P3: 1.3508259
A4: Andrews Air Force Base | B4: MWCOG | C4: 20300101 | D4: 41 | E4: 0.48175 | F4: 0.013325 | G4: 0.01175 | H4: 0.000325 | I4: =G4*M4 -> 0.01175 | J4: =G4*N4 -> 0.01175 | K4: =H4*O4 -> 0.00039292659 | L4: =H4*P4 -> 0.00043901843 | M4: 1 | N4: 1 | O4: 1.2090049 | P4: 1.3508259
A5: Andrews Air Force Base | B5: MWCOG | C5: 40600601 | D5: 365 | E5: 0 | F5: 1.679 | G5: 0 | H5: 0.0046 | I5: =G5*M5 -> 0 | J5: =G5*N5 -> 0 | K5: =H5*O5 -> 0.0055614225 | L5: =H5*P5 -> 0.0062137993 | M5: 1 | N5: 1 | O5: 1.2090049 | P5: 1.3508259
A6: Andrews Air Force Base | B6: MWCOG | C6: 20100102 | D6: 14 | E6: 0.5734 | F6: 0.01726 | G6: 0.03595 | H6: 0.00109 | I6: =G6*M6 -> 0.03595 | J6: =G6*N6 -> 0.03595 | K6: =H6*O6 -> 0.0013178153 | L6: =H6*P6 -> 0.0014724003 | M6: 1 | N6: 1 | O6: 1.2090049 | P6: 1.3508259
A7: Andrews Air Force Base | B7: MWCOG | C7: 20200102 | D7: 19 | E7: 0.3773 | F7: 0.010325 | G7: 0.0155 | H7: 0.000425 | I7: =G7*M7 -> 0.0155 | J7: =G7*N7 -> 0.0155 | K7: =H7*O7 -> 0.00051382708 | L7: =H7*P7 -> 0.00057410102 | M7: 1 | N7: 1 | O7: 1.2090049 | P7: 1.3508259
A8: Andrews Air Force Base | B8: MWCOG | C8: 20100107 | D8: 14 | E8: 0.444 | F8: 0.01225 | G8: 0.0309 | H8: 0.00085 | I8: =G8*M8 -> 0.0309 | J8: =G8*N8 -> 0.0309 | K8: =H8*O8 -> 0.0010276542 | L8: =H8*P8 -> 0.001148202 | M8: 1 | N8: 1 | O8: 1.2090049 | P8: 1.3508259
A9: Andrews Air Force Base | B9: MWCOG | C9: 2275001000 | D9: 365 | E9: 282.7945 | F9: 137.585 | G9: 0.77477945 | H9: 0.37694521 | I9: =G9*M9 -> 0.77477945 | J9: =G9*N9 -> 0.77477945 | K9: =H9*O9 -> 0.37694521 | L9: =H9*P9 -> 0.37694521 | M9: 1 | N9: 1 | O9: 1 | P9: 1
A10: Andrews Air Force Base | B10: MWCOG | C10: 2275020000 | D10: 365 | E10: 1.0976974 | F10: 0.42122659 | G10: 0.0030073901 | H10: 0.0011540455 | I10: =G10*M10 -> 0.0036180928 | J10: =G10*N10 -> 0.0040425338 | K10: =H10*O10 -> 0.0013883944 | L10: =H10*P10 -> 0.0015512679 | M10: 1.2030673 | N10: 1.3442 | O10: 1.2030673 | P10: 1.3442
A11: Andrews Air Force Base | B11: MWCOG | C11: 2275050011 | D11: 365 | E11: 0.03249363 | F11: 0.075222254 | G11: 8.9023644e-05 | H11: 0.00020608837 | I11: =G11*M11 -> 0.00010710144 | J11: =G11*N11 -> 0.00011966558 | K11: =H11*O11 -> 0.00024793818 | L11: =H11*P11 -> 0.00027702398 | M11: 1.2030673 | N11: 1.3442 | O11: 1.2030673 | P11: 1.3442
