Workbook

Sheet Notes
B1: This attached spreadsheet has 8 tabs described below. Emissions are annual (tons per year).
B2: Nonpoint, Point Annual_Daily, Point ERCs, Point GF, M-A-R, NR Mobile, OR Mobile, Quasi Pt
B3: For Nonpoint- Nonpoint from the EPAs emission modeling platform+ MDE (missing from the EPA)
B4: M-A-R- Commercial Marine Vessels (C1C2, C3 files), Aircraft- Included in point inventory but separate folder, RailRoad- from Nonpoint datasets
B5: Quasi Pt (Andrew AFB): From the Pt dataset
B6: Data Source: https://www.epa.gov/air-emissions-modeling/2022v1-emissions-modeling-platform (View the 2022v1 Emissions Data Retrieval Tool)
B8: POINT | C8: Have tpd & tpy. Need to incorporate Doris Mcleods CAMD tpd analysis
C9: Have EPA GF for most Facilities
B10: POINT ERC | C10: Have tpy and tpd data. GF should be 1
B12: NONPOINT | C12: Annual appears done. Need temporalization to tpd and GF (MARAMA)
B14: M-A-R | C14: Annual appears done. Need temporalization to tpd and GF to 2032 & 2038. (MARAMA?)
B16: NR MOBILE MODEL | C16: Sunil will run for all needed years
B18: ONROAD MOBILE | C18: TPB will run for all needed years
B20: QUASI-POINT | C20: Andrews AFB - Do we have daily emissions for Andrews?? | H20: Updated

Sheet Summary
C1: 2022 | D1: 2022 | F1: 2022 | G1: 2022 | I1: 2032 | J1: 2032 | L1: 2038 | M1: 2038
A2: State | B2: Category | C2: NOx (tpy) | D2: VOC (tpy) | F2: NOx (tpd) | G2: VOC (tpd) | I2: NOx (tpd) | J2: VOC (tpd) | L2: NOx (tpd) | M2: VOC (tpd)
A3: Maryland | B3: Point | C3: ='Point Annual_Daily_SCC-Rev2'!G749 -> 2016.402 | D3: ='Point Annual_Daily_SCC-Rev2'!H749 -> 481.11711 | F3: ='Point Annual_Daily_SCC-Rev2'!I749 -> 36.072994 | G3: ='Point Annual_Daily_SCC-Rev2'!J749 -> 2.8725652 | I3: ='Point Annual_Daily_SCC-Rev2'!K749 -> 36.63764 | J3: ='Point Annual_Daily_SCC-Rev2'!O749 -> 2.9897678 | L3: ='Point Annual_Daily_SCC-Rev2'!L749 -> 36.809008 | M3: ='Point Annual_Daily_SCC-Rev2'!P749 -> 3.1494489
A4: Maryland | B4: NonPoint | C4: ='Non Point Rev3'!D248 -> 4733.1236 | D4: ='NonPoint Sunil data in MD forma'!C841 -> 21508.133 | F4: ='Non Point Rev3'!G248 -> 11.927806 | G4: ='Non Point Rev3'!G826 -> 65.439828 | I4: ='Non Point Rev3'!H248 -> 12.721733 | J4: ='Non Point Rev3'!H826 -> 68.380241 | L4: ='Non Point Rev3'!I248 -> 13.144318 | M4: ='Non Point Rev3'!I826 -> 69.754037
A5: Maryland | B5: M-A-R | C5: ='M-A-R Rev2'!C269 -> 1234.8239 | D5: ='Non Point Rev3'!D826 -> 21175.933
A6: Maryland | B6: NR Mobile
A7: Maryland | B7: OR Mobile
A8: Maryland | B8: Quasi Point | C8: ='Quasi Pt V2'!G29 -> 288.50757 | D8: ='Quasi Pt V2'!H29 -> 140.27362 | F8: ='Quasi Pt V2'!I29 -> 0.87939073 | G8: ='Quasi Pt V2'!J29 -> 0.38685565 | I8: ='Quasi by SCC'!I18 -> 0.8800686 | J8: ='Quasi by SCC'!K18 -> 0.38883614 | L8: ='Quasi by SCC'!J18 -> 0.88053867 | M8: ='Quasi by SCC'!L18 -> 0.39018399
C10: =SUM(C3:C8) -> 8272.8571 | D10: =SUM(D3:D8) -> 43305.456 | F10: =SUM(F3:F8) -> 48.880191 | G10: =SUM(G3:G8) -> 68.699249 | I10: =SUM(I3:I8) -> 50.239441 | J10: =SUM(J3:J8) -> 71.758845 | L10: =SUM(L3:L8) -> 50.833865 | M10: =SUM(M3:M8) -> 73.29367

Sheet Hawi_NP
A1: EPA Region | B1: State | C1: State-County | D1: Pollutant | E1: 2022 Emissions (Tons) | F1: 2032 Emissions (Tons) | G1: 2038 Emissions (Tons) | H1: SCC Code | I1: Sector | J1: SCC Level 1 | K1: SCC Level 2 | L1: SCC Level 3 | M1: SCC Level 4 | N1: Source Description
A2: 3 | B2: Maryland | C2: MD-Calvert | D2: NOx | E2: 0.948756 | F2: 0.948756 | G2: 0.948756 | H2: 2801500141 | I2: Fires - Agricultural Field Burning | J2: Miscellaneous Area Sources | K2: Agriculture Production - Crops | L2: Agricultural Field Burning - whole field set on fire | M2: Field Crop is Bean (red): Headfire Burning | N2: Nonpoint
A3: 3 | B3: Maryland | C3: MD-Calvert | D3: NOx | E3: 0.400694 | F3: 0.400694 | G3: 0.400694 | H3: 2801500150 | I3: Fires - Agricultural Field Burning | J3: Miscellaneous Area Sources | K3: Agriculture Production - Crops | L3: Agricultural Field Burning - whole field set on fire | M3: Field Crop is Corn: Burning Techniques Not Important | N3: Nonpoint
A4: 3 | B4: Maryland | C4: MD-Calvert | D4: NOx | E4: 0.069476634 | F4: 0.080229157 | G4: 0.086617585 | H4: 2810060100 | I4: Miscellaneous Non-Industrial Not Elsewhere Classified | J4: Miscellaneous Area Sources | K4: Other Combustion | L4: Cremation | M4: Humans | N4: Nonpoint
A5: 3 | B5: Maryland | C5: MD-Calvert | D5: NOx | E5: 0.5781752 | F5: 0.66765625 | G5: 0.72081989 | H5: 2810025000 | I5: Miscellaneous Non-Industrial Not Elsewhere Classified | J5: Miscellaneous Area Sources | K5: Other Combustion | L5: Residential Grilling (see 23-02-002-xxx for Commercial) | M5: Total | N5: Nonpoint
A6: 3 | B6: Maryland | C6: MD-Calvert | D6: NOx | E6: 2.2547 | F6: 2.2547 | G6: 2.2547 | H6: 2811015002 | I6: Fires - Prescribed Fires | J6: Miscellaneous Area Sources | K6: Other Combustion - as Event | L6: Prescribed Forest Burning | M6: Flaming | N6: Nonpoint
A7: 3 | B7: Maryland | C7: MD-Calvert | D7: NOx | E7: 1.3014927 | F7: 1.3554349 | G7: 1.3365488 | H7: 2103004001 | I7: Fuel Comb - Comm/Institutional - Oil | J7: Stationary Source Fuel Combustion | K7: Commercial/Institutional | L7: Distillate Oil | M7: Boilers | N7: Nonpoint
A8: 3 | B8: Maryland | C8: MD-Calvert | D8: NOx | E8: 2.0686891 | F8: 2.1544289 | G8: 2.1244099 | H8: 2103004002 | I8: Fuel Comb - Comm/Institutional - Oil | J8: Stationary Source Fuel Combustion | K8: Commercial/Institutional | L8: Distillate Oil | M8: IC Engines | N8: Nonpoint
A9: 3 | B9: Maryland | C9: MD-Calvert | D9: NOx | E9: 0.026751368 | F9: 0.017105442 | G9: 0.01427597 | H9: 2103011000 | I9: Fuel Comb - Comm/Institutional - Oil | J9: Stationary Source Fuel Combustion | K9: Commercial/Institutional | L9: Kerosene | M9: Total: All Combustor Types | N9: Nonpoint
A10: 3 | B10: Maryland | C10: MD-Calvert | D10: NOx | E10: 1.6043272 | F10: 2.2846872 | G10: 2.5480812 | H10: 2103007000 | I10: Fuel Comb - Comm/Institutional - Other | J10: Stationary Source Fuel Combustion | K10: Commercial/Institutional | L10: Liquified Petroleum Gas (LPG) | M10: Total: All Combustor Types | N10: Nonpoint
A11: 3 | B11: Maryland | C11: MD-Calvert | D11: NOx | E11: 21.230148 | F11: 18.395022 | G11: 16.925679 | H11: 2103006000 | I11: Fuel Comb - Comm/Institutional - Natural Gas | J11: Stationary Source Fuel Combustion | K11: Commercial/Institutional | L11: Natural Gas | M11: Total: Boilers and IC Engines | N11: Nonpoint
A12: 3 | B12: Maryland | C12: MD-Calvert | D12: NOx | E12: 0.80150118 | F12: 0.80150118 | G12: 0.80150118 | H12: 2103008000 | I12: Fuel Comb - Comm/Institutional - Biomass | J12: Stationary Source Fuel Combustion | K12: Commercial/Institutional | L12: Wood | M12: Total: All Boiler Types | N12: Nonpoint
A13: 3 | B13: Maryland | C13: MD-Calvert | D13: NOx | E13: 0.84779087 | F13: 0.63834186 | G13: 0.5322573 | H13: 2102001000 | I13: Fuel Comb - Industrial Boilers, ICEs - Coal | J13: Stationary Source Fuel Combustion | K13: Industrial | L13: Anthracite Coal | M13: Total: All Boiler Types | N13: Nonpoint
... A245: 3 | B245: Maryland | C245: MD-Calvert | D245: VOC | E245: 0.14384924 | F245: 0.14981128 | G245: 0.14772387 | H245: 2103004002 | I245: Fuel Comb - Comm/Institutional - Oil | J245: Stationary Source Fuel Combustion | K245: Commercial/Institutional | L245: Distillate Oil | M245: IC Engines | N245: Nonpoint
A246: 3 | B246: Maryland | C246: MD-Calvert | D246: VOC | E246: 0.00045477327 | F246: 0.00029079252 | G246: - | H246: 2103011000 | I246: Fuel Comb - Comm/Institutional - Oil | J246: Stationary Source Fuel Combustion | K246: Commercial/Institutional | L246: Kerosene | M246: Total: All Combustor Types | N246: Nonpoint
A247: 3 | B247: Maryland | C247: MD-Calvert | D247: VOC | E247: 0.058626165 | F247: 0.083488238 | G247: 0.09311332 | H247: 2103007000 | I247: Fuel Comb - Comm/Institutional - Other | J247: Stationary Source Fuel Combustion | K247: Commercial/Institutional | L247: Liquified Petroleum Gas (LPG) | M247: Total: All Combustor Types | N247: Nonpoint
A248: 3 | B248: Maryland | C248: MD-Calvert | D248: VOC | E248: 1.1676579 | F248: 1.2178441 | G248: 1.228964 | H248: 2103006000 | I248: Fuel Comb - Comm/Institutional - Natural Gas | J248: Stationary Source Fuel Combustion | K248: Commercial/Institutional | L248: Natural Gas | M248: Total: Boilers and IC Engines | N248: Nonpoint
A249: 3 | B249: Maryland | C249: MD-Calvert | D249: VOC | E249: 0.061934186 | F249: 0.061934186 | G249: 0.061934186 | H249: 2103008000 | I249: Fuel Comb - Comm/Institutional - Biomass | J249: Stationary Source Fuel Combustion | K249: Commercial/Institutional | L249: Wood | M249: Total: All Boiler Types | N249: Nonpoint
A250: 3 | B250: Maryland | C250: MD-Calvert | D250: VOC | E250: 0.028259699 | F250: 0.021278065 | G250: 0.017741912 | H250: 2102001000 | I250: Fuel Comb - Industrial Boilers, ICEs - Coal | J250: Stationary Source Fuel Combustion | K250: Industrial | L250: Anthracite Coal | M250: Total: All Boiler Types | N250: Nonpoint
A251: 3 | B251: Maryland | C251: MD-Calvert | D251: VOC | E251: 0.061627368 | F251: 0.046402162 | G251: 0.038690694 | H251: 2102002000 | I251: Fuel Comb - Industrial Boilers, ICEs - Coal | J251: Stationary Source Fuel Combustion | K251: Industrial | L251: Bituminous/Subbituminous Coal | M251: Total: All Boiler Types | N251: Nonpoint
A252: 3 | B252: Maryland | C252: MD-Calvert | D252: VOC | E252: 0.02250484 | F252: 0.024280234 | G252: 0.025166864 | H252: 2102008000 | I252: Fuel Comb - Industrial Boilers, ICEs - Biomass | J252: Stationary Source Fuel Combustion | K252: Industrial | L252: Wood | M252: Total: All Boiler Types | N252: Nonpoint
A253: 3 | B253: Maryland | C253: MD-Calvert | D253: VOC | E253: 0.73079123 | F253: 0.41229001 | G253: 0.31985466 | H253: 2104004000 | I253: Fuel Comb - Residential - Oil | J253: Stationary Source Fuel Combustion | K253: Residential | L253: Distillate Oil | M253: Total: All Combustor Types | N253: Nonpoint
A254: 3 | B254: Maryland | C254: MD-Calvert | D254: VOC | E254: 1.8007203 | F254: 1.8007203 | G254: 1.8007203 | H254: 2104009000 | I254: Fuel Comb - Residential - Wood | J254: Stationary Source Fuel Combustion | K254: Residential | L254: Firelog | M254: Total: All Combustor Types | N254: Nonpoint
A255: 3 | B255: Maryland | C255: MD-Calvert | D255: VOC | E255: 0.0080083239 | F255: 0.0045180508 | G255: 0.0035051046 | H255: 2104011000 | I255: Fuel Comb - Residential - Oil | J255: Stationary Source Fuel Combustion | K255: Residential | L255: Kerosene | M255: Total: All Heater Types | N255: Nonpoint
A256: 3 | B256: Maryland | C256: MD-Calvert | D256: VOC | E256: 0.6261523 | F256: 0.54999167 | G256: 0.54952449 | H256: 2104007000 | I256: Fuel Comb - Residential - Other | J256: Stationary Source Fuel Combustion | K256: Residential | L256: Liquified Petroleum Gas (LPG) | M256: Total: All Combustor Types | N256: Nonpoint
A257: 3 | B257: Maryland | C257: MD-Calvert | D257: VOC | E257: 0.3348511 | F257: 0.31883238 | G257: 0.31680874 | H257: 2104006000 | I257: Fuel Comb - Residential - Natural Gas | J257: Stationary Source Fuel Combustion | K257: Residential | L257: Natural Gas | M257: Total: All Combustor Types | N257: Nonpoint
A258: 3 | B258: Maryland | C258: MD-Calvert | D258: VOC | E258: 7.6238153 | F258: 7.6238153 | G258: 7.6238153 | H258: 2104008100 | I258: Fuel Comb - Residential - Wood | J258: Stationary Source Fuel Combustion | K258: Residential | L258: Wood | M258: Fireplace: general | N258: Nonpoint
... A671: 3 | B671: Maryland | C671: MD-Prince George's | D671: VOC | E671: 7.066475 | F671: 7.6149746 | G671: 7.892021 | H671: 2630020000 | I671: Waste Disposal | J671: Waste Disposal, Treatment, and Recovery | K671: Wastewater Treatment | L671: Public Owned | M671: Total Processed | N671: Nonpoint
A672: 3 | B672: Maryland | C672: MD-Calvert | D672: VOC | E672: 18.55 | H672: 2440000000 | I672: Industrial Adhesives | N672: Nonpoint
A673: 3 | B673: Maryland | C673: MD-Charles | D673: VOC | E673: 33.67 | H673: 2440000000 | I673: Industrial Adhesives | N673: Nonpoint
A674: 3 | B674: Maryland | C674: MD-Frederick | D674: VOC | E674: 57.45 | H674: 2440000000 | I674: Industrial Adhesives | N674: Nonpoint
A675: 3 | B675: Maryland | C675: MD-Montgomery | D675: VOC | E675: 207.25 | H675: 2440000000 | I675: Industrial Adhesives | N675: Nonpoint
A676: 3 | B676: Maryland | C676: MD-Prince George's | D676: VOC | E676: 185.51 | H676: 2440000000 | I676: Industrial Adhesives | N676: Nonpoint
A677: 3 | B677: Maryland | C677: MD-Calvert | D677: VOC | E677: 0.000565 | H677: 2102007000 | I677: Fuel Combustion LPG Industrial | N677: Nonpoint
A678: 3 | B678: Maryland | C678: MD-Charles | D678: VOC | E678: 0.000839 | H678: 2102007000 | I678: Fuel Combustion LPG Industrial | N678: Nonpoint
A679: 3 | B679: Maryland | C679: MD-Montgomery | D679: VOC | E679: 0.007029 | H679: 2102007000 | I679: Fuel Combustion LPG Industrial | N679: Nonpoint
A680: 3 | B680: Maryland | C680: MD-Prince George's | D680: VOC | E680: 0.008576 | H680: 2102007000 | I680: Fuel Combustion LPG Industrial | N680: Nonpoint
A681: 3 | B681: Maryland | C681: MD-Calvert | D681: NOx | E681: 0.015469 | H681: 2102007000 | I681: Fuel Combustion LPG Industrial | N681: Nonpoint
A682: 3 | B682: Maryland | C682: MD-Charles | D682: NOx | E682: 0.022954 | H682: 2102007000 | I682: Fuel Combustion LPG Industrial | N682: Nonpoint
A683: 3 | B683: Maryland | C683: MD-Montgomery | D683: NOx | E683: 0.192365 | H683: 2102007000 | I683: Fuel Combustion LPG Industrial | N683: Nonpoint
... A776: 3 | B776: Maryland | C776: MD-Prince George's | D776: VOC | E776: 0.024311074 | H776: 2302070005 | I776: Wineries | N776: Nonpoint
A777: 3 | B777: Maryland | C777: MD-Calvert | D777: VOC | E777: 5.5819 | H777: 2620030000 | I777: Landfills
A778: 3 | B778: Maryland | C778: MD-Charles | D778: VOC | E778: 6.5927 | H778: 2620030000 | I778: Landfills
A779: 3 | B779: Maryland | C779: MD-Frederick | D779: VOC | E779: 1.517 | H779: 2620030000 | I779: Landfills
A780: 3 | B780: Maryland | C780: MD-Montgomery | D780: VOC | E780: 41.8178 | H780: 2620030000 | I780: Landfills

Sheet NonPointRev1
A1: EPA Region | B1: State | C1: State-County | D1: Pollutant | E1: 2022 Emissions (Tons) | F1: 2032 Emissions (Tons) | G1: 2038 Emissions (Tons) | H1: SCC Code | I1: Sector | J1: SCC Level 1 | K1: SCC Level 2 | L1: SCC Level 3 | M1: SCC Level 4 | N1: Source Description
A2: 3 | B2: Maryland | C2: MD-Calvert | D2: NOx | E2: 0.948756 | F2: 0.948756 | G2: 0.948756 | H2: 2801500141 | I2: Fires - Agricultural Field Burning | J2: Miscellaneous Area Sources | K2: Agriculture Production - Crops | L2: Agricultural Field Burning - whole field set on fire | M2: Field Crop is Bean (red): Headfire Burning | N2: Nonpoint
A3: 3 | B3: Maryland | C3: MD-Calvert | D3: NOx | E3: 0.400694 | F3: 0.400694 | G3: 0.400694 | H3: 2801500150 | I3: Fires - Agricultural Field Burning | J3: Miscellaneous Area Sources | K3: Agriculture Production - Crops | L3: Agricultural Field Burning - whole field set on fire | M3: Field Crop is Corn: Burning Techniques Not Important | N3: Nonpoint
A4: 3 | B4: Maryland | C4: MD-Calvert | D4: NOx | E4: 0.069476634 | F4: 0.080229157 | G4: 0.086617585 | H4: 2810060100 | I4: Miscellaneous Non-Industrial Not Elsewhere Classified | J4: Miscellaneous Area Sources | K4: Other Combustion | L4: Cremation | M4: Humans | N4: Nonpoint
A5: 3 | B5: Maryland | C5: MD-Calvert | D5: NOx | E5: 0.5781752 | F5: 0.66765625 | G5: 0.72081989 | H5: 2810025000 | I5: Miscellaneous Non-Industrial Not Elsewhere Classified | J5: Miscellaneous Area Sources | K5: Other Combustion | L5: Residential Grilling (see 23-02-002-xxx for Commercial) | M5: Total | N5: Nonpoint
A6: 3 | B6: Maryland | C6: MD-Calvert | D6: NOx | E6: 2.2547 | F6: 2.2547 | G6: 2.2547 | H6: 2811015002 | I6: Fires - Prescribed Fires | J6: Miscellaneous Area Sources | K6: Other Combustion - as Event | L6: Prescribed Forest Burning | M6: Flaming | N6: Nonpoint
A7: 3 | B7: Maryland | C7: MD-Calvert | D7: NOx | E7: 1.3014927 | F7: 1.3554349 | G7: 1.3365488 | H7: 2103004001 | I7: Fuel Comb - Comm/Institutional - Oil | J7: Stationary Source Fuel Combustion | K7: Commercial/Institutional | L7: Distillate Oil | M7: Boilers | N7: Nonpoint
A8: 3 | B8: Maryland | C8: MD-Calvert | D8: NOx | E8: 2.0686891 | F8: 2.1544289 | G8: 2.1244099 | H8: 2103004002 | I8: Fuel Comb - Comm/Institutional - Oil | J8: Stationary Source Fuel Combustion | K8: Commercial/Institutional | L8: Distillate Oil | M8: IC Engines | N8: Nonpoint
A9: 3 | B9: Maryland | C9: MD-Calvert | D9: NOx | E9: 0.026751368 | F9: 0.017105442 | G9: 0.01427597 | H9: 2103011000 | I9: Fuel Comb - Comm/Institutional - Oil | J9: Stationary Source Fuel Combustion | K9: Commercial/Institutional | L9: Kerosene | M9: Total: All Combustor Types | N9: Nonpoint
A10: 3 | B10: Maryland | C10: MD-Calvert | D10: NOx | E10: 1.6043272 | F10: 2.2846872 | G10: 2.5480812 | H10: 2103007000 | I10: Fuel Comb - Comm/Institutional - Other | J10: Stationary Source Fuel Combustion | K10: Commercial/Institutional | L10: Liquified Petroleum Gas (LPG) | M10: Total: All Combustor Types | N10: Nonpoint
A11: 3 | B11: Maryland | C11: MD-Calvert | D11: NOx | E11: 21.230148 | F11: 18.395022 | G11: 16.925679 | H11: 2103006000 | I11: Fuel Comb - Comm/Institutional - Natural Gas | J11: Stationary Source Fuel Combustion | K11: Commercial/Institutional | L11: Natural Gas | M11: Total: Boilers and IC Engines | N11: Nonpoint
A12: 3 | B12: Maryland | C12: MD-Calvert | D12: NOx | E12: 0.80150118 | F12: 0.80150118 | G12: 0.80150118 | H12: 2103008000 | I12: Fuel Comb - Comm/Institutional - Biomass | J12: Stationary Source Fuel Combustion | K12: Commercial/Institutional | L12: Wood | M12: Total: All Boiler Types | N12: Nonpoint
A13: 3 | B13: Maryland | C13: MD-Calvert | D13: NOx | E13: 0.84779087 | F13: 0.63834186 | G13: 0.5322573 | H13: 2102001000 | I13: Fuel Comb - Industrial Boilers, ICEs - Coal | J13: Stationary Source Fuel Combustion | K13: Industrial | L13: Anthracite Coal | M13: Total: All Boiler Types | N13: Nonpoint
... A245: 3 | B245: Maryland | C245: MD-Calvert | D245: VOC | E245: 0.14384924 | F245: 0.14981128 | G245: 0.14772387 | H245: 2103004002 | I245: Fuel Comb - Comm/Institutional - Oil | J245: Stationary Source Fuel Combustion | K245: Commercial/Institutional | L245: Distillate Oil | M245: IC Engines | N245: Nonpoint
A246: 3 | B246: Maryland | C246: MD-Calvert | D246: VOC | E246: 0.00045477327 | F246: 0.00029079252 | G246: - | H246: 2103011000 | I246: Fuel Comb - Comm/Institutional - Oil | J246: Stationary Source Fuel Combustion | K246: Commercial/Institutional | L246: Kerosene | M246: Total: All Combustor Types | N246: Nonpoint
A247: 3 | B247: Maryland | C247: MD-Calvert | D247: VOC | E247: 0.058626165 | F247: 0.083488238 | G247: 0.09311332 | H247: 2103007000 | I247: Fuel Comb - Comm/Institutional - Other | J247: Stationary Source Fuel Combustion | K247: Commercial/Institutional | L247: Liquified Petroleum Gas (LPG) | M247: Total: All Combustor Types | N247: Nonpoint
A248: 3 | B248: Maryland | C248: MD-Calvert | D248: VOC | E248: 1.1676579 | F248: 1.2178441 | G248: 1.228964 | H248: 2103006000 | I248: Fuel Comb - Comm/Institutional - Natural Gas | J248: Stationary Source Fuel Combustion | K248: Commercial/Institutional | L248: Natural Gas | M248: Total: Boilers and IC Engines | N248: Nonpoint
A249: 3 | B249: Maryland | C249: MD-Calvert | D249: VOC | E249: 0.061934186 | F249: 0.061934186 | G249: 0.061934186 | H249: 2103008000 | I249: Fuel Comb - Comm/Institutional - Biomass | J249: Stationary Source Fuel Combustion | K249: Commercial/Institutional | L249: Wood | M249: Total: All Boiler Types | N249: Nonpoint
A250: 3 | B250: Maryland | C250: MD-Calvert | D250: VOC | E250: 0.028259699 | F250: 0.021278065 | G250: 0.017741912 | H250: 2102001000 | I250: Fuel Comb - Industrial Boilers, ICEs - Coal | J250: Stationary Source Fuel Combustion | K250: Industrial | L250: Anthracite Coal | M250: Total: All Boiler Types | N250: Nonpoint
A251: 3 | B251: Maryland | C251: MD-Calvert | D251: VOC | E251: 0.061627368 | F251: 0.046402162 | G251: 0.038690694 | H251: 2102002000 | I251: Fuel Comb - Industrial Boilers, ICEs - Coal | J251: Stationary Source Fuel Combustion | K251: Industrial | L251: Bituminous/Subbituminous Coal | M251: Total: All Boiler Types | N251: Nonpoint
A252: 3 | B252: Maryland | C252: MD-Calvert | D252: VOC | E252: 0.02250484 | F252: 0.024280234 | G252: 0.025166864 | H252: 2102008000 | I252: Fuel Comb - Industrial Boilers, ICEs - Biomass | J252: Stationary Source Fuel Combustion | K252: Industrial | L252: Wood | M252: Total: All Boiler Types | N252: Nonpoint
A253: 3 | B253: Maryland | C253: MD-Calvert | D253: VOC | E253: 0.73079123 | F253: 0.41229001 | G253: 0.31985466 | H253: 2104004000 | I253: Fuel Comb - Residential - Oil | J253: Stationary Source Fuel Combustion | K253: Residential | L253: Distillate Oil | M253: Total: All Combustor Types | N253: Nonpoint
A254: 3 | B254: Maryland | C254: MD-Calvert | D254: VOC | E254: 1.8007203 | F254: 1.8007203 | G254: 1.8007203 | H254: 2104009000 | I254: Fuel Comb - Residential - Wood | J254: Stationary Source Fuel Combustion | K254: Residential | L254: Firelog | M254: Total: All Combustor Types | N254: Nonpoint
A255: 3 | B255: Maryland | C255: MD-Calvert | D255: VOC | E255: 0.0080083239 | F255: 0.0045180508 | G255: 0.0035051046 | H255: 2104011000 | I255: Fuel Comb - Residential - Oil | J255: Stationary Source Fuel Combustion | K255: Residential | L255: Kerosene | M255: Total: All Heater Types | N255: Nonpoint
A256: 3 | B256: Maryland | C256: MD-Calvert | D256: VOC | E256: 0.6261523 | F256: 0.54999167 | G256: 0.54952449 | H256: 2104007000 | I256: Fuel Comb - Residential - Other | J256: Stationary Source Fuel Combustion | K256: Residential | L256: Liquified Petroleum Gas (LPG) | M256: Total: All Combustor Types | N256: Nonpoint
A257: 3 | B257: Maryland | C257: MD-Calvert | D257: VOC | E257: 0.3348511 | F257: 0.31883238 | G257: 0.31680874 | H257: 2104006000 | I257: Fuel Comb - Residential - Natural Gas | J257: Stationary Source Fuel Combustion | K257: Residential | L257: Natural Gas | M257: Total: All Combustor Types | N257: Nonpoint
A258: 3 | B258: Maryland | C258: MD-Calvert | D258: VOC | E258: 7.6238153 | F258: 7.6238153 | G258: 7.6238153 | H258: 2104008100 | I258: Fuel Comb - Residential - Wood | J258: Stationary Source Fuel Combustion | K258: Residential | L258: Wood | M258: Fireplace: general | N258: Nonpoint
... A671: 3 | B671: Maryland | C671: MD-Prince George's | D671: VOC | E671: 7.066475 | F671: 7.6149746 | G671: 7.892021 | H671: 2630020000 | I671: Waste Disposal | J671: Waste Disposal, Treatment, and Recovery | K671: Wastewater Treatment | L671: Public Owned | M671: Total Processed | N671: Nonpoint
A674: RESERVED FOR MDE ADDED NONPOINT SOURCE CATEGORIES
A675: EPA Region | B675: State | C675: State-County | D675: Pollutant | E675: 2022 Emissions (Tons) | F675: 2032 Emissions (Tons) | G675: 2038 Emissions (Tons) | H675: SCC Code | I675: Sector | J675: SCC Level 1 | K675: SCC Level 2 | L675: SCC Level 3 | M675: SCC Level 4 | N675: Source Description
A676: 3 | B676: Maryland | C676: MD-Calvert | D676: VOC | E676: 18.55 | H676: 2440000000 | I676: Industrial Adhesives | N676: Nonpoint
A677: 3 | B677: Maryland | C677: MD-Charles | D677: VOC | E677: 33.67 | H677: 2440000000 | I677: Industrial Adhesives | N677: Nonpoint
A678: 3 | B678: Maryland | C678: MD-Frederick | D678: VOC | E678: 57.45 | H678: 2440000000 | I678: Industrial Adhesives | N678: Nonpoint
A679: 3 | B679: Maryland | C679: MD-Montgomery | D679: VOC | E679: 207.25 | H679: 2440000000 | I679: Industrial Adhesives | N679: Nonpoint
A680: 3 | B680: Maryland | C680: MD-Prince George's | D680: VOC | E680: 185.51 | H680: 2440000000 | I680: Industrial Adhesives | N680: Nonpoint
A681: 3 | B681: Maryland | C681: MD-Calvert | D681: VOC | E681: 0.000565 | H681: 2102007000 | I681: Fuel Combustion LPG Industrial | N681: Nonpoint
A682: 3 | B682: Maryland | C682: MD-Charles | D682: VOC | E682: 0.000839 | H682: 2102007000 | I682: Fuel Combustion LPG Industrial | N682: Nonpoint
A683: 3 | B683: Maryland | C683: MD-Montgomery | D683: VOC | E683: 0.007029 | H683: 2102007000 | I683: Fuel Combustion LPG Industrial | N683: Nonpoint
A684: 3 | B684: Maryland | C684: MD-Prince George's | D684: VOC | E684: 0.008576 | H684: 2102007000 | I684: Fuel Combustion LPG Industrial | N684: Nonpoint
A685: 3 | B685: Maryland | C685: MD-Calvert | D685: NOx | E685: 0.015469 | H685: 2102007000 | I685: Fuel Combustion LPG Industrial | N685: Nonpoint
A686: 3 | B686: Maryland | C686: MD-Charles | D686: NOx | E686: 0.022954 | H686: 2102007000 | I686: Fuel Combustion LPG Industrial | N686: Nonpoint
A687: 3 | B687: Maryland | C687: MD-Montgomery | D687: NOx | E687: 0.192365 | H687: 2102007000 | I687: Fuel Combustion LPG Industrial | N687: Nonpoint
... A784: 3 | B784: Maryland | C784: MD-Montgomery | D784: VOC | E784: 41.8178 | H784: 2620030000 | I784: Landfills | N784: Nonpoint
A785: 3 | B785: Maryland | C785: MD-Prince George's | D785: VOC | E785: 1.344696e-05 | F785: 24033 | H785: 2810060200 | I785: Animal Cremation | N785: Nonpoint
A786: 3 | B786: Maryland | C786: MD-Prince George's | D786: NOX | E786: 0.0001601042 | F786: 24033 | H786: 2810060200 | I786: Animal Cremation | N786: Nonpoint
A787: 3 | B787: Maryland | C787: MD-Calvert | D787: VOC | E787: 1.3759e-06 | F787: 24009 | H787: 2810060200 | I787: Animal Cremation | N787: Nonpoint
A788: 3 | B788: Maryland | C788: MD-Calvert | D788: NOX | E788: 1.638195e-05 | F788: 24009 | H788: 2810060200 | I788: Animal Cremation | N788: Nonpoint
A789: 3 | B789: Maryland | C789: MD-Charles | D789: VOC | E789: 2.430887e-06 | F789: 24017 | H789: 2810060200 | I789: Animal Cremation | N789: Nonpoint
A790: 3 | B790: Maryland | C790: MD-Charles | D790: NOX | E790: 2.8943e-05 | F790: 24017 | H790: 2810060200 | I790: Animal Cremation | N790: Nonpoint
A791: 3 | B791: Maryland | C791: MD-Frederick | D791: VOC | E791: 4.951183e-07 | F791: 24021 | H791: 2810060200 | I791: Animal Cremation | N791: Nonpoint
A792: 3 | B792: Maryland | C792: MD-Frederick | D792: NOX | E792: 5.895053e-06 | F792: 24021 | H792: 2810060200 | I792: Animal Cremation | N792: Nonpoint
A793: 3 | B793: Maryland | C793: MD-Montgomery | D793: VOC | E793: 1.554918e-05 | F793: 24031 | H793: 2810060200 | I793: Animal Cremation | N793: Nonpoint
A794: 3 | B794: Maryland | C794: MD-Montgomery | D794: NOX | E794: 0.0001851341 | F794: 24031 | H794: 2810060200 | I794: Animal Cremation | N794: Nonpoint
A795: 3 | B795: Maryland | C795: MD-Prince George's | D795: VOC | E795: 0.05176104 | F795: 24033 | H795: 2810060100 | I795: Human Cremation | N795: Nonpoint
A796: 3 | B796: Maryland | C796: MD-Prince George's | D796: NOX | E796: 0.61628524 | F796: 24033 | H796: 2810060100 | I796: Human Cremation | N796: Nonpoint
... A804: 3 | B804: Maryland | C804: MD-Montgomery | D804: NOX | E804: 0.5641946 | F804: 24031 | H804: 2810060100 | I804: Human Cremation | N804: Nonpoint

Sheet Non Point Rev3
A1: State-County | B1: Pollutant | C1: SCC | D1: 2022 Emissions (Tons) | E1: 2032 Emissions (Tons) | F1: 2038 Emissions (Tons) | G1: 2022 tpd | H1: 2032tpd | I1: 2038tpd | J1: 2032GF | K1: 2038GF | L1: Surrogate Growth | M1: Sector | N1: SCC Level 1 | O1: SCC Level 2 | P1: SCC Level 3 | Q1: SCC Level 4 | R1: Source Description | U1: Surrogates | V1: Lookup | W1: 2032 | X1: 2038 | Y1: Surrogates
A2: MD-Calvert | B2: NOx | C2: 2801500141 | D2: 0.948756 | E2: =D2*J2 -> 0.948756 | F2: =D2*K2 -> 0.948756 | G2: 0.0025993315 | H2: =G2*J2 -> 0.0025993315 | I2: =G2*K2 -> 0.0025993315 | J2: =W2 -> 1 | K2: =X2 -> 1 | L2: =U2 -> No Growth | M2: Fires - Agricultural Field Burning | N2: Miscellaneous Area Sources | O2: Agriculture Production - Crops | P2: Agricultural Field Burning - whole field set on fire | Q2: Field Crop is Bean (red): Headfire Burning | R2: Nonpoint | U2: =VLOOKUP(C2,'Surrogate NP'!A:B,2,FALSE) -> No Growth | V2: =CONCATENATE(A2,U2) -> MD-CalvertNo Growth | W2: =VLOOKUP(V2,'NP Surrogates-Update 4.7'!A:C,2,FALSE) -> 1 | X2: =VLOOKUP(V2,'NP Surrogates-Update 4.7'!A:C,3,FALSE) -> 1 | Y2: No Growth
A3: MD-Calvert | B3: NOx | C3: 2801500150 | D3: 0.400694 | E3: =D3*J3 -> 0.400694 | F3: =D3*K3 -> 0.400694 | G3: 0.0010977918 | H3: =G3*J3 -> 0.0010977918 | I3: =G3*K3 -> 0.0010977918 | J3: =W3 -> 1 | K3: =X3 -> 1 | L3: =U3 -> No Growth | M3: Fires - Agricultural Field Burning | N3: Miscellaneous Area Sources | O3: Agriculture Production - Crops | P3: Agricultural Field Burning - whole field set on fire | Q3: Field Crop is Corn: Burning Techniques Not Important | R3: Nonpoint | U3: =VLOOKUP(C3,'Surrogate NP'!A:B,2,FALSE) -> No Growth | V3: =CONCATENATE(A3,U3) -> MD-CalvertNo Growth | W3: =VLOOKUP(V3,'NP Surrogates-Update 4.7'!A:C,2,FALSE) -> 1 | X3: =VLOOKUP(V3,'NP Surrogates-Update 4.7'!A:C,3,FALSE) -> 1 | Y3: No Growth
A4: MD-Calvert | B4: NOx | C4: 2810060100 | D4: 0.069476634 | E4: =D4*J4 -> 0.072442254 | F4: =D4*K4 -> 0.073452652 | G4: 0.00026721782 | H4: =G4*J4 -> 0.00027862405 | I4: =G4*K4 -> 0.0002825102 | J4: =W4 -> 1.0426851 | K4: =X4 -> 1.0572281 | L4: =U4 -> Population | M4: Miscellaneous Non-Industrial Not Elsewhere Classified | N4: Miscellaneous Area Sources | O4: Other Combustion | P4: Cremation | Q4: Humans | R4: Nonpoint | U4: =VLOOKUP(C4,'Surrogate NP'!A:B,2,FALSE) -> Population | V4: =CONCATENATE(A4,U4) -> MD-CalvertPopulation | W4: =VLOOKUP(V4,'NP Surrogates-Update 4.7'!A:C,2,FALSE) -> 1.0426851 | X4: =VLOOKUP(V4,'NP Surrogates-Update 4.7'!A:C,3,FALSE) -> 1.0572281 | Y4: Population
A5: MD-Calvert | B5: NOx | C5: 2810025000 | D5: 0.5781752 | E5: =D5*J5 -> 0.60285469 | F5: =D5*K5 -> 0.61126309 | G5: 0.0015840416 | H5: =G5*J5 -> 0.0016516567 | I5: =G5*K5 -> 0.0016746934 | J5: =W5 -> 1.0426851 | K5: =X5 -> 1.0572281 | L5: =U5 -> Population | M5: Miscellaneous Non-Industrial Not Elsewhere Classified | N5: Miscellaneous Area Sources | O5: Other Combustion | P5: Residential Grilling (see 23-02-002-xxx for Commercial) | Q5: Total | R5: Nonpoint | U5: =VLOOKUP(C5,'Surrogate NP'!A:B,2,FALSE) -> Population | V5: =CONCATENATE(A5,U5) -> MD-CalvertPopulation | W5: =VLOOKUP(V5,'NP Surrogates-Update 4.7'!A:C,2,FALSE) -> 1.0426851 | X5: =VLOOKUP(V5,'NP Surrogates-Update 4.7'!A:C,3,FALSE) -> 1.0572281 | Y5: Population
A6: MD-Calvert | B6: NOx | C6: 2811015002 | D6: 2.2547 | E6: =D6*J6 -> 2.2547 | F6: =D6*K6 -> 2.2547 | G6: 0.0061772603 | H6: =G6*J6 -> 0.0061772603 | I6: =G6*K6 -> 0.0061772603 | J6: =W6 -> 1 | K6: =X6 -> 1 | L6: =U6 -> No Growth | M6: Fires - Prescribed Fires | N6: Miscellaneous Area Sources | O6: Other Combustion - as Event | P6: Prescribed Forest Burning | Q6: Flaming | R6: Nonpoint | U6: =VLOOKUP(C6,'Surrogate NP'!A:B,2,FALSE) -> No Growth | V6: =CONCATENATE(A6,U6) -> MD-CalvertNo Growth | W6: =VLOOKUP(V6,'NP Surrogates-Update 4.7'!A:C,2,FALSE) -> 1 | X6: =VLOOKUP(V6,'NP Surrogates-Update 4.7'!A:C,3,FALSE) -> 1 | Y6: No Growth
A7: MD-Calvert | B7: NOx | C7: 2103004001 | D7: 1.3014927 | E7: =D7*J7 -> 1.3456534 | F7: =D7*K7 -> 1.3689932 | G7: 4.7610941e-06 | H7: =G7*J7 -> 4.922642e-06 | I7: =G7*K7 -> 5.0080233e-06 | J7: =W7 -> 1.0339308 | K7: =X7 -> 1.051864 | L7: =U7 -> Employment | M7: Fuel Comb - Comm/Institutional - Oil | N7: Stationary Source Fuel Combustion | O7: Commercial/Institutional | P7: Distillate Oil | Q7: Boilers | R7: Nonpoint | U7: =VLOOKUP(C7,'Surrogate NP'!A:B,2,FALSE) -> Employment | V7: =CONCATENATE(A7,U7) -> MD-CalvertEmployment | W7: =VLOOKUP(V7,'NP Surrogates-Update 4.7'!A:C,2,FALSE) -> 1.0339308 | X7: =VLOOKUP(V7,'NP Surrogates-Update 4.7'!A:C,3,FALSE) -> 1.051864 | Y7: Employment
A8: MD-Calvert | B8: NOx | C8: 2103004002 | D8: 2.0686891 | E8: =D8*J8 -> 2.1388814 | F8: =D8*K8 -> 2.1759795 | G8: 7.5676364e-06 | H8: =G8*J8 -> 7.8244126e-06 | I8: =G8*K8 -> 7.960124e-06 | J8: =W8 -> 1.0339308 | K8: =X8 -> 1.051864 | L8: =U8 -> Employment | M8: Fuel Comb - Comm/Institutional - Oil | N8: Stationary Source Fuel Combustion | O8: Commercial/Institutional | P8: Distillate Oil | Q8: IC Engines | R8: Nonpoint | U8: =VLOOKUP(C8,'Surrogate NP'!A:B,2,FALSE) -> Employment | V8: =CONCATENATE(A8,U8) -> MD-CalvertEmployment | W8: =VLOOKUP(V8,'NP Surrogates-Update 4.7'!A:C,2,FALSE) -> 1.0339308 | X8: =VLOOKUP(V8,'NP Surrogates-Update 4.7'!A:C,3,FALSE) -> 1.051864 | Y8: Employment
A9: MD-Calvert | B9: NOx | C9: 2103011000 | D9: 0.026751368 | E9: =D9*J9 -> 0.027659064 | F9: =D9*K9 -> 0.0281388 | G9: 9.7861311e-08 | H9: =G9*J9 -> 1.0118183e-07 | I9: =G9*K9 -> 1.0293679e-07 | J9: =W9 -> 1.0339308 | K9: =X9 -> 1.051864 | L9: =U9 -> Employment | M9: Fuel Comb - Comm/Institutional - Oil | N9: Stationary Source Fuel Combustion | O9: Commercial/Institutional | P9: Kerosene | Q9: Total: All Combustor Types | R9: Nonpoint | U9: =VLOOKUP(C9,'Surrogate NP'!A:B,2,FALSE) -> Employment | V9: =CONCATENATE(A9,U9) -> MD-CalvertEmployment | W9: =VLOOKUP(V9,'NP Surrogates-Update 4.7'!A:C,2,FALSE) -> 1.0339308 | X9: =VLOOKUP(V9,'NP Surrogates-Update 4.7'!A:C,3,FALSE) -> 1.051864 | Y9: Employment
A10: MD-Calvert | B10: NOx | C10: 2103007000 | D10: 1.6043272 | E10: =D10*J10 -> 1.6587633 | F10: =D10*K10 -> 1.6875339 | G10: 0.0050193914 | H10: =G10*J10 -> 0.0051897035 | I10: =G10*K10 -> 0.0052797168 | J10: =W10 -> 1.0339308 | K10: =X10 -> 1.051864 | L10: =U10 -> Employment | M10: Fuel Comb - Comm/Institutional - Other | N10: Stationary Source Fuel Combustion | O10: Commercial/Institutional | P10: Liquified Petroleum Gas (LPG) | Q10: Total: All Combustor Types | R10: Nonpoint | U10: =VLOOKUP(C10,'Surrogate NP'!A:B,2,FALSE) -> Employment | V10: =CONCATENATE(A10,U10) -> MD-CalvertEmployment | W10: =VLOOKUP(V10,'NP Surrogates-Update 4.7'!A:C,2,FALSE) -> 1.0339308 | X10: =VLOOKUP(V10,'NP Surrogates-Update 4.7'!A:C,3,FALSE) -> 1.051864 | Y10: Employment
A11: MD-Calvert | B11: NOx | C11: 2103006000 | D11: 21.230148 | E11: =D11*J11 -> 21.950505 | F11: =D11*K11 -> 22.331228 | G11: 0.066421877 | H11: =G11*J11 -> 0.068675626 | I11: =G11*K11 -> 0.069866778 | J11: =W11 -> 1.0339308 | K11: =X11 -> 1.051864 | L11: =U11 -> Employment | M11: Fuel Comb - Comm/Institutional - Natural Gas | N11: Stationary Source Fuel Combustion | O11: Commercial/Institutional | P11: Natural Gas | Q11: Total: Boilers and IC Engines | R11: Nonpoint | U11: =VLOOKUP(C11,'Surrogate NP'!A:B,2,FALSE) -> Employment | V11: =CONCATENATE(A11,U11) -> MD-CalvertEmployment | W11: =VLOOKUP(V11,'NP Surrogates-Update 4.7'!A:C,2,FALSE) -> 1.0339308 | X11: =VLOOKUP(V11,'NP Surrogates-Update 4.7'!A:C,3,FALSE) -> 1.051864 | Y11: Employment
A12: MD-Calvert | B12: NOx | C12: 2103008000 | D12: 0.80150118 | E12: =D12*J12 -> 0.82869678 | F12: =D12*K12 -> 0.8430702 | G12: 2.9320353e-06 | H12: =G12*J12 -> 3.0315217e-06 | I12: =G12*K12 -> 3.0841023e-06 | J12: =W12 -> 1.0339308 | K12: =X12 -> 1.051864 | L12: =U12 -> Employment | M12: Fuel Comb - Comm/Institutional - Biomass | N12: Stationary Source Fuel Combustion | O12: Commercial/Institutional | P12: Wood | Q12: Total: All Boiler Types | R12: Nonpoint | U12: =VLOOKUP(C12,'Surrogate NP'!A:B,2,FALSE) -> Employment | V12: =CONCATENATE(A12,U12) -> MD-CalvertEmployment | W12: =VLOOKUP(V12,'NP Surrogates-Update 4.7'!A:C,2,FALSE) -> 1.0339308 | X12: =VLOOKUP(V12,'NP Surrogates-Update 4.7'!A:C,3,FALSE) -> 1.051864 | Y12: Employment
A13: MD-Calvert | B13: NOx | C13: 2102001000 | D13: 0.84779087 | E13: =D13*J13 -> 0.84779087 | F13: =D13*K13 -> 0.84779087 | G13: 0 | H13: =G13*J13 -> 0 | I13: =G13*K13 -> 0 | J13: =W13 -> 1 | K13: =X13 -> 1 | L13: =U13 -> No Growth | M13: Fuel Comb - Industrial Boilers, ICEs - Coal | N13: Stationary Source Fuel Combustion | O13: Industrial | P13: Anthracite Coal | Q13: Total: All Boiler Types | R13: Nonpoint | U13: =VLOOKUP(C13,'Surrogate NP'!A:B,2,FALSE) -> No Growth | V13: =CONCATENATE(A13,U13) -> MD-CalvertNo Growth | W13: =VLOOKUP(V13,'NP Surrogates-Update 4.7'!A:C,2,FALSE) -> 1 | X13: =VLOOKUP(V13,'NP Surrogates-Update 4.7'!A:C,3,FALSE) -> 1 | Y13: No Growth
... A36: MD-Calvert | B36: NOx | C36: 2610000500 | D36: 8.581144 | E36: =D36*J36 -> 8.581144 | F36: =D36*K36 -> 8.581144 | G36: 0.023509984 | H36: =G36*J36 -> 0.023509984 | I36: =G36*K36 -> 0.023509984 | J36: =W36 -> 1 | K36: =X36 -> 1 | L36: =U36 -> No Growth | M36: Waste Disposal | N36: Waste Disposal, Treatment, and Recovery | O36: Open Burning | P36: All Categories | Q36: Land Clearing Debris (use 28-10-005-000 for Logging Debris Burning) | R36: Nonpoint | U36: =VLOOKUP(C36,'Surrogate NP'!A:B,2,FALSE) -> No Growth | V36: =CONCATENATE(A36,U36) -> MD-CalvertNo Growth | W36: =VLOOKUP(V36,'NP Surrogates-Update 4.7'!A:C,2,FALSE) -> 1 | X36: =VLOOKUP(V36,'NP Surrogates-Update 4.7'!A:C,3,FALSE) -> 1 | Y36: No Growth
A37: MD-Calvert | B37: NOx | C37: 2810001001 | D37: 0.000464 | E37: =D37*J37 -> 0.000464 | F37: =D37*K37 -> 0.000464 | G37: 1.2712329e-06 | H37: =G37*J37 -> 1.2712329e-06 | I37: =G37*K37 -> 1.2712329e-06 | J37: =W37 -> 1 | K37: =X37 -> 1 | L37: =U37 -> No Growth | M37: Fires-Wildfire | R37: Nonpoint | U37: =VLOOKUP(C37,'Surrogate NP'!A:B,2,FALSE) -> No Growth | V37: =CONCATENATE(A37,U37) -> MD-CalvertNo Growth | W37: =VLOOKUP(V37,'NP Surrogates-Update 4.7'!A:C,2,FALSE) -> 1 | X37: =VLOOKUP(V37,'NP Surrogates-Update 4.7'!A:C,3,FALSE) -> 1 | Y37: No Growth
A38: MD-Calvert | B38: NOx | C38: 2810001002 | D38: 0.318748 | E38: =D38*J38 -> 0.318748 | F38: =D38*K38 -> 0.318748 | G38: 0.00087328219 | H38: =G38*J38 -> 0.00087328219 | I38: =G38*K38 -> 0.00087328219 | J38: =W38 -> 1 | K38: =X38 -> 1 | L38: =U38 -> No Growth | M38: Fires-Wildfire | R38: Nonpoint | U38: =VLOOKUP(C38,'Surrogate NP'!A:B,2,FALSE) -> No Growth | V38: =CONCATENATE(A38,U38) -> MD-CalvertNo Growth | W38: =VLOOKUP(V38,'NP Surrogates-Update 4.7'!A:C,2,FALSE) -> 1 | X38: =VLOOKUP(V38,'NP Surrogates-Update 4.7'!A:C,3,FALSE) -> 1 | Y38: No Growth
A39: MD-Calvert | B39: NOx | C39: 2610000400 | D39: 0.1628157 | E39: =D39*J39 -> 0.1628157 | F39: =D39*K39 -> 0.1628157 | G39: 0.0001070569 | H39: =G39*J39 -> 0.0001070569 | I39: =G39*K39 -> 0.0001070569 | J39: =W39 -> 1 | K39: =X39 -> 1 | L39: =U39 -> No Growth | M39: Waste Disposal | N39: Waste Disposal, Treatment, and Recovery | O39: Open Burning | P39: All Categories | Q39: Yard Waste - Brush Species Unspecified | R39: Nonpoint | U39: =VLOOKUP(C39,'Surrogate NP'!A:B,2,FALSE) -> No Growth | V39: =CONCATENATE(A39,U39) -> MD-CalvertNo Growth | W39: =VLOOKUP(V39,'NP Surrogates-Update 4.7'!A:C,2,FALSE) -> 1 | X39: =VLOOKUP(V39,'NP Surrogates-Update 4.7'!A:C,3,FALSE) -> 1 | Y39: No Growth
A40: MD-Calvert | B40: NOx | C40: 2610000100 | D40: 0.2018914 | E40: =D40*J40 -> 0.2018914 | F40: =D40*K40 -> 0.2018914 | G40: 0 | H40: =G40*J40 -> 0 | I40: =G40*K40 -> 0 | J40: =W40 -> 1 | K40: =X40 -> 1 | L40: =U40 -> No Growth | M40: Waste Disposal | N40: Waste Disposal, Treatment, and Recovery | O40: Open Burning | P40: All Categories | Q40: Yard Waste - Leaf Species Unspecified | R40: Nonpoint | U40: =VLOOKUP(C40,'Surrogate NP'!A:B,2,FALSE) -> No Growth | V40: =CONCATENATE(A40,U40) -> MD-CalvertNo Growth | W40: =VLOOKUP(V40,'NP Surrogates-Update 4.7'!A:C,2,FALSE) -> 1 | X40: =VLOOKUP(V40,'NP Surrogates-Update 4.7'!A:C,3,FALSE) -> 1 | Y40: No Growth
A41: MD-Calvert | B41: NOx | C41: 2610030000 | D41: 10.25108 | E41: =D41*J41 -> 10.25108 | F41: =D41*K41 -> 10.25108 | G41: 0.028085151 | H41: =G41*J41 -> 0.028085151 | I41: =G41*K41 -> 0.028085151 | J41: =W41 -> 1 | K41: =X41 -> 1 | L41: =U41 -> No Growth | M41: Waste Disposal | N41: Waste Disposal, Treatment, and Recovery | O41: Open Burning | P41: Residential | Q41: Household Waste (use 26-10-000-xxx for Yard Wastes) | R41: Nonpoint | U41: =VLOOKUP(C41,'Surrogate NP'!A:B,2,FALSE) -> No Growth | V41: =CONCATENATE(A41,U41) -> MD-CalvertNo Growth | W41: =VLOOKUP(V41,'NP Surrogates-Update 4.7'!A:C,2,FALSE) -> 1 | X41: =VLOOKUP(V41,'NP Surrogates-Update 4.7'!A:C,3,FALSE) -> 1 | Y41: No Growth
A42: MD-Calvert | B42: NOx | C42: 2102007000 | D42: 0.015469 | E42: =D42*J42 -> 0.015469 | F42: =D42*K42 -> 0.015469 | G42: 4.9580128e-05 | H42: =G42*J42 -> 4.9580128e-05 | I42: =G42*K42 -> 4.9580128e-05 | J42: =W42 -> 1 | K42: =X42 -> 1 | L42: =U42 -> No Growth | M42: Fuel Combustion LPG Industrial | R42: Nonpoint | U42: =VLOOKUP(C42,'Surrogate NP'!A:B,2,FALSE) -> No Growth | V42: =CONCATENATE(A42,U42) -> MD-CalvertNo Growth | W42: =VLOOKUP(V42,'NP Surrogates-Update 4.7'!A:C,2,FALSE) -> 1 | X42: =VLOOKUP(V42,'NP Surrogates-Update 4.7'!A:C,3,FALSE) -> 1 | Y42: No Growth
A43: MD-Calvert | B43: NOx | C43: 2103005000 | D43: 0.04433014 | E43: =D43*J43 -> 0.04433014 | F43: =D43*K43 -> 0.04433014 | G43: 0.00014208378 | H43: =G43*J43 -> 0.00014208378 | I43: =G43*K43 -> 0.00014208378 | J43: =W43 -> 1 | K43: =X43 -> 1 | L43: =U43 -> No Growth | M43: Fuel Combustion Residual Comm/Institutional | R43: Nonpoint | U43: =VLOOKUP(C43,'Surrogate NP'!A:B,2,FALSE) -> No Growth | V43: =CONCATENATE(A43,U43) -> MD-CalvertNo Growth | W43: =VLOOKUP(V43,'NP Surrogates-Update 4.7'!A:C,2,FALSE) -> 1 | X43: =VLOOKUP(V43,'NP Surrogates-Update 4.7'!A:C,3,FALSE) -> 1 | Y43: No Growth
A44: MD-Calvert | B44: NOx | C44: 2102005000 | D44: 0.018720444 | E44: =D44*J44 -> 0.018720444 | F44: =D44*K44 -> 0.018720444 | G44: 6.0001424e-05 | H44: =G44*J44 -> 6.0001424e-05 | I44: =G44*K44 -> 6.0001424e-05 | J44: =W44 -> 1 | K44: =X44 -> 1 | L44: =U44 -> No Growth | M44: Fuel Combustion Residual Industrial | R44: Nonpoint | U44: =VLOOKUP(C44,'Surrogate NP'!A:B,2,FALSE) -> No Growth | V44: =CONCATENATE(A44,U44) -> MD-CalvertNo Growth | W44: =VLOOKUP(V44,'NP Surrogates-Update 4.7'!A:C,2,FALSE) -> 1 | X44: =VLOOKUP(V44,'NP Surrogates-Update 4.7'!A:C,3,FALSE) -> 1 | Y44: No Growth
A45: MD-Calvert | B45: NOx | C45: 2102004001 | D45: 0.061520805 | E45: =D45*J45 -> 0.061520805 | F45: =D45*K45 -> 0.061520805 | G45: 0.00019718207 | H45: =G45*J45 -> 0.00019718207 | I45: =G45*K45 -> 0.00019718207 | J45: =W45 -> 1 | K45: =X45 -> 1 | L45: =U45 -> No Growth | M45: Fuel Combustion Distillate Industrial | R45: Nonpoint | U45: =VLOOKUP(C45,'Surrogate NP'!A:B,2,FALSE) -> No Growth | V45: =CONCATENATE(A45,U45) -> MD-CalvertNo Growth | W45: =VLOOKUP(V45,'NP Surrogates-Update 4.7'!A:C,2,FALSE) -> 1 | X45: =VLOOKUP(V45,'NP Surrogates-Update 4.7'!A:C,3,FALSE) -> 1 | Y45: No Growth
A46: MD-Calvert | B46: NOx | C46: 2102004002 | D46: 1.2386189 | E46: =D46*J46 -> 1.2386189 | F46: =D46*K46 -> 1.2386189 | G46: 0.0039699323 | H46: =G46*J46 -> 0.0039699323 | I46: =G46*K46 -> 0.0039699323 | J46: =W46 -> 1 | K46: =X46 -> 1 | L46: =U46 -> No Growth | M46: Fuel Combustion Distillate Industrial | R46: Nonpoint | U46: =VLOOKUP(C46,'Surrogate NP'!A:B,2,FALSE) -> No Growth | V46: =CONCATENATE(A46,U46) -> MD-CalvertNo Growth | W46: =VLOOKUP(V46,'NP Surrogates-Update 4.7'!A:C,2,FALSE) -> 1 | X46: =VLOOKUP(V46,'NP Surrogates-Update 4.7'!A:C,3,FALSE) -> 1 | Y46: No Growth
A47: MD-Calvert | B47: NOx | C47: 2810030000 | D47: 0.02819127 | E47: =D47*J47 -> 0.02819127 | F47: =D47*K47 -> 0.02819127 | G47: 6.1789085e-05 | H47: =G47*J47 -> 6.1789085e-05 | I47: =G47*K47 -> 6.1789085e-05 | J47: =W47 -> 1 | K47: =X47 -> 1 | L47: =U47 -> No Growth | M47: Structure Fires | R47: Nonpoint | U47: =VLOOKUP(C47,'Surrogate NP'!A:B,2,FALSE) -> No Growth | V47: =CONCATENATE(A47,U47) -> MD-CalvertNo Growth | W47: =VLOOKUP(V47,'NP Surrogates-Update 4.7'!A:C,2,FALSE) -> 1 | X47: =VLOOKUP(V47,'NP Surrogates-Update 4.7'!A:C,3,FALSE) -> 1 | Y47: No Growth
A48: MD-Calvert | B48: NOx | C48: 2810050000 | D48: 0.0524256 | E48: =D48*J48 -> 0.0524256 | F48: =D48*K48 -> 0.0524256 | G48: 0.00014363178 | H48: =G48*J48 -> 0.00014363178 | I48: =G48*K48 -> 0.00014363178 | J48: =W48 -> 1 | K48: =X48 -> 1 | L48: =U48 -> No Growth | M48: Vehicle Fires | R48: Nonpoint | U48: =VLOOKUP(C48,'Surrogate NP'!A:B,2,FALSE) -> No Growth | V48: =CONCATENATE(A48,U48) -> MD-CalvertNo Growth | W48: =VLOOKUP(V48,'NP Surrogates-Update 4.7'!A:C,2,FALSE) -> 1 | X48: =VLOOKUP(V48,'NP Surrogates-Update 4.7'!A:C,3,FALSE) -> 1 | Y48: No Growth
A49: MD-Calvert | B49: NOX | C49: 2810060200 | D49: 1.638195e-05 | E49: =D49*J49 -> 1.638195e-05 | F49: =D49*K49 -> 1.638195e-05 | G49: 7.5609e-08 | H49: =G49*J49 -> 7.5609e-08 | I49: =G49*K49 -> 7.5609e-08 | J49: =W49 -> 1 | K49: =X49 -> 1 | L49: =U49 -> No Growth | M49: Animal Cremation | R49: Nonpoint | U49: =VLOOKUP(C49,'Surrogate NP'!A:B,2,FALSE) -> No Growth | V49: =CONCATENATE(A49,U49) -> MD-CalvertNo Growth | W49: =VLOOKUP(V49,'NP Surrogates-Update 4.7'!A:C,2,FALSE) -> 1 | X49: =VLOOKUP(V49,'NP Surrogates-Update 4.7'!A:C,3,FALSE) -> 1 | Y49: No Growth
A50: MD-Calvert Total | D50: =SUBTOTAL(9,D2:D49) -> 122.06971 | E50: =SUBTOTAL(9,E2:E49) -> 126.96617 | F50: =SUBTOTAL(9,F2:F49) -> 128.69995 | G50: =SUBTOTAL(9,G2:G49) -> 0.24947636 | H50: =SUBTOTAL(9,H2:H49) -> 0.25662034 | I50: =SUBTOTAL(9,I2:I49) -> 0.25938436
A51: MD-Charles | B51: NOx | C51: 2801500141 | D51: 0.474378 | E51: =D51*J51 -> 0.474378 | F51: =D51*K51 -> 0.474378 | G51: 0.0012996658 | H51: =G51*J51 -> 0.0012996658 | I51: =G51*K51 -> 0.0012996658 | J51: =W51 -> 1 | K51: =X51 -> 1 | L51: =U51 -> No Growth | M51: Fires - Agricultural Field Burning | N51: Miscellaneous Area Sources | O51: Agriculture Production - Crops | P51: Agricultural Field Burning - whole field set on fire | Q51: Field Crop is Bean (red): Headfire Burning | R51: Nonpoint | U51: =VLOOKUP(C51,'Surrogate NP'!A:B,2,FALSE) -> No Growth | V51: =CONCATENATE(A51,U51) -> MD-CharlesNo Growth | W51: =VLOOKUP(V51,'NP Surrogates-Update 4.7'!A:C,2,FALSE) -> 1 | X51: =VLOOKUP(V51,'NP Surrogates-Update 4.7'!A:C,3,FALSE) -> 1 | Y51: No Growth
A52: MD-Charles | B52: NOx | C52: 2801500150 | D52: 3.205552 | E52: =D52*J52 -> 3.205552 | F52: =D52*K52 -> 3.205552 | G52: 0.0087823342 | H52: =G52*J52 -> 0.0087823342 | I52: =G52*K52 -> 0.0087823342 | J52: =W52 -> 1 | K52: =X52 -> 1 | L52: =U52 -> No Growth | M52: Fires - Agricultural Field Burning | N52: Miscellaneous Area Sources | O52: Agriculture Production - Crops | P52: Agricultural Field Burning - whole field set on fire | Q52: Field Crop is Corn: Burning Techniques Not Important | R52: Nonpoint | U52: =VLOOKUP(C52,'Surrogate NP'!A:B,2,FALSE) -> No Growth | V52: =CONCATENATE(A52,U52) -> MD-CharlesNo Growth | W52: =VLOOKUP(V52,'NP Surrogates-Update 4.7'!A:C,2,FALSE) -> 1 | X52: =VLOOKUP(V52,'NP Surrogates-Update 4.7'!A:C,3,FALSE) -> 1 | Y52: No Growth
A53: MD-Charles | B53: NOx | C53: 2810060100 | D53: 0.11998722 | E53: =D53*J53 -> 0.13844342 | F53: =D53*K53 -> 0.1462819 | G53: 0.00046148932 | H53: =G53*J53 -> 0.00053247471 | I53: =G53*K53 -> 0.00056262269 | J53: =W53 -> 1.1538181 | K53: =X53 -> 1.2191456 | L53: =U53 -> Population | M53: Miscellaneous Non-Industrial Not Elsewhere Classified | N53: Miscellaneous Area Sources | O53: Other Combustion | P53: Cremation | Q53: Humans | R53: Nonpoint | U53: =VLOOKUP(C53,'Surrogate NP'!A:B,2,FALSE) -> Population | V53: =CONCATENATE(A53,U53) -> MD-CharlesPopulation | W53: =VLOOKUP(V53,'NP Surrogates-Update 4.7'!A:C,2,FALSE) -> 1.1538181 | X53: =VLOOKUP(V53,'NP Surrogates-Update 4.7'!A:C,3,FALSE) -> 1.2191456 | Y53: Population
A54: MD-Charles | B54: NOx | C54: 2810005001 | D54: 0.000916 | E54: =D54*J54 -> 0.000916 | F54: =D54*K54 -> 0.000916 | G54: 2.509589e-06 | H54: =G54*J54 -> 2.509589e-06 | I54: =G54*K54 -> 2.509589e-06 | J54: =W54 -> 1 | K54: =X54 -> 1 | L54: =U54 -> No Growth | M54: Waste Disposal | N54: Miscellaneous Area Sources | O54: Other Combustion | P54: Managed Burning, Slash (Logging Debris) | Q54: Pile Burning | R54: Nonpoint | U54: =VLOOKUP(C54,'Surrogate NP'!A:B,2,FALSE) -> No Growth | V54: =CONCATENATE(A54,U54) -> MD-CharlesNo Growth | W54: =VLOOKUP(V54,'NP Surrogates-Update 4.7'!A:C,2,FALSE) -> 1 | X54: =VLOOKUP(V54,'NP Surrogates-Update 4.7'!A:C,3,FALSE) -> 1 | Y54: No Growth
A55: MD-Charles | B55: NOx | C55: 2810025000 | D55: 0.9844864 | E55: =D55*J55 -> 1.1359182 | F55: =D55*K55 -> 1.2002323 | G55: 0.002697223 | H55: =G55*J55 -> 0.0031121046 | I55: =G55*K55 -> 0.0032883077 | J55: =W55 -> 1.1538181 | K55: =X55 -> 1.2191456 | L55: =U55 -> Population | M55: Miscellaneous Non-Industrial Not Elsewhere Classified | N55: Miscellaneous Area Sources | O55: Other Combustion | P55: Residential Grilling (see 23-02-002-xxx for Commercial) | Q55: Total | R55: Nonpoint | U55: =VLOOKUP(C55,'Surrogate NP'!A:B,2,FALSE) -> Population | V55: =CONCATENATE(A55,U55) -> MD-CharlesPopulation | W55: =VLOOKUP(V55,'NP Surrogates-Update 4.7'!A:C,2,FALSE) -> 1.1538181 | X55: =VLOOKUP(V55,'NP Surrogates-Update 4.7'!A:C,3,FALSE) -> 1.2191456 | Y55: Population
A56: MD-Charles | B56: NOx | C56: 2811015002 | D56: 9.88627 | E56: =D56*J56 -> 9.88627 | F56: =D56*K56 -> 9.88627 | G56: 0.027085671 | H56: =G56*J56 -> 0.027085671 | I56: =G56*K56 -> 0.027085671 | J56: =W56 -> 1 | K56: =X56 -> 1 | L56: =U56 -> No Growth | M56: Fires - Prescribed Fires | N56: Miscellaneous Area Sources | O56: Other Combustion - as Event | P56: Prescribed Forest Burning | Q56: Flaming | R56: Nonpoint | U56: =VLOOKUP(C56,'Surrogate NP'!A:B,2,FALSE) -> No Growth | V56: =CONCATENATE(A56,U56) -> MD-CharlesNo Growth | W56: =VLOOKUP(V56,'NP Surrogates-Update 4.7'!A:C,2,FALSE) -> 1 | X56: =VLOOKUP(V56,'NP Surrogates-Update 4.7'!A:C,3,FALSE) -> 1 | Y56: No Growth
A57: MD-Charles | B57: NOx | C57: 2811015001 | D57: 0.000487 | E57: =D57*J57 -> 0.000487 | F57: =D57*K57 -> 0.000487 | G57: 1.3342466e-06 | H57: =G57*J57 -> 1.3342466e-06 | I57: =G57*K57 -> 1.3342466e-06 | J57: =W57 -> 1 | K57: =X57 -> 1 | L57: =U57 -> No Growth | M57: Fires - Prescribed Fires | N57: Miscellaneous Area Sources | O57: Other Combustion - as Event | P57: Prescribed Forest Burning | Q57: Smoldering | R57: Nonpoint | U57: =VLOOKUP(C57,'Surrogate NP'!A:B,2,FALSE) -> No Growth | V57: =CONCATENATE(A57,U57) -> MD-CharlesNo Growth | W57: =VLOOKUP(V57,'NP Surrogates-Update 4.7'!A:C,2,FALSE) -> 1 | X57: =VLOOKUP(V57,'NP Surrogates-Update 4.7'!A:C,3,FALSE) -> 1 | Y57: No Growth
A58: MD-Charles | B58: NOx | C58: 2810001001 | D58: 0.000287 | E58: =D58*J58 -> 0.000287 | F58: =D58*K58 -> 0.000287 | G58: 7.8630137e-07 | H58: =G58*J58 -> 7.8630137e-07 | I58: =G58*K58 -> 7.8630137e-07 | J58: =W58 -> 1 | K58: =X58 -> 1 | L58: =U58 -> No Growth | M58: Fires-Wildfire | R58: Nonpoint | U58: =VLOOKUP(C58,'Surrogate NP'!A:B,2,FALSE) -> No Growth | V58: =CONCATENATE(A58,U58) -> MD-CharlesNo Growth | W58: =VLOOKUP(V58,'NP Surrogates-Update 4.7'!A:C,2,FALSE) -> 1 | X58: =VLOOKUP(V58,'NP Surrogates-Update 4.7'!A:C,3,FALSE) -> 1 | Y58: No Growth
A59: MD-Charles | B59: NOx | C59: 2810001002 | D59: 0.206613 | E59: =D59*J59 -> 0.206613 | F59: =D59*K59 -> 0.206613 | G59: 0.00056606301 | H59: =G59*J59 -> 0.00056606301 | I59: =G59*K59 -> 0.00056606301 | J59: =W59 -> 1 | K59: =X59 -> 1 | L59: =U59 -> No Growth | M59: Fires-Wildfire | R59: Nonpoint | U59: =VLOOKUP(C59,'Surrogate NP'!A:B,2,FALSE) -> No Growth | V59: =CONCATENATE(A59,U59) -> MD-CharlesNo Growth | W59: =VLOOKUP(V59,'NP Surrogates-Update 4.7'!A:C,2,FALSE) -> 1 | X59: =VLOOKUP(V59,'NP Surrogates-Update 4.7'!A:C,3,FALSE) -> 1 | Y59: No Growth
A60: MD-Charles | B60: NOx | C60: 2103004001 | D60: 2.470588 | E60: =D60*J60 -> 2.8398328 | F60: =D60*K60 -> 3.055026 | G60: 9.0378548e-06 | H60: =G60*J60 -> 1.0388619e-05 | I60: =G60*K60 -> 1.1175834e-05 | J60: =W60 -> 1.1494563 | K60: =X60 -> 1.2365583 | L60: =U60 -> Employment | M60: Fuel Comb - Comm/Institutional - Oil | N60: Stationary Source Fuel Combustion | O60: Commercial/Institutional | P60: Distillate Oil | Q60: Boilers | R60: Nonpoint | U60: =VLOOKUP(C60,'Surrogate NP'!A:B,2,FALSE) -> Employment | V60: =CONCATENATE(A60,U60) -> MD-CharlesEmployment | W60: =VLOOKUP(V60,'NP Surrogates-Update 4.7'!A:C,2,FALSE) -> 1.1494563 | X60: =VLOOKUP(V60,'NP Surrogates-Update 4.7'!A:C,3,FALSE) -> 1.2365583 | Y60: Employment
A61: MD-Charles | B61: NOx | C61: 2103004002 | D61: 3.9269345 | E61: =D61*J61 -> 4.5138394 | F61: =D61*K61 -> 4.8558833 | G61: 1.4365432e-05 | H61: =G61*J61 -> 1.6512436e-05 | I61: =G61*K61 -> 1.7763694e-05 | J61: =W61 -> 1.1494563 | K61: =X61 -> 1.2365583 | L61: =U61 -> Employment | M61: Fuel Comb - Comm/Institutional - Oil | N61: Stationary Source Fuel Combustion | O61: Commercial/Institutional | P61: Distillate Oil | Q61: IC Engines | R61: Nonpoint | U61: =VLOOKUP(C61,'Surrogate NP'!A:B,2,FALSE) -> Employment | V61: =CONCATENATE(A61,U61) -> MD-CharlesEmployment | W61: =VLOOKUP(V61,'NP Surrogates-Update 4.7'!A:C,2,FALSE) -> 1.1494563 | X61: =VLOOKUP(V61,'NP Surrogates-Update 4.7'!A:C,3,FALSE) -> 1.2365583 | Y61: Employment
A62: MD-Charles | B62: NOx | C62: 2103011000 | D62: 0.050781388 | E62: =D62*J62 -> 0.058370984 | F62: =D62*K62 -> 0.062794146 | G62: 1.8576744e-07 | H62: =G62*J62 -> 2.1353155e-07 | I62: =G62*K62 -> 2.2971227e-07 | J62: =W62 -> 1.1494563 | K62: =X62 -> 1.2365583 | L62: =U62 -> Employment | M62: Fuel Comb - Comm/Institutional - Oil | N62: Stationary Source Fuel Combustion | O62: Commercial/Institutional | P62: Kerosene | Q62: Total: All Combustor Types | R62: Nonpoint | U62: =VLOOKUP(C62,'Surrogate NP'!A:B,2,FALSE) -> Employment | V62: =CONCATENATE(A62,U62) -> MD-CharlesEmployment | W62: =VLOOKUP(V62,'NP Surrogates-Update 4.7'!A:C,2,FALSE) -> 1.1494563 | X62: =VLOOKUP(V62,'NP Surrogates-Update 4.7'!A:C,3,FALSE) -> 1.2365583 | Y62: Employment
A63: MD-Charles | B63: NOx | C63: 2103007000 | D63: 3.0454501 | E63: =D63*J63 -> 3.5006117 | F63: =D63*K63 -> 3.7658766 | G63: 0.0095281725 | H63: =G63*J63 -> 0.010952217 | I63: =G63*K63 -> 0.011782141 | J63: =W63 -> 1.1494563 | K63: =X63 -> 1.2365583 | L63: =U63 -> Employment | M63: Fuel Comb - Comm/Institutional - Other | N63: Stationary Source Fuel Combustion | O63: Commercial/Institutional | P63: Liquified Petroleum Gas (LPG) | Q63: Total: All Combustor Types | R63: Nonpoint | U63: =VLOOKUP(C63,'Surrogate NP'!A:B,2,FALSE) -> Employment | V63: =CONCATENATE(A63,U63) -> MD-CharlesEmployment | W63: =VLOOKUP(V63,'NP Surrogates-Update 4.7'!A:C,2,FALSE) -> 1.1494563 | X63: =VLOOKUP(V63,'NP Surrogates-Update 4.7'!A:C,3,FALSE) -> 1.2365583 | Y63: Employment
A64: MD-Charles | B64: NOx | C64: 2103006000 | D64: 40.300603 | E64: =D64*J64 -> 46.32378 | F64: =D64*K64 -> 49.834044 | G64: 0.12608681 | H64: =G64*J64 -> 0.14493127 | I64: =G64*K64 -> 0.15591369 | J64: =W64 -> 1.1494563 | K64: =X64 -> 1.2365583 | L64: =U64 -> Employment | M64: Fuel Comb - Comm/Institutional - Natural Gas | N64: Stationary Source Fuel Combustion | O64: Commercial/Institutional | P64: Natural Gas | Q64: Total: Boilers and IC Engines | R64: Nonpoint | U64: =VLOOKUP(C64,'Surrogate NP'!A:B,2,FALSE) -> Employment | V64: =CONCATENATE(A64,U64) -> MD-CharlesEmployment | W64: =VLOOKUP(V64,'NP Surrogates-Update 4.7'!A:C,2,FALSE) -> 1.1494563 | X64: =VLOOKUP(V64,'NP Surrogates-Update 4.7'!A:C,3,FALSE) -> 1.2365583 | Y64: Employment
A65: MD-Charles | B65: NOx | C65: 2103008000 | D65: 1.5214674 | E65: =D65*J65 -> 1.7488602 | F65: =D65*K65 -> 1.8813831 | G65: 5.5658011e-06 | H65: =G65*J65 -> 6.3976449e-06 | I65: =G65*K65 -> 6.8824374e-06 | J65: =W65 -> 1.1494563 | K65: =X65 -> 1.2365583 | L65: =U65 -> Employment | M65: Fuel Comb - Comm/Institutional - Biomass | N65: Stationary Source Fuel Combustion | O65: Commercial/Institutional | P65: Wood | Q65: Total: All Boiler Types | R65: Nonpoint | U65: =VLOOKUP(C65,'Surrogate NP'!A:B,2,FALSE) -> Employment | V65: =CONCATENATE(A65,U65) -> MD-CharlesEmployment | W65: =VLOOKUP(V65,'NP Surrogates-Update 4.7'!A:C,2,FALSE) -> 1.1494563 | X65: =VLOOKUP(V65,'NP Surrogates-Update 4.7'!A:C,3,FALSE) -> 1.2365583 | Y65: Employment
A66: MD-Charles | B66: NOx | C66: 2102001000 | D66: 1.2353971 | E66: =D66*J66 -> 1.2353971 | F66: =D66*K66 -> 1.2353971 | G66: 0 | H66: =G66*J66 -> 0 | I66: =G66*K66 -> 0 | J66: =W66 -> 1 | K66: =X66 -> 1 | L66: =U66 -> No Growth | M66: Fuel Comb - Industrial Boilers, ICEs - Coal | N66: Stationary Source Fuel Combustion | O66: Industrial | P66: Anthracite Coal | Q66: Total: All Boiler Types | R66: Nonpoint | U66: =VLOOKUP(C66,'Surrogate NP'!A:B,2,FALSE) -> No Growth | V66: =CONCATENATE(A66,U66) -> MD-CharlesNo Growth | W66: =VLOOKUP(V66,'NP Surrogates-Update 4.7'!A:C,2,FALSE) -> 1 | X66: =VLOOKUP(V66,'NP Surrogates-Update 4.7'!A:C,3,FALSE) -> 1 | Y66: No Growth
A67: MD-Charles | B67: NOx | C67: 2102002000 | D67: 19.756693 | E67: =D67*J67 -> 19.756693 | F67: =D67*K67 -> 19.756693 | G67: 0.063322733 | H67: =G67*J67 -> 0.063322733 | I67: =G67*K67 -> 0.063322733 | J67: =W67 -> 1 | K67: =X67 -> 1 | L67: =U67 -> No Growth | M67: Fuel Comb - Industrial Boilers, ICEs - Coal | N67: Stationary Source Fuel Combustion | O67: Industrial | P67: Bituminous/Subbituminous Coal | Q67: Total: All Boiler Types | R67: Nonpoint | U67: =VLOOKUP(C67,'Surrogate NP'!A:B,2,FALSE) -> No Growth | V67: =CONCATENATE(A67,U67) -> MD-CharlesNo Growth | W67: =VLOOKUP(V67,'NP Surrogates-Update 4.7'!A:C,2,FALSE) -> 1 | X67: =VLOOKUP(V67,'NP Surrogates-Update 4.7'!A:C,3,FALSE) -> 1 | Y67: No Growth
A68: MD-Charles | B68: NOx | C68: 2102011000 | D68: 0.006012261 | E68: =D68*J68 -> 0.006012261 | F68: =D68*K68 -> 0.006012261 | G68: 1.9270067e-05 | H68: =G68*J68 -> 1.9270067e-05 | I68: =G68*K68 -> 1.9270067e-05 | J68: =W68 -> 1 | K68: =X68 -> 1 | L68: =U68 -> No Growth | M68: Fuel Comb - Industrial Boilers, ICEs - Oil | N68: Stationary Source Fuel Combustion | O68: Industrial | P68: Kerosene | Q68: Total: All Boiler Types | R68: Nonpoint | U68: =VLOOKUP(C68,'Surrogate NP'!A:B,2,FALSE) -> No Growth | V68: =CONCATENATE(A68,U68) -> MD-CharlesNo Growth | W68: =VLOOKUP(V68,'NP Surrogates-Update 4.7'!A:C,2,FALSE) -> 1 | X68: =VLOOKUP(V68,'NP Surrogates-Update 4.7'!A:C,3,FALSE) -> 1 | Y68: No Growth
A69: MD-Charles | B69: NOx | C69: 2102008000 | D69: 0.4243922 | E69: =D69*J69 -> 0.4243922 | F69: =D69*K69 -> 0.4243922 | G69: 0.0013262256 | H69: =G69*J69 -> 0.0013262256 | I69: =G69*K69 -> 0.0013262256 | J69: =W69 -> 1 | K69: =X69 -> 1 | L69: =U69 -> No Growth | M69: Fuel Comb - Industrial Boilers, ICEs - Biomass | N69: Stationary Source Fuel Combustion | O69: Industrial | P69: Wood | Q69: Total: All Boiler Types | R69: Nonpoint | U69: =VLOOKUP(C69,'Surrogate NP'!A:B,2,FALSE) -> No Growth | V69: =CONCATENATE(A69,U69) -> MD-CharlesNo Growth | W69: =VLOOKUP(V69,'NP Surrogates-Update 4.7'!A:C,2,FALSE) -> 1 | X69: =VLOOKUP(V69,'NP Surrogates-Update 4.7'!A:C,3,FALSE) -> 1 | Y69: No Growth
A70: MD-Charles | B70: NOx | C70: 2104004000 | D70: 39.844038 | E70: =D70*J70 -> 47.419767 | F70: =D70*K70 -> 50.23151 | G70: 0.00012674491 | H70: =G70*J70 -> 0.0001508435 | I70: =G70*K70 -> 0.00015978773 | J70: =W70 -> 1.1901346 | K70: =X70 -> 1.2607033 | L70: =U70 -> Household | M70: Fuel Comb - Residential - Oil | N70: Stationary Source Fuel Combustion | O70: Residential | P70: Distillate Oil | Q70: Total: All Combustor Types | R70: Nonpoint | U70: =VLOOKUP(C70,'Surrogate NP'!A:B,2,FALSE) -> Household | V70: =CONCATENATE(A70,U70) -> MD-CharlesHousehold | W70: =VLOOKUP(V70,'NP Surrogates-Update 4.7'!A:C,2,FALSE) -> 1.1901346 | X70: =VLOOKUP(V70,'NP Surrogates-Update 4.7'!A:C,3,FALSE) -> 1.2607033 | Y70: Household
A71: MD-Charles | B71: NOx | C71: 2104009000 | D71: 0.61651076 | E71: =D71*J71 -> 0.73373076 | F71: =D71*K71 -> 0.77723715 | G71: 0.00022119391 | H71: =G71*J71 -> 0.00026325051 | I71: =G71*K71 -> 0.00027885989 | J71: =W71 -> 1.1901346 | K71: =X71 -> 1.2607033 | L71: =U71 -> Household | M71: Fuel Comb - Residential - Wood | N71: Stationary Source Fuel Combustion | O71: Residential | P71: Firelog | Q71: Total: All Combustor Types | R71: Nonpoint | U71: =VLOOKUP(C71,'Surrogate NP'!A:B,2,FALSE) -> Household | V71: =CONCATENATE(A71,U71) -> MD-CharlesHousehold | W71: =VLOOKUP(V71,'NP Surrogates-Update 4.7'!A:C,2,FALSE) -> 1.1901346 | X71: =VLOOKUP(V71,'NP Surrogates-Update 4.7'!A:C,3,FALSE) -> 1.2607033 | Y71: Household
... A92: MD-Charles | B92: NOx | C92: 2610030000 | D92: 12.90353 | E92: =D92*J92 -> 12.90353 | F92: =D92*K92 -> 12.90353 | G92: 0.035352137 | H92: =G92*J92 -> 0.035352137 | I92: =G92*K92 -> 0.035352137 | J92: =W92 -> 1 | K92: =X92 -> 1 | L92: =U92 -> No Growth | M92: Waste Disposal | N92: Waste Disposal, Treatment, and Recovery | O92: Open Burning | P92: Residential | Q92: Household Waste (use 26-10-000-xxx for Yard Wastes) | R92: Nonpoint | U92: =VLOOKUP(C92,'Surrogate NP'!A:B,2,FALSE) -> No Growth | V92: =CONCATENATE(A92,U92) -> MD-CharlesNo Growth | W92: =VLOOKUP(V92,'NP Surrogates-Update 4.7'!A:C,2,FALSE) -> 1 | X92: =VLOOKUP(V92,'NP Surrogates-Update 4.7'!A:C,3,FALSE) -> 1 | Y92: No Growth
A93: MD-Charles | B93: NOx | C93: 2102007000 | D93: 0.022954 | E93: =D93*J93 -> 0.022954 | F93: =D93*K93 -> 0.022954 | G93: 7.3570513e-05 | H93: =G93*J93 -> 7.3570513e-05 | I93: =G93*K93 -> 7.3570513e-05 | J93: =W93 -> 1 | K93: =X93 -> 1 | L93: =U93 -> No Growth | M93: Fuel Combustion LPG Industrial | R93: Nonpoint | U93: =VLOOKUP(C93,'Surrogate NP'!A:B,2,FALSE) -> No Growth | V93: =CONCATENATE(A93,U93) -> MD-CharlesNo Growth | W93: =VLOOKUP(V93,'NP Surrogates-Update 4.7'!A:C,2,FALSE) -> 1 | X93: =VLOOKUP(V93,'NP Surrogates-Update 4.7'!A:C,3,FALSE) -> 1 | Y93: No Growth
A94: MD-Charles | B94: NOx | C94: 2102006000 | D94: 9.7862909 | E94: =D94*J94 -> 9.7862909 | F94: =D94*K94 -> 9.7862909 | G94: 0.031366317 | H94: =G94*J94 -> 0.031366317 | I94: =G94*K94 -> 0.031366317 | J94: =W94 -> 1 | K94: =X94 -> 1 | L94: =U94 -> No Growth | M94: Fuel Combustion NatGas Industrial | R94: Nonpoint | U94: =VLOOKUP(C94,'Surrogate NP'!A:B,2,FALSE) -> No Growth | V94: =CONCATENATE(A94,U94) -> MD-CharlesNo Growth | W94: =VLOOKUP(V94,'NP Surrogates-Update 4.7'!A:C,2,FALSE) -> 1 | X94: =VLOOKUP(V94,'NP Surrogates-Update 4.7'!A:C,3,FALSE) -> 1 | Y94: No Growth
A95: MD-Charles | B95: NOx | C95: 2103005000 | D95: 0.08383824 | E95: =D95*J95 -> 0.08383824 | F95: =D95*K95 -> 0.08383824 | G95: 0.00026871231 | H95: =G95*J95 -> 0.00026871231 | I95: =G95*K95 -> 0.00026871231 | J95: =W95 -> 1 | K95: =X95 -> 1 | L95: =U95 -> No Growth | M95: Fuel Combustion Residual Comm/Institutional | R95: Nonpoint | U95: =VLOOKUP(C95,'Surrogate NP'!A:B,2,FALSE) -> No Growth | V95: =CONCATENATE(A95,U95) -> MD-CharlesNo Growth | W95: =VLOOKUP(V95,'NP Surrogates-Update 4.7'!A:C,2,FALSE) -> 1 | X95: =VLOOKUP(V95,'NP Surrogates-Update 4.7'!A:C,3,FALSE) -> 1 | Y95: No Growth
A96: MD-Charles | B96: NOx | C96: 2102004001 | D96: 0.083511289 | E96: =D96*J96 -> 0.083511289 | F96: =D96*K96 -> 0.083511289 | G96: 0.00026766439 | H96: =G96*J96 -> 0.00026766439 | I96: =G96*K96 -> 0.00026766439 | J96: =W96 -> 1 | K96: =X96 -> 1 | L96: =U96 -> No Growth | M96: Fuel Combustion Distillate Industrial | R96: Nonpoint | U96: =VLOOKUP(C96,'Surrogate NP'!A:B,2,FALSE) -> No Growth | V96: =CONCATENATE(A96,U96) -> MD-CharlesNo Growth | W96: =VLOOKUP(V96,'NP Surrogates-Update 4.7'!A:C,2,FALSE) -> 1 | X96: =VLOOKUP(V96,'NP Surrogates-Update 4.7'!A:C,3,FALSE) -> 1 | Y96: No Growth
A97: MD-Charles | B97: NOx | C97: 2102005000 | D97: 0.027779426 | E97: =D97*J97 -> 0.027779426 | F97: =D97*K97 -> 0.027779426 | G97: 8.9036623e-05 | H97: =G97*J97 -> 8.9036623e-05 | I97: =G97*K97 -> 8.9036623e-05 | J97: =W97 -> 1 | K97: =X97 -> 1 | L97: =U97 -> No Growth | M97: Fuel Combustion Residual Industrial | R97: Nonpoint | U97: =VLOOKUP(C97,'Surrogate NP'!A:B,2,FALSE) -> No Growth | V97: =CONCATENATE(A97,U97) -> MD-CharlesNo Growth | W97: =VLOOKUP(V97,'NP Surrogates-Update 4.7'!A:C,2,FALSE) -> 1 | X97: =VLOOKUP(V97,'NP Surrogates-Update 4.7'!A:C,3,FALSE) -> 1 | Y97: No Growth
A98: MD-Charles | B98: NOx | C98: 2810030000 | D98: 0.13432311 | E98: =D98*J98 -> 0.13432311 | F98: =D98*K98 -> 0.13432311 | G98: 0.00029440682 | H98: =G98*J98 -> 0.00029440682 | I98: =G98*K98 -> 0.00029440682 | J98: =W98 -> 1 | K98: =X98 -> 1 | L98: =U98 -> No Growth | M98: Structure Fires | R98: Nonpoint | U98: =VLOOKUP(C98,'Surrogate NP'!A:B,2,FALSE) -> No Growth | V98: =CONCATENATE(A98,U98) -> MD-CharlesNo Growth | W98: =VLOOKUP(V98,'NP Surrogates-Update 4.7'!A:C,2,FALSE) -> 1 | X98: =VLOOKUP(V98,'NP Surrogates-Update 4.7'!A:C,3,FALSE) -> 1 | Y98: No Growth
A99: MD-Charles | B99: NOx | C99: 2102004002 | D99: 1.6813606 | E99: =D99*J99 -> 1.6813606 | F99: =D99*K99 -> 1.6813606 | G99: 0.0053889763 | H99: =G99*J99 -> 0.0053889763 | I99: =G99*K99 -> 0.0053889763 | J99: =W99 -> 1 | K99: =X99 -> 1 | L99: =U99 -> No Growth | M99: Fuel Combustion Distillate Industrial | R99: Nonpoint | U99: =VLOOKUP(C99,'Surrogate NP'!A:B,2,FALSE) -> No Growth | V99: =CONCATENATE(A99,U99) -> MD-CharlesNo Growth | W99: =VLOOKUP(V99,'NP Surrogates-Update 4.7'!A:C,2,FALSE) -> 1 | X99: =VLOOKUP(V99,'NP Surrogates-Update 4.7'!A:C,3,FALSE) -> 1 | Y99: No Growth
A100: MD-Charles | B100: NOx | C100: 2810050000 | D100: 0.1266952 | E100: =D100*J100 -> 0.1266952 | F100: =D100*K100 -> 0.1266952 | G100: 0.00034711014 | H100: =G100*J100 -> 0.00034711014 | I100: =G100*K100 -> 0.00034711014 | J100: =W100 -> 1 | K100: =X100 -> 1 | L100: =U100 -> No Growth | M100: Vehicle Fires | R100: Nonpoint | U100: =VLOOKUP(C100,'Surrogate NP'!A:B,2,FALSE) -> No Growth | V100: =CONCATENATE(A100,U100) -> MD-CharlesNo Growth | W100: =VLOOKUP(V100,'NP Surrogates-Update 4.7'!A:C,2,FALSE) -> 1 | X100: =VLOOKUP(V100,'NP Surrogates-Update 4.7'!A:C,3,FALSE) -> 1 | Y100: No Growth
A101: MD-Charles | B101: NOX | C101: 2810060200 | D101: 2.8943e-05 | E101: =D101*J101 -> 2.8943e-05 | F101: =D101*K101 -> 2.8943e-05 | G101: 1.3358308e-07 | H101: =G101*J101 -> 1.3358308e-07 | I101: =G101*K101 -> 1.3358308e-07 | J101: =W101 -> 1 | K101: =X101 -> 1 | L101: =U101 -> No Growth | M101: Animal Cremation | R101: Nonpoint | U101: =VLOOKUP(C101,'Surrogate NP'!A:B,2,FALSE) -> No Growth | V101: =CONCATENATE(A101,U101) -> MD-CharlesNo Growth | W101: =VLOOKUP(V101,'NP Surrogates-Update 4.7'!A:C,2,FALSE) -> 1 | X101: =VLOOKUP(V101,'NP Surrogates-Update 4.7'!A:C,3,FALSE) -> 1 | Y101: No Growth
A102: MD-Charles Total | D102: =SUBTOTAL(9,D51:D101) -> 282.85251 | E102: =SUBTOTAL(9,E51:E101) -> 316.60788 | F102: =SUBTOTAL(9,F51:F101) -> 330.76852 | G102: =SUBTOTAL(9,G51:G101) -> 0.61272378 | H102: =SUBTOTAL(9,H51:H101) -> 0.67261517 | I102: =SUBTOTAL(9,I51:I101) -> 0.69916054
A103: MD-Frederick | B103: NOx | C103: 2801500171 | D103: 0.182995 | E103: =D103*J103 -> 0.182995 | F103: =D103*K103 -> 0.182995 | G103: 0.00050135616 | H103: =G103*J103 -> 0.00050135616 | I103: =G103*K103 -> 0.00050135616 | J103: =W103 -> 1 | K103: =X103 -> 1 | L103: =U103 -> No Growth | M103: Fires - Agricultural Field Burning | N103: Miscellaneous Area Sources | O103: Agriculture Production - Crops | P103: Agricultural Field Burning - whole field set on fire | Q103: Fallow | R103: Nonpoint | U103: =VLOOKUP(C103,'Surrogate NP'!A:B,2,FALSE) -> No Growth | V103: =CONCATENATE(A103,U103) -> MD-FrederickNo Growth | W103: =VLOOKUP(V103,'NP Surrogates-Update 4.7'!A:C,2,FALSE) -> 1 | X103: =VLOOKUP(V103,'NP Surrogates-Update 4.7'!A:C,3,FALSE) -> 1 | Y103: No Growth
A104: MD-Frederick | B104: NOx | C104: 2801500141 | D104: 1.185945 | E104: =D104*J104 -> 1.185945 | F104: =D104*K104 -> 1.185945 | G104: 0.0032491644 | H104: =G104*J104 -> 0.0032491644 | I104: =G104*K104 -> 0.0032491644 | J104: =W104 -> 1 | K104: =X104 -> 1 | L104: =U104 -> No Growth | M104: Fires - Agricultural Field Burning | N104: Miscellaneous Area Sources | O104: Agriculture Production - Crops | P104: Agricultural Field Burning - whole field set on fire | Q104: Field Crop is Bean (red): Headfire Burning | R104: Nonpoint | U104: =VLOOKUP(C104,'Surrogate NP'!A:B,2,FALSE) -> No Growth | V104: =CONCATENATE(A104,U104) -> MD-FrederickNo Growth | W104: =VLOOKUP(V104,'NP Surrogates-Update 4.7'!A:C,2,FALSE) -> 1 | X104: =VLOOKUP(V104,'NP Surrogates-Update 4.7'!A:C,3,FALSE) -> 1 | Y104: No Growth
A105: MD-Frederick | B105: NOx | C105: 2810060100 | D105: 0.18109621 | E105: =D105*J105 -> 0.21084008 | F105: =D105*K105 -> 0.22749647 | G105: 0.00069652389 | H105: =G105*J105 -> 0.00081092339 | I105: =G105*K105 -> 0.00087498641 | J105: =W105 -> 1.1642435 | K105: =X105 -> 1.2562188 | L105: =U105 -> Population | M105: Miscellaneous Non-Industrial Not Elsewhere Classified | N105: Miscellaneous Area Sources | O105: Other Combustion | P105: Cremation | Q105: Humans | R105: Nonpoint | U105: =VLOOKUP(C105,'Surrogate NP'!A:B,2,FALSE) -> Population | V105: =CONCATENATE(A105,U105) -> MD-FrederickPopulation | W105: =VLOOKUP(V105,'NP Surrogates-Update 4.7'!A:C,2,FALSE) -> 1.1642435 | X105: =VLOOKUP(V105,'NP Surrogates-Update 4.7'!A:C,3,FALSE) -> 1.2562188 | Y105: Population
A106: MD-Frederick | B106: NOx | C106: 2810025000 | D106: 1.510256 | E106: =D106*J106 -> 1.7583057 | F106: =D106*K106 -> 1.897212 | G106: 0.0041376877 | H106: =G106*J106 -> 0.0048172758 | I106: =G106*K106 -> 0.005197841 | J106: =W106 -> 1.1642435 | K106: =X106 -> 1.2562188 | L106: =U106 -> Population | M106: Miscellaneous Non-Industrial Not Elsewhere Classified | N106: Miscellaneous Area Sources | O106: Other Combustion | P106: Residential Grilling (see 23-02-002-xxx for Commercial) | Q106: Total | R106: Nonpoint | U106: =VLOOKUP(C106,'Surrogate NP'!A:B,2,FALSE) -> Population | V106: =CONCATENATE(A106,U106) -> MD-FrederickPopulation | W106: =VLOOKUP(V106,'NP Surrogates-Update 4.7'!A:C,2,FALSE) -> 1.1642435 | X106: =VLOOKUP(V106,'NP Surrogates-Update 4.7'!A:C,3,FALSE) -> 1.2562188 | Y106: Population
A107: MD-Frederick | B107: NOx | C107: 2811015002 | D107: 3.417453 | E107: =D107*J107 -> 3.417453 | F107: =D107*K107 -> 3.417453 | G107: 0.0093628849 | H107: =G107*J107 -> 0.0093628849 | I107: =G107*K107 -> 0.0093628849 | J107: =W107 -> 1 | K107: =X107 -> 1 | L107: =U107 -> No Growth | M107: Fires - Prescribed Fires | N107: Miscellaneous Area Sources | O107: Other Combustion - as Event | P107: Prescribed Forest Burning | Q107: Flaming | R107: Nonpoint | U107: =VLOOKUP(C107,'Surrogate NP'!A:B,2,FALSE) -> No Growth | V107: =CONCATENATE(A107,U107) -> MD-FrederickNo Growth | W107: =VLOOKUP(V107,'NP Surrogates-Update 4.7'!A:C,2,FALSE) -> 1 | X107: =VLOOKUP(V107,'NP Surrogates-Update 4.7'!A:C,3,FALSE) -> 1 | Y107: No Growth
A108: MD-Frederick | B108: NOx | C108: 2810001002 | D108: 0.099079 | E108: =D108*J108 -> 0.099079 | F108: =D108*K108 -> 0.099079 | G108: 0.00027144932 | H108: =G108*J108 -> 0.00027144932 | I108: =G108*K108 -> 0.00027144932 | J108: =W108 -> 1 | K108: =X108 -> 1 | L108: =U108 -> No Growth | M108: Fires-Wildfire | R108: Nonpoint | U108: =VLOOKUP(C108,'Surrogate NP'!A:B,2,FALSE) -> No Growth | V108: =CONCATENATE(A108,U108) -> MD-FrederickNo Growth | W108: =VLOOKUP(V108,'NP Surrogates-Update 4.7'!A:C,2,FALSE) -> 1 | X108: =VLOOKUP(V108,'NP Surrogates-Update 4.7'!A:C,3,FALSE) -> 1 | Y108: No Growth
A109: MD-Frederick | B109: NOx | C109: 2103004001 | D109: 6.2646219 | E109: =D109*J109 -> 7.1675384 | F109: =D109*K109 -> 7.6728697 | G109: 2.2917112e-05 | H109: =G109*J109 -> 2.6220143e-05 | I109: =G109*K109 -> 2.8068736e-05 | J109: =W109 -> 1.1441295 | K109: =X109 -> 1.2247938 | L109: =U109 -> Employment | M109: Fuel Comb - Comm/Institutional - Oil | N109: Stationary Source Fuel Combustion | O109: Commercial/Institutional | P109: Distillate Oil | Q109: Boilers | R109: Nonpoint | U109: =VLOOKUP(C109,'Surrogate NP'!A:B,2,FALSE) -> Employment | V109: =CONCATENATE(A109,U109) -> MD-FrederickEmployment | W109: =VLOOKUP(V109,'NP Surrogates-Update 4.7'!A:C,2,FALSE) -> 1.1441295 | X109: =VLOOKUP(V109,'NP Surrogates-Update 4.7'!A:C,3,FALSE) -> 1.2247938 | Y109: Employment
A110: MD-Frederick | B110: NOx | C110: 2103004002 | D110: 9.957451 | E110: =D110*J110 -> 11.392613 | F110: =D110*K110 -> 12.195824 | G110: 3.6426145e-05 | H110: =G110*J110 -> 4.1676225e-05 | I110: =G110*K110 -> 4.4614515e-05 | J110: =W110 -> 1.1441295 | K110: =X110 -> 1.2247938 | L110: =U110 -> Employment | M110: Fuel Comb - Comm/Institutional - Oil | N110: Stationary Source Fuel Combustion | O110: Commercial/Institutional | P110: Distillate Oil | Q110: IC Engines | R110: Nonpoint | U110: =VLOOKUP(C110,'Surrogate NP'!A:B,2,FALSE) -> Employment | V110: =CONCATENATE(A110,U110) -> MD-FrederickEmployment | W110: =VLOOKUP(V110,'NP Surrogates-Update 4.7'!A:C,2,FALSE) -> 1.1441295 | X110: =VLOOKUP(V110,'NP Surrogates-Update 4.7'!A:C,3,FALSE) -> 1.2247938 | Y110: Employment
A111: MD-Frederick | B111: NOx | C111: 2103011000 | D111: 0.12876535 | E111: =D111*J111 -> 0.14732423 | F111: =D111*K111 -> 0.157711 | G111: 4.7104679e-07 | H111: =G111*J111 -> 5.389385e-07 | I111: =G111*K111 -> 5.7693516e-07 | J111: =W111 -> 1.1441295 | K111: =X111 -> 1.2247938 | L111: =U111 -> Employment | M111: Fuel Comb - Comm/Institutional - Oil | N111: Stationary Source Fuel Combustion | O111: Commercial/Institutional | P111: Kerosene | Q111: Total: All Combustor Types | R111: Nonpoint | U111: =VLOOKUP(C111,'Surrogate NP'!A:B,2,FALSE) -> Employment | V111: =CONCATENATE(A111,U111) -> MD-FrederickEmployment | W111: =VLOOKUP(V111,'NP Surrogates-Update 4.7'!A:C,2,FALSE) -> 1.1441295 | X111: =VLOOKUP(V111,'NP Surrogates-Update 4.7'!A:C,3,FALSE) -> 1.2247938 | Y111: Employment
A112: MD-Frederick | B112: NOx | C112: 2103007000 | D112: 7.7222894 | E112: =D112*J112 -> 8.8352987 | F112: =D112*K112 -> 9.4582118 | G112: 0.024160404 | H112: =G112*J112 -> 0.02764263 | I112: =G112*K112 -> 0.029591512 | J112: =W112 -> 1.1441295 | K112: =X112 -> 1.2247938 | L112: =U112 -> Employment | M112: Fuel Comb - Comm/Institutional - Other | N112: Stationary Source Fuel Combustion | O112: Commercial/Institutional | P112: Liquified Petroleum Gas (LPG) | Q112: Total: All Combustor Types | R112: Nonpoint | U112: =VLOOKUP(C112,'Surrogate NP'!A:B,2,FALSE) -> Employment | V112: =CONCATENATE(A112,U112) -> MD-FrederickEmployment | W112: =VLOOKUP(V112,'NP Surrogates-Update 4.7'!A:C,2,FALSE) -> 1.1441295 | X112: =VLOOKUP(V112,'NP Surrogates-Update 4.7'!A:C,3,FALSE) -> 1.2247938 | Y112: Employment
A113: MD-Frederick | B113: NOx | C113: 2103006000 | D113: 102.18943 | E113: =D113*J113 -> 116.91794 | F113: =D113*K113 -> 125.16098 | G113: 0.3197158 | H113: =G113*J113 -> 0.36579626 | I113: =G113*K113 -> 0.39158591 | J113: =W113 -> 1.1441295 | K113: =X113 -> 1.2247938 | L113: =U113 -> Employment | M113: Fuel Comb - Comm/Institutional - Natural Gas | N113: Stationary Source Fuel Combustion | O113: Commercial/Institutional | P113: Natural Gas | Q113: Total: Boilers and IC Engines | R113: Nonpoint | U113: =VLOOKUP(C113,'Surrogate NP'!A:B,2,FALSE) -> Employment | V113: =CONCATENATE(A113,U113) -> MD-FrederickEmployment | W113: =VLOOKUP(V113,'NP Surrogates-Update 4.7'!A:C,2,FALSE) -> 1.1441295 | X113: =VLOOKUP(V113,'NP Surrogates-Update 4.7'!A:C,3,FALSE) -> 1.2247938 | Y113: Employment
A114: MD-Frederick | B114: NOx | C114: 2103008000 | D114: 3.8579557 | E114: =D114*J114 -> 4.4140008 | F114: =D114*K114 -> 4.7252001 | G114: 1.4113095e-05 | H114: =G114*J114 -> 1.6147208e-05 | I114: =G114*K114 -> 1.7285631e-05 | J114: =W114 -> 1.1441295 | K114: =X114 -> 1.2247938 | L114: =U114 -> Employment | M114: Fuel Comb - Comm/Institutional - Biomass | N114: Stationary Source Fuel Combustion | O114: Commercial/Institutional | P114: Wood | Q114: Total: All Boiler Types | R114: Nonpoint | U114: =VLOOKUP(C114,'Surrogate NP'!A:B,2,FALSE) -> Employment | V114: =CONCATENATE(A114,U114) -> MD-FrederickEmployment | W114: =VLOOKUP(V114,'NP Surrogates-Update 4.7'!A:C,2,FALSE) -> 1.1441295 | X114: =VLOOKUP(V114,'NP Surrogates-Update 4.7'!A:C,3,FALSE) -> 1.2247938 | Y114: Employment
A115: MD-Frederick | B115: NOx | C115: 2102001000 | D115: 5.1192807 | E115: =D115*J115 -> 5.1192807 | F115: =D115*K115 -> 5.1192807 | G115: 0 | H115: =G115*J115 -> 0 | I115: =G115*K115 -> 0 | J115: =W115 -> 1 | K115: =X115 -> 1 | L115: =U115 -> No Growth | M115: Fuel Comb - Industrial Boilers, ICEs - Coal | N115: Stationary Source Fuel Combustion | O115: Industrial | P115: Anthracite Coal | Q115: Total: All Boiler Types | R115: Nonpoint | U115: =VLOOKUP(C115,'Surrogate NP'!A:B,2,FALSE) -> No Growth | V115: =CONCATENATE(A115,U115) -> MD-FrederickNo Growth | W115: =VLOOKUP(V115,'NP Surrogates-Update 4.7'!A:C,2,FALSE) -> 1 | X115: =VLOOKUP(V115,'NP Surrogates-Update 4.7'!A:C,3,FALSE) -> 1 | Y115: No Growth
A116: MD-Frederick | B116: NOx | C116: 2102002000 | D116: 81.868431 | E116: =D116*J116 -> 81.868431 | F116: =D116*K116 -> 81.868431 | G116: 0.26239882 | H116: =G116*J116 -> 0.26239882 | I116: =G116*K116 -> 0.26239882 | J116: =W116 -> 1 | K116: =X116 -> 1 | L116: =U116 -> No Growth | M116: Fuel Comb - Industrial Boilers, ICEs - Coal | N116: Stationary Source Fuel Combustion | O116: Industrial | P116: Bituminous/Subbituminous Coal | Q116: Total: All Boiler Types | R116: Nonpoint | U116: =VLOOKUP(C116,'Surrogate NP'!A:B,2,FALSE) -> No Growth | V116: =CONCATENATE(A116,U116) -> MD-FrederickNo Growth | W116: =VLOOKUP(V116,'NP Surrogates-Update 4.7'!A:C,2,FALSE) -> 1 | X116: =VLOOKUP(V116,'NP Surrogates-Update 4.7'!A:C,3,FALSE) -> 1 | Y116: No Growth
A117: MD-Frederick | B117: NOx | C117: 2102011000 | D117: 0.02491381 | E117: =D117*J117 -> 0.02491381 | F117: =D117*K117 -> 0.02491381 | G117: 7.9851955e-05 | H117: =G117*J117 -> 7.9851955e-05 | I117: =G117*K117 -> 7.9851955e-05 | J117: =W117 -> 1 | K117: =X117 -> 1 | L117: =U117 -> No Growth | M117: Fuel Comb - Industrial Boilers, ICEs - Oil | N117: Stationary Source Fuel Combustion | O117: Industrial | P117: Kerosene | Q117: Total: All Boiler Types | R117: Nonpoint | U117: =VLOOKUP(C117,'Surrogate NP'!A:B,2,FALSE) -> No Growth | V117: =CONCATENATE(A117,U117) -> MD-FrederickNo Growth | W117: =VLOOKUP(V117,'NP Surrogates-Update 4.7'!A:C,2,FALSE) -> 1 | X117: =VLOOKUP(V117,'NP Surrogates-Update 4.7'!A:C,3,FALSE) -> 1 | Y117: No Growth
A118: MD-Frederick | B118: NOx | C118: 2102008000 | D118: 1.758611 | E118: =D118*J118 -> 1.758611 | F118: =D118*K118 -> 1.758611 | G118: 0.0054956594 | H118: =G118*J118 -> 0.0054956594 | I118: =G118*K118 -> 0.0054956594 | J118: =W118 -> 1 | K118: =X118 -> 1 | L118: =U118 -> No Growth | M118: Fuel Comb - Industrial Boilers, ICEs - Biomass | N118: Stationary Source Fuel Combustion | O118: Industrial | P118: Wood | Q118: Total: All Boiler Types | R118: Nonpoint | U118: =VLOOKUP(C118,'Surrogate NP'!A:B,2,FALSE) -> No Growth | V118: =CONCATENATE(A118,U118) -> MD-FrederickNo Growth | W118: =VLOOKUP(V118,'NP Surrogates-Update 4.7'!A:C,2,FALSE) -> 1 | X118: =VLOOKUP(V118,'NP Surrogates-Update 4.7'!A:C,3,FALSE) -> 1 | Y118: No Growth
A119: MD-Frederick | B119: NOx | C119: 2104004000 | D119: 51.8258 | E119: =D119*J119 -> 60.331091 | F119: =D119*K119 -> 65.067738 | G119: 0.00016485921 | H119: =G119*J119 -> 0.00019191476 | I119: =G119*K119 -> 0.00020698215 | J119: =W119 -> 1.1641131 | K119: =X119 -> 1.2555086 | L119: =U119 -> Household | M119: Fuel Comb - Residential - Oil | N119: Stationary Source Fuel Combustion | O119: Residential | P119: Distillate Oil | Q119: Total: All Combustor Types | R119: Nonpoint | U119: =VLOOKUP(C119,'Surrogate NP'!A:B,2,FALSE) -> Household | V119: =CONCATENATE(A119,U119) -> MD-FrederickHousehold | W119: =VLOOKUP(V119,'NP Surrogates-Update 4.7'!A:C,2,FALSE) -> 1.1641131 | X119: =VLOOKUP(V119,'NP Surrogates-Update 4.7'!A:C,3,FALSE) -> 1.2555086 | Y119: Household
A120: MD-Frederick | B120: NOx | C120: 2104009000 | D120: 1.0130398 | E120: =D120*J120 -> 1.1792929 | F120: =D120*K120 -> 1.2718802 | G120: 0.00036346199 | H120: =G120*J120 -> 0.00042311085 | I120: =G120*K120 -> 0.00045632966 | J120: =W120 -> 1.1641131 | K120: =X120 -> 1.2555086 | L120: =U120 -> Household | M120: Fuel Comb - Residential - Wood | N120: Stationary Source Fuel Combustion | O120: Residential | P120: Firelog | Q120: Total: All Combustor Types | R120: Nonpoint | U120: =VLOOKUP(C120,'Surrogate NP'!A:B,2,FALSE) -> Household | V120: =CONCATENATE(A120,U120) -> MD-FrederickHousehold | W120: =VLOOKUP(V120,'NP Surrogates-Update 4.7'!A:C,2,FALSE) -> 1.1641131 | X120: =VLOOKUP(V120,'NP Surrogates-Update 4.7'!A:C,3,FALSE) -> 1.2555086 | Y120: Household
... A141: MD-Frederick | B141: NOx | C141: 2610030000 | D141: 17.55696 | E141: =D141*J141 -> 17.55696 | F141: =D141*K141 -> 17.55696 | G141: 0.04810126 | H141: =G141*J141 -> 0.04810126 | I141: =G141*K141 -> 0.04810126 | J141: =W141 -> 1 | K141: =X141 -> 1 | L141: =U141 -> No Growth | M141: Waste Disposal | N141: Waste Disposal, Treatment, and Recovery | O141: Open Burning | P141: Residential | Q141: Household Waste (use 26-10-000-xxx for Yard Wastes) | R141: Nonpoint | U141: =VLOOKUP(C141,'Surrogate NP'!A:B,2,FALSE) -> No Growth | V141: =CONCATENATE(A141,U141) -> MD-FrederickNo Growth | W141: =VLOOKUP(V141,'NP Surrogates-Update 4.7'!A:C,2,FALSE) -> 1 | X141: =VLOOKUP(V141,'NP Surrogates-Update 4.7'!A:C,3,FALSE) -> 1 | Y141: No Growth
A142: MD-Frederick | B142: NOx | C142: 2102005000 | D142: 0.11982101 | E142: =D142*J142 -> 0.11982101 | F142: =D142*K142 -> 0.11982101 | G142: 0.00038404169 | H142: =G142*J142 -> 0.00038404169 | I142: =G142*K142 -> 0.00038404169 | J142: =W142 -> 1 | K142: =X142 -> 1 | L142: =U142 -> No Growth | M142: Fuel Combustion Residual Industrial | R142: Nonpoint | U142: =VLOOKUP(C142,'Surrogate NP'!A:B,2,FALSE) -> No Growth | V142: =CONCATENATE(A142,U142) -> MD-FrederickNo Growth | W142: =VLOOKUP(V142,'NP Surrogates-Update 4.7'!A:C,2,FALSE) -> 1 | X142: =VLOOKUP(V142,'NP Surrogates-Update 4.7'!A:C,3,FALSE) -> 1 | Y142: No Growth
A143: MD-Frederick | B143: NOx | C143: 2102004001 | D143: 0.090500671 | E143: =D143*J143 -> 0.090500671 | F143: =D143*K143 -> 0.090500671 | G143: 0.00029006625 | H143: =G143*J143 -> 0.00029006625 | I143: =G143*K143 -> 0.00029006625 | J143: =W143 -> 1 | K143: =X143 -> 1 | L143: =U143 -> No Growth | M143: Fuel Combustion Distillate Industrial | R143: Nonpoint | U143: =VLOOKUP(C143,'Surrogate NP'!A:B,2,FALSE) -> No Growth | V143: =CONCATENATE(A143,U143) -> MD-FrederickNo Growth | W143: =VLOOKUP(V143,'NP Surrogates-Update 4.7'!A:C,2,FALSE) -> 1 | X143: =VLOOKUP(V143,'NP Surrogates-Update 4.7'!A:C,3,FALSE) -> 1 | Y143: No Growth
A144: MD-Frederick | B144: NOx | C144: 2102006000 | D144: 21.095371 | E144: =D144*J144 -> 21.095371 | F144: =D144*K144 -> 21.095371 | G144: 0.067613367 | H144: =G144*J144 -> 0.067613367 | I144: =G144*K144 -> 0.067613367 | J144: =W144 -> 1 | K144: =X144 -> 1 | L144: =U144 -> No Growth | M144: Fuel Combustion NatGas Industrial | R144: Nonpoint | U144: =VLOOKUP(C144,'Surrogate NP'!A:B,2,FALSE) -> No Growth | V144: =CONCATENATE(A144,U144) -> MD-FrederickNo Growth | W144: =VLOOKUP(V144,'NP Surrogates-Update 4.7'!A:C,2,FALSE) -> 1 | X144: =VLOOKUP(V144,'NP Surrogates-Update 4.7'!A:C,3,FALSE) -> 1 | Y144: No Growth
A145: MD-Frederick | B145: NOx | C145: 2103005000 | D145: 0.21832516 | E145: =D145*J145 -> 0.21832516 | F145: =D145*K145 -> 0.21832516 | G145: 0.00069976012 | H145: =G145*J145 -> 0.00069976012 | I145: =G145*K145 -> 0.00069976012 | J145: =W145 -> 1 | K145: =X145 -> 1 | L145: =U145 -> No Growth | M145: Fuel Combustion Residual Comm/Institutional | R145: Nonpoint | U145: =VLOOKUP(C145,'Surrogate NP'!A:B,2,FALSE) -> No Growth | V145: =CONCATENATE(A145,U145) -> MD-FrederickNo Growth | W145: =VLOOKUP(V145,'NP Surrogates-Update 4.7'!A:C,2,FALSE) -> 1 | X145: =VLOOKUP(V145,'NP Surrogates-Update 4.7'!A:C,3,FALSE) -> 1 | Y145: No Growth
A146: MD-Frederick | B146: NOx | C146: 2102004002 | D146: 1.8220802 | E146: =D146*J146 -> 1.8220802 | F146: =D146*K146 -> 1.8220802 | G146: 0.0058400006 | H146: =G146*J146 -> 0.0058400006 | I146: =G146*K146 -> 0.0058400006 | J146: =W146 -> 1 | K146: =X146 -> 1 | L146: =U146 -> No Growth | M146: Fuel Combustion Distillate Industrial | R146: Nonpoint | U146: =VLOOKUP(C146,'Surrogate NP'!A:B,2,FALSE) -> No Growth | V146: =CONCATENATE(A146,U146) -> MD-FrederickNo Growth | W146: =VLOOKUP(V146,'NP Surrogates-Update 4.7'!A:C,2,FALSE) -> 1 | X146: =VLOOKUP(V146,'NP Surrogates-Update 4.7'!A:C,3,FALSE) -> 1 | Y146: No Growth
A147: MD-Frederick | B147: NOx | C147: 2810030000 | D147: 0.1437202 | E147: =D147*J147 -> 0.1437202 | F147: =D147*K147 -> 0.1437202 | G147: 0.00031500318 | H147: =G147*J147 -> 0.00031500318 | I147: =G147*K147 -> 0.00031500318 | J147: =W147 -> 1 | K147: =X147 -> 1 | L147: =U147 -> No Growth | M147: Structure Fires | R147: Nonpoint | U147: =VLOOKUP(C147,'Surrogate NP'!A:B,2,FALSE) -> No Growth | V147: =CONCATENATE(A147,U147) -> MD-FrederickNo Growth | W147: =VLOOKUP(V147,'NP Surrogates-Update 4.7'!A:C,2,FALSE) -> 1 | X147: =VLOOKUP(V147,'NP Surrogates-Update 4.7'!A:C,3,FALSE) -> 1 | Y147: No Growth
A148: MD-Frederick | B148: NOx | C148: 2810050000 | D148: 0.2359152 | E148: =D148*J148 -> 0.2359152 | F148: =D148*K148 -> 0.2359152 | G148: 0.00064634301 | H148: =G148*J148 -> 0.00064634301 | I148: =G148*K148 -> 0.00064634301 | J148: =W148 -> 1 | K148: =X148 -> 1 | L148: =U148 -> No Growth | M148: Vehicle Fires | R148: Nonpoint | U148: =VLOOKUP(C148,'Surrogate NP'!A:B,2,FALSE) -> No Growth | V148: =CONCATENATE(A148,U148) -> MD-FrederickNo Growth | W148: =VLOOKUP(V148,'NP Surrogates-Update 4.7'!A:C,2,FALSE) -> 1 | X148: =VLOOKUP(V148,'NP Surrogates-Update 4.7'!A:C,3,FALSE) -> 1 | Y148: No Growth
A149: MD-Frederick | B149: NOX | C149: 2810060200 | D149: 5.895053e-06 | E149: =D149*J149 -> 5.895053e-06 | F149: =D149*K149 -> 5.895053e-06 | G149: 2.7207937e-08 | H149: =G149*J149 -> 2.7207937e-08 | I149: =G149*K149 -> 2.7207937e-08 | J149: =W149 -> 1 | K149: =X149 -> 1 | L149: =U149 -> No Growth | M149: Animal Cremation | R149: Nonpoint | U149: =VLOOKUP(C149,'Surrogate NP'!A:B,2,FALSE) -> No Growth | V149: =CONCATENATE(A149,U149) -> MD-FrederickNo Growth | W149: =VLOOKUP(V149,'NP Surrogates-Update 4.7'!A:C,2,FALSE) -> 1 | X149: =VLOOKUP(V149,'NP Surrogates-Update 4.7'!A:C,3,FALSE) -> 1 | Y149: No Growth
A150: MD-Frederick Total | D150: =SUBTOTAL(9,D103:D149) -> 571.57601 | E150: =SUBTOTAL(9,E103:E149) -> 628.00301 | F150: =SUBTOTAL(9,F103:F149) -> 659.48015 | G150: =SUBTOTAL(9,G103:G149) -> 1.3646372 | H150: =SUBTOTAL(9,H103:H149) -> 1.4811094 | I150: =SUBTOTAL(9,I103:I149) -> 1.5461127
A151: MD-Montgomery | B151: NOx | C151: 2801500141 | D151: 0.237189 | E151: =D151*J151 -> 0.237189 | F151: =D151*K151 -> 0.237189 | G151: 0.00064983288 | H151: =G151*J151 -> 0.00064983288 | I151: =G151*K151 -> 0.00064983288 | J151: =W151 -> 1 | K151: =X151 -> 1 | L151: =U151 -> No Growth | M151: Fires - Agricultural Field Burning | N151: Miscellaneous Area Sources | O151: Agriculture Production - Crops | P151: Agricultural Field Burning - whole field set on fire | Q151: Field Crop is Bean (red): Headfire Burning | R151: Nonpoint | U151: =VLOOKUP(C151,'Surrogate NP'!A:B,2,FALSE) -> No Growth | V151: =CONCATENATE(A151,U151) -> MD-MontgomeryNo Growth | W151: =VLOOKUP(V151,'NP Surrogates-Update 4.7'!A:C,2,FALSE) -> 1 | X151: =VLOOKUP(V151,'NP Surrogates-Update 4.7'!A:C,3,FALSE) -> 1 | Y151: No Growth
A152: MD-Montgomery | B152: NOx | C152: 2810060100 | D152: 0.5641946 | E152: =D152*J152 -> 0.59712257 | F152: =D152*K152 -> 0.61600133 | G152: 0.0021699792 | H152: =G152*J152 -> 0.0022966253 | I152: =G152*K152 -> 0.0023692359 | J152: =W152 -> 1.0583628 | K152: =X152 -> 1.0918242 | L152: =U152 -> Population | M152: Miscellaneous Non-Industrial Not Elsewhere Classified | N152: Miscellaneous Area Sources | O152: Other Combustion | P152: Cremation | Q152: Humans | R152: Nonpoint | U152: =VLOOKUP(C152,'Surrogate NP'!A:B,2,FALSE) -> Population | V152: =CONCATENATE(A152,U152) -> MD-MontgomeryPopulation | W152: =VLOOKUP(V152,'NP Surrogates-Update 4.7'!A:C,2,FALSE) -> 1.0583628 | X152: =VLOOKUP(V152,'NP Surrogates-Update 4.7'!A:C,3,FALSE) -> 1.0918242 | Y152: Population
A153: MD-Montgomery | B153: NOx | C153: 2810025000 | D153: 4.705188 | E153: =D153*J153 -> 4.9797958 | F153: =D153*K153 -> 5.1372382 | G153: 0.012890926 | H153: =G153*J153 -> 0.013643276 | I153: =G153*K153 -> 0.014074625 | J153: =W153 -> 1.0583628 | K153: =X153 -> 1.0918242 | L153: =U153 -> Population | M153: Miscellaneous Non-Industrial Not Elsewhere Classified | N153: Miscellaneous Area Sources | O153: Other Combustion | P153: Residential Grilling (see 23-02-002-xxx for Commercial) | Q153: Total | R153: Nonpoint | U153: =VLOOKUP(C153,'Surrogate NP'!A:B,2,FALSE) -> Population | V153: =CONCATENATE(A153,U153) -> MD-MontgomeryPopulation | W153: =VLOOKUP(V153,'NP Surrogates-Update 4.7'!A:C,2,FALSE) -> 1.0583628 | X153: =VLOOKUP(V153,'NP Surrogates-Update 4.7'!A:C,3,FALSE) -> 1.0918242 | Y153: Population
A154: MD-Montgomery | B154: NOx | C154: 2811015002 | D154: 0.852996 | E154: =D154*J154 -> 0.852996 | F154: =D154*K154 -> 0.852996 | G154: 0.0023369753 | H154: =G154*J154 -> 0.0023369753 | I154: =G154*K154 -> 0.0023369753 | J154: =W154 -> 1 | K154: =X154 -> 1 | L154: =U154 -> No Growth | M154: Fires - Prescribed Fires | N154: Miscellaneous Area Sources | O154: Other Combustion - as Event | P154: Prescribed Forest Burning | Q154: Flaming | R154: Nonpoint | U154: =VLOOKUP(C154,'Surrogate NP'!A:B,2,FALSE) -> No Growth | V154: =CONCATENATE(A154,U154) -> MD-MontgomeryNo Growth | W154: =VLOOKUP(V154,'NP Surrogates-Update 4.7'!A:C,2,FALSE) -> 1 | X154: =VLOOKUP(V154,'NP Surrogates-Update 4.7'!A:C,3,FALSE) -> 1 | Y154: No Growth
A155: MD-Montgomery | B155: NOx | C155: 2103004001 | D155: 34.745087 | E155: =D155*J155 -> 38.142782 | F155: =D155*K155 -> 39.704634 | G155: 0.00012710377 | H155: =G155*J155 -> 0.00013953315 | I155: =G155*K155 -> 0.00014524669 | J155: =W155 -> 1.0977892 | K155: =X155 -> 1.1427409 | L155: =U155 -> Employment | M155: Fuel Comb - Comm/Institutional - Oil | N155: Stationary Source Fuel Combustion | O155: Commercial/Institutional | P155: Distillate Oil | Q155: Boilers | R155: Nonpoint | U155: =VLOOKUP(C155,'Surrogate NP'!A:B,2,FALSE) -> Employment | V155: =CONCATENATE(A155,U155) -> MD-MontgomeryEmployment | W155: =VLOOKUP(V155,'NP Surrogates-Update 4.7'!A:C,2,FALSE) -> 1.0977892 | X155: =VLOOKUP(V155,'NP Surrogates-Update 4.7'!A:C,3,FALSE) -> 1.1427409 | Y155: Employment
A156: MD-Montgomery | B156: NOx | C156: 2103004002 | D156: 55.2264 | E156: =D156*J156 -> 60.626945 | F156: =D156*K156 -> 63.109468 | G156: 0.00020202809 | H156: =G156*J156 -> 0.00022178426 | I156: =G156*K156 -> 0.00023086578 | J156: =W156 -> 1.0977892 | K156: =X156 -> 1.1427409 | L156: =U156 -> Employment | M156: Fuel Comb - Comm/Institutional - Oil | N156: Stationary Source Fuel Combustion | O156: Commercial/Institutional | P156: Distillate Oil | Q156: IC Engines | R156: Nonpoint | U156: =VLOOKUP(C156,'Surrogate NP'!A:B,2,FALSE) -> Employment | V156: =CONCATENATE(A156,U156) -> MD-MontgomeryEmployment | W156: =VLOOKUP(V156,'NP Surrogates-Update 4.7'!A:C,2,FALSE) -> 1.0977892 | X156: =VLOOKUP(V156,'NP Surrogates-Update 4.7'!A:C,3,FALSE) -> 1.1427409 | Y156: Employment
A157: MD-Montgomery | B157: NOx | C157: 2103011000 | D157: 0.7141631 | E157: =D157*J157 -> 0.78400054 | F157: =D157*K157 -> 0.81610342 | G157: 2.6125369e-06 | H157: =G157*J157 -> 2.8680149e-06 | I157: =G157*K157 -> 2.9854529e-06 | J157: =W157 -> 1.0977892 | K157: =X157 -> 1.1427409 | L157: =U157 -> Employment | M157: Fuel Comb - Comm/Institutional - Oil | N157: Stationary Source Fuel Combustion | O157: Commercial/Institutional | P157: Kerosene | Q157: Total: All Combustor Types | R157: Nonpoint | U157: =VLOOKUP(C157,'Surrogate NP'!A:B,2,FALSE) -> Employment | V157: =CONCATENATE(A157,U157) -> MD-MontgomeryEmployment | W157: =VLOOKUP(V157,'NP Surrogates-Update 4.7'!A:C,2,FALSE) -> 1.0977892 | X157: =VLOOKUP(V157,'NP Surrogates-Update 4.7'!A:C,3,FALSE) -> 1.1427409 | Y157: Employment
A158: MD-Montgomery | B158: NOx | C158: 2103007000 | D158: 42.829663 | E158: =D158*J158 -> 47.017942 | F158: =D158*K158 -> 48.94321 | G158: 0.13399938 | H158: =G158*J158 -> 0.14710307 | I158: =G158*K158 -> 0.15312657 | J158: =W158 -> 1.0977892 | K158: =X158 -> 1.1427409 | L158: =U158 -> Employment | M158: Fuel Comb - Comm/Institutional - Other | N158: Stationary Source Fuel Combustion | O158: Commercial/Institutional | P158: Liquified Petroleum Gas (LPG) | Q158: Total: All Combustor Types | R158: Nonpoint | U158: =VLOOKUP(C158,'Surrogate NP'!A:B,2,FALSE) -> Employment | V158: =CONCATENATE(A158,U158) -> MD-MontgomeryEmployment | W158: =VLOOKUP(V158,'NP Surrogates-Update 4.7'!A:C,2,FALSE) -> 1.0977892 | X158: =VLOOKUP(V158,'NP Surrogates-Update 4.7'!A:C,3,FALSE) -> 1.1427409 | Y158: Employment
A159: MD-Montgomery | B159: NOx | C159: 2103006000 | D159: 566.76701 | E159: =D159*J159 -> 622.1907 | F159: =D159*K159 -> 647.66787 | G159: 1.7732202 | H159: =G159*J159 -> 1.946622 | I159: =G159*K159 -> 2.0263314 | J159: =W159 -> 1.0977892 | K159: =X159 -> 1.1427409 | L159: =U159 -> Employment | M159: Fuel Comb - Comm/Institutional - Natural Gas | N159: Stationary Source Fuel Combustion | O159: Commercial/Institutional | P159: Natural Gas | Q159: Total: Boilers and IC Engines | R159: Nonpoint | U159: =VLOOKUP(C159,'Surrogate NP'!A:B,2,FALSE) -> Employment | V159: =CONCATENATE(A159,U159) -> MD-MontgomeryEmployment | W159: =VLOOKUP(V159,'NP Surrogates-Update 4.7'!A:C,2,FALSE) -> 1.0977892 | X159: =VLOOKUP(V159,'NP Surrogates-Update 4.7'!A:C,3,FALSE) -> 1.1427409 | Y159: Employment
A160: MD-Montgomery | B160: NOx | C160: 2103008000 | D160: 21.397142 | E160: =D160*J160 -> 23.489552 | F160: =D160*K160 -> 24.45139 | G160: 7.827459e-05 | H160: =G160*J160 -> 8.5929e-05 | I160: =G160*K160 -> 8.9447579e-05 | J160: =W160 -> 1.0977892 | K160: =X160 -> 1.1427409 | L160: =U160 -> Employment | M160: Fuel Comb - Comm/Institutional - Biomass | N160: Stationary Source Fuel Combustion | O160: Commercial/Institutional | P160: Wood | Q160: Total: All Boiler Types | R160: Nonpoint | U160: =VLOOKUP(C160,'Surrogate NP'!A:B,2,FALSE) -> Employment | V160: =CONCATENATE(A160,U160) -> MD-MontgomeryEmployment | W160: =VLOOKUP(V160,'NP Surrogates-Update 4.7'!A:C,2,FALSE) -> 1.0977892 | X160: =VLOOKUP(V160,'NP Surrogates-Update 4.7'!A:C,3,FALSE) -> 1.1427409 | Y160: Employment
A161: MD-Montgomery | B161: NOx | C161: 2102001000 | D161: 10.355487 | E161: =D161*J161 -> 10.355487 | F161: =D161*K161 -> 10.355487 | G161: 0 | H161: =G161*J161 -> 0 | I161: =G161*K161 -> 0 | J161: =W161 -> 1 | K161: =X161 -> 1 | L161: =U161 -> No Growth | M161: Fuel Comb - Industrial Boilers, ICEs - Coal | N161: Stationary Source Fuel Combustion | O161: Industrial | P161: Anthracite Coal | Q161: Total: All Boiler Types | R161: Nonpoint | U161: =VLOOKUP(C161,'Surrogate NP'!A:B,2,FALSE) -> No Growth | V161: =CONCATENATE(A161,U161) -> MD-MontgomeryNo Growth | W161: =VLOOKUP(V161,'NP Surrogates-Update 4.7'!A:C,2,FALSE) -> 1 | X161: =VLOOKUP(V161,'NP Surrogates-Update 4.7'!A:C,3,FALSE) -> 1 | Y161: No Growth
A162: MD-Montgomery | B162: NOx | C162: 2102002000 | D162: 165.60682 | E162: =D162*J162 -> 165.60682 | F162: =D162*K162 -> 165.60682 | G162: 0.53079109 | H162: =G162*J162 -> 0.53079109 | I162: =G162*K162 -> 0.53079109 | J162: =W162 -> 1 | K162: =X162 -> 1 | L162: =U162 -> No Growth | M162: Fuel Comb - Industrial Boilers, ICEs - Coal | N162: Stationary Source Fuel Combustion | O162: Industrial | P162: Bituminous/Subbituminous Coal | Q162: Total: All Boiler Types | R162: Nonpoint | U162: =VLOOKUP(C162,'Surrogate NP'!A:B,2,FALSE) -> No Growth | V162: =CONCATENATE(A162,U162) -> MD-MontgomeryNo Growth | W162: =VLOOKUP(V162,'NP Surrogates-Update 4.7'!A:C,2,FALSE) -> 1 | X162: =VLOOKUP(V162,'NP Surrogates-Update 4.7'!A:C,3,FALSE) -> 1 | Y162: No Growth
...

Sheet NP Surrogates-Update 4.7
A1: Lookup | B1: GF-2032 | C1: GF-2038 | G1: SCC | H1: MD Surrogates | P1: GF-2032 | Q1: GF-2038
A2: MD-CalvertHousehold | B2: 1.0717053 | C2: 1.0941989 | G2: 2275001000 | H2: EPA EMP | P2: 1.0781186 | Q2: 1.1360828
A3: MD-CharlesHousehold | B3: 1.1901346 | C3: 1.2607033 | G3: 2275020000 | H3: EPA EMP | P3: 1.1901346 | Q3: 1.2760094
A4: MD-FrederickHousehold | B4: 1.1641131 | C4: 1.2555086 | G4: 2275050011 | H4: EPA EMP | P4: 1.1641131 | Q4: 1.2746261
A5: MD-MontgomeryHousehold | B5: 1.0822577 | C5: 1.1254829 | G5: 2275050012 | H5: EPA EMP | P5: 1.0822577 | Q5: 1.1336223
A6: MD-Prince George'sHousehold | B6: 1.0807754 | C6: 1.1296394 | G6: 2275060011 | H6: EPA EMP | P6: 1.0807754 | Q6: 1.1380552
A7: MD-CalvertPopulation | B7: 1.0426851 | C7: 1.0572281 | G7: 2275060012 | H7: EPA EMP | P7: 1.0831151 | Q7: 1.1397754
A8: MD-CharlesPopulation | B8: 1.1538181 | C8: 1.2191456 | G8: 2275070000 | H8: SCC Absent in MD | P8: 1.1538181 | Q8: 1.2340005
A9: MD-FrederickPopulation | B9: 1.1642435 | C9: 1.2562188 | G9: 2102001000 | H9: No Growth | P9: 1.1642435 | Q9: 1.2754594
A10: MD-MontgomeryPopulation | B10: 1.0583628 | C10: 1.0918242 | G10: 2102002000 | H10: No Growth | P10: 1.0583628 | Q10: 1.0985016
A11: MD-Prince George'sPopulation | B11: 1.0745674 | C11: 1.1211793 | G11: 2102004001 | H11: No Growth | P11: 1.0745674 | Q11: 1.1295473
A12: MD-CalvertEmployment | B12: 1.0339308 | C12: 1.051864 | G12: 2102004002 | H12: No Growth | P12: 1.0952962 | Q12: 1.1552913
A13: MD-CharlesEmployment | B13: 1.1494563 | C13: 1.2365583 | G13: 2102006000 | H13: No Growth | P13: 1.1494563 | Q13: 1.2517134
... A16: MD-Prince George'sEmployment | B16: 1.0691583 | C16: 1.1120864 | G16: 2102011000 | H16: No Growth | P16: 1.0691583 | Q16: 1.1205492
A17: MD-CalvertNo Growth | B17: 1 | C17: 1 | G17: 2103001000 | H17: Employment
A18: MD-CharlesNo Growth | B18: 1 | C18: 1 | G18: 2103002000 | H18: Employment
A19: MD-FrederickNo Growth | B19: 1 | C19: 1 | G19: 2103004001 | H19: Employment
A20: MD-MontgomeryNo Growth | B20: 1 | C20: 1 | G20: 2103004002 | H20: Employment
A21: MD-Prince George'sNo Growth | B21: 1 | C21: 1 | G21: 2103006000 | H21: Employment
A22: MD-CalvertGas Sales | B22: 0.972643 | C22: 0.948192 | G22: 2103007000 | H22: Employment
A23: MD-CharlesGas Sales | B23: 0.972643 | C23: 0.948192 | G23: 2103008000 | H23: Employment
A24: MD-FrederickGas Sales | B24: 0.972643 | C24: 0.948192 | G24: 2103011000 | H24: Employment
A25: MD-MontgomeryGas Sales | B25: 0.972643 | C25: 0.948192 | G25: 2104004000 | H25: Household
A26: MD-Prince George'sGas Sales | B26: 0.972643 | C26: 0.948192 | G26: 2104006000 | H26: Household
G27: 2104007000 | H27: Household
G28: 2104008100 | H28: Household
G29: 2104008210 | H29: Household
G30: 2104008220 | H30: Household
G31: 2104008230 | H31: Household
G32: 2104008310 | H32: Household
G33: 2104008320 | H33: Household
G34: 2104008330 | H34: Household
G35: 2104008400 | H35: Household
G36: 2104008510 | H36: Household
G37: 2104008530 | H37: Household
G38: 2104008610 | H38: Household
... G184: 2660000000 | H184: No Growth

Sheet Surrogate NP
A1: SCC | B1: MD Surrogates | K1: LookUp | L1: State County FIPS | M1: Growth Basis | N1: County | P1: GF-2032 | Q1: GF-2038
A2: 2275001000 | B2: EPA EMP | K2: 24009HSE | L2: 24009 | M2: HSE | N2: MD-Calvert | O2: =CONCATENATE(N2,M2) -> MD-CalvertHSE | P2: 1.0781186 | Q2: 1.1360828
A3: 2275020000 | B3: EPA EMP | K3: 24017HSE | L3: 24017 | M3: HSE | N3: MD-Charles | O3: =CONCATENATE(N3,M3) -> MD-CharlesHSE | P3: 1.1901346 | Q3: 1.2760094
A4: 2275050011 | B4: EPA EMP | K4: 24021HSE | L4: 24021 | M4: HSE | N4: MD-Frederick | O4: =CONCATENATE(N4,M4) -> MD-FrederickHSE | P4: 1.1641131 | Q4: 1.2746261
A5: 2275050012 | B5: EPA EMP | K5: 24031HSE | L5: 24031 | M5: HSE | N5: MD-Montgomery | O5: =CONCATENATE(N5,M5) -> MD-MontgomeryHSE | P5: 1.0822577 | Q5: 1.1336223
A6: 2275060011 | B6: EPA EMP | K6: 24033HSE | L6: 24033 | M6: HSE | N6: MD-Prince George's | O6: =CONCATENATE(N6,M6) -> MD-Prince George'sHSE | P6: 1.0807754 | Q6: 1.1380552
A7: 2275060012 | B7: EPA EMP | K7: 24009POP | L7: 24009 | M7: POP | N7: MD-Calvert | O7: =CONCATENATE(N7,M7) -> MD-CalvertPOP | P7: 1.0831151 | Q7: 1.1397754
A8: 2275070000 | B8: SCC Absent in MD | K8: 24017POP | L8: 24017 | M8: POP | N8: MD-Charles | O8: =CONCATENATE(N8,M8) -> MD-CharlesPOP | P8: 1.1538181 | Q8: 1.2340005
A9: 2102001000 | B9: No Growth | K9: 24021POP | L9: 24021 | M9: POP | N9: MD-Frederick | O9: =CONCATENATE(N9,M9) -> MD-FrederickPOP | P9: 1.1642435 | Q9: 1.2754594
A10: 2102002000 | B10: No Growth | K10: 24031POP | L10: 24031 | M10: POP | N10: MD-Montgomery | O10: =CONCATENATE(N10,M10) -> MD-MontgomeryPOP | P10: 1.0583628 | Q10: 1.0985016
A11: 2102004001 | B11: No Growth | K11: 24033POP | L11: 24033 | M11: POP | N11: MD-Prince George's | O11: =CONCATENATE(N11,M11) -> MD-Prince George'sPOP | P11: 1.0745674 | Q11: 1.1295473
A12: 2102004002 | B12: No Growth | K12: 24009EMP | L12: 24009 | M12: EMP | N12: MD-Calvert | O12: =CONCATENATE(N12,M12) -> MD-CalvertEMP | P12: 1.0952962 | Q12: 1.1552913
A13: 2102006000 | B13: No Growth | K13: 24017EMP | L13: 24017 | M13: EMP | N13: MD-Charles | O13: =CONCATENATE(N13,M13) -> MD-CharlesEMP | P13: 1.1494563 | Q13: 1.2517134
... A21: 2103006000 | B21: Employment | K21: 24033No Growth | L21: 24033 | M21: No Growth | N21: MD-Prince George's | O21: =CONCATENATE(N21,M21) -> MD-Prince George'sNo Growth | P21: 1 | Q21: 1
A22: 2103007000 | B22: Employment | K22: 24009Gas Sales | M22: Gas Sales | N22: MD-Calvert | O22: =CONCATENATE(N22,M22) -> MD-CalvertGas Sales
A23: 2103008000 | B23: Employment | K23: 24017Gas Sales | M23: Gas Sales | N23: MD-Charles | O23: =CONCATENATE(N23,M23) -> MD-CharlesGas Sales
A24: 2103011000 | B24: Employment | K24: 24021Gas Sales | M24: Gas Sales | N24: MD-Frederick | O24: =CONCATENATE(N24,M24) -> MD-FrederickGas Sales
A25: 2104004000 | B25: Household | K25: 24031Gas Sales | M25: Gas Sales | N25: MD-Montgomery | O25: =CONCATENATE(N25,M25) -> MD-MontgomeryGas Sales
A26: 2104006000 | B26: Household | K26: 24033Gas Sales | M26: Gas Sales | N26: MD-Prince George's | O26: =CONCATENATE(N26,M26) -> MD-Prince George'sGas Sales
A27: 2104007000 | B27: Household
A28: 2104008100 | B28: Household
A29: 2104008210 | B29: Household
A30: 2104008220 | B30: Household
A31: 2104008230 | B31: Household
A32: 2104008310 | B32: Household
A33: 2104008320 | B33: Household
A34: 2104008330 | B34: Household
A35: 2104008400 | B35: Household
A36: 2104008510 | B36: Household
A37: 2104008530 | B37: Household
A38: 2104008610 | B38: Household
... A184: 2660000000 | B184: No Growth

Sheet Quasi by SCC
A1: master ai name | B1: O3 NAA | C1: SCC | D1: operations days per year | E1: 2022NOX (tpy) | F1: 2022VOC (tpy) | G1: 2022NOX (tpd) | H1: 2022VOC (tpd) | I1: NOX 2032 (tpd) | J1: NOX 2038 (tpd) | K1: VOC 2032 (tpd) | L1: VOC 2038 (tpd) | M1: GF-NOX-2032 | N1: GF-NOX-2038 | O1: GF-VOC-2032 | P1: GF-VOC-2038
A2: Andrews Air Force Base | B2: MWCOG | C2: 10300503 | D2: 365 | E2: 0.213525 | F2: 0.01095 | G2: 0.000585 | H2: 3e-05 | I2: =G2*M2 -> 0.000585 | J2: =G2*N2 -> 0.000585 | K2: =H2*O2 -> 3.6270147e-05 | L2: =H2*P2 -> 4.0524778e-05 | M2: 1 | N2: 1 | O2: 1.2090049 | P2: 1.3508259
A3: Andrews Air Force Base | B3: MWCOG | C3: 10300603 | D3: 365 | E3: 2.3141 | F3: 0.1241 | G3: 0.00634 | H3: 0.00034 | I3: =G3*M3 -> 0.00634 | J3: =G3*N3 -> 0.00634 | K3: =H3*O3 -> 0.00041106167 | L3: =H3*P3 -> 0.00045928082 | M3: 1 | N3: 1 | O3: 1.2090049 | P3: 1.3508259
A4: Andrews Air Force Base | B4: MWCOG | C4: 20300101 | D4: 41 | E4: 0.48175 | F4: 0.013325 | G4: 0.01175 | H4: 0.000325 | I4: =G4*M4 -> 0.01175 | J4: =G4*N4 -> 0.01175 | K4: =H4*O4 -> 0.00039292659 | L4: =H4*P4 -> 0.00043901843 | M4: 1 | N4: 1 | O4: 1.2090049 | P4: 1.3508259
A5: Andrews Air Force Base | B5: MWCOG | C5: 40600601 | D5: 365 | E5: 0 | F5: 1.679 | G5: 0 | H5: 0.0046 | I5: =G5*M5 -> 0 | J5: =G5*N5 -> 0 | K5: =H5*O5 -> 0.0055614225 | L5: =H5*P5 -> 0.0062137993 | M5: 1 | N5: 1 | O5: 1.2090049 | P5: 1.3508259
A6: Andrews Air Force Base | B6: MWCOG | C6: 20100102 | D6: 14 | E6: 0.5734 | F6: 0.01726 | G6: 0.03595 | H6: 0.00109 | I6: =G6*M6 -> 0.03595 | J6: =G6*N6 -> 0.03595 | K6: =H6*O6 -> 0.0013178153 | L6: =H6*P6 -> 0.0014724003 | M6: 1 | N6: 1 | O6: 1.2090049 | P6: 1.3508259
A7: Andrews Air Force Base | B7: MWCOG | C7: 20200102 | D7: 19 | E7: 0.3773 | F7: 0.010325 | G7: 0.0155 | H7: 0.000425 | I7: =G7*M7 -> 0.0155 | J7: =G7*N7 -> 0.0155 | K7: =H7*O7 -> 0.00051382708 | L7: =H7*P7 -> 0.00057410102 | M7: 1 | N7: 1 | O7: 1.2090049 | P7: 1.3508259
A8: Andrews Air Force Base | B8: MWCOG | C8: 20100107 | D8: 14 | E8: 0.444 | F8: 0.01225 | G8: 0.0309 | H8: 0.00085 | I8: =G8*M8 -> 0.0309 | J8: =G8*N8 -> 0.0309 | K8: =H8*O8 -> 0.0010276542 | L8: =H8*P8 -> 0.001148202 | M8: 1 | N8: 1 | O8: 1.2090049 | P8: 1.3508259
A9: Andrews Air Force Base | B9: MWCOG | C9: 2275001000 | D9: 365 | E9: 282.7945 | F9: 137.585 | G9: 0.77477945 | H9: 0.37694521 | I9: =G9*M9 -> 0.77477945 | J9: =G9*N9 -> 0.77477945 | K9: =H9*O9 -> 0.37694521 | L9: =H9*P9 -> 0.37694521 | M9: 1 | N9: 1 | O9: 1 | P9: 1
A10: Andrews Air Force Base | B10: MWCOG | C10: 2275020000 | D10: 365 | E10: 1.0976974 | F10: 0.42122659 | G10: 0.0030073901 | H10: 0.0011540455 | I10: =G10*M10 -> 0.0036180928 | J10: =G10*N10 -> 0.0040425338 | K10: =H10*O10 -> 0.0013883944 | L10: =H10*P10 -> 0.0015512679 | M10: 1.2030673 | N10: 1.3442 | O10: 1.2030673 | P10: 1.3442
A11: Andrews Air Force Base | B11: MWCOG | C11: 2275050011 | D11: 365 | E11: 0.03249363 | F11: 0.075222254 | G11: 8.9023644e-05 | H11: 0.00020608837 | I11: =G11*M11 -> 0.00010710144 | J11: =G11*N11 -> 0.00011966558 | K11: =H11*O11 -> 0.00024793818 | L11: =H11*P11 -> 0.00027702398 | M11: 1.2030673 | N11: 1.3442 | O11: 1.2030673 | P11: 1.3442
A12: Andrews Air Force Base | B12: MWCOG | C12: 2275050012 | D12: 365 | E12: 0.11342811 | F12: 0.24157049 | G12: 0.00031076194 | H12: 0.00066183695 | I12: =G12*M12 -> 0.00035901809 | J12: =G12*N12 -> 0.00039149789 | K12: =H12*O12 -> 0.00076460919 | L12: =H12*P12 -> 0.00083378219 | M12: 1.1552833 | N12: 1.2598 | O12: 1.1552833 | P12: 1.2598
A13: Andrews Air Force Base | B13: MWCOG | C13: 2275060011 | D13: 365 | E13: 0.001941346 | F13: 0.00208484 | G13: 5.3187562e-06 | H13: 5.7118912e-06 | I13: =G13*M13 -> 5.3187562e-06 | J13: =G13*N13 -> 5.3187562e-06 | K13: =H13*O13 -> 5.7118912e-06 | L13: =H13*P13 -> 5.7118912e-06 | M13: 1 | N13: 1 | O13: 1 | P13: 1
A14: Andrews Air Force Base | B14: MWCOG | C14: 2275060012 | D14: 365 | E14: 0.061924536 | F14: 0.080335444 | G14: 0.00016965626 | H14: 0.00022009711 | I14: =G14*M14 -> 0.00016965626 | J14: =G14*N14 -> 0.00016965626 | K14: =H14*O14 -> 0.00022009711 | L14: =H14*P14 -> 0.00022009711 | M14: 1 | N14: 1 | O14: 1 | P14: 1
A15: Andrews Air Force Base | B15: MWCOG | C15: 2265008005 | D15: 365 | E15: 0.0006188 | F15: 0.000588188 | G15: 1.6953415e-06 | H15: 1.611475e-06 | I15: =G15*M15 -> 2.0396099e-06 | J15: =G15*N15 -> 2.278878e-06 | K15: =H15*O15 -> 1.938713e-06 | L15: =H15*P15 -> 2.1661447e-06 | M15: 1.2030673 | N15: 1.3442 | O15: 1.2030673 | P15: 1.3442
A16: Andrews Air Force Base | B16: MWCOG | C16: 2270008005 | D16: 365 | E16: 0.000886185 | F16: 0.00038349 | G16: 2.4279036e-06 | H16: 1.0506581e-06 | I16: =G16*M16 -> 2.9209315e-06 | J16: =G16*N16 -> 3.2635881e-06 | K16: =H16*O16 -> 1.2640124e-06 | L16: =H16*P16 -> 1.4122946e-06 | M16: 1.2030673 | N16: 1.3442 | O16: 1.2030673 | P16: 1.3442
A17: Andrews Air Force Base Total | E17: =SUBTOTAL(9,E2:E16) -> 288.50757 | F17: =SUBTOTAL(9,F2:F16) -> 140.27362 | G17: =SUBTOTAL(9,G2:G16) -> 0.87939073 | H17: =SUBTOTAL(9,H2:H16) -> 0.38685565 | I17: =SUBTOTAL(9,I2:I16) -> 0.8800686 | J17: =SUBTOTAL(9,J2:J16) -> 0.88053867 | K17: =SUBTOTAL(9,K2:K16) -> 0.38883614 | L17: =SUBTOTAL(9,L2:L16) -> 0.39018399
A18: Grand Total | E18: =SUBTOTAL(9,E2:E16) -> 288.50757 | F18: =SUBTOTAL(9,F2:F16) -> 140.27362 | G18: =SUBTOTAL(9,G2:G16) -> 0.87939073 | H18: =SUBTOTAL(9,H2:H16) -> 0.38685565 | I18: =SUBTOTAL(9,I2:I16) -> 0.8800686 | J18: =SUBTOTAL(9,J2:J16) -> 0.88053867 | K18: =SUBTOTAL(9,K2:K16) -> 0.38883614 | L18: =SUBTOTAL(9,L2:L16) -> 0.39018399

Sheet Not included in Sunils
A1: not in Sunils but inlcuded in MDEs data | E1: not in MDE/Sunils MD - not included in sunils data for MD, I don't have this as well
A2: 2103005000 | B2: Fuel Combustion Residual Comm/Institutional | E2: 2103001000 | G2: No | H2: Fuel Comb - Comm/Institutional - Coal
A3: 2102005000 | B3: Fuel Combustion Residual Industrial | E3: 2103002000 | G3: No | H3: Fuel Comb - Comm/Institutional - Coal
A4: 2810030000 | B4: Structure Fires | E4: 2302070010 | G4: No | H4: Industrial Processes - Not Elsewhere Classified
A5: 2810050000 | B5: Vehicle Fires | E5: 2401040000 | G5: No | H5: Solvent - Industrial Surface Coating & Solvent Use
A6: 2810060200 | B6: Animal Cremation | E6: 2401085000 | G6: No | H6: Solvent - Industrial Surface Coating & Solvent Use
A7: 2440000000 | B7: Industrial Adhesives | E7: 2501050120 | G7: No | H7: Bulk Gasoline Terminals
A8: 2302070001 | B8: Brewpubs | E8: 2501060051 | G8: No | H8: Gas Stations
A9: 2830000000 | B9: Oil Spill | E9: 2601020000 | G9: No | H9: Waste Disposal
A10: 2660000000 | B10: Leaking Underground Storage Tanks - Soil Remediation | E10: 2801500262 | G10: No | H10: Fires - Agricultural Field Burning
E11: 2310111802 | G11: No | H11: Industrial Processes - Oil & Gas Production

Sheet Revised MD Surrogates
A1: SCC | B1: MD Surrogates | E1: LookUp | F1: State County FIPS | G1: Growth Basis | H1: GF-2032 | I1: GF-2038 | L1: State-County | M1: SCC Code
A2: 2275001000 | B2: EPA EMP | E2: 11000HSE | F2: 11000 | G2: HSE | H2: 1.1524087 | I2: 1.2277577 | K2: 24009 | L2: MD-Calvert | M2: 2801500141 | N2: =VLOOKUP(M2,$A$1:$B$175,2,FALSE) -> No Growth
A3: 2275020000 | B3: EPA EMP | E3: 24009HSE | F3: 24009 | G3: HSE | H3: 1.0781186 | I3: 1.1360828 | K3: 24009 | L3: MD-Calvert | M3: 2801500150 | N3: =VLOOKUP(M3,$A$1:$B$175,2,FALSE) -> No Growth
A4: 2275050011 | B4: EPA EMP | E4: 24017HSE | F4: 24017 | G4: HSE | H4: 1.1901346 | I4: 1.2760094 | K4: 24009 | L4: MD-Calvert | M4: 2810060100 | N4: =VLOOKUP(M4,$A$1:$B$175,2,FALSE) -> Population
A5: 2275050012 | B5: EPA EMP | E5: 24021HSE | F5: 24021 | G5: HSE | H5: 1.1641131 | I5: 1.2746261 | K5: 24009 | L5: MD-Calvert | M5: 2810025000 | N5: =VLOOKUP(M5,$A$1:$B$175,2,FALSE) -> Population
A6: 2275060011 | B6: EPA EMP | E6: 24031HSE | F6: 24031 | G6: HSE | H6: 1.0822577 | I6: 1.1336223 | K6: 24009 | L6: MD-Calvert | M6: 2811015002 | N6: =VLOOKUP(M6,$A$1:$B$175,2,FALSE) -> No Growth
A7: 2275060012 | B7: EPA EMP | E7: 24033HSE | F7: 24033 | G7: HSE | H7: 1.0807754 | I7: 1.1380552 | K7: 24009 | L7: MD-Calvert | M7: 2103004001 | N7: =VLOOKUP(M7,$A$1:$B$175,2,FALSE) -> Employment
A8: 2275070000 | B8: SCC Absent in MD | E8: 51013HSE | F8: 51013 | G8: HSE | H8: 1.1397376 | I8: 1.2131069 | K8: 24009 | L8: MD-Calvert | M8: 2103004002 | N8: =VLOOKUP(M8,$A$1:$B$175,2,FALSE) -> Employment
A9: 2102001000 | B9: No Growth | E9: 51510HSE | F9: 51510 | G9: HSE | H9: 1.2625228 | I9: 1.405878 | K9: 24009 | L9: MD-Calvert | M9: 2103011000 | N9: =VLOOKUP(M9,$A$1:$B$175,2,FALSE) -> Employment
A10: 2102002000 | B10: No Growth | E10: 51059HSE | F10: 51059 | G10: HSE | H10: 1.0814935 | I10: 1.1257629 | K10: 24009 | L10: MD-Calvert | M10: 2103007000 | N10: =VLOOKUP(M10,$A$1:$B$175,2,FALSE) -> Employment
A11: 2102004001 | B11: No Growth | E11: 51600HSE | F11: 51600 | G11: HSE | H11: 1.3521379 | I11: 1.4524874 | K11: 24009 | L11: MD-Calvert | M11: 2103006000 | N11: =VLOOKUP(M11,$A$1:$B$175,2,FALSE) -> Employment
A12: 2102004002 | B12: No Growth | E12: 51610HSE | F12: 51610 | G12: HSE | H12: 1.4186613 | I12: 1.56714 | K12: 24009 | L12: MD-Calvert | M12: 2103008000 | N12: =VLOOKUP(M12,$A$1:$B$175,2,FALSE) -> Employment
A13: 2102006000 | B13: No Growth | E13: 51107HSE | F13: 51107 | G13: HSE | H13: 1.1601325 | I13: 1.2151132 | K13: 24009 | L13: MD-Calvert | M13: 2102001000 | N13: =VLOOKUP(M13,$A$1:$B$175,2,FALSE) -> No Growth
... A48: 2302003200 | B48: Employment | E48: 24009No Growth | F48: 24009 | G48: No Growth | H48: 1 | I48: 1 | K48: 24009 | L48: MD-Calvert | M48: 2810060100 | N48: =VLOOKUP(M48,$A$1:$B$175,2,FALSE) -> Population
A49: 2302050000 | B49: Employment | E49: 24017No Growth | F49: 24017 | G49: No Growth | H49: 1 | I49: 1 | L49: MD-Calvert Total | M49: 0 | N49: =VLOOKUP(M49,$A$1:$B$175,2,FALSE) -> #N/A
A50: 2302070005 | B50: Population | E50: 24021No Growth | F50: 24021 | G50: No Growth | H50: 1 | I50: 1 | K50: 24017 | L50: MD-Charles | M50: 2801500141 | N50: =VLOOKUP(M50,$A$1:$B$175,2,FALSE) -> No Growth
A51: 2302070010 | B51: Population | E51: 24031No Growth | F51: 24031 | G51: No Growth | H51: 1 | I51: 1 | K51: 24017 | L51: MD-Charles | M51: 2801500150 | N51: =VLOOKUP(M51,$A$1:$B$175,2,FALSE) -> No Growth
A52: 2401001000 | B52: Population | E52: 24033No Growth | F52: 24033 | G52: No Growth | H52: 1 | I52: 1 | K52: 24017 | L52: MD-Charles | M52: 2810060100 | N52: =VLOOKUP(M52,$A$1:$B$175,2,FALSE) -> Population
A53: 2401005000 | B53: Employment | E53: 51013No Growth | F53: 51013 | G53: No Growth | H53: 1 | I53: 1 | K53: 24017 | L53: MD-Charles | M53: 2810005001 | N53: =VLOOKUP(M53,$A$1:$B$175,2,FALSE) -> No Growth
A54: 2401008000 | B54: Employment | E54: 51510No Growth | F54: 51510 | G54: No Growth | H54: 1 | I54: 1 | K54: 24017 | L54: MD-Charles | M54: 2810025000 | N54: =VLOOKUP(M54,$A$1:$B$175,2,FALSE) -> Population
A55: 2401015000 | B55: Employment | E55: 51059No Growth | F55: 51059 | G55: No Growth | H55: 1 | I55: 1 | K55: 24017 | L55: MD-Charles | M55: 2811015002 | N55: =VLOOKUP(M55,$A$1:$B$175,2,FALSE) -> No Growth
A56: 2401020000 | B56: Employment | E56: 51600No Growth | F56: 51600 | G56: No Growth | H56: 1 | I56: 1 | K56: 24017 | L56: MD-Charles | M56: 2811015001 | N56: =VLOOKUP(M56,$A$1:$B$175,2,FALSE) -> No Growth
A57: 2401025000 | B57: Employment | E57: 51610No Growth | F57: 51610 | G57: No Growth | H57: 1 | I57: 1 | K57: 24017 | L57: MD-Charles | M57: 2103004001 | N57: =VLOOKUP(M57,$A$1:$B$175,2,FALSE) -> Employment
A58: 2401040000 | B58: Employment | E58: 51107No Growth | F58: 51107 | G58: No Growth | H58: 1 | I58: 1 | K58: 24017 | L58: MD-Charles | M58: 2103004002 | N58: =VLOOKUP(M58,$A$1:$B$175,2,FALSE) -> Employment
A59: 2401055000 | B59: Employment | E59: 51153No Growth | F59: 51153 | G59: No Growth | H59: 1 | I59: 1 | K59: 24017 | L59: MD-Charles | M59: 2103011000 | N59: =VLOOKUP(M59,$A$1:$B$175,2,FALSE) -> Employment
A60: 2401065000 | B60: Employment | E60: 51683No Growth | F60: 51683 | G60: No Growth | H60: 1 | I60: 1 | K60: 24017 | L60: MD-Charles | M60: 2103007000 | N60: =VLOOKUP(M60,$A$1:$B$175,2,FALSE) -> Employment
A61: 2401070000 | B61: Employment | E61: 51685No Growth | F61: 51685 | G61: No Growth | H61: 1 | I61: 1 | K61: 24017 | L61: MD-Charles | M61: 2103006000 | N61: =VLOOKUP(M61,$A$1:$B$175,2,FALSE) -> Employment
A62: 2401075000 | B62: Employment | K62: 24017 | L62: MD-Charles | M62: 2103008000 | N62: =VLOOKUP(M62,$A$1:$B$175,2,FALSE) -> Employment
A63: 2401080000 | B63: Employment | K63: 24017 | L63: MD-Charles | M63: 2102001000 | N63: =VLOOKUP(M63,$A$1:$B$175,2,FALSE) -> No Growth
A64: 2401085000 | B64: Employment | K64: 24017 | L64: MD-Charles | M64: 2102002000 | N64: =VLOOKUP(M64,$A$1:$B$175,2,FALSE) -> No Growth
A65: 2401090000 | B65: Employment | K65: 24017 | L65: MD-Charles | M65: 2102011000 | N65: =VLOOKUP(M65,$A$1:$B$175,2,FALSE) -> No Growth
A66: 2401100000 | B66: Population | K66: 24017 | L66: MD-Charles | M66: 2102008000 | N66: =VLOOKUP(M66,$A$1:$B$175,2,FALSE) -> No Growth
A67: 2401200000 | B67: Population | K67: 24017 | L67: MD-Charles | M67: 2104004000 | N67: =VLOOKUP(M67,$A$1:$B$175,2,FALSE) -> Household
A68: 2415000000 | B68: Employment | K68: 24017 | L68: MD-Charles | M68: 2104009000 | N68: =VLOOKUP(M68,$A$1:$B$175,2,FALSE) -> Household
A69: 2420000000 | B69: Population | K69: 24017 | L69: MD-Charles | M69: 2104011000 | N69: =VLOOKUP(M69,$A$1:$B$175,2,FALSE) -> Household
A70: 2425000000 | B70: Population | K70: 24017 | L70: MD-Charles | M70: 2104007000 | N70: =VLOOKUP(M70,$A$1:$B$175,2,FALSE) -> Household
A71: 2460030999 | B71: Population | K71: 24017 | L71: MD-Charles | M71: 2104006000 | N71: =VLOOKUP(M71,$A$1:$B$175,2,FALSE) -> Household
A72: 2460100000 | B72: Population | K72: 24017 | L72: MD-Charles | M72: 2104008100 | N72: =VLOOKUP(M72,$A$1:$B$175,2,FALSE) -> Household
A73: 2460200000 | B73: Population | K73: 24017 | L73: MD-Charles | M73: 2104008510 | N73: =VLOOKUP(M73,$A$1:$B$175,2,FALSE) -> Household
... A99: 2505040120 | B99: Gas Sales | K99: 24017 | L99: MD-Charles | M99: 2810060200 | N99: =VLOOKUP(M99,$A$1:$B$175,2,FALSE) -> #N/A
A100: 2601020000 | B100: No Growth | L100: MD-Charles Total | M100: 0 | N100: =VLOOKUP(M100,$A$1:$B$175,2,FALSE) -> #N/A
A101: 2610000100 | B101: No Growth | K101: 24021 | L101: MD-Frederick | M101: 2801500171 | N101: =VLOOKUP(M101,$A$1:$B$175,2,FALSE) -> No Growth
A102: 2610000400 | B102: No Growth | K102: 24021 | L102: MD-Frederick | M102: 2801500141 | N102: =VLOOKUP(M102,$A$1:$B$175,2,FALSE) -> No Growth
A103: 2610000500 | B103: No Growth | K103: 24021 | L103: MD-Frederick | M103: 2810060100 | N103: =VLOOKUP(M103,$A$1:$B$175,2,FALSE) -> Population
A104: 2610030000 | B104: No Growth | K104: 24021 | L104: MD-Frederick | M104: 2810025000 | N104: =VLOOKUP(M104,$A$1:$B$175,2,FALSE) -> Population
A105: 2630020000 | B105: Household | K105: 24021 | L105: MD-Frederick | M105: 2811015002 | N105: =VLOOKUP(M105,$A$1:$B$175,2,FALSE) -> No Growth
A106: 2680003000 | B106: Household | K106: 24021 | L106: MD-Frederick | M106: 2103004001 | N106: =VLOOKUP(M106,$A$1:$B$175,2,FALSE) -> Employment
A107: 2801500141 | B107: No Growth | K107: 24021 | L107: MD-Frederick | M107: 2103004002 | N107: =VLOOKUP(M107,$A$1:$B$175,2,FALSE) -> Employment
A108: 2801500150 | B108: No Growth | K108: 24021 | L108: MD-Frederick | M108: 2103011000 | N108: =VLOOKUP(M108,$A$1:$B$175,2,FALSE) -> Employment
A109: 2801500171 | B109: No Growth | K109: 24021 | L109: MD-Frederick | M109: 2103007000 | N109: =VLOOKUP(M109,$A$1:$B$175,2,FALSE) -> Employment
A110: 2801500262 | B110: No Growth | K110: 24021 | L110: MD-Frederick | M110: 2103006000 | N110: =VLOOKUP(M110,$A$1:$B$175,2,FALSE) -> Employment
A111: 2802004001 | B111: No Growth | K111: 24021 | L111: MD-Frederick | M111: 2103008000 | N111: =VLOOKUP(M111,$A$1:$B$175,2,FALSE) -> Employment
A112: 2802004002 | B112: No Growth | K112: 24021 | L112: MD-Frederick | M112: 2102001000 | N112: =VLOOKUP(M112,$A$1:$B$175,2,FALSE) -> No Growth
... A147: 2280211124 | B147: EPA EMP | K147: 24021 | L147: MD-Frederick | M147: 2810060100 | N147: =VLOOKUP(M147,$A$1:$B$175,2,FALSE) -> Population
A148: 2280207123 | B148: EPA EMP | L148: MD-Frederick Total | M148: 0 | N148: =VLOOKUP(M148,$A$1:$B$175,2,FALSE) -> #N/A
A149: 2280208123 | B149: EPA EMP | K149: 24031 | L149: MD-Montgomery | M149: 2801500141 | N149: =VLOOKUP(M149,$A$1:$B$175,2,FALSE) -> No Growth
A150: 2280209123 | B150: EPA EMP | K150: 24031 | L150: MD-Montgomery | M150: 2810060100 | N150: =VLOOKUP(M150,$A$1:$B$175,2,FALSE) -> Population
A151: 2280212123 | B151: EPA EMP | K151: 24031 | L151: MD-Montgomery | M151: 2810025000 | N151: =VLOOKUP(M151,$A$1:$B$175,2,FALSE) -> Population
A152: 2280213123 | B152: EPA EMP | K152: 24031 | L152: MD-Montgomery | M152: 2811015002 | N152: =VLOOKUP(M152,$A$1:$B$175,2,FALSE) -> No Growth
A153: 2280201123 | B153: EPA EMP | K153: 24031 | L153: MD-Montgomery | M153: 2103004001 | N153: =VLOOKUP(M153,$A$1:$B$175,2,FALSE) -> Employment
A154: 2280202123 | B154: EPA EMP | K154: 24031 | L154: MD-Montgomery | M154: 2103004002 | N154: =VLOOKUP(M154,$A$1:$B$175,2,FALSE) -> Employment
A155: 2280204123 | B155: EPA EMP | K155: 24031 | L155: MD-Montgomery | M155: 2103011000 | N155: =VLOOKUP(M155,$A$1:$B$175,2,FALSE) -> Employment
A156: 2280210123 | B156: EPA EMP | K156: 24031 | L156: MD-Montgomery | M156: 2103007000 | N156: =VLOOKUP(M156,$A$1:$B$175,2,FALSE) -> Employment
A157: 2280211123 | B157: EPA EMP | K157: 24031 | L157: MD-Montgomery | M157: 2103006000 | N157: =VLOOKUP(M157,$A$1:$B$175,2,FALSE) -> Employment
A158: 2280202324 | B158: EPA EMP | K158: 24031 | L158: MD-Montgomery | M158: 2103008000 | N158: =VLOOKUP(M158,$A$1:$B$175,2,FALSE) -> Employment
A159: 2280203324 | B159: EPA EMP | K159: 24031 | L159: MD-Montgomery | M159: 2102001000 | N159: =VLOOKUP(M159,$A$1:$B$175,2,FALSE) -> No Growth
A160: 2280205324 | B160: EPA EMP | K160: 24031 | L160: MD-Montgomery | M160: 2102002000 | N160: =VLOOKUP(M160,$A$1:$B$175,2,FALSE) -> No Growth
... A175: 2280215323 | B175: EPA EMP | K175: 24031 | L175: MD-Montgomery | M175: 2104008230 | N175: =VLOOKUP(M175,$A$1:$B$175,2,FALSE) -> Household
K176: 24031 | L176: MD-Montgomery | M176: 2104008220 | N176: =VLOOKUP(M176,$A$1:$B$175,2,FALSE) -> Household
K177: 24031 | L177: MD-Montgomery | M177: 2104008210 | N177: =VLOOKUP(M177,$A$1:$B$175,2,FALSE) -> Household
K178: 24031 | L178: MD-Montgomery | M178: 2104008330 | N178: =VLOOKUP(M178,$A$1:$B$175,2,FALSE) -> Household
K179: 24031 | L179: MD-Montgomery | M179: 2104008320 | N179: =VLOOKUP(M179,$A$1:$B$175,2,FALSE) -> Household
K180: 24031 | L180: MD-Montgomery | M180: 2104008310 | N180: =VLOOKUP(M180,$A$1:$B$175,2,FALSE) -> Household
K181: 24031 | L181: MD-Montgomery | M181: 2104008400 | N181: =VLOOKUP(M181,$A$1:$B$175,2,FALSE) -> Household
K182: 24031 | L182: MD-Montgomery | M182: 2610000500 | N182: =VLOOKUP(M182,$A$1:$B$175,2,FALSE) -> No Growth
K183: 24031 | L183: MD-Montgomery | M183: 2610000400 | N183: =VLOOKUP(M183,$A$1:$B$175,2,FALSE) -> No Growth
K184: 24031 | L184: MD-Montgomery | M184: 2610000100 | N184: =VLOOKUP(M184,$A$1:$B$175,2,FALSE) -> No Growth
K185: 24031 | L185: MD-Montgomery | M185: 2610030000 | N185: =VLOOKUP(M185,$A$1:$B$175,2,FALSE) -> No Growth
K186: 24031 | L186: MD-Montgomery | M186: 2102007000 | N186: =VLOOKUP(M186,$A$1:$B$175,2,FALSE) -> No Growth
K187: 24031 | L187: MD-Montgomery | M187: 2102006000 | N187: =VLOOKUP(M187,$A$1:$B$175,2,FALSE) -> No Growth
... K195: 24031 | L195: MD-Montgomery | M195: 2102004002 | N195: =VLOOKUP(M195,$A$1:$B$175,2,FALSE) -> No Growth
L196: MD-Montgomery Total | M196: 0 | N196: =VLOOKUP(M196,$A$1:$B$175,2,FALSE) -> #N/A
K197: 24033 | L197: MD-Prince George's | M197: 2801500141 | N197: =VLOOKUP(M197,$A$1:$B$175,2,FALSE) -> No Growth
K198: 24033 | L198: MD-Prince George's | M198: 2810060100 | N198: =VLOOKUP(M198,$A$1:$B$175,2,FALSE) -> Population
K199: 24033 | L199: MD-Prince George's | M199: 2810025000 | N199: =VLOOKUP(M199,$A$1:$B$175,2,FALSE) -> Population
K200: 24033 | L200: MD-Prince George's | M200: 2811015002 | N200: =VLOOKUP(M200,$A$1:$B$175,2,FALSE) -> No Growth
K201: 24033 | L201: MD-Prince George's | M201: 2811015001 | N201: =VLOOKUP(M201,$A$1:$B$175,2,FALSE) -> No Growth
K202: 24033 | L202: MD-Prince George's | M202: 2103004001 | N202: =VLOOKUP(M202,$A$1:$B$175,2,FALSE) -> Employment
K203: 24033 | L203: MD-Prince George's | M203: 2103004002 | N203: =VLOOKUP(M203,$A$1:$B$175,2,FALSE) -> Employment
K204: 24033 | L204: MD-Prince George's | M204: 2103011000 | N204: =VLOOKUP(M204,$A$1:$B$175,2,FALSE) -> Employment
K205: 24033 | L205: MD-Prince George's | M205: 2103007000 | N205: =VLOOKUP(M205,$A$1:$B$175,2,FALSE) -> Employment
K206: 24033 | L206: MD-Prince George's | M206: 2103006000 | N206: =VLOOKUP(M206,$A$1:$B$175,2,FALSE) -> Employment
K207: 24033 | L207: MD-Prince George's | M207: 2103008000 | N207: =VLOOKUP(M207,$A$1:$B$175,2,FALSE) -> Employment
K208: 24033 | L208: MD-Prince George's | M208: 2102001000 | N208: =VLOOKUP(M208,$A$1:$B$175,2,FALSE) -> No Growth
... K244: 24033 | L244: MD-Prince George's | M244: 2810060100 | N244: =VLOOKUP(M244,$A$1:$B$175,2,FALSE) -> Population
L245: MD-Prince George's Total | N245: =VLOOKUP(M245,$A$1:$B$175,2,FALSE) -> #N/A
L246: Grand Total | N246: =VLOOKUP(M246,$A$1:$B$175,2,FALSE) -> #N/A
N247: =VLOOKUP(M247,$A$1:$B$175,2,FALSE) -> #N/A
N248: =VLOOKUP(M248,$A$1:$B$175,2,FALSE) -> #N/A
L249: State-County | M249: SCC Code | N249: =VLOOKUP(M249,$A$1:$B$175,2,FALSE) -> #N/A
...

Sheet NonPoint Sunil data in MD forma
A1: FIPS | B1: Pollutant | C1: 2022 Annual Emiss Data Tool v1 Emissions (Tons) | D1: 2022 Annual MARAMA-VA Emissions (Tons) | E1: 2022 MARAMA-VA OSD Emissions (tpd) | F1: 2032 Annual Emissions (Tons) | G1: 2032 OSD Emissions (tpd) | H1: 2038 Annual Emissions (Tons) | I1: 2038 OSD Emissions (tpd) | J1: SCC Code | K1: Sector | L1: SCC Level 1 | M1: SCC Level 2 | N1: SCC Level 3 | O1: SCC Level 4 | P1: Source Description
A2: 24009 | B2: NOx | C2: 0.84779087 | D2: 0.84767954 | E2: 0.0023096635 | F2: 0.63834186 | G2: 0.0017392833 | H2: 0.5322573 | I2: 0.0014502358 | J2: 2102001000 | K2: Fuel Comb - Industrial Boilers, ICEs - Coal | L2: Stationary Source Fuel Combustion | M2: Industrial | N2: Anthracite Coal | O2: Total: All Boiler Types | P2: Nonpoint
A3: 24009 | B3: NOx | C3: 13.558019 | D3: 13.556239 | E3: 0.03693654 | F3: 10.208474 | G3: 0.027814921 | H3: 8.5119514 | I3: 0.023192424 | J3: 2102002000 | K3: Fuel Comb - Industrial Boilers, ICEs - Coal | L3: Stationary Source Fuel Combustion | M3: Industrial | N3: Bituminous/Subbituminous Coal | O3: Total: All Boiler Types | P3: Nonpoint
A4: 24009 | B4: NOx | C4: 0.085480976 | D4: SCC Missing | E4: SCC Missing | F4: 0.085480976 | G4: NA | H4: 0.085480976 | I4: NA | J4: 2104008530 | K4: Fuel Comb - Residential - Wood | L4: Stationary Source Fuel Combustion | M4: Residential | N4: Wood | O4: Furnace: Indoor, pellet-fired, general | P4: Nonpoint
A5: 24009 | B5: NOx | C5: 0.34492326 | D5: SCC Missing | E5: SCC Missing | F5: 0.34492326 | G5: NA | H5: 0.34492326 | I5: NA | J5: 2104008620 | K5: Fuel Comb - Residential - Wood | L5: Stationary Source Fuel Combustion | M5: Residential | N5: Wood | O5: Hydronic heater: indoor | P5: Nonpoint
A6: 24009 | B6: NOx | C6: 0.028493656 | D6: SCC Missing | E6: SCC Missing | F6: 0.028493656 | G6: NA | H6: 0.028493656 | I6: NA | J6: 2104008630 | K6: Fuel Comb - Residential - Wood | L6: Stationary Source Fuel Combustion | M6: Residential | N6: Wood | O6: Hydronic heater: pellet-fired | P6: Nonpoint
A7: 24009 | B7: NOx | C7: 0.291239 | D7: 0.29120076 | E7: 0.00079343161 | F7: 0.31421467 | G7: 0.00085613739 | H7: 0.32568871 | I7: 0.00088740057 | J7: 2102008000 | K7: Fuel Comb - Industrial Boilers, ICEs - Biomass | L7: Stationary Source Fuel Combustion | M7: Industrial | N7: Wood | O7: Total: All Boiler Types | P7: Nonpoint
A8: 24009 | B8: NOx | C8: 0.004125912 | D8: 0.0041253702 | E8: 1.1240352e-05 | F8: 0.0038585556 | G8: 1.0513366e-05 | H8: 0.0040914056 | I8: 1.114781e-05 | J8: 2102011000 | K8: Fuel Comb - Industrial Boilers, ICEs - Oil | L8: Stationary Source Fuel Combustion | M8: Industrial | N8: Kerosene | O8: Total: All Boiler Types | P8: Nonpoint
A9: 24009 | B9: NOx | C9: 1.3014927 | D9: 1.3011148 | E9: 0.0026917743 | F9: 1.3554349 | G9: 0.0028041529 | H9: 1.3365488 | I9: 0.0027650808 | J9: 2103004001 | K9: Fuel Comb - Comm/Institutional - Oil | L9: Stationary Source Fuel Combustion | M9: Commercial/Institutional | N9: Distillate Oil | O9: Boilers | P9: Nonpoint
A10: 24009 | B10: NOx | C10: 2.0686891 | D10: 2.0680885 | E10: 0.0042785058 | F10: 2.1544289 | G10: 0.0044571287 | H10: 2.1244099 | I10: 0.0043950247 | J10: 2103004002 | K10: Fuel Comb - Comm/Institutional - Oil | L10: Stationary Source Fuel Combustion | M10: Commercial/Institutional | N10: Distillate Oil | O10: IC Engines | P10: Nonpoint
A11: 24009 | B11: NOx | C11: 21.230148 | D11: 21.223984 | E11: 0.043908634 | F11: 18.395022 | G11: 0.038056016 | H11: 16.925679 | I11: 0.035016208 | J11: 2103006000 | K11: Fuel Comb - Comm/Institutional - Natural Gas | L11: Stationary Source Fuel Combustion | M11: Commercial/Institutional | N11: Natural Gas | O11: Total: Boilers and IC Engines | P11: Nonpoint
A12: 24009 | B12: NOx | C12: 1.6043272 | D12: 1.6038614 | E12: 0.0033181029 | F12: 2.2846872 | G12: 0.0047266099 | H12: 2.5480812 | I12: 0.0052715251 | J12: 2103007000 | K12: Fuel Comb - Comm/Institutional - Other | L12: Stationary Source Fuel Combustion | M12: Commercial/Institutional | N12: Liquified Petroleum Gas (LPG) | O12: Total: All Combustor Types | P12: Nonpoint
A13: 24009 | B13: NOx | C13: 0.80150118 | D13: 0.80126848 | E13: 0.0016576814 | F13: 0.80150118 | G13: 0.0016581629 | H13: 0.80150118 | I13: 0.0016581629 | J13: 2103008000 | K13: Fuel Comb - Comm/Institutional - Biomass | L13: Stationary Source Fuel Combustion | M13: Commercial/Institutional | N13: Wood | O13: Total: All Boiler Types | P13: Nonpoint
A14: 24009 | B14: NOx | C14: 0.026751368 | D14: 0.026743601 | E14: 5.5327736e-05 | F14: 0.017105442 | G14: 3.5388106e-05 | H14: 0.01427597 | I14: 2.9534434e-05 | J14: 2103011000 | K14: Fuel Comb - Comm/Institutional - Oil | L14: Stationary Source Fuel Combustion | M14: Commercial/Institutional | N14: Kerosene | O14: Total: All Combustor Types | P14: Nonpoint
A15: 24009 | B15: NOx | C15: 18.449145 | D15: 18.449145 | E15: 0.018532662 | F15: 10.408442 | G15: 0.01045556 | H15: 8.074871 | I15: 0.0081114251 | J15: 2104004000 | K15: Fuel Comb - Residential - Oil | L15: Stationary Source Fuel Combustion | M15: Residential | N15: Distillate Oil | O15: Total: All Combustor Types | P15: Nonpoint
A16: 24009 | B16: NOx | C16: 5.7229108 | D16: 5.7229108 | E16: 0.0057488178 | F16: 5.4491363 | G16: 0.0054738039 | H16: 5.4145503 | I16: 0.0054390614 | J16: 2104006000 | K16: Fuel Comb - Residential - Natural Gas | L16: Stationary Source Fuel Combustion | M16: Residential | N16: Natural Gas | O16: Total: All Combustor Types | P16: Nonpoint
A17: 24009 | B17: NOx | C17: 16.083914 | D17: 16.083914 | E17: 0.016156724 | F17: 14.127583 | G17: 0.014191537 | H17: 14.115583 | I17: 0.014179482 | J17: 2104007000 | K17: Fuel Comb - Residential - Other | L17: Stationary Source Fuel Combustion | M17: Residential | N17: Liquified Petroleum Gas (LPG) | O17: Total: All Combustor Types | P17: Nonpoint
A18: 24009 | B18: NOx | C18: 1.0487791 | D18: 1.0487791 | E18: 0.0010535268 | F18: 1.0487791 | G18: 0.0010535268 | H18: 1.0487791 | I18: 0.0010535268 | J18: 2104008100 | K18: Fuel Comb - Residential - Wood | L18: Stationary Source Fuel Combustion | M18: Residential | N18: Wood | O18: Fireplace: general | P18: Nonpoint
... A30: 24009 | B30: NOx | C30: 0.20556573 | D30: 0.20556573 | E30: 0.00055981954 | F30: 0.11597388 | G30: 0.00031583302 | H30: 0.089972559 | I30: 0.00024502331 | J30: 2104011000 | K30: Fuel Comb - Residential - Oil | L30: Stationary Source Fuel Combustion | M30: Residential | N30: Kerosene | O30: Total: All Heater Types | P30: Nonpoint
A31: 24009 | B31: NOx | C31: 0.948756 | D31: SCC Missing | E31: SCC Missing | F31: 0.948756 | G31: NA | H31: 0.948756 | I31: NA | J31: 2801500141 | K31: Fires - Agricultural Field Burning | L31: Miscellaneous Area Sources | M31: Agriculture Production - Crops | N31: Agricultural Field Burning - whole field set on fire | O31: Field Crop is Bean (red): Headfire Burning | P31: Nonpoint
A32: 24009 | B32: NOx | C32: 0.400694 | D32: SCC Missing | E32: SCC Missing | F32: 0.400694 | G32: NA | H32: 0.400694 | I32: NA | J32: 2801500150 | K32: Fires - Agricultural Field Burning | L32: Miscellaneous Area Sources | M32: Agriculture Production - Crops | N32: Agricultural Field Burning - whole field set on fire | O32: Field Crop is Corn: Burning Techniques Not Important | P32: Nonpoint
A33: 24009 | B33: NOx | C33: 0.5781752 | D33: SCC Missing | E33: SCC Missing | F33: 0.66765625 | G33: NA | H33: 0.72081989 | I33: NA | J33: 2810025000 | K33: Miscellaneous Non-Industrial Not Elsewhere Classified | L33: Miscellaneous Area Sources | M33: Other Combustion | N33: Residential Grilling (see 23-02-002-xxx for Commercial) | O33: Total | P33: Nonpoint
A34: 24009 | B34: NOx | C34: 0.069476634 | D34: SCC Missing | E34: SCC Missing | F34: 0.080229157 | G34: NA | H34: 0.086617585 | I34: NA | J34: 2810060100 | K34: Miscellaneous Non-Industrial Not Elsewhere Classified | L34: Miscellaneous Area Sources | M34: Other Combustion | N34: Cremation | O34: Humans | P34: Nonpoint
A35: 24009 | B35: NOx | C35: 2.2547 | D35: SCC Missing | E35: SCC Missing | F35: 2.2547 | G35: NA | H35: 2.2547 | I35: NA | J35: 2811015002 | K35: Fires - Prescribed Fires | L35: Miscellaneous Area Sources | M35: Other Combustion - as Event | N35: Prescribed Forest Burning | O35: Flaming | P35: Nonpoint
A36: 24009 | B36: NOx | C36: 0.2018914 | D36: 0.2018914 | E36: 0.00054981318 | F36: 0.2018914 | G36: 0.00054981318 | H36: 0.2018914 | I36: 0.00054981318 | J36: 2610000100 | K36: Waste Disposal | L36: Waste Disposal, Treatment, and Recovery | M36: Open Burning | N36: All Categories | O36: Yard Waste - Leaf Species Unspecified | P36: Nonpoint
A37: 24009 | B37: NOx | C37: 0.1628157 | D37: 0.1628157 | E37: 0.00044339788 | F37: 0.1628157 | G37: 0.00044339788 | H37: 0.1628157 | I37: 0.00044339788 | J37: 2610000400 | K37: Waste Disposal | L37: Waste Disposal, Treatment, and Recovery | M37: Open Burning | N37: All Categories | O37: Yard Waste - Brush Species Unspecified | P37: Nonpoint
A38: 24009 | B38: NOx | C38: 8.581144 | D38: 8.581144 | E38: 0.023369129 | F38: 8.581144 | G38: 0.023369129 | H38: 8.581144 | I38: 0.023369129 | J38: 2610000500 | K38: Waste Disposal | L38: Waste Disposal, Treatment, and Recovery | M38: Open Burning | N38: All Categories | O38: Land Clearing Debris (use 28-10-005-000 for Logging Debris Burning) | P38: Nonpoint
A39: 24009 | B39: NOx | C39: 10.25108 | D39: 10.25108 | E39: 0.027916885 | F39: 10.25108 | G39: 0.027916885 | H39: 10.25108 | I39: 0.027916885 | J39: 2610030000 | K39: Waste Disposal | L39: Waste Disposal, Treatment, and Recovery | M39: Open Burning | N39: Residential | O39: Household Waste (use 26-10-000-xxx for Yard Wastes) | P39: Nonpoint
A40: 24009 | B40: NOx | C40: 0.015469 | E40: 4.9580128e-05 | F40: 0.015469 | G40: 4.9580128e-05 | H40: 0.015469 | I40: 4.9580128e-05 | J40: 2102007000 | K40: Fuel Combustion LPG Industrial | L40: Stationary Source Fuel Combustion | M40: Industrial | N40: Liquefied Petroleum Gas (LPG) | O40: Boilers and IC Engines | P40: Nonpoint
A41: 24009 | B41: NOx | C41: 0.04433014 | E41: 0.00014208378 | F41: 0.04433014 | G41: 0.00014208378 | H41: 0.04433014 | I41: 0.00014208378 | J41: 2103005000 | K41: Fuel Combustion Residual Comm/Institutional | L41: Stationary Source Fuel Combustion | M41: Commercial/Ins | N41: Residual Oil | P41: Nonpoint
A42: 24009 | B42: NOx | C42: 0.018720444 | E42: 6.0001424e-05 | F42: 0.018720444 | G42: 6.0001424e-05 | H42: 0.018720444 | I42: 6.0001424e-05 | J42: 2102005000 | K42: Fuel Combustion Residual Industrial | L42: Industrial | M42: Residual Oil | N42: All Boiler Types | O42: Industrial Boilers, ICEs - Oil | P42: Nonpoint
A43: 24009 | B43: NOx | C43: 0.061520805 | E43: 0.00019718207 | F43: 0.061520805 | G43: 0.00019718207 | H43: 0.061520805 | I43: 0.00019718207 | J43: 2102004001 | K43: Fuel Combustion Distillate Industrial | L43: Stationary Source Fuel Combustion | M43: Industrial | N43: Distillate Oil | O43: Boilers | P43: Nonpoint
A44: 24009 | B44: NOx | C44: 1.2386189 | E44: 0.0039699323 | F44: 1.2386189 | G44: 0.0039699323 | H44: 1.2386189 | I44: 0.0039699323 | J44: 2102004002 | K44: Fuel Combustion Distillate Industrial | L44: Stationary Source Fuel Combustion | M44: Industrial | N44: Distillate Oil | O44: IC Engine | P44: Nonpoint
A45: 24009 | B45: NOx | C45: 0.02819127 | E45: 6.1789085e-05 | F45: 0.02819127 | G45: 6.1789085e-05 | H45: 0.02819127 | I45: 6.1789085e-05 | J45: 2810030000 | K45: Structure Fires | L45: Miscellaneous Area Sources | M45: Other Combustion | N45: Structure Fires | O45: Unspecified | P45: Nonpoint
A46: 24009 | B46: NOx | C46: 0.0524256 | E46: 0.00014363178 | F46: 0.0524256 | G46: 0.00014363178 | H46: 0.0524256 | I46: 0.00014363178 | J46: 2810050000 | K46: Vehicle Fires | L46: Miscellaneous Area Sources | M46: Other Combustion | N46: Motor Vehicle Fires | O46: Unspecified | P46: Nonpoint
A47: 24009 | B47: NOX | C47: 1.638195e-05 | E47: 7.5609e-08 | F47: 1.638195e-05 | G47: 7.5609e-08 | H47: 1.638195e-05 | I47: 7.5609e-08 | J47: 2810060200 | K47: Miscellaneous Non-Industrial Not Elsewhere Classified | M47: Other Combustion | N47: Cremation | O47: Animals | P47: Nonpoint
A48: 24009 Total | C48: =SUBTOTAL(9,C2:C47) -> 121.7505 | D48: =SUBTOTAL(9,D2:D47) -> 115.57072 | E48: =SUBTOTAL(9,E2:E47) -> 0.20811461 | F48: =SUBTOTAL(9,F2:F47) -> 105.92931 | G48: =SUBTOTAL(9,G2:G47) -> 0.18375073 | H48: =SUBTOTAL(9,H2:H47) -> 100.53412 | I48: =SUBTOTAL(9,I2:I47) -> 0.17380742
A49: 24017 | B49: NOx | C49: 1.2353971 | D49: 1.2352349 | E49: 0.0033656315 | F49: 0.93018897 | G49: 0.002534476 | H49: 0.77560301 | I49: 0.0021132773 | J49: 2102001000 | K49: Fuel Comb - Industrial Boilers, ICEs - Coal | L49: Stationary Source Fuel Combustion | M49: Industrial | N49: Anthracite Coal | O49: Total: All Boiler Types | P49: Nonpoint
A50: 24017 | B50: NOx | C50: 19.756693 | D50: 19.754098 | E50: 0.053823783 | F50: 14.875749 | G50: 0.040531795 | H50: 12.403583 | I50: 0.03379591 | J50: 2102002000 | K50: Fuel Comb - Industrial Boilers, ICEs - Coal | L50: Stationary Source Fuel Combustion | M50: Industrial | N50: Bituminous/Subbituminous Coal | O50: Total: All Boiler Types | P50: Nonpoint
A51: 24017 | B51: NOx | C51: 0.12836459 | D51: SCC Missing | E51: SCC Missing | F51: 0.12836459 | G51: NA | H51: 0.12836459 | I51: NA | J51: 2104008530 | K51: Fuel Comb - Residential - Wood | L51: Stationary Source Fuel Combustion | M51: Residential | N51: Wood | O51: Furnace: Indoor, pellet-fired, general | P51: Nonpoint
A52: 24017 | B52: NOx | C52: 0.51796237 | D52: SCC Missing | E52: SCC Missing | F52: 0.51796237 | G52: NA | H52: 0.51796237 | I52: NA | J52: 2104008620 | K52: Fuel Comb - Residential - Wood | L52: Stationary Source Fuel Combustion | M52: Residential | N52: Wood | O52: Hydronic heater: indoor | P52: Nonpoint
A53: 24017 | B53: NOx | C53: 0.042788195 | D53: SCC Missing | E53: SCC Missing | F53: 0.042788195 | G53: NA | H53: 0.042788195 | I53: NA | J53: 2104008630 | K53: Fuel Comb - Residential - Wood | L53: Stationary Source Fuel Combustion | M53: Residential | N53: Wood | O53: Hydronic heater: pellet-fired | P53: Nonpoint
A54: 24017 | B54: NOx | C54: 0.4243922 | D54: 0.42433647 | E54: 0.0011561851 | F54: 0.45787225 | G54: 0.0012475597 | H54: 0.47459216 | I54: 0.0012931162 | J54: 2102008000 | K54: Fuel Comb - Industrial Boilers, ICEs - Biomass | L54: Stationary Source Fuel Combustion | M54: Industrial | N54: Wood | O54: Total: All Boiler Types | P54: Nonpoint
A55: 24017 | B55: NOx | C55: 0.006012261 | D55: 0.0060114715 | E55: 1.6379393e-05 | F55: 0.0056226704 | G55: 1.532003e-05 | H55: 0.0059619784 | I55: 1.6244539e-05 | J55: 2102011000 | K55: Fuel Comb - Industrial Boilers, ICEs - Oil | L55: Stationary Source Fuel Combustion | M55: Industrial | N55: Kerosene | O55: Total: All Boiler Types | P55: Nonpoint
A56: 24017 | B56: NOx | C56: 2.470588 | D56: 2.4698707 | E56: 0.0051097215 | F56: 2.572985 | G56: 0.0053230467 | H56: 2.537134 | I56: 0.0052488773 | J56: 2103004001 | K56: Fuel Comb - Comm/Institutional - Oil | L56: Stationary Source Fuel Combustion | M56: Commercial/Institutional | N56: Distillate Oil | O56: Boilers | P56: Nonpoint
A57: 24017 | B57: NOx | C57: 3.9269345 | D57: 3.9257943 | E57: 0.0081217676 | F57: 4.0896919 | G57: 0.0084608423 | H57: 4.0327076 | I57: 0.0083429521 | J57: 2103004002 | K57: Fuel Comb - Comm/Institutional - Oil | L57: Stationary Source Fuel Combustion | M57: Commercial/Institutional | N57: Distillate Oil | O57: IC Engines | P57: Nonpoint
A58: 24017 | B58: NOx | C58: 40.300603 | D58: 40.288902 | E58: 0.083350546 | F58: 34.918761 | G58: 0.072240682 | H58: 32.129548 | I58: 0.066470298 | J58: 2103006000 | K58: Fuel Comb - Comm/Institutional - Natural Gas | L58: Stationary Source Fuel Combustion | M58: Commercial/Institutional | N58: Natural Gas | O58: Total: Boilers and IC Engines | P58: Nonpoint
A59: 24017 | B59: NOx | C59: 3.0454501 | D59: 3.0445659 | E59: 0.0062986634 | F59: 4.3369588 | G59: 0.0089723935 | H59: 4.8369525 | I59: 0.010006791 | J59: 2103007000 | K59: Fuel Comb - Comm/Institutional - Other | L59: Stationary Source Fuel Combustion | M59: Commercial/Institutional | N59: Liquified Petroleum Gas (LPG) | O59: Total: All Combustor Types | P59: Nonpoint
A60: 24017 | B60: NOx | C60: 1.5214674 | D60: 1.5210256 | E60: 0.0031467305 | F60: 1.5214674 | G60: 0.0031476444 | H60: 1.5214674 | I60: 0.0031476444 | J60: 2103008000 | K60: Fuel Comb - Comm/Institutional - Biomass | L60: Stationary Source Fuel Combustion | M60: Commercial/Institutional | N60: Wood | O60: Total: All Boiler Types | P60: Nonpoint
A61: 24017 | B61: NOx | C61: 0.050781388 | D61: 0.050766644 | E61: 0.00010502712 | F61: 0.032470791 | G61: 6.717627e-05 | H61: 0.027099683 | I61: 5.6064406e-05 | J61: 2103011000 | K61: Fuel Comb - Comm/Institutional - Oil | L61: Stationary Source Fuel Combustion | M61: Commercial/Institutional | N61: Kerosene | O61: Total: All Combustor Types | P61: Nonpoint
A62: 24017 | B62: NOx | C62: 39.844038 | D62: 39.844038 | E62: 0.040024408 | F62: 22.478785 | G62: 0.022580544 | H62: 17.439045 | I62: 0.01751799 | J62: 2104004000 | K62: Fuel Comb - Residential - Oil | L62: Stationary Source Fuel Combustion | M62: Residential | N62: Distillate Oil | O62: Total: All Combustor Types | P62: Nonpoint
A63: 24017 | B63: NOx | C63: 57.092943 | D63: 57.092943 | E63: 0.057351396 | F63: 54.361712 | G63: 0.054607801 | H63: 54.016675 | I63: 0.054261203 | J63: 2104006000 | K63: Fuel Comb - Residential - Natural Gas | L63: Stationary Source Fuel Combustion | M63: Residential | N63: Natural Gas | O63: Total: All Combustor Types | P63: Nonpoint
A64: 24017 | B64: NOx | C64: 15.344005 | D64: 15.344005 | E64: 0.015413466 | F64: 13.477672 | G64: 0.013538684 | H64: 13.466223 | I64: 0.013527184 | J64: 2104007000 | K64: Fuel Comb - Residential - Other | L64: Stationary Source Fuel Combustion | M64: Residential | N64: Liquified Petroleum Gas (LPG) | O64: Total: All Combustor Types | P64: Nonpoint
A65: 24017 | B65: NOx | C65: 2.9304114 | D65: 2.9304114 | E65: 0.0029436771 | F65: 2.9304114 | G65: 0.0029436771 | H65: 2.9304114 | I65: 0.0029436771 | J65: 2104008100 | K65: Fuel Comb - Residential - Wood | L65: Stationary Source Fuel Combustion | M65: Residential | N65: Wood | O65: Fireplace: general | P65: Nonpoint
... A77: 24017 | B77: NOx | C77: 0.44395391 | D77: 0.44395391 | E77: 0.0012090248 | F77: 0.25046518 | G77: 0.00068209473 | H77: 0.19431093 | I77: 0.0005291692 | J77: 2104011000 | K77: Fuel Comb - Residential - Oil | L77: Stationary Source Fuel Combustion | M77: Residential | N77: Kerosene | O77: Total: All Heater Types | P77: Nonpoint
A78: 24017 | B78: NOx | C78: 0.474378 | D78: SCC Missing | E78: SCC Missing | F78: 0.474378 | G78: NA | H78: 0.474378 | I78: NA | J78: 2801500141 | K78: Fires - Agricultural Field Burning | L78: Miscellaneous Area Sources | M78: Agriculture Production - Crops | N78: Agricultural Field Burning - whole field set on fire | O78: Field Crop is Bean (red): Headfire Burning | P78: Nonpoint
A79: 24017 | B79: NOx | C79: 3.205552 | D79: SCC Missing | E79: SCC Missing | F79: 3.205552 | G79: NA | H79: 3.205552 | I79: NA | J79: 2801500150 | K79: Fires - Agricultural Field Burning | L79: Miscellaneous Area Sources | M79: Agriculture Production - Crops | N79: Agricultural Field Burning - whole field set on fire | O79: Field Crop is Corn: Burning Techniques Not Important | P79: Nonpoint
A80: 24017 | B80: NOx | C80: 0.000916 | D80: SCC Missing | E80: SCC Missing | F80: 0.000916 | G80: NA | H80: 0.000916 | I80: NA | J80: 2810005001 | K80: Waste Disposal | L80: Miscellaneous Area Sources | M80: Other Combustion | N80: Managed Burning, Slash (Logging Debris) | O80: Pile Burning | P80: Nonpoint
A81: 24017 | B81: NOx | C81: 0.9844864 | D81: SCC Missing | E81: SCC Missing | F81: 1.1445265 | G81: NA | H81: 1.2403641 | I81: NA | J81: 2810025000 | K81: Miscellaneous Non-Industrial Not Elsewhere Classified | L81: Miscellaneous Area Sources | M81: Other Combustion | N81: Residential Grilling (see 23-02-002-xxx for Commercial) | O81: Total | P81: Nonpoint
A82: 24017 | B82: NOx | C82: 0.11998722 | D82: SCC Missing | E82: SCC Missing | F82: 0.13949258 | G82: NA | H82: 0.15117308 | I82: NA | J82: 2810060100 | K82: Miscellaneous Non-Industrial Not Elsewhere Classified | L82: Miscellaneous Area Sources | M82: Other Combustion | N82: Cremation | O82: Humans | P82: Nonpoint
A83: 24017 | B83: NOx | C83: 0.000487 | D83: SCC Missing | E83: SCC Missing | F83: 0.000487 | G83: NA | H83: 0.000487 | I83: NA | J83: 2811015001 | K83: Fires - Prescribed Fires | L83: Miscellaneous Area Sources | M83: Other Combustion - as Event | N83: Prescribed Forest Burning | O83: Smoldering | P83: Nonpoint
A84: 24017 | B84: NOx | C84: 9.88627 | D84: SCC Missing | E84: SCC Missing | F84: 9.88627 | G84: NA | H84: 9.88627 | I84: NA | J84: 2811015002 | K84: Fires - Prescribed Fires | L84: Miscellaneous Area Sources | M84: Other Combustion - as Event | N84: Prescribed Forest Burning | O84: Flaming | P84: Nonpoint
A85: 24017 | B85: NOx | C85: 0.0481 | D85: SCC Missing | E85: SCC Missing | F85: 0.040921185 | G85: NA | H85: 0.038743496 | I85: NA | J85: 40500403 | K85: Solvent - Graphic Arts | L85: Chemical Evaporation | M85: Printing/Publishing | N85: Lithographic | O85: Other non-dryer printing | P85: Nonpoint
A86: 24017 | B86: NOx | C86: 0.2541305 | D86: 0.2541305 | E86: 0.00069207653 | F86: 0.2541305 | G86: 0.00069207653 | H86: 0.2541305 | I86: 0.00069207653 | J86: 2610000100 | K86: Waste Disposal | L86: Waste Disposal, Treatment, and Recovery | M86: Open Burning | N86: All Categories | O86: Yard Waste - Leaf Species Unspecified | P86: Nonpoint
A87: 24017 | B87: NOx | C87: 0.2049439 | D87: 0.2049439 | E87: 0.00055812609 | F87: 0.2049439 | G87: 0.00055812609 | H87: 0.2049439 | I87: 0.00055812609 | J87: 2610000400 | K87: Waste Disposal | L87: Waste Disposal, Treatment, and Recovery | M87: Open Burning | N87: All Categories | O87: Yard Waste - Brush Species Unspecified | P87: Nonpoint
A88: 24017 | B88: NOx | C88: 14.2788 | D88: SCC Missing | E88: SCC Missing | F88: 17.314355 | G88: NA | H88: 19.561956 | I88: NA | J88: 50100410 | K88: Waste Disposal | L88: Waste Disposal | M88: Solid Waste Disposal - Government | N88: Municipal Solid Waste Landfill | O88: Landfill Dump: Waste Gas Destruction: Waste Gas Flares | P88: Nonpoint
A89: 24017 | B89: NOx | C89: 33.62231 | D89: 33.62231 | E89: 0.091564025 | F89: 33.62231 | G89: 0.091564025 | H89: 33.62231 | I89: 0.091564025 | J89: 2610000500 | K89: Waste Disposal | L89: Waste Disposal, Treatment, and Recovery | M89: Open Burning | N89: All Categories | O89: Land Clearing Debris (use 28-10-005-000 for Logging Debris Burning) | P89: Nonpoint
A90: 24017 | B90: NOx | C90: 12.90353 | D90: 12.90353 | E90: 0.035140332 | F90: 12.90353 | G90: 0.035140332 | H90: 12.90353 | I90: 0.035140332 | J90: 2610030000 | K90: Waste Disposal | L90: Waste Disposal, Treatment, and Recovery | M90: Open Burning | N90: Residential | O90: Household Waste (use 26-10-000-xxx for Yard Wastes) | P90: Nonpoint
A91: 24017 | B91: NOx | C91: 0.0742 | D91: SCC Missing | E91: SCC Missing | F91: 0.090524 | G91: NA | H91: 0.10163174 | I91: NA | J91: 50600110 | K91: Waste Disposal | L91: Waste Disposal | M91: Solid Waste Disposal - Commercial | N91: Incineration | O91: Modular Starved Air Combustor | P91: Nonpoint
A92: 24017 | B92: NOx | C92: 0.022954 | E92: 7.3570513e-05 | F92: 0.022954 | G92: 7.3570513e-05 | H92: 0.022954 | I92: 7.3570513e-05 | J92: 2102007000 | K92: Fuel Combustion LPG Industrial | L92: Stationary Source Fuel Combustion | M92: Industrial | N92: Liquefied Petroleum Gas (LPG) | O92: Boilers and IC Engines | P92: Nonpoint
A93: 24017 | B93: NOx | C93: 9.7862909 | E93: 0.031366317 | F93: 9.7862909 | G93: 0.031366317 | H93: 9.7862909 | I93: 0.031366317 | J93: 2102006000 | K93: Fuel Combustion NatGas Industrial | L93: Stationary Source Fuel Combustion | M93: Industrial | N93: Natural Gas | O93: Boilers and IC Engines | P93: Nonpoint
A94: 24017 | B94: NOx | C94: 0.08383824 | E94: 0.00026871231 | F94: 0.08383824 | G94: 0.00026871231 | H94: 0.08383824 | I94: 0.00026871231 | J94: 2103005000 | K94: Fuel Combustion Residual Comm/Institutional | L94: Stationary Source Fuel Combustion | M94: Commercial/Ins | N94: Residual Oil | P94: Nonpoint
A95: 24017 | B95: NOx | C95: 0.027779426 | E95: 8.9036623e-05 | F95: 0.027779426 | G95: 8.9036623e-05 | H95: 0.027779426 | I95: 8.9036623e-05 | J95: 2102005000 | K95: Fuel Combustion Residual Industrial | L95: Industrial | M95: Residual Oil | N95: All Boiler Types | O95: Industrial Boilers, ICEs - Oil | P95: Nonpoint
A96: 24017 | B96: NOx | C96: 0.083511289 | E96: 0.00026766439 | F96: 0.083511289 | G96: 0.00026766439 | H96: 0.083511289 | I96: 0.00026766439 | J96: 2102004001 | K96: Fuel Combustion Distillate Industrial | L96: Stationary Source Fuel Combustion | M96: Industrial | N96: Distillate Oil | O96: Boilers | P96: Nonpoint
A97: 24017 | B97: NOx | C97: 1.6813606 | E97: 0.0053889763 | F97: 1.6813606 | G97: 0.0053889763 | H97: 1.6813606 | I97: 0.0053889763 | J97: 2102004002 | K97: Fuel Combustion Distillate Industrial | L97: Stationary Source Fuel Combustion | M97: Industrial | N97: Distillate Oil | O97: IC Engine | P97: Nonpoint
A98: 24017 | B98: NOx | C98: 0.13432311 | E98: 0.00029440682 | F98: 0.13432311 | G98: 0.00029440682 | H98: 0.13432311 | I98: 0.00029440682 | J98: 2810030000 | K98: Structure Fires | L98: Miscellaneous Area Sources | M98: Other Combustion | N98: Structure Fires | O98: Unspecified | P98: Nonpoint
A99: 24017 | B99: NOx | C99: 0.1266952 | E99: 0.00034711014 | F99: 0.1266952 | G99: 0.00034711014 | H99: 0.1266952 | I99: 0.00034711014 | J99: 2810050000 | K99: Vehicle Fires | L99: Miscellaneous Area Sources | M99: Other Combustion | N99: Motor Vehicle Fires | O99: Unspecified | P99: Nonpoint
A100: 24017 | B100: NOX | C100: 2.8943e-05 | E100: 1.3358308e-07 | F100: 2.8943e-05 | G100: 1.3358308e-07 | H100: 2.8943e-05 | I100: 1.3358308e-07 | J100: 2810060200 | K100: Miscellaneous Non-Industrial Not Elsewhere Classified | M100: Other Combustion | N100: Cremation | O100: Animals | P100: Nonpoint
A101: 24017 Total | C101: =SUBTOTAL(9,C49:C100) -> 297.04671 | D101: =SUBTOTAL(9,D49:D100) -> 255.31993 | E101: =SUBTOTAL(9,E49:E100) -> 0.4675363 | F101: =SUBTOTAL(9,F49:F100) -> 269.1181 | G101: =SUBTOTAL(9,G49:G100) -> 0.42299363 | H101: =SUBTOTAL(9,H49:H100) -> 261.03265 | I101: =SUBTOTAL(9,I49:I100) -> 0.40537029
A102: 24021 | B102: NOx | C102: 5.1192807 | D102: 5.1186085 | E102: 0.013946618 | F102: 3.8545487 | G102: 0.010502448 | H102: 3.2139702 | I102: 0.0087570704 | J102: 2102001000 | K102: Fuel Comb - Industrial Boilers, ICEs - Coal | L102: Stationary Source Fuel Combustion | M102: Industrial | N102: Anthracite Coal | O102: Total: All Boiler Types | P102: Nonpoint
A103: 24021 | B103: NOx | C103: 81.868431 | D103: 81.857681 | E103: 0.22303676 | F103: 61.642616 | G103: 0.16795698 | H103: 51.398372 | I103: 0.1400446 | J103: 2102002000 | K103: Fuel Comb - Industrial Boilers, ICEs - Coal | L103: Stationary Source Fuel Combustion | M103: Industrial | N103: Bituminous/Subbituminous Coal | O103: Total: All Boiler Types | P103: Nonpoint
A104: 24021 | B104: NOx | C104: 0.20036849 | D104: SCC Missing | E104: SCC Missing | F104: 0.20036849 | G104: NA | H104: 0.20036849 | I104: NA | J104: 2104008530 | K104: Fuel Comb - Residential - Wood | L104: Stationary Source Fuel Combustion | M104: Residential | N104: Wood | O104: Furnace: Indoor, pellet-fired, general | P104: Nonpoint
A105: 24021 | B105: NOx | C105: 0.80850447 | D105: SCC Missing | E105: SCC Missing | F105: 0.80850447 | G105: NA | H105: 0.80850447 | I105: NA | J105: 2104008620 | K105: Fuel Comb - Residential - Wood | L105: Stationary Source Fuel Combustion | M105: Residential | N105: Wood | O105: Hydronic heater: indoor | P105: Nonpoint
A106: 24021 | B106: NOx | C106: 0.066789503 | D106: SCC Missing | E106: SCC Missing | F106: 0.066789503 | G106: NA | H106: 0.066789503 | I106: NA | J106: 2104008630 | K106: Fuel Comb - Residential - Wood | L106: Stationary Source Fuel Combustion | M106: Residential | N106: Wood | O106: Hydronic heater: pellet-fired | P106: Nonpoint
A107: 24021 | B107: NOx | C107: 1.758611 | D107: 1.7583801 | E107: 0.0047910395 | F107: 1.8973468 | G107: 0.0051696807 | H107: 1.9666313 | I107: 0.0053584596 | J107: 2102008000 | K107: Fuel Comb - Industrial Boilers, ICEs - Biomass | L107: Stationary Source Fuel Combustion | M107: Industrial | N107: Wood | O107: Total: All Boiler Types | P107: Nonpoint
A108: 24021 | B108: NOx | C108: 0.02491381 | D108: 0.024910538 | E108: 6.787348e-05 | F108: 0.023299411 | G108: 6.3483659e-05 | H108: 0.024705447 | I108: 6.7314671e-05 | J108: 2102011000 | K108: Fuel Comb - Industrial Boilers, ICEs - Oil | L108: Stationary Source Fuel Combustion | M108: Industrial | N108: Kerosene | O108: Total: All Boiler Types | P108: Nonpoint
A109: 24021 | B109: NOx | C109: 6.2646219 | D109: 6.262803 | E109: 0.012956621 | F109: 6.5242681 | G109: 0.013497546 | H109: 6.4333614 | I109: 0.013309476 | J109: 2103004001 | K109: Fuel Comb - Comm/Institutional - Oil | L109: Stationary Source Fuel Combustion | M109: Commercial/Institutional | N109: Distillate Oil | O109: Boilers | P109: Nonpoint
A110: 24021 | B110: NOx | C110: 9.957451 | D110: 9.95456 | E110: 0.020594207 | F110: 10.370152 | G110: 0.021453993 | H110: 10.225658 | I110: 0.021155061 | J110: 2103004002 | K110: Fuel Comb - Comm/Institutional - Oil | L110: Stationary Source Fuel Combustion | M110: Commercial/Institutional | N110: Distillate Oil | O110: IC Engines | P110: Nonpoint
A111: 24021 | B111: NOx | C111: 102.18943 | D111: 102.15976 | E111: 0.21135031 | F111: 88.542801 | G111: 0.18317925 | H111: 81.47025 | I111: 0.1685474 | J111: 2103006000 | K111: Fuel Comb - Comm/Institutional - Natural Gas | L111: Stationary Source Fuel Combustion | M111: Commercial/Institutional | N111: Natural Gas | O111: Total: Boilers and IC Engines | P111: Nonpoint
A112: 24021 | B112: NOx | C112: 7.7222894 | D112: 7.7200473 | E112: 0.0159714 | F112: 10.997143 | G112: 0.022751126 | H112: 12.264967 | I112: 0.025374028 | J112: 2103007000 | K112: Fuel Comb - Comm/Institutional - Other | L112: Stationary Source Fuel Combustion | M112: Commercial/Institutional | N112: Liquified Petroleum Gas (LPG) | O112: Total: All Combustor Types | P112: Nonpoint
A113: 24021 | B113: NOx | C113: 3.8579557 | D113: 3.8568356 | E113: 0.0079791044 | F113: 3.8579557 | G113: 0.0079814217 | H113: 3.8579557 | I113: 0.0079814217 | J113: 2103008000 | K113: Fuel Comb - Comm/Institutional - Biomass | L113: Stationary Source Fuel Combustion | M113: Commercial/Institutional | N113: Wood | O113: Total: All Boiler Types | P113: Nonpoint
A114: 24021 | B114: NOx | C114: 0.12876535 | D114: 0.12872796 | E114: 0.00026631518 | F114: 0.082335536 | G114: 0.00017033753 | H114: 0.068716124 | I114: 0.00014216139 | J114: 2103011000 | K114: Fuel Comb - Comm/Institutional - Oil | L114: Stationary Source Fuel Combustion | M114: Commercial/Institutional | N114: Kerosene | O114: Total: All Combustor Types | P114: Nonpoint
A115: 24021 | B115: NOx | C115: 51.8258 | D115: 51.8258 | E115: 0.05206041 | F115: 29.238528 | G115: 0.029370887 | H115: 22.683254 | I115: 0.022785939 | J115: 2104004000 | K115: Fuel Comb - Residential - Oil | L115: Stationary Source Fuel Combustion | M115: Residential | N115: Distillate Oil | O115: Total: All Combustor Types | P115: Nonpoint
A116: 24021 | B116: NOx | C116: 118.55914 | D116: 118.55914 | E116: 0.11909584 | F116: 112.88747 | G116: 0.1133985 | H116: 112.17097 | I116: 0.11267875 | J116: 2104006000 | K116: Fuel Comb - Residential - Natural Gas | L116: Stationary Source Fuel Combustion | M116: Residential | N116: Natural Gas | O116: Total: All Combustor Types | P116: Nonpoint
A117: 24021 | B117: NOx | C117: 25.178252 | D117: 25.178252 | E117: 0.025292231 | F117: 22.115752 | G117: 0.022215867 | H117: 22.096966 | I117: 0.022196996 | J117: 2104007000 | K117: Fuel Comb - Residential - Other | L117: Stationary Source Fuel Combustion | M117: Residential | N117: Liquified Petroleum Gas (LPG) | O117: Total: All Combustor Types | P117: Nonpoint
A118: 24021 | B118: NOx | C118: 3.8206809 | D118: 3.8206809 | E118: 0.0038379767 | F118: 3.8206809 | G118: 0.0038379767 | H118: 3.8206809 | I118: 0.0038379767 | J118: 2104008100 | K118: Fuel Comb - Residential - Wood | L118: Stationary Source Fuel Combustion | M118: Residential | N118: Wood | O118: Fireplace: general | P118: Nonpoint
... A130: 24021 | B130: NOx | C130: 0.57745809 | D130: 0.57745809 | E130: 0.0015725983 | F130: 0.32578415 | G130: 0.00088721175 | H130: 0.2527434 | I130: 0.00068829902 | J130: 2104011000 | K130: Fuel Comb - Residential - Oil | L130: Stationary Source Fuel Combustion | M130: Residential | N130: Kerosene | O130: Total: All Heater Types | P130: Nonpoint
A131: 24021 | B131: NOx | C131: 1.185945 | D131: SCC Missing | E131: SCC Missing | F131: 1.185945 | G131: NA | H131: 1.185945 | I131: NA | J131: 2801500141 | K131: Fires - Agricultural Field Burning | L131: Miscellaneous Area Sources | M131: Agriculture Production - Crops | N131: Agricultural Field Burning - whole field set on fire | O131: Field Crop is Bean (red): Headfire Burning | P131: Nonpoint
A132: 24021 | B132: NOx | C132: 0.182995 | D132: SCC Missing | E132: SCC Missing | F132: 0.182995 | G132: NA | H132: 0.182995 | I132: NA | J132: 2801500171 | K132: Fires - Agricultural Field Burning | L132: Miscellaneous Area Sources | M132: Agriculture Production - Crops | N132: Agricultural Field Burning - whole field set on fire | O132: Fallow | P132: Nonpoint
A133: 24021 | B133: NOx | C133: 1.510256 | D133: SCC Missing | E133: SCC Missing | F133: 1.7351869 | G133: NA | H133: 1.8680631 | I133: NA | J133: 2810025000 | K133: Miscellaneous Non-Industrial Not Elsewhere Classified | L133: Miscellaneous Area Sources | M133: Other Combustion | N133: Residential Grilling (see 23-02-002-xxx for Commercial) | O133: Total | P133: Nonpoint
...

Sheet NP-Sunils Format
A1: FIPS | B1: Pollutant | C1: 2022 Annual Emiss Data Tool v1 Emissions (Tons) | D1: 2022 Annual MARAMA-VA Emissions (Tons) | E1: 2022 MARAMA-VA OSD Emissions (tpd) | F1: 2022 OSD/Annual Ratio | G1: 2032 Annual Emissions (Tons) | H1: 2032 OSD Emissions (tpd) | I1: 2038 Annual Emissions (Tons) | J1: 2038 OSD Emissions (tpd) | K1: SCC Code | L1: Sector | M1: SCC Level 1 | N1: SCC Level 2 | O1: SCC Level 3 | P1: SCC Level 4 | Q1: Source Description | S1: SCC-FIPS-POLLUTANT | T1: SCC-Fips-Pollutant combos missing in this tab, but present in tab "Ratios_MARAMA-VA"
A2: 24009 | B2: NOx | C2: 0.84779087 | D2: 0.84767954 | E2: 0.0023096635 | F2: 0.0027246894 | G2: 0.63834186 | H2: 0.0017392833 | I2: 0.5322573 | J2: 0.0014502358 | K2: 2102001000 | L2: Fuel Comb - Industrial Boilers, ICEs - Coal | M2: Stationary Source Fuel Combustion | N2: Industrial | O2: Anthracite Coal | P2: Total: All Boiler Types | Q2: Nonpoint | S2: 2102001000-24009-NOx
A3: 24017 | B3: NOx | C3: 1.2353971 | D3: 1.2352349 | E3: 0.0033656315 | F3: 0.0027246894 | G3: 0.93018897 | H3: 0.002534476 | I3: 0.77560301 | J3: 0.0021132773 | K3: 2102001000 | L3: Fuel Comb - Industrial Boilers, ICEs - Coal | M3: Stationary Source Fuel Combustion | N3: Industrial | O3: Anthracite Coal | P3: Total: All Boiler Types | Q3: Nonpoint | S3: 2102001000-24017-NOx
A4: 24021 | B4: NOx | C4: 5.1192807 | D4: 5.1186085 | E4: 0.013946618 | F4: 0.0027246894 | G4: 3.8545487 | H4: 0.010502448 | I4: 3.2139702 | J4: 0.0087570704 | K4: 2102001000 | L4: Fuel Comb - Industrial Boilers, ICEs - Coal | M4: Stationary Source Fuel Combustion | N4: Industrial | O4: Anthracite Coal | P4: Total: All Boiler Types | Q4: Nonpoint | S4: 2102001000-24021-NOx
A5: 24031 | B5: NOx | C5: 10.355487 | D5: 10.354127 | E5: 0.028211781 | F5: 0.0027246894 | G5: 7.7971364 | H5: 0.021244775 | I5: 6.5013483 | J5: 0.017714155 | K5: 2102001000 | L5: Fuel Comb - Industrial Boilers, ICEs - Coal | M5: Stationary Source Fuel Combustion | N5: Industrial | O5: Anthracite Coal | P5: Total: All Boiler Types | Q5: Nonpoint | S5: 2102001000-24031-NOx
A6: 24033 | B6: NOx | C6: 13.024693 | D6: 13.022982 | E6: 0.035483582 | F6: 0.0027246894 | G6: 9.8069075 | H6: 0.026720777 | I6: 8.1771202 | J6: 0.022280113 | K6: 2102001000 | L6: Fuel Comb - Industrial Boilers, ICEs - Coal | M6: Stationary Source Fuel Combustion | N6: Industrial | O6: Anthracite Coal | P6: Total: All Boiler Types | Q6: Nonpoint | S6: 2102001000-24033-NOx
A7: 24009 | B7: VOC | C7: 0.028259699 | D7: 0.028255988 | E7: 7.6988792e-05 | F7: 0.0027246894 | G7: 0.021278065 | H7: 5.7976118e-05 | I7: 0.017741912 | J7: 4.83412e-05 | K7: 2102001000 | L7: Fuel Comb - Industrial Boilers, ICEs - Coal | M7: Stationary Source Fuel Combustion | N7: Industrial | O7: Anthracite Coal | P7: Total: All Boiler Types | Q7: Nonpoint | S7: 2102001000-24009-VOC
A8: 24017 | B8: VOC | C8: 0.041179905 | D8: 0.041174497 | E8: 0.00011218772 | F8: 0.0027246894 | G8: 0.031006299 | H8: 8.4482534e-05 | I8: 0.025853434 | J8: 7.0442577e-05 | K8: 2102001000 | L8: Fuel Comb - Industrial Boilers, ICEs - Coal | M8: Stationary Source Fuel Combustion | N8: Industrial | O8: Anthracite Coal | P8: Total: All Boiler Types | Q8: Nonpoint | S8: 2102001000-24017-VOC
A9: 24021 | B9: VOC | C9: 0.17064269 | D9: 0.17062028 | E9: 0.00046488728 | F9: 0.0027246894 | G9: 0.12848496 | H9: 0.0003500816 | I9: 0.10713234 | J9: 0.00029190235 | K9: 2102001000 | L9: Fuel Comb - Industrial Boilers, ICEs - Coal | M9: Stationary Source Fuel Combustion | N9: Industrial | O9: Anthracite Coal | P9: Total: All Boiler Types | Q9: Nonpoint | S9: 2102001000-24021-VOC
A10: 24031 | B10: VOC | C10: 0.34518295 | D10: 0.34513762 | E10: 0.00094039281 | F10: 0.0027246894 | G10: 0.25990457 | H10: 0.00070815924 | I10: 0.21671163 | J10: 0.00059047189 | K10: 2102001000 | L10: Fuel Comb - Industrial Boilers, ICEs - Coal | M10: Stationary Source Fuel Combustion | N10: Industrial | O10: Anthracite Coal | P10: Total: All Boiler Types | Q10: Nonpoint | S10: 2102001000-24031-VOC
A11: 24033 | B11: VOC | C11: 0.43415653 | D11: 0.43409952 | E11: 0.0011827864 | F11: 0.0027246894 | G11: 0.326897 | H11: 0.00089069279 | I11: 0.27257074 | J11: 0.00074267061 | K11: 2102001000 | L11: Fuel Comb - Industrial Boilers, ICEs - Coal | M11: Stationary Source Fuel Combustion | N11: Industrial | O11: Anthracite Coal | P11: Total: All Boiler Types | Q11: Nonpoint | S11: 2102001000-24033-VOC
A12: 24009 | B12: NOx | C12: 13.558019 | D12: 13.556239 | E12: 0.03693654 | F12: 0.0027246894 | G12: 10.208474 | H12: 0.027814921 | I12: 8.5119514 | J12: 0.023192424 | K12: 2102002000 | L12: Fuel Comb - Industrial Boilers, ICEs - Coal | M12: Stationary Source Fuel Combustion | N12: Industrial | O12: Bituminous/Subbituminous Coal | P12: Total: All Boiler Types | Q12: Nonpoint | S12: 2102002000-24009-NOx
A13: 24017 | B13: NOx | C13: 19.756693 | D13: 19.754098 | E13: 0.053823783 | F13: 0.0027246894 | G13: 14.875749 | H13: 0.040531795 | I13: 12.403583 | J13: 0.03379591 | K13: 2102002000 | L13: Fuel Comb - Industrial Boilers, ICEs - Coal | M13: Stationary Source Fuel Combustion | N13: Industrial | O13: Bituminous/Subbituminous Coal | P13: Total: All Boiler Types | Q13: Nonpoint | S13: 2102002000-24017-NOx
... A15: 24031 | B15: NOx | C15: 165.60682 | D15: 165.58507 | E15: 0.45116789 | F15: 0.0027246894 | G15: 124.69321 | H15: 0.33975027 | I15: 103.97073 | J15: 0.28328796 | K15: 2102002000 | L15: Fuel Comb - Industrial Boilers, ICEs - Coal | M15: Stationary Source Fuel Combustion | N15: Industrial | O15: Bituminous/Subbituminous Coal | P15: Total: All Boiler Types | Q15: Nonpoint | S15: 2102002000-24031-NOx
A16: 24009 | B16: NOx | C16: 0.085480976 | D16: SCC Missing | E16: SCC Missing | F16: SCC Missing | G16: 0.085480976 | H16: NA | I16: 0.085480976 | J16: NA | K16: 2104008530 | L16: Fuel Comb - Residential - Wood | M16: Stationary Source Fuel Combustion | N16: Residential | O16: Wood | P16: Furnace: Indoor, pellet-fired, general | Q16: Nonpoint | S16: 2104008530-24009-NOx
A17: 24017 | B17: NOx | C17: 0.12836459 | D17: SCC Missing | E17: SCC Missing | F17: SCC Missing | G17: 0.12836459 | H17: NA | I17: 0.12836459 | J17: NA | K17: 2104008530 | L17: Fuel Comb - Residential - Wood | M17: Stationary Source Fuel Combustion | N17: Residential | O17: Wood | P17: Furnace: Indoor, pellet-fired, general | Q17: Nonpoint | S17: 2104008530-24017-NOx
A18: 24021 | B18: NOx | C18: 0.20036849 | D18: SCC Missing | E18: SCC Missing | F18: SCC Missing | G18: 0.20036849 | H18: NA | I18: 0.20036849 | J18: NA | K18: 2104008530 | L18: Fuel Comb - Residential - Wood | M18: Stationary Source Fuel Combustion | N18: Residential | O18: Wood | P18: Furnace: Indoor, pellet-fired, general | Q18: Nonpoint | S18: 2104008530-24021-NOx
A19: 24031 | B19: NOx | C19: 0.033816714 | D19: SCC Missing | E19: SCC Missing | F19: SCC Missing | G19: 0.033816714 | H19: NA | I19: 0.033816714 | J19: NA | K19: 2104008530 | L19: Fuel Comb - Residential - Wood | M19: Stationary Source Fuel Combustion | N19: Residential | O19: Wood | P19: Furnace: Indoor, pellet-fired, general | Q19: Nonpoint | S19: 2104008530-24031-NOx
A20: 24033 | B20: NOx | C20: 0.066362547 | D20: SCC Missing | E20: SCC Missing | F20: SCC Missing | G20: 0.066362547 | H20: NA | I20: 0.066362547 | J20: NA | K20: 2104008530 | L20: Fuel Comb - Residential - Wood | M20: Stationary Source Fuel Combustion | N20: Residential | O20: Wood | P20: Furnace: Indoor, pellet-fired, general | Q20: Nonpoint | S20: 2104008530-24033-NOx
A21: 24009 | B21: VOC | C21: 0.049443993 | D21: SCC Missing | E21: SCC Missing | F21: SCC Missing | G21: 0.049443993 | H21: NA | I21: 0.049443993 | J21: NA | K21: 2104008530 | L21: Fuel Comb - Residential - Wood | M21: Stationary Source Fuel Combustion | N21: Residential | O21: Wood | P21: Furnace: Indoor, pellet-fired, general | Q21: Nonpoint | S21: 2104008530-24009-VOC
A22: 24017 | B22: VOC | C22: 0.074248786 | D22: SCC Missing | E22: SCC Missing | F22: SCC Missing | G22: 0.074248786 | H22: NA | I22: 0.074248786 | J22: NA | K22: 2104008530 | L22: Fuel Comb - Residential - Wood | M22: Stationary Source Fuel Combustion | N22: Residential | O22: Wood | P22: Furnace: Indoor, pellet-fired, general | Q22: Nonpoint | S22: 2104008530-24017-VOC
A23: 24021 | B23: VOC | C23: 0.11589735 | D23: SCC Missing | E23: SCC Missing | F23: SCC Missing | G23: 0.11589735 | H23: NA | I23: 0.11589735 | J23: NA | K23: 2104008530 | L23: Fuel Comb - Residential - Wood | M23: Stationary Source Fuel Combustion | N23: Residential | O23: Wood | P23: Furnace: Indoor, pellet-fired, general | Q23: Nonpoint | S23: 2104008530-24021-VOC
A24: 24031 | B24: VOC | C24: 0.019560295 | D24: SCC Missing | E24: SCC Missing | F24: SCC Missing | G24: 0.019560295 | H24: NA | I24: 0.019560295 | J24: NA | K24: 2104008530 | L24: Fuel Comb - Residential - Wood | M24: Stationary Source Fuel Combustion | N24: Residential | O24: Wood | P24: Furnace: Indoor, pellet-fired, general | Q24: Nonpoint | S24: 2104008530-24031-VOC
A25: 24033 | B25: VOC | C25: 0.038385492 | D25: SCC Missing | E25: SCC Missing | F25: SCC Missing | G25: 0.038385492 | H25: NA | I25: 0.038385492 | J25: NA | K25: 2104008530 | L25: Fuel Comb - Residential - Wood | M25: Stationary Source Fuel Combustion | N25: Residential | O25: Wood | P25: Furnace: Indoor, pellet-fired, general | Q25: Nonpoint | S25: 2104008530-24033-VOC
A26: 24009 | B26: NOx | C26: 0.34492326 | D26: SCC Missing | E26: SCC Missing | F26: SCC Missing | G26: 0.34492326 | H26: NA | I26: 0.34492326 | J26: NA | K26: 2104008620 | L26: Fuel Comb - Residential - Wood | M26: Stationary Source Fuel Combustion | N26: Residential | O26: Wood | P26: Hydronic heater: indoor | Q26: Nonpoint | S26: 2104008620-24009-NOx
A27: 24017 | B27: NOx | C27: 0.51796237 | D27: SCC Missing | E27: SCC Missing | F27: SCC Missing | G27: 0.51796237 | H27: NA | I27: 0.51796237 | J27: NA | K27: 2104008620 | L27: Fuel Comb - Residential - Wood | M27: Stationary Source Fuel Combustion | N27: Residential | O27: Wood | P27: Hydronic heater: indoor | Q27: Nonpoint | S27: 2104008620-24017-NOx
... A45: 24033 | B45: VOC | C45: 0.012795164 | D45: SCC Missing | E45: SCC Missing | F45: SCC Missing | G45: 0.012795164 | H45: NA | I45: 0.012795164 | J45: NA | K45: 2104008630 | L45: Fuel Comb - Residential - Wood | M45: Stationary Source Fuel Combustion | N45: Residential | O45: Wood | P45: Hydronic heater: pellet-fired | Q45: Nonpoint | S45: 2104008630-24033-VOC
A46: 24033 | B46: NOx | C46: 208.29326 | D46: 208.26591 | E46: 0.5674599 | F46: 0.0027246894 | G46: 156.83385 | H46: 0.42732353 | I46: 130.76999 | J46: 0.35630762 | K46: 2102002000 | L46: Fuel Comb - Industrial Boilers, ICEs - Coal | M46: Stationary Source Fuel Combustion | N46: Industrial | O46: Bituminous/Subbituminous Coal | P46: Total: All Boiler Types | Q46: Nonpoint | S46: 2102002000-24033-NOx
A47: 24009 | B47: VOC | C47: 0.061627368 | D47: 0.061619276 | E47: 0.00016789339 | F47: 0.0027246894 | G47: 0.046402162 | H47: 0.00012643148 | I47: 0.038690694 | J47: 0.00010542012 | K47: 2102002000 | L47: Fuel Comb - Industrial Boilers, ICEs - Coal | M47: Stationary Source Fuel Combustion | N47: Industrial | O47: Bituminous/Subbituminous Coal | P47: Total: All Boiler Types | Q47: Nonpoint | S47: 2102002000-24009-VOC
A48: 24017 | B48: VOC | C48: 0.089803127 | D48: 0.089791335 | E48: 0.0002446535 | F48: 0.0027246894 | G48: 0.067617024 | H48: 0.00018423539 | I48: 0.056379907 | J48: 0.00015361773 | K48: 2102002000 | L48: Fuel Comb - Industrial Boilers, ICEs - Coal | M48: Stationary Source Fuel Combustion | N48: Industrial | O48: Bituminous/Subbituminous Coal | P48: Total: All Boiler Types | Q48: Nonpoint | S48: 2102002000-24017-VOC
A49: 24021 | B49: VOC | C49: 0.37212924 | D49: 0.37208038 | E49: 0.0010138035 | F49: 0.0027246894 | G49: 0.28019372 | H49: 0.00076344085 | I49: 0.23362897 | J49: 0.00063656638 | K49: 2102002000 | L49: Fuel Comb - Industrial Boilers, ICEs - Coal | M49: Stationary Source Fuel Combustion | N49: Industrial | O49: Bituminous/Subbituminous Coal | P49: Total: All Boiler Types | Q49: Nonpoint | S49: 2102002000-24021-VOC
A50: 24031 | B50: VOC | C50: 0.75275805 | D50: 0.75265921 | E50: 0.0020507626 | F50: 0.0027246894 | G50: 0.56678716 | H50: 0.001544319 | I50: 0.47259411 | J50: 0.0012876722 | K50: 2102002000 | L50: Fuel Comb - Industrial Boilers, ICEs - Coal | M50: Stationary Source Fuel Combustion | N50: Industrial | O50: Bituminous/Subbituminous Coal | P50: Total: All Boiler Types | Q50: Nonpoint | S50: 2102002000-24031-VOC
A51: 24033 | B51: VOC | C51: 0.94678742 | D51: 0.9466631 | E51: 0.0025793629 | F51: 0.0027246894 | G51: 0.71288105 | H51: 0.0019423795 | I51: 0.594409 | J51: 0.0016195799 | K51: 2102002000 | L51: Fuel Comb - Industrial Boilers, ICEs - Coal | M51: Stationary Source Fuel Combustion | N51: Industrial | O51: Bituminous/Subbituminous Coal | P51: Total: All Boiler Types | Q51: Nonpoint | S51: 2102002000-24033-VOC
A52: 24009 | B52: NOx | C52: 0.291239 | D52: 0.29120076 | E52: 0.00079343161 | F52: 0.0027246894 | G52: 0.31421467 | H52: 0.00085613739 | I52: 0.32568871 | J52: 0.00088740057 | K52: 2102008000 | L52: Fuel Comb - Industrial Boilers, ICEs - Biomass | M52: Stationary Source Fuel Combustion | N52: Industrial | O52: Wood | P52: Total: All Boiler Types | Q52: Nonpoint | S52: 2102008000-24009-NOx
A53: 24017 | B53: NOx | C53: 0.4243922 | D53: 0.42433647 | E53: 0.0011561851 | F53: 0.0027246894 | G53: 0.45787225 | H53: 0.0012475597 | I53: 0.47459216 | J53: 0.0012931162 | K53: 2102008000 | L53: Fuel Comb - Industrial Boilers, ICEs - Biomass | M53: Stationary Source Fuel Combustion | N53: Industrial | O53: Wood | P53: Total: All Boiler Types | Q53: Nonpoint | S53: 2102008000-24017-NOx
A54: 24021 | B54: NOx | C54: 1.758611 | D54: 1.7583801 | E54: 0.0047910395 | F54: 0.0027246894 | G54: 1.8973468 | H54: 0.0051696807 | I54: 1.9666313 | J54: 0.0053584596 | K54: 2102008000 | L54: Fuel Comb - Industrial Boilers, ICEs - Biomass | M54: Stationary Source Fuel Combustion | N54: Industrial | O54: Wood | P54: Total: All Boiler Types | Q54: Nonpoint | S54: 2102008000-24021-NOx
A55: 24031 | B55: NOx | C55: 3.557389 | D55: 3.5569219 | E55: 0.0096915073 | F55: 0.0027246894 | G55: 3.8380293 | H55: 0.010457438 | I55: 3.9781809 | J55: 0.010839307 | K55: 2102008000 | L55: Fuel Comb - Industrial Boilers, ICEs - Biomass | M55: Stationary Source Fuel Combustion | N55: Industrial | O55: Wood | P55: Total: All Boiler Types | Q55: Nonpoint | S55: 2102008000-24031-NOx
A56: 24033 | B56: NOx | C56: 4.474334 | D56: 4.4737465 | E56: 0.01218957 | F56: 0.0027246894 | G56: 4.8273116 | H56: 0.013152925 | I56: 5.0035883 | J56: 0.013633224 | K56: 2102008000 | L56: Fuel Comb - Industrial Boilers, ICEs - Biomass | M56: Stationary Source Fuel Combustion | N56: Industrial | O56: Wood | P56: Total: All Boiler Types | Q56: Nonpoint | S56: 2102008000-24033-NOx
A57: 24009 | B57: VOC | C57: 0.02250484 | D57: 0.022501885 | E57: 6.1310647e-05 | F57: 0.0027246894 | G57: 0.024280234 | H57: 6.6156095e-05 | I57: 0.025166864 | J57: 6.8571887e-05 | K57: 2102008000 | L57: Fuel Comb - Industrial Boilers, ICEs - Biomass | M57: Stationary Source Fuel Combustion | N57: Industrial | O57: Wood | P57: Total: All Boiler Types | Q57: Nonpoint | S57: 2102008000-24009-VOC
... A123: 24033 | B123: NOx | C123: 0.3970393 | D123: 0.39692403 | E123: 0.00082116495 | F123: 0.0020688215 | G123: 0.25387609 | H123: 0.00052522431 | I123: 0.21188155 | J123: 0.0004383451 | K123: 2103011000 | L123: Fuel Comb - Comm/Institutional - Oil | M123: Stationary Source Fuel Combustion | N123: Commercial/Institutional | O123: Kerosene | P123: Total: All Combustor Types | Q123: Nonpoint | S123: 2103011000-24033-NOx
A124: 24009 | B124: VOC | C124: 0.00045477327 | D124: 0.00045464123 | E124: 9.4057154e-07 | F124: 0.0020688215 | G124: 0.00029079252 | H124: 6.0159782e-07 | I124: - | J124: NA | K124: 2103011000 | L124: Fuel Comb - Comm/Institutional - Oil | M124: Stationary Source Fuel Combustion | N124: Commercial/Institutional | O124: Kerosene | P124: Total: All Combustor Types | Q124: Nonpoint | S124: 2103011000-24009-VOC
A125: 24017 | B125: VOC | C125: 0.0008632834 | D125: 0.00086303276 | E125: 1.7854607e-06 | F125: 0.0020688215 | G125: 0.00055200333 | H125: 1.1419963e-06 | I125: 0.00046069451 | J125: 9.5309469e-07 | K125: 2103011000 | L125: Fuel Comb - Comm/Institutional - Oil | M125: Stationary Source Fuel Combustion | N125: Commercial/Institutional | O125: Kerosene | P125: Total: All Combustor Types | Q125: Nonpoint | S125: 2103011000-24017-VOC
A126: 24021 | B126: VOC | C126: 0.0021890113 | D126: 0.0021883758 | E126: 4.5273587e-06 | F126: 0.0020688215 | G126: 0.0013997043 | H126: 2.8957384e-06 | I126: 0.0011681743 | J126: 2.4167441e-06 | K126: 2103011000 | L126: Fuel Comb - Comm/Institutional - Oil | M126: Stationary Source Fuel Combustion | N126: Commercial/Institutional | O126: Kerosene | P126: Total: All Combustor Types | Q126: Nonpoint | S126: 2103011000-24021-VOC
A127: 24031 | B127: VOC | C127: 0.012140779 | D127: 0.012137254 | E127: 2.5109812e-05 | F127: 0.0020688215 | G127: 0.0077630943 | H127: 1.6060456e-05 | I127: 0.0064789734 | J127: 1.3403839e-05 | K127: 2103011000 | L127: Fuel Comb - Comm/Institutional - Oil | M127: Stationary Source Fuel Combustion | N127: Commercial/Institutional | O127: Kerosene | P127: Total: All Combustor Types | Q127: Nonpoint | S127: 2103011000-24031-VOC
A128: 24033 | B128: VOC | C128: 0.0067496688 | D128: 0.0067477091 | E128: 1.3959806e-05 | F128: 0.0020688215 | G128: 0.004315894 | H128: 8.9288141e-06 | I128: 0.0036019867 | J128: 7.4518674e-06 | K128: 2103011000 | L128: Fuel Comb - Comm/Institutional - Oil | M128: Stationary Source Fuel Combustion | N128: Commercial/Institutional | O128: Kerosene | P128: Total: All Combustor Types | Q128: Nonpoint | S128: 2103011000-24033-VOC
A129: 24009 | B129: NOx | C129: 18.449145 | D129: 18.449145 | E129: 0.018532662 | F129: 0.0010045269 | G129: 10.408442 | H129: 0.01045556 | I129: 8.074871 | J129: 0.0081114251 | K129: 2104004000 | L129: Fuel Comb - Residential - Oil | M129: Stationary Source Fuel Combustion | N129: Residential | O129: Distillate Oil | P129: Total: All Combustor Types | Q129: Nonpoint | S129: 2104004000-24009-NOx
A130: 24017 | B130: NOx | C130: 39.844038 | D130: 39.844038 | E130: 0.040024408 | F130: 0.0010045269 | G130: 22.478785 | H130: 0.022580544 | I130: 17.439045 | J130: 0.01751799 | K130: 2104004000 | L130: Fuel Comb - Residential - Oil | M130: Stationary Source Fuel Combustion | N130: Residential | O130: Distillate Oil | P130: Total: All Combustor Types | Q130: Nonpoint | S130: 2104004000-24017-NOx
A131: 24021 | B131: NOx | C131: 51.8258 | D131: 51.8258 | E131: 0.05206041 | F131: 0.0010045269 | G131: 29.238528 | H131: 0.029370887 | I131: 22.683254 | J131: 0.022785939 | K131: 2104004000 | L131: Fuel Comb - Residential - Oil | M131: Stationary Source Fuel Combustion | N131: Residential | O131: Distillate Oil | P131: Total: All Combustor Types | Q131: Nonpoint | S131: 2104004000-24021-NOx
A132: 24031 | B132: NOx | C132: 59.225842 | D132: 59.225842 | E132: 0.059493951 | F132: 0.0010045269 | G132: 33.413404 | H132: 0.033564663 | I132: 25.922125 | J132: 0.026039471 | K132: 2104004000 | L132: Fuel Comb - Residential - Oil | M132: Stationary Source Fuel Combustion | N132: Residential | O132: Distillate Oil | P132: Total: All Combustor Types | Q132: Nonpoint | S132: 2104004000-24031-NOx
A133: 24033 | B133: NOx | C133: 60.015787 | D133: 60.015787 | E133: 0.060287472 | F133: 0.0010045269 | G133: 33.859067 | H133: 0.034012344 | I133: 26.26787 | J133: 0.026386782 | K133: 2104004000 | L133: Fuel Comb - Residential - Oil | M133: Stationary Source Fuel Combustion | N133: Residential | O133: Distillate Oil | P133: Total: All Combustor Types | Q133: Nonpoint | S133: 2104004000-24033-NOx
A134: 24009 | B134: VOC | C134: 0.73079123 | D134: 0.73079123 | E134: 0.00073409944 | F134: 0.0010045269 | G134: 0.41229001 | H134: 0.0004141564 | I134: 0.31985466 | J134: 0.0003213026 | K134: 2104004000 | L134: Fuel Comb - Residential - Oil | M134: Stationary Source Fuel Combustion | N134: Residential | O134: Distillate Oil | P134: Total: All Combustor Types | Q134: Nonpoint | S134: 2104004000-24009-VOC
A135: 24017 | B135: VOC | C135: 1.5782663 | D135: 1.5782663 | E135: 0.0015854109 | F135: 0.0010045269 | G135: 0.89040946 | H135: 0.00089444025 | I135: 0.69077981 | J135: 0.00069390689 | K135: 2104004000 | L135: Fuel Comb - Residential - Oil | M135: Stationary Source Fuel Combustion | N135: Residential | O135: Distillate Oil | P135: Total: All Combustor Types | Q135: Nonpoint | S135: 2104004000-24017-VOC
A136: 24021 | B136: VOC | C136: 2.0528768 | D136: 2.0528768 | E136: 0.00206217 | F136: 0.0010045269 | G136: 1.1581702 | H136: 0.0011634131 | I136: 0.8985086 | J136: 0.00090257605 | K136: 2104004000 | L136: Fuel Comb - Residential - Oil | M136: Stationary Source Fuel Combustion | N136: Residential | O136: Distillate Oil | P136: Total: All Combustor Types | Q136: Nonpoint | S136: 2104004000-24021-VOC
... A338: 24033 | B338: VOC | C338: 9.5703071 | D338: 9.5703071 | E338: 0.026109888 | F338: 0.0027282184 | G338: 9.6565765 | H338: 0.02634525 | I338: 10.303891 | J338: 0.028111264 | K338: 2401020000 | L338: Solvent - Industrial Surface Coating & Solvent Use | M338: Solvent Utilization | N338: Surface Coating | O338: Wood Furniture: SIC 25 | P338: Total: All Solvent Types | Q338: Nonpoint | S338: 2401020000-24033-VOC
A339: 24017 | B339: VOC | C339: 0.0141 | D339: SCC Missing | E339: SCC Missing | F339: SCC Missing | G339: 0.0141 | H339: NA | I339: 0.0141 | J339: NA | K339: 2310121802 | L339: Industrial Processes - Oil & Gas Production | M339: Industrial Processes | N339: Oil and Gas Exploration and Production | O339: On-Shore Gas Exploration | P339: Abandoned Well: Unplugged | Q339: Nonpoint | S339: 2310121802-24017-VOC
A340: 24009 | B340: NOx | C340: 0.948756 | D340: SCC Missing | E340: SCC Missing | F340: SCC Missing | G340: 0.948756 | H340: NA | I340: 0.948756 | J340: NA | K340: 2801500141 | L340: Fires - Agricultural Field Burning | M340: Miscellaneous Area Sources | N340: Agriculture Production - Crops | O340: Agricultural Field Burning - whole field set on fire | P340: Field Crop is Bean (red): Headfire Burning | Q340: Nonpoint | S340: 2801500141-24009-NOx
A341: 24017 | B341: NOx | C341: 0.474378 | D341: SCC Missing | E341: SCC Missing | F341: SCC Missing | G341: 0.474378 | H341: NA | I341: 0.474378 | J341: NA | K341: 2801500141 | L341: Fires - Agricultural Field Burning | M341: Miscellaneous Area Sources | N341: Agriculture Production - Crops | O341: Agricultural Field Burning - whole field set on fire | P341: Field Crop is Bean (red): Headfire Burning | Q341: Nonpoint | S341: 2801500141-24017-NOx
A342: 24021 | B342: NOx | C342: 1.185945 | D342: SCC Missing | E342: SCC Missing | F342: SCC Missing | G342: 1.185945 | H342: NA | I342: 1.185945 | J342: NA | K342: 2801500141 | L342: Fires - Agricultural Field Burning | M342: Miscellaneous Area Sources | N342: Agriculture Production - Crops | O342: Agricultural Field Burning - whole field set on fire | P342: Field Crop is Bean (red): Headfire Burning | Q342: Nonpoint | S342: 2801500141-24021-NOx
A343: 24031 | B343: NOx | C343: 0.237189 | D343: SCC Missing | E343: SCC Missing | F343: SCC Missing | G343: 0.237189 | H343: NA | I343: 0.237189 | J343: NA | K343: 2801500141 | L343: Fires - Agricultural Field Burning | M343: Miscellaneous Area Sources | N343: Agriculture Production - Crops | O343: Agricultural Field Burning - whole field set on fire | P343: Field Crop is Bean (red): Headfire Burning | Q343: Nonpoint | S343: 2801500141-24031-NOx
A344: 24033 | B344: NOx | C344: 0.237189 | D344: SCC Missing | E344: SCC Missing | F344: SCC Missing | G344: 0.237189 | H344: NA | I344: 0.237189 | J344: NA | K344: 2801500141 | L344: Fires - Agricultural Field Burning | M344: Miscellaneous Area Sources | N344: Agriculture Production - Crops | O344: Agricultural Field Burning - whole field set on fire | P344: Field Crop is Bean (red): Headfire Burning | Q344: Nonpoint | S344: 2801500141-24033-NOx
A345: 24009 | B345: VOC | C345: 2.770868 | D345: SCC Missing | E345: SCC Missing | F345: SCC Missing | G345: 2.770868 | H345: NA | I345: 2.770868 | J345: NA | K345: 2801500141 | L345: Fires - Agricultural Field Burning | M345: Miscellaneous Area Sources | N345: Agriculture Production - Crops | O345: Agricultural Field Burning - whole field set on fire | P345: Field Crop is Bean (red): Headfire Burning | Q345: Nonpoint | S345: 2801500141-24009-VOC
A346: 24017 | B346: VOC | C346: 1.385434 | D346: SCC Missing | E346: SCC Missing | F346: SCC Missing | G346: 1.385434 | H346: NA | I346: 1.385434 | J346: NA | K346: 2801500141 | L346: Fires - Agricultural Field Burning | M346: Miscellaneous Area Sources | N346: Agriculture Production - Crops | O346: Agricultural Field Burning - whole field set on fire | P346: Field Crop is Bean (red): Headfire Burning | Q346: Nonpoint | S346: 2801500141-24017-VOC
A347: 24021 | B347: VOC | C347: 3.463585 | D347: SCC Missing | E347: SCC Missing | F347: SCC Missing | G347: 3.463585 | H347: NA | I347: 3.463585 | J347: NA | K347: 2801500141 | L347: Fires - Agricultural Field Burning | M347: Miscellaneous Area Sources | N347: Agriculture Production - Crops | O347: Agricultural Field Burning - whole field set on fire | P347: Field Crop is Bean (red): Headfire Burning | Q347: Nonpoint | S347: 2801500141-24021-VOC
A348: 24031 | B348: VOC | C348: 0.692717 | D348: SCC Missing | E348: SCC Missing | F348: SCC Missing | G348: 0.692717 | H348: NA | I348: 0.692717 | J348: NA | K348: 2801500141 | L348: Fires - Agricultural Field Burning | M348: Miscellaneous Area Sources | N348: Agriculture Production - Crops | O348: Agricultural Field Burning - whole field set on fire | P348: Field Crop is Bean (red): Headfire Burning | Q348: Nonpoint | S348: 2801500141-24031-VOC
A349: 24033 | B349: VOC | C349: 0.692717 | D349: SCC Missing | E349: SCC Missing | F349: SCC Missing | G349: 0.692717 | H349: NA | I349: 0.692717 | J349: NA | K349: 2801500141 | L349: Fires - Agricultural Field Burning | M349: Miscellaneous Area Sources | N349: Agriculture Production - Crops | O349: Agricultural Field Burning - whole field set on fire | P349: Field Crop is Bean (red): Headfire Burning | Q349: Nonpoint | S349: 2801500141-24033-VOC
A350: 24009 | B350: NOx | C350: 0.400694 | D350: SCC Missing | E350: SCC Missing | F350: SCC Missing | G350: 0.400694 | H350: NA | I350: 0.400694 | J350: NA | K350: 2801500150 | L350: Fires - Agricultural Field Burning | M350: Miscellaneous Area Sources | N350: Agriculture Production - Crops | O350: Agricultural Field Burning - whole field set on fire | P350: Field Crop is Corn: Burning Techniques Not Important | Q350: Nonpoint | S350: 2801500150-24009-NOx
... A401: 24017 | B401: VOC | C401: 0.0056 | D401: SCC Missing | E401: SCC Missing | F401: SCC Missing | G401: 0.006832 | H401: NA | I401: 0.00767032 | J401: NA | K401: 40299998 | L401: Solvent - Industrial Surface Coating & Solvent Use | M401: Chemical Evaporation | N401: Surface Coating Operations | O401: Miscellaneous | P401: Miscellaneous | Q401: Nonpoint | S401: 40299998-24017-VOC
A402: 24009 | B402: VOC | C402: 5.5473686 | D402: 5.5473686 | E402: 0.015134433 | F402: 0.0027282184 | G402: 5.5973741 | H402: 0.015270859 | I402: 5.9725856 | J402: 0.016294518 | K402: 2401025000 | L402: Solvent - Industrial Surface Coating & Solvent Use | M402: Solvent Utilization | N402: Surface Coating | O402: Metal Furniture: SIC 25 | P402: Total: All Solvent Types | Q402: Nonpoint | S402: 2401025000-24009-VOC
A403: 24033 | B403: VOC | C403: 1.053949 | D403: 1.053949 | E403: 0.0028754031 | F403: 0.0027282184 | G403: 1.0634496 | H403: 0.0029013228 | I403: 1.1347363 | J403: 0.0030958086 | K403: 2401025000 | L403: Solvent - Industrial Surface Coating & Solvent Use | M403: Solvent Utilization | N403: Surface Coating | O403: Metal Furniture: SIC 25 | P403: Total: All Solvent Types | Q403: Nonpoint | S403: 2401025000-24033-VOC
A404: 24009 | B404: VOC | C404: 0.068139134 | D404: 0.068139134 | E404: 0.00018634424 | F404: 0.0027347609 | G404: 0.067684924 | H404: 0.00018510209 | I404: 0.07252721 | J404: 0.00019834458 | K404: 2401055000 | L404: Solvent - Industrial Surface Coating & Solvent Use | M404: Solvent Utilization | N404: Surface Coating | O404: Machinery and Equipment: SIC 35 | P404: Total: All Solvent Types | Q404: Nonpoint | S404: 2401055000-24009-VOC
A405: 24017 | B405: VOC | C405: 0.068139134 | D405: 0.068139134 | E405: 0.00018634424 | F405: 0.0027347609 | G405: 0.067684924 | H405: 0.00018510209 | I405: 0.07252721 | J405: 0.00019834458 | K405: 2401055000 | L405: Solvent - Industrial Surface Coating & Solvent Use | M405: Solvent Utilization | N405: Surface Coating | O405: Machinery and Equipment: SIC 35 | P405: Total: All Solvent Types | Q405: Nonpoint | S405: 2401055000-24017-VOC
A406: 24031 | B406: VOC | C406: 0.10206373 | D406: 0.10206373 | E406: 0.00027911989 | F406: 0.0027347609 | G406: 0.10138338 | H406: 0.0002772593 | I406: 0.10863651 | J406: 0.00029709487 | K406: 2401055000 | L406: Solvent - Industrial Surface Coating & Solvent Use | M406: Solvent Utilization | N406: Surface Coating | O406: Machinery and Equipment: SIC 35 | P406: Total: All Solvent Types | Q406: Nonpoint | S406: 2401055000-24031-VOC
A407: 24033 | B407: VOC | C407: 0.65877497 | D407: 0.65877497 | E407: 0.001801592 | F407: 0.0027347609 | G407: 0.65438363 | H407: 0.0017895828 | I407: 0.70119926 | J407: 0.0019176123 | K407: 2401055000 | L407: Solvent - Industrial Surface Coating & Solvent Use | M407: Solvent Utilization | N407: Surface Coating | O407: Machinery and Equipment: SIC 35 | P407: Total: All Solvent Types | Q407: Nonpoint | S407: 2401055000-24033-VOC
A408: 24021 | B408: VOC | C408: 0.19802322 | D408: 0.19802321 | E408: 0.00054154615 | F408: 0.0027347609 | G408: 0.20230882 | H408: 0.00055326624 | I408: 0.2220262 | J408: 0.00060718858 | K408: 2401065000 | L408: Solvent - Industrial Surface Coating & Solvent Use | M408: Solvent Utilization | N408: Surface Coating | O408: Electronic and Other Electrical: SIC 36 - 363 | P408: Total: All Solvent Types | Q408: Nonpoint | S408: 2401065000-24021-VOC
A409: 24033 | B409: VOC | C409: 0.031946411 | D409: 0.031946411 | E409: 8.7365796e-05 | F409: 0.0027347609 | G409: 0.032637792 | H409: 8.9256559e-05 | I409: 0.035818732 | J409: 9.7955667e-05 | K409: 2401065000 | L409: Solvent - Industrial Surface Coating & Solvent Use | M409: Solvent Utilization | N409: Surface Coating | O409: Electronic and Other Electrical: SIC 36 - 363 | P409: Total: All Solvent Types | Q409: Nonpoint | S409: 2401065000-24033-VOC
A410: 24009 | B410: VOC | C410: 0.11777124 | D410: 0.11777124 | E410: 0.00032901085 | F410: 0.0027936433 | G410: 0.11948407 | H410: 0.00033379588 | I410: 0.12579582 | J410: 0.00035142865 | K410: 2401070000 | L410: Solvent - Industrial Surface Coating & Solvent Use | M410: Solvent Utilization | N410: Surface Coating | O410: Motor Vehicles: SIC 371 | P410: Total: All Solvent Types | Q410: Nonpoint | S410: 2401070000-24009-VOC
A411: 24031 | B411: VOC | C411: 0.24567341 | D411: 0.24567341 | E411: 0.00068632387 | F411: 0.0027936433 | G411: 0.24924641 | H411: 0.00069630556 | I411: 0.26241285 | J411: 0.00073308791 | K411: 2401070000 | L411: Solvent - Industrial Surface Coating & Solvent Use | M411: Solvent Utilization | N411: Surface Coating | O411: Motor Vehicles: SIC 371 | P411: Total: All Solvent Types | Q411: Nonpoint | S411: 2401070000-24031-VOC
A412: 24033 | B412: VOC | C412: 0.49340483 | D412: 0.49340483 | E412: 0.0013783971 | F412: 0.0027936433 | G412: 0.50058076 | H412: 0.0013984441 | I412: 0.52702395 | J412: 0.0014723169 | K412: 2401070000 | L412: Solvent - Industrial Surface Coating & Solvent Use | M412: Solvent Utilization | N412: Surface Coating | O412: Motor Vehicles: SIC 371 | P412: Total: All Solvent Types | Q412: Nonpoint | S412: 2401070000-24033-VOC
A413: 24021 | B413: VOC | C413: 0.25876398 | D413: 0.25876398 | E413: 0.00072072991 | F413: 0.0027852791 | G413: 0.26252737 | H413: 0.00073121199 | I413: 0.27639538 | J413: 0.00076983827 | K413: 2401075000 | L413: Solvent - Industrial Surface Coating & Solvent Use | M413: Solvent Utilization | N413: Surface Coating | O413: Aircraft: SIC 372 | P413: Total: All Solvent Types | Q413: Nonpoint | S413: 2401075000-24021-VOC
... A456: 24033 | B456: VOC | C456: 1263.459 | D456: 1263.459 | E456: 3.4407925 | F456: 0.0027233115 | G456: 1361.5287 | H456: 3.7078667 | I456: 1411.0635 | J456: 3.8427656 | K456: 2460100000 | L456: Solvent - Consumer & Commercial Solvent Use | M456: Solvent Utilization | N456: Miscellaneous Non-industrial: Consumer and Commercial | O456: All Personal Care Products | P456: Total: All Solvent Types | Q456: Nonpoint | S456: 2460100000-24033-VOC
A457: 24017 | B457: NOx | C457: 0.0481 | D457: SCC Missing | E457: SCC Missing | F457: SCC Missing | G457: 0.040921185 | H457: NA | I457: 0.038743496 | J457: NA | K457: 40500403 | L457: Solvent - Graphic Arts | M457: Chemical Evaporation | N457: Printing/Publishing | O457: Lithographic | P457: Other non-dryer printing | Q457: Nonpoint | S457: 40500403-24017-NOx
A458: 24017 | B458: VOC | C458: 2.8223 | D458: SCC Missing | E458: SCC Missing | F458: SCC Missing | G458: 2.4010782 | H458: NA | I458: 2.2733008 | J458: NA | K458: 40500403 | L458: Solvent - Graphic Arts | M458: Chemical Evaporation | N458: Printing/Publishing | O458: Lithographic | P458: Other non-dryer printing | Q458: Nonpoint | S458: 40500403-24017-VOC
A459: 24033 | B459: VOC | C459: 0.24138 | D459: SCC Missing | E459: SCC Missing | F459: SCC Missing | G459: 0.20535459 | H459: NA | I459: 0.1944263 | J459: NA | K459: 40500403 | L459: Solvent - Graphic Arts | M459: Chemical Evaporation | N459: Printing/Publishing | O459: Lithographic | P459: Other non-dryer printing | Q459: Nonpoint | S459: 40500403-24033-VOC
A460: 24017 | B460: VOC | C460: 0.169 | D460: SCC Missing | E460: SCC Missing | F460: SCC Missing | G460: 0.14377714 | H460: NA | I460: 0.1361258 | J460: NA | K460: 40500804 | L460: Solvent - Graphic Arts | M460: Chemical Evaporation | N460: Printing/Publishing | O460: Screen Printing | P460: Other non-dryer printing | Q460: Nonpoint | S460: 40500804-24017-VOC
A461: 24009 | B461: VOC | C461: 80.334237 | D461: 80.334237 | E461: 0.21877515 | F461: 0.0027233115 | G461: 92.767132 | H461: 0.2526338 | I461: 100.15393 | J461: 0.27275034 | K461: 2460200000 | L461: Solvent - Consumer & Commercial Solvent Use | M461: Solvent Utilization | N461: Miscellaneous Non-industrial: Consumer and Commercial | O461: All Household Products | P461: Total: All Solvent Types | Q461: Nonpoint | S461: 2460200000-24009-VOC
A462: 24017 | B462: VOC | C462: 141.9314 | D462: 141.9314 | E462: 0.38652341 | F462: 0.0027233115 | G462: 165.00404 | H462: 0.44935742 | I462: 178.82076 | J462: 0.48698463 | K462: 2460200000 | L462: Solvent - Consumer & Commercial Solvent Use | M462: Solvent Utilization | N462: Miscellaneous Non-industrial: Consumer and Commercial | O462: All Household Products | P462: Total: All Solvent Types | Q462: Nonpoint | S462: 2460200000-24017-VOC
A463: 24021 | B463: VOC | C463: 228.87127 | D463: 228.87127 | E463: 0.62328778 | F463: 0.0027233115 | G463: 262.95836 | H463: 0.71611753 | I463: 283.09504 | J463: 0.77095599 | K463: 2460200000 | L463: Solvent - Consumer & Commercial Solvent Use | M463: Solvent Utilization | N463: Miscellaneous Non-industrial: Consumer and Commercial | O463: All Household Products | P463: Total: All Solvent Types | Q463: Nonpoint | S463: 2460200000-24021-VOC
A464: 24031 | B464: VOC | C464: 907.86533 | D464: 907.86533 | E464: 2.4724001 | F464: 0.0027233115 | G464: 1004.9345 | H464: 2.7367496 | I464: 1058.0855 | J464: 2.8814964 | K464: 2460200000 | L464: Solvent - Consumer & Commercial Solvent Use | M464: Solvent Utilization | N464: Miscellaneous Non-industrial: Consumer and Commercial | O464: All Household Products | P464: Total: All Solvent Types | Q464: Nonpoint | S464: 2460200000-24031-VOC
A465: 24033 | B465: VOC | C465: 785.12316 | D465: 785.12316 | E465: 2.138135 | F465: 0.0027233115 | G465: 846.06439 | H465: 2.3040969 | I465: 876.84574 | J465: 2.3879241 | K465: 2460200000 | L465: Solvent - Consumer & Commercial Solvent Use | M465: Solvent Utilization | N465: Miscellaneous Non-industrial: Consumer and Commercial | O465: All Household Products | P465: Total: All Solvent Types | Q465: Nonpoint | S465: 2460200000-24033-VOC
A466: 24009 | B466: VOC | C466: 3.3229498 | D466: 3.3229498 | E466: 0.0090494275 | F466: 0.0027233115 | G466: 3.8372247 | H466: 0.010449958 | I466: 4.1427725 | J466: 0.01128206 | K466: 2460400000 | L466: Solvent - Consumer & Commercial Solvent Use | M466: Solvent Utilization | N466: Miscellaneous Non-industrial: Consumer and Commercial | O466: All Automotive Aftermarket Products | P466: Total: All Solvent Types | Q466: Nonpoint | S466: 2460400000-24009-VOC
A467: 24017 | B467: VOC | C467: 5.8708588 | D467: 5.8708588 | E467: 0.015988177 | F467: 0.0027233115 | G467: 6.8252371 | H467: 0.018587247 | I467: 7.3967525 | J467: 0.020143661 | K467: 2460400000 | L467: Solvent - Consumer & Commercial Solvent Use | M467: Solvent Utilization | N467: Miscellaneous Non-industrial: Consumer and Commercial | O467: All Automotive Aftermarket Products | P467: Total: All Solvent Types | Q467: Nonpoint | S467: 2460400000-24017-VOC
A468: 24021 | B468: VOC | C468: 9.4670436 | D468: 9.4670436 | E468: 0.025781709 | F468: 0.0027233115 | G468: 10.877024 | H468: 0.029621524 | I468: 11.709958 | J468: 0.031889865 | K468: 2460400000 | L468: Solvent - Consumer & Commercial Solvent Use | M468: Solvent Utilization | N468: Miscellaneous Non-industrial: Consumer and Commercial | O468: All Automotive Aftermarket Products | P468: Total: All Solvent Types | Q468: Nonpoint | S468: 2460400000-24021-VOC
A469: 24031 | B469: VOC | C469: 37.552988 | D469: 37.552988 | E469: 0.10226849 | F469: 0.0027233115 | G469: 41.56816 | H469: 0.11320305 | I469: 43.766703 | J469: 0.11919037 | K469: 2460400000 | L469: Solvent - Consumer & Commercial Solvent Use | M469: Solvent Utilization | N469: Miscellaneous Non-industrial: Consumer and Commercial | O469: All Automotive Aftermarket Products | P469: Total: All Solvent Types | Q469: Nonpoint | S469: 2460400000-24031-VOC
A470: 24033 | B470: VOC | C470: 32.475879 | D470: 32.475879 | E470: 0.088441935 | F470: 0.0027233115 | G470: 34.996655 | H470: 0.095306795 | I470: 36.269897 | J470: 0.098774228 | K470: 2460400000 | L470: Solvent - Consumer & Commercial Solvent Use | M470: Solvent Utilization | N470: Miscellaneous Non-industrial: Consumer and Commercial | O470: All Automotive Aftermarket Products | P470: Total: All Solvent Types | Q470: Nonpoint | S470: 2460400000-24033-VOC
A471: 24009 | B471: VOC | C471: 61.634507 | D471: 61.634507 | E471: 0.16784996 | F471: 0.0027233115 | G471: 71.173346 | H471: 0.1938272 | I471: 76.840685 | J471: 0.20926113 | K471: 2460500000 | L471: Solvent - Consumer & Commercial Solvent Use | M471: Solvent Utilization | N471: Miscellaneous Non-industrial: Consumer and Commercial | O471: All Coatings and Related Products | P471: Total: All Solvent Types | Q471: Nonpoint | S471: 2460500000-24009-VOC
A472: 24017 | B472: VOC | C472: 108.89346 | D472: 108.89346 | E472: 0.29655081 | F472: 0.0027233115 | G472: 126.59539 | H472: 0.34475869 | I472: 137.19593 | J472: 0.37362727 | K472: 2460500000 | L472: Solvent - Consumer & Commercial Solvent Use | M472: Solvent Utilization | N472: Miscellaneous Non-industrial: Consumer and Commercial | O472: All Coatings and Related Products | P472: Total: All Solvent Types | Q472: Nonpoint | S472: 2460500000-24017-VOC
... A488: 24021 | B488: VOC | C488: 5.30322 | D488: 5.30322 | E488: 0.01444232 | F488: 0.0027233115 | G488: 6.0930584 | H488: 0.016593296 | I488: 6.5596493 | J488: 0.017863969 | K488: 2460900000 | L488: Solvent - Consumer & Commercial Solvent Use | M488: Solvent Utilization | N488: Miscellaneous Non-industrial: Consumer and Commercial | O488: Miscellaneous Products (Not Otherwise Covered) | P488: Total: All Solvent Types | Q488: Nonpoint | S488: 2460900000-24021-VOC
A489: 24017 | B489: VOC | C489: 0.73 | D489: SCC Missing | E489: SCC Missing | F489: SCC Missing | G489: 0.8906 | H489: NA | I489: 0.999881 | J489: NA | K489: 40600306 | L489: Gas Stations | M489: Chemical Evaporation | N489: Transportation and Marketing of Petroleum Products | O489: Gasoline Retail Operations - Stage I | P489: Balanced Submerged Filling | Q489: Nonpoint | S489: 40600306-24017-VOC
A490: 24031 | B490: VOC | C490: 21.03632 | D490: 21.03632 | E490: 0.057288453 | F490: 0.0027233115 | G490: 23.285527 | H490: 0.063413745 | I490: 24.5171 | J490: 0.066767701 | K490: 2460900000 | L490: Solvent - Consumer & Commercial Solvent Use | M490: Solvent Utilization | N490: Miscellaneous Non-industrial: Consumer and Commercial | O490: Miscellaneous Products (Not Otherwise Covered) | P490: Total: All Solvent Types | Q490: Nonpoint | S490: 2460900000-24031-VOC
A491: 24033 | B491: VOC | C491: 18.19224 | D491: 18.19224 | E491: 0.049543137 | F491: 0.0027233115 | G491: 19.604321 | H491: 0.053388674 | I491: 20.317562 | J491: 0.05533105 | K491: 2460900000 | L491: Solvent - Consumer & Commercial Solvent Use | M491: Solvent Utilization | N491: Miscellaneous Non-industrial: Consumer and Commercial | O491: Miscellaneous Products (Not Otherwise Covered) | P491: Total: All Solvent Types | Q491: Nonpoint | S491: 2460900000-24033-VOC
...

Sheet Point Annual_Daily_SCC-Rev2
A1: premises id | B1: master ai name | C1: O3 NAA | D1: subject item designation | E1: scc code | F1: operations days per year | G1: NOx (tpy) | H1: VOC (tpy) | I1: NOx tpd | J1: VOC tpd | K1: NOX 2032 (tpd) | L1: NOX 2038 (tpd) | M1: GF-NOX-2032 | N1: GF-NOX-2038 | O1: VOC2032 (tpd) | P1: VOC 2038 (tpd) | Q1: GF-VOC-2032 | R1: GF-VOC-2038
A2: 009-0012 | B2: Calvert Cliffs Nuclear Power Plant, LLC | C2: MWCOG | D2: 009-0012-4-0014 | E2: 10100504 | F2: 1 | G2: 0.003155 | H2: 2e-05 | I2: =G2/F2 -> 0.003155 | J2: =H2/F2 -> 2e-05 | K2: =I2*M2 -> 0.0034988578 | L2: =I2*N2 -> 0.0037707339 | M2: 1.1089882 | N2: 1.1951613 | O2: =J2*Q2 -> 2e-05 | P2: =J2*R2 -> 2e-05 | Q2: =VLOOKUP(LEFT(A2,8),'Point GF'!$C$2:$R$277,15,FALSE) -> 1 | R2: =VLOOKUP(LEFT(A2,8),'Point GF'!$C$2:$R$277,16,FALSE) -> 1
A3: 009-0012 | B3: Calvert Cliffs Nuclear Power Plant, LLC | C3: MWCOG | D3: 009-0012-4-0015 | E3: 10100504 | F3: 2 | G3: 0.0042 | H3: 4e-05 | I3: =G3/F3 -> 0.0021 | J3: =H3/F3 -> 2e-05 | K3: =I3*M3 -> 0.0023288753 | L3: =I3*N3 -> 0.0025098387 | M3: 1.1089882 | N3: 1.1951613 | O3: =J3*Q3 -> 2e-05 | P3: =J3*R3 -> 2e-05 | Q3: =VLOOKUP(LEFT(A3,8),'Point GF'!$C$2:$R$277,15,FALSE) -> 1 | R3: =VLOOKUP(LEFT(A3,8),'Point GF'!$C$2:$R$277,16,FALSE) -> 1
