Workbook

Sheet Inputs
B1: COMMUNITY GREENHOUSE GAS INVENTORY
B2: INVENTORY INPUTS - METROPOLITAN WASHINGTON TOTALS - DRAFT
B3: Emissions Type (Main ClearPath Tab) | C3: Emissions Activity or Source (ClearPath Calculator) | D3: Inventory Records (Entered in ClearPath) | E3: Regional Data Inputs
E4: Metric | F4: 2005 | G4: 2012 | H4: 2015 | I4: 2018 | J4: 2020 | K4: 2023 | L4: % Change, 2005 - 2023
B5: BUILT ENVIRONMENT
B6: Residential Energy | C6: Emissions from Grid Electricity | D6: Residential Electricity | E6: # of Accounts 1 | F6: - | G6: 1760045 | H6: 1844895.6 | I6: 1918894 | J6: 2012550.2 | K6: 2170592.4 | L6: =(K6-F6)/F6 -> #VALUE!
E7: Consumption (kWh) 1 | F7: 20971082830 | G7: 20939438768 | H7: 2.2647929e+10 | I7: 23203956575 | J7: 2.2146321e+10 | K7: 2.1175436e+10 | L7: =(K7-F7)/F7 -> 0.009744528
C8: Emissions from Stationary Fuel | D8: Residential Natural Gas | E8: # of Accounts 1 | F8: - | G8: 1035865 | H8: 1081669.8 | I8: 1152643.2 | J8: 1174772.5 | K8: 1202257.3 | L8: =(K8-F8)/F8 -> #VALUE!
E9: Consumption (Therms) 1 | F9: 9.2104516e+08 | G9: 7.448233e+08 | H9: 9.4296187e+08 | I9: 1.0188237e+09 | J9: 8.5280087e+08 | K9: 8.3693782e+08 | L9: =(K9-F9)/F9 -> -0.091317277
D10: Residential Fuel Oil | E10: # of Households Using Fuel Oil 2 | F10: 95009 | G10: 70681 | H10: 70681 | I10: 59331 | J10: 59331 | K10: 52642 | L10: =(K10-F10)/F10 -> -0.44592618
E11: Consumption (Gallons) 3 | F11: 54725184 | G11: 29898063 | H11: 24526307 | I11: 20587857 | J11: 20172540 | K11: 17898280 | L11: =(K11-F11)/F11 -> -0.67294253
D12: Residential LPG | E12: # of Households Using LPG 2 | F12: 32368 | G12: 33944 | H12: 33944 | I12: 37789 | J12: 37789 | K12: 45194 | L12: =(K12-F12)/F12 -> 0.39625556 | M12: % Change
E13: Consumption (Gallons) 3 | F13: 11102224 | G13: 10013480 | H13: 10590528 | I13: 11790168 | J13: 8086846 | K13: 9671516 | L13: =(K13-F13)/F13 -> -0.12886679 | M13: 2020-2023 | N13: Data Center % of | O13: 2020 | P13: 2023
B14: Commercial Energy | C14: Emissions from Grid Electricity | D14: Commercial Electricity without Data Centers | E14: Consumption (kWh) 1 | F14: - | G14: - | H14: - | I14: - | J14: 3.7884111e+10 | K14: 3.8764023e+10 | L14: =(K14-F14)/F14 -> #VALUE! | M14: =(K14-J14)/J14 -> 0.023226413 | N14: COM Electricity | O14: =J16/(J16+J14) -> 0.16630925 | P14: =K16/(K16+K14) -> 0.34554983
D15: Data Center Electricity | E15: Square Footage 1, 4 | F15: - | G15: - | H15: - | I15: - | J15: 28923104 | K15: 46145713 | L15: =(K15-F15)/F15 -> #VALUE! | M15: =(K15-J15)/J15 -> 0.59546198 | N15: Total Electricity | O15: =J16/(J16+J14+J7) -> 0.1118151 | P15: =K16/(K16+K14+K7) -> 0.25454805
E16: Consumption (kWh) 1 | F16: - | G16: - | H16: - | I16: - | J16: 7.5573322e+09 | K16: 2.0467412e+10 | L16: =(K16-F16)/F16 -> #VALUE! | M16: =(K16-J16)/J16 -> 1.7082853
D17: Commercial Electricity Subtotal | E17: # of Accounts 1 | F17: - | G17: 181804 | H17: 185336.42 | I17: 187687 | J17: 190055.79 | K17: 198582.76 | L17: =(K17-F17)/F17 -> #VALUE!
E18: Consumption (kWh) 1 | F18: 4.0230054e+10 | G18: 39268553085 | H18: 4.0918451e+10 | I18: 44771129259 | J18: 4.5441443e+10 | K18: 5.9231435e+10 | L18: =(K18-F18)/F18 -> 0.47231804
C19: Emissions from Stationary Fuel Combustion | D19: Commercial Natural Gas | E19: # of Accounts 1 | F19: - | G19: 59310.291 | H19: 63329.94 | I19: 66281 | J19: 67245.826 | K19: 68947.955 | L19: =(K19-F19)/F19 -> #VALUE!
E20: Consumption (Therms) 1 | F20: 671874278 | G20: 613396454 | H20: 693332714 | I20: 741307055 | J20: 643670859 | K20: 6.6414079e+08 | L20: =(K20-F20)/F20 -> -0.011510326
D21: Commercial Fuel Oil | E21: # of Commercial Buildings 4 | F21: 30897 | G21: 32775 | H21: 33203 | I21: 34071 | J21: 38668 | K21: 37964 | L21: =(K21-F21)/F21 -> 0.22872771
E22: Total Commercial Sq Footage 4 | F22: 917216441 | G22: 1012697790 | H22: 1040324957 | I22: 1086032081 | J22: 1174700054 | K22: 1216599670 | L22: =(K22-F22)/F22 -> 0.32640412
E23: Sq Feet of Commercial Space Using Fuel Oil5 | F23: 1.6095901e+08 | G23: 2.4888001e+08 | H23: 2.5566965e+08 | I23: 2.6690261e+08 | J23: 2.8482928e+08 | K23: 2.956141e+08 | L23: =(K23-F23)/F23 -> 0.83658003
E24: Consumption (Gallons) 5 | F24: 3219180.2 | G24: 4977600.3 | H24: 5113393 | I24: 5338052.1 | J24: 5696585.6 | K24: 4138597.4 | L24: =(K24-F24)/F24 -> 0.28560602
D25: Commercial LPG | E25: Sq Feet of Commercial Space Using LPG5 | F25: 92155085 | G25: 83128966 | H25: 85396788 | I25: 89148732 | J25: 96427189 | K25: 1.5340709e+08 | L25: =(K25-F25)/F25 -> 0.66466222
E26: Consumption (Gallons) 5 | F26: 4607754.3 | G26: 4156448.3 | H26: 4269839.4 | I26: 4457436.6 | J26: 4821359.4 | K26: 7670354.4 | L26: =(K26-F26)/F26 -> 0.66466222
B27: Process and Fugitive Emissions | C27: Fugitive Emissions from Natural Gas Distribution | D27: Natural Gas Fugitive | E27: Total Natural Gas Consumption (Therms) 1 | F27: 1592919433 | G27: 1358219753 | H27: 1636294580 | I27: 1760130779 | J27: 1496471734 | K27: 1.5010786e+09 | L27: =(K27-F27)/F27 -> -0.057655664
C28: Other Process and Fugitive | D28: Hydrofluorocarbon (HFCs) | E28: Population 6 | F28: 4758400 | G28: 5236400 | H28: 5342004 | I28: 5570233.6 | J28: 5650064 | K28: 5865015 | L28: =(K28-F28)/F28 -> 0.23256031
B29: TRANSPORTATION AND MOBILE
B30: Transportation and Mobile | C30: On Road Transportation | D30: On Road Mobile | E30: Annual Vehicle Miles Travelled 7 | F30: 4.1982953e+10 | G30: 4.376655e+10 | H30: 44501293073 | I30: 4.5968906e+10 | J30: 3.7908022e+10 | K30: 4.4208025e+10 | L30: =(K30-F30)/F30 -> 0.052999422
C31: Emissions from Off Road Vehicles | D31: Off Road Mobile | E31: N/A 7 | F31: - | G31: - | H31: - | I31: - | J31: - | K31: - | L31: =(K31-F31)/F31 -> #VALUE!
C32: Aviation Travel | D32: Passenger Air Travel | E32: Air Passengers Leaving BWI 8 | F32: 3227250 | G32: 3013293 | H32: 2347234 | I32: 2699389 | J32: 1523603.1 | K32: 3531323 | L32: =(K32-F32)/F32 -> 0.094220462
E33: Air Passengers Leaving DCA 8 | F33: 7669000 | G33: 7777602 | H33: 9728052 | I33: 9842498 | J33: 3281618.7 | K33: 11673904 | L33: =(K33-F33)/F33 -> 0.52221986
E34: Air Passengers Leaving IAD 8 | F34: 5609750 | G34: 6565760 | H34: 5637029 | I34: 6362197 | J34: 2692412.4 | K34: 9796170.2 | L34: =(K34-F34)/F34 -> 0.74627571
C35: Rail Transportation | D35: Commuter Rail | E35: MTA Diesel Consumption 9 | F35: - | G35: 3194796 | H35: 3646637 | I35: 3891011 | J35: 3709703 | K35: 3765982 | L35: =(K35-F35)/F35 -> #VALUE!
E36: VRE Diesel Consumption 9 | F36: - | G36: 1555589 | H36: 1564930 | I36: 1825173 | J36: 1430638 | K36: 1665975 | L36: =(K36-F36)/F36 -> #VALUE!
B37: WASTE
B38: Solid Waste | C38: Waste Generation | D38: Landfill Waste Generation | E38: MSW Landfilled (tons)10 | F38: 1893452 | G38: 1864628 | H38: 1914503.8 | I38: 1805200.7 | J38: 1879583.4 | K38: 1811544 | L38: =(K38-F38)/F38 -> -0.043258556
E39: Methane Collection at Receiving Landfill? 11 | F39: YES (mostly) | G39: YES (mostly) | H39: YES (mostly) | I39: YES (mostly) | J39: YES (mostly) | K39: YES | L39: N/A
C40: Combustion of Solid Waste Generated by the Community | D40: Combustion of Solid Waste | E40: Mass of MSW Combusted (tons) 10 | F40: 1989408 | G40: 1706582 | H40: 1669246 | I40: 1856312.3 | J40: 1741980.7 | K40: 1693336 | L40: =(K40-F40)/F40 -> -0.14882417
B41: Water and Wastewater | C41: Fugitive Emissions from Septic Systems | D41: Septic System | E41: Population Served by Septic 12 | F41: 326228 | G41: 342445 | H41: 346977 | I41: 344437.4 | J41: 353698.51 | K41: 377921.21 | L41: =(K41-F41)/F41 -> 0.1584573
C42: Nitrification/Denitrification Process N2O Emissions from Wastewater Treatment | D42: Sewer System | E42: Population Served by Sewer 12 | F42: 4432172 | G42: 4893955 | H42: 4995027 | I42: 5225796.2 | J42: 5296365.5 | K42: 5487093.8 | L42: =(K42-F42)/F42 -> 0.23801463
C43: Process N2O from Effluent Discharge to Rivers and Estuaries | D43: N2O Effluent Discharge | E43: Daily Nitrogen Load (kg N / day) 12 | F43: 13692.465 | G43: 8363 | H43: 6895 | I43: 7383.8348 | J43: 6813.5019 | K43: 6936.1145 | L43: =(K43-F43)/F43 -> -0.49343565
B44: LAND USE
B45: Agriculture | C45: Emissions from Agricultural Activities | D45: Enteric Fermentation | E45: Dairy Cows ('000 head)13 | F45: 37.7 | G45: 35 | H45: 27.1 | I45: 20.166049 | J45: 20.844371 | K45: 15.0475 | L45: =(K45-F45)/F45 -> -0.60086207
E46: Beef Cattle ('000 head)13 | F46: 46.6 | G46: 40.3 | H46: 37 | I46: 35.032064 | J46: 40.795629 | K46: 38.2485 | L46: =(K46-F46)/F46 -> -0.17921674
E47: Sheep ('000 head)13 | F47: 7.1 | G47: 6.6 | H47: 6 | I47: 5.491 | J47: 9.69 | K47: 9.277 | L47: =(K47-F47)/F47 -> 0.30661972
E48: Goats ('000 head)13 | F48: 1.4 | G48: 1 | H48: 1.3 | I48: 1.332 | J48: 2.392 | K48: 2.412 | L48: =(K48-F48)/F48 -> 0.72285714
E49: Swine ('000 head)13 | F49: 8.3 | G49: 8.4 | H49: 3.9 | I49: 0.052 | J49: 2.457 | K49: 0.182 | L49: =(K49-F49)/F49 -> -0.97807229
E50: Horses ('000 head)13 | F50: 50.9 | G50: 52 | H50: 52 | I50: 51.946 | J50: 51.946 | K50: 51.946 | L50: =(K50-F50)/F50 -> 0.020550098
D51: Manure Management (all enteric fermentation metrics + chickens) | E51: Poultry, Layers ('000 head)13 | F51: 1003 | G51: 64.2 | H51: 202 | I51: 295.183 | J51: 112.216 | K51: 111.065 | L51: =(K51-F51)/F51 -> -0.8892672
E52: Poultry, Broilers ('000 head)13 | F52: 27.4 | G52: 23.4 | H52: 57 | I52: 78.874 | J52: 165.24 | K52: 165.151 | L52: =(K52-F52)/F52 -> 5.0274088
E53: Poultry, Turkeys ('000 head)13 | F53: 584.6 | G53: 556.4 | H53: 623.8 | I53: 659.07 | J53: 588.369 | K53: 610.559 | L53: =(K53-F53)/F53 -> 0.044404721
D54: Ag Soils (all enteric fermentation and manure management metrics + crop production and fertilizer use) | E54: Crop Production-Corn ('000 bushels)13 | F54: 2187 | G54: 2498 | H54: 2292 | I54: 3839.7959 | J54: 3383.8499 | K54: 3347 | L54: =(K54-F54)/F54 -> 0.53040695
E55: Crop Production-Wheat ('000 bushels)13 | F55: 2666 | G55: 2940 | H55: 2700 | I55: 2875.846 | J55: 2768.3952 | K55: 2974.1 | L55: =(K55-F55)/F55 -> 0.11556639
E56: Crop Production-Soybeans ('000 bushels)13 | F56: 1041 | G56: 2048 | H56: 2157 | I56: 2488.4097 | J56: 3013.9518 | K56: 2860 | L56: =(K56-F56)/F56 -> 1.7473583
E57: Fertilier Applied, Synthetic (kg N)13 | F57: 10051571 | G57: 10662682 | H57: 10434486 | I57: 10390883 | J57: 10154304 | K57: 9837355 | L57: =(K57-F57)/F57 -> -0.021311693
E58: Fertilier Applied, Manure (kg N)13 | F58: 3852727 | G58: 3425585 | H58: 3171851 | I58: 2691977 | J58: 2806128.3 | K58: 2073269 | L58: =(K58-F58)/F58 -> -0.46186974
E59: Fertilier Applied, Biosolids (kg N)13 | F59: 393925 | G59: 207177 | H59: 154299 | I59: 154785.71 | J59: 148654.63 | K59: 158421 | L59: =(K59-F59)/F59 -> -0.59783969
B60: Forests and Trees Outside Forests | C60: Average Annual Emissions | D60: Forests Converted to Non-Forests | E60: Average Annual Hectares Lost14 | F60: 1946.5 | G60: 1221.6 | H60: 1221.6 | I60: 1023 | J60: 1023 | K60: 1023 | L60: =(K60-F60)/F60 -> -0.4744413
D61: Disturbances in Forests Remaining Forests | E61: Average Annual Hectares Disturbed14 | F61: 396.88 | G61: 275 | H61: 275 | I61: 422 | J61: 422 | K61: 422 | L61: =(K61-F61)/F61 -> 0.063293691
D62: Loss of Trees Outside Forests | E62: Average Annual Hectares Lost14 | F62: 1866.4767 | G62: 789 | H62: 789 | I62: 789 | J62: 789 | K62: 789 | L62: =(K62-F62)/F62 -> -0.5772784
C63: Average Annual Removals | D63: Forests Remaining Forests | E63: Hectares Maintained14 | F63: 351546 | G63: 354269 | H63: 354269 | I63: 357826 | J63: 357826 | K63: 357826 | L63: =(K63-F63)/F63 -> 0.01786395
D64: Non-Forests Converted to Forests | E64: Average Annual Hectares Gained14 | F64: 540.7 | G64: 864.8 | H64: 864.8 | I64: 280.8 | J64: 280.8 | K64: 280.8 | L64: =(K64-F64)/F64 -> -0.4806732
D65: Trees Outside Forests | E65: Hectares Maintained and Gained14 | F65: 118333.82 | G65: 115315 | H65: 115315 | I65: 115315 | J65: 115315 | K65: 115315 | L65: =(K65-F65)/F65 -> -0.025511028
B66: DEMOGRAPHICS
B67: MWCOG Cooperative Forecasts | C67: Population is leveraged in the regional models and calculations for transportation, wastewater, and HFCs. Population is also used to calculate per capita emissions. | E67: Population15 | F67: 4758400 | G67: 5236400 | H67: 5342004 | I67: 5570233.6 | J67: 5650064 | K67: 5865015 | L67: =(K67-F67)/F67 -> 0.23256031
E68: Housing Units15 | F68: 1799600 | G68: - | H68: 2008865 | I68: 2084540.2 | J68: 2133089 | K68: 2203719 | L68: =(K68-F68)/F68 -> 0.22456046
E69: Employment15 | F69: 2984200 | G69: - | H69: 3221993 | I69: 3280674.4 | J69: 3360566 | K69: 3281851 | L69: =(K69-F69)/F69 -> 0.099742309
B71: Column Header | C71: Description
B72: Emissions Type | C72: This column lists the main tabs in the online ClearPath tool's GHG inventory entry pages.
B73: Emissions Activity/Source | C73: This column lists the ClearPath calculators used for the development of these inventories. These calculators are found under each of the main tabs in ClearPath.
B74: Inventory Records | C74: This column lists COG's inventory record entries according to which calculator was used to create that entry.
B75: Emissions | C75: Metric Tons of CO2 Equivalent (MTCO2e) and Million Metric Tons of CO2 Equivalent (MMTCO2e) by emissions activity or source and percent change between 2005 and the latest inventory year.
B77: Sources and Notes:
B78: MWCOG conducts community inventories for the region and all its member local jurisdictions. In order to have comparable inventories that are consistent from the top down and bottom up, the same data sources and methodologies are used across all the inventories. Data comes from sources that are regularly available over the years to compare inventories across past, present, and any future inventories. MWCOG inventories have been verified as compliant with national and global protocols for greenhouse gas (GHG) accounting. MWCOG follows the U.S. Communities Protocol (USCP) as the methodology for these inventories. The data presented above includes the leading local data inputs called for by the USCP. The local data inputs and emission factors influence the resulting GHG emissions (see Output tab). Inventory years 2005, 2020, 2023, and all years of on-road have been updated to Intergovernmental Panel on Climate Change (IPCC) Fifth Asessment Report (AR5) global warming potential (GWP) values, while the rest of the years apply IPCC AR4 GWP values. The difference between AR4 and AR5 is less than 0.5% of total GHG emissions.
B80: 1 MWCOG. (2024). Metropolitan Washington Energy Utility Data Survey Analysis for 2005, 2012, 2015, 2018, 2020, 2023
B82: 2024 Metropolitan Washington Local Government Data Center Information Request
B84: Dominion Energy. (2023). 15-Year Data Center Plan. August 2023 (6+6) Forecast Presentation
B85: Slide 3. Under Loudoun County bullet point.
B86: https://www.pjm.com/-/media/DotCom/committees-groups/subcommittees/las/2023/20231018/20231018-item-03a---dominion-large-load-request.pdf
B87: Website last accessed: June 2025
B89: Dominion Energy. (2023). Virginia Electric and Power Company’s Report of Its 2023 Integrated Resource Plan
B90: 2023 Dominion Data Center Electricity Consumptio is derived from Figure 4.1.5.4 – DOM LSE Data Center Energy Forecast (GWh) on page 58.
B91: https://cdn-dominionenergy-prd-001.azureedge.net/-/media/pdfs/global/company/2023-va-integrated-resource-plan.pdf?rev=ef1a3f88f0704539968b6d9d86444bde
B92: Website last accessed: June 2025
... B431: Legend:
C432: Table organization only. Do not alter, enter or calculate data in gray-shaded cells.
C433: Light blue are data entry cells.
C434: Shades of green are cells that contain calculations. Moderate green colored cells contain subtotals, darker green cells contain grand totals.
C435: Yellow cells are not final and need to be completed or checked.

Sheet Outputs
B1: COMMUNITY GREENHOUSE GAS INVENTORY
B2: DETAILED EMISSIONS RESULTS TABLE - METROPOLITAN WASHINGTON TOTALS - DRAFT
B3: Emissions Type (Main ClearPath Tab) | C3: Emissions Activity or Source (ClearPath Calculator) | D3: Inventory Records (Entered in ClearPath) | E3: Emissions (MTCO2e) | L3: Emissions (MMTCO2e)
E4: 2005 | F4: 2012 | G4: 2015 | H4: 2018 | I4: 2020 | J4: 2023 | K4: % Change, 2005-2023 | L4: 2005 | M4: 2012 | N4: 2015 | O4: 2018 | P4: 2020 | Q4: 2023 | R4: % Change, 2005-2023
B5: BUILT ENVIRONMENT
B6: Residential Energy | C6: Emissions from Grid Electricity | D6: Residential Electricity | E6: 10874056 | F6: 8538628 | G6: 8060390 | H6: 7713339 | I6: 6447711.1 | J6: 5717075 | K6: =(J6-E6)/E6 -> -0.47424632 | L6: =E6/1000000 -> 10.874056 | M6: =F6/1000000 -> 8.538628 | N6: =G6/1000000 -> 8.06039 | O6: =H6/1000000 -> 7.713339 | P6: =I6/1000000 -> 6.4477111 | Q6: =J6/1000000 -> 5.717075 | R6: =(Q6-L6)/L6 -> -0.47424632
C7: Emissions from Stationary Fuel | D7: Residential Natural Gas | E7: 4898716 | F7: 3960584.2 | G7: 5014182.2 | H7: 5417575 | I7: 4535749 | J7: 4451379 | K7: =(J7-E7)/E7 -> -0.091317194 | L7: =E7/1000000 -> 4.898716 | M7: =F7/1000000 -> 3.9605842 | N7: =G7/1000000 -> 5.0141822 | O7: =H7/1000000 -> 5.417575 | P7: =I7/1000000 -> 4.535749 | Q7: =J7/1000000 -> 4.451379 | R7: =(Q7-L7)/L7 -> -0.091317194
D8: Residential Fuel Oil | E8: 562300.25 | F8: 307166.09 | G8: 251978.26 | H8: 211515.31 | I8: 207272 | J8: 183903.19 | K8: =(J8-E8)/E8 -> -0.67294486 | L8: =E8/1000000 -> 0.56230025 | M8: =F8/1000000 -> 0.30716609 | N8: =G8/1000000 -> 0.25197825 | O8: =H8/1000000 -> 0.21151531 | P8: =I8/1000000 -> 0.207272 | Q8: =J8/1000000 -> 0.18390319 | R8: =(Q8-L8)/L8 -> -0.67294486
D9: Residential LPG | E9: 64932.93 | F9: 58568.81 | G9: 61943.11 | H9: 68960.316 | I9: 47297 | J9: 56565.478 | K9: =(J9-E9)/E9 -> -0.128863 | L9: =E9/1000000 -> 0.06493293 | M9: =F9/1000000 -> 0.05856881 | N9: =G9/1000000 -> 0.06194311 | O9: =H9/1000000 -> 0.068960316 | P9: =I9/1000000 -> 0.047297 | Q9: =J9/1000000 -> 0.056565478 | R9: =(Q9-L9)/L9 -> -0.128863
D10: Residential Stationary Fuel Subtotal | E10: =SUM(E7:E9) -> 5525949.2 | F10: =SUM(F7:F9) -> 4326319.1 | G10: =SUM(G7:G9) -> 5328103.6 | H10: =SUM(H7:H9) -> 5698050.6 | I10: =SUM(I7:I9) -> 4790318 | J10: =SUM(J7:J9) -> 4691847.7 | K10: =(J10-E10)/E10 -> -0.15094267 | L10: =SUM(L7:L9) -> 5.5259492 | M10: =SUM(M7:M9) -> 4.3263191 | N10: =SUM(N7:N9) -> 5.3281036 | O10: =SUM(O7:O9) -> 5.6980506 | P10: =SUM(P7:P9) -> 4.790318 | Q10: =SUM(Q7:Q9) -> 4.6918477 | R10: =(Q10-L10)/L10 -> -0.15094267 | S10: % Change
C11: Residential Energy Emissions Subtotal | E11: =SUM(E6:E9) -> 16400005 | F11: =SUM(F6:F9) -> 12864947 | G11: =SUM(G6:G9) -> 13388494 | H11: =SUM(H6:H9) -> 13411390 | I11: =SUM(I6:I9) -> 11238029 | J11: =SUM(J6:J9) -> 10408923 | K11: =(J11-E11)/E11 -> -0.36530979 | L11: =SUM(L6:L9) -> 16.400005 | M11: =SUM(M6:M9) -> 12.864947 | N11: =SUM(N6:N9) -> 13.388494 | O11: =SUM(O6:O9) -> 13.41139 | P11: =SUM(P6:P9) -> 11.238029 | Q11: =SUM(Q6:Q9) -> 10.408923 | R11: =(Q11-L11)/L11 -> -0.36530979 | S11: 2020-2023 | T11: Data Center % of | U11: 2020 | V11: 2023
B12: Commercial Energy | C12: Emissions from Grid Electricity | D12: Commercial Electricity without Data Centers | E12: 0 | F12: 0 | G12: 0 | H12: 0 | I12: 10990601 | J12: 10460087 | K12: =(J12-E12)/E12 -> #DIV/0! | L12: =E12/1000000 -> 0 | M12: =F12/1000000 -> 0 | N12: =G12/1000000 -> 0 | O12: =H12/1000000 -> 0 | P12: =I12/1000000 -> 10.990601 | Q12: =J12/1000000 -> 10.460087 | R12: =(Q12-L12)/L12 -> #DIV/0! | S12: =(Q12-P12)/P12 -> -0.048269759 | T12: COM Electricity | U12: =I13/(I13+I12) -> 0.1640393 | V12: =J13/(J13+J12) -> 0.34490936
D13: Data Center Electricity | E13: 0 | F13: 0 | G13: 0 | H13: 0 | I13: 2156669 | J13: 5507302.1 | K13: =(J13-E13)/E13 -> #DIV/0! | L13: =E13/1000000 -> 0 | M13: =F13/1000000 -> 0 | N13: =G13/1000000 -> 0 | O13: =H13/1000000 -> 0 | P13: =I13/1000000 -> 2.156669 | Q13: =J13/1000000 -> 5.5073021 | R13: =(Q13-L13)/L13 -> #DIV/0! | S13: =(Q13-P13)/P13 -> 1.5536149 | T13: Total Electricity | U13: =I13/(I13+I12+I6) -> 0.11006232 | V13: =J13/(J13+J12+J6) -> 0.25397455
D14: Commercial Electricity Subtotal | E14: 20864518 | F14: 15986858 | G14: 14583990 | H14: 14922079 | I14: =I12+I13 -> 13147270 | J14: =J12+J13 -> 15967389 | K14: =(J14-E14)/E14 -> -0.23471085 | L14: =E14/1000000 -> 20.864518 | M14: =F14/1000000 -> 15.986858 | N14: =G14/1000000 -> 14.58399 | O14: =H14/1000000 -> 14.922079 | P14: =I14/1000000 -> 13.14727 | Q14: =J14/1000000 -> 15.967389 | R14: =(Q14-L14)/L14 -> -0.23471085
C15: Emissions from Stationary Fuel Combustion | D15: Commercial Natural Gas | E15: 3573465.2 | F15: 3261723 | G15: 3686785 | H15: 3941885 | I15: 3423460 | J15: 3532331 | K15: =(J15-E15)/E15 -> -0.011511012 | L15: =E15/1000000 -> 3.5734652 | M15: =F15/1000000 -> 3.261723 | N15: =G15/1000000 -> 3.686785 | O15: =H15/1000000 -> 3.941885 | P15: =I15/1000000 -> 3.42346 | Q15: =J15/1000000 -> 3.532331 | R15: =(Q15-L15)/L15 -> -0.011511012
D16: Commercial Fuel Oil | E16: 33076.94 | F16: 51138.67 | G16: 52534.56 | H16: 54842.133 | I16: 58532 | J16: 42523.918 | K16: =(J16-E16)/E16 -> 0.28560617 | L16: =E16/1000000 -> 0.03307694 | M16: =F16/1000000 -> 0.05113867 | N16: =G16/1000000 -> 0.05253456 | O16: =H16/1000000 -> 0.054842133 | P16: =I16/1000000 -> 0.058532 | Q16: =J16/1000000 -> 0.042523918 | R16: =(Q16-L16)/L16 -> 0.28560617
D17: Commercial LPG | E17: 26949.244 | F17: 24310.848 | G17: 24974.068 | H17: 26071.349 | I17: 28198 | J17: 44861.338 | K17: =(J17-E17)/E17 -> 0.66466035 | L17: =E17/1000000 -> 0.026949244 | M17: =F17/1000000 -> 0.024310848 | N17: =G17/1000000 -> 0.024974068 | O17: =H17/1000000 -> 0.026071349 | P17: =I17/1000000 -> 0.028198 | Q17: =J17/1000000 -> 0.044861338 | R17: =(Q17-L17)/L17 -> 0.66466035
D18: Commercial Stationary Fuel Subtotal | E18: =SUM(E15:E17) -> 3633491.4 | F18: =SUM(F15:F17) -> 3337172.5 | G18: =SUM(G15:G17) -> 3764293.6 | H18: =SUM(H15:H17) -> 4022798.5 | I18: =SUM(I15:I17) -> 3510190 | J18: =SUM(J15:J17) -> 3619716.3 | K18: =(J18-E18)/E18 -> -0.0037911547 | L18: =SUM(L15:L17) -> 3.6334914 | M18: =SUM(M15:M17) -> 3.3371725 | N18: =SUM(N15:N17) -> 3.7642936 | O18: =SUM(O15:O17) -> 4.0227985 | P18: =SUM(P15:P17) -> 3.51019 | Q18: =SUM(Q15:Q17) -> 3.6197163 | R18: =(Q18-L18)/L18 -> -0.0037911547
C19: Commercial Energy Emissions Subtotal | E19: =E14+E18 -> 24498009 | F19: =F14+F18 -> 19324031 | G19: =G14+G18 -> 18348284 | H19: =H14+H18 -> 18944877 | I19: =I14+I18 -> 16657460 | J19: =J14+J18 -> 19587106 | K19: =(J19-E19)/E19 -> -0.20046134 | L19: =L14+L18 -> 24.498009 | M19: =M14+M18 -> 19.324031 | N19: =N14+N18 -> 18.348284 | O19: =O14+O18 -> 18.944877 | P19: =P14+P18 -> 16.65746 | Q19: =Q14+Q18 -> 19.587106 | R19: =(Q19-L19)/L19 -> -0.20046134
B20: RESIDENTIAL AND COMMERCIAL ENERGY GROSS EMISSIONS SUBTOTAL | E20: =E11+E19 -> 40898015 | F20: =F11+F19 -> 32188978 | G20: =G11+G19 -> 31736777 | H20: =H11+H19 -> 32356267 | I20: =I11+I19 -> 27895489 | J20: =J11+J19 -> 29996028 | K20: =(J20-E20)/E20 -> -0.26656517 | L20: =L11+L19 -> 40.898015 | M20: =M11+M19 -> 32.188978 | N20: =N11+N19 -> 31.736777 | O20: =O11+O19 -> 32.356267 | P20: =P11+P19 -> 27.895489 | Q20: =Q11+Q19 -> 29.996028 | R20: =(Q20-L20)/L20 -> -0.26656517
B21: Process and Fugitive Emissions | C21: Fugitive Emissions from Natural Gas Distribution | D21: Natural Gas Fugitive | E21: 276363.03 | F21: 210406 | G21: 253484 | H21: 272668 | I21: 259629.86 | J21: 260430.75 | K21: =(J21-E21)/E21 -> -0.057649824 | L21: =E21/1000000 -> 0.27636303 | M21: =F21/1000000 -> 0.210406 | N21: =G21/1000000 -> 0.253484 | O21: =H21/1000000 -> 0.272668 | P21: =I21/1000000 -> 0.25962986 | Q21: =J21/1000000 -> 0.26043075 | R21: =(Q21-L21)/L21 -> -0.057649824
C22: Other Process and Fugitive | D22: Hydrofluorocarbon (HFCs) | E22: 1694607.2 | F22: 2452720.1 | G22: 2798300.9 | H22: 2894631.2 | I22: 3005230.7 | J22: 3334926 | K22: =(J22-E22)/E22 -> 0.96796394 | L22: =E22/1000000 -> 1.6946072 | M22: =F22/1000000 -> 2.4527201 | N22: =G22/1000000 -> 2.7983009 | O22: =H22/1000000 -> 2.8946312 | P22: =I22/1000000 -> 3.0052307 | Q22: =J22/1000000 -> 3.334926 | R22: =(Q22-L22)/L22 -> 0.96796394
C23: Process and Fugitive Emissions Subtotal | E23: =SUM(E21:E22) -> 1970970.3 | F23: =SUM(F21:F22) -> 2663126.1 | G23: =SUM(G21:G22) -> 3051784.9 | H23: =SUM(H21:H22) -> 3167299.2 | I23: =SUM(I21:I22) -> 3264860.6 | J23: =SUM(J21:J22) -> 3595356.7 | K23: =(J23-E23)/E23 -> 0.82415572 | L23: =SUM(L21:L22) -> 1.9709703 | M23: =SUM(M21:M22) -> 2.6631261 | N23: =SUM(N21:N22) -> 3.0517849 | O23: =SUM(O21:O22) -> 3.1672992 | P23: =SUM(P21:P22) -> 3.2648606 | Q23: =SUM(Q21:Q22) -> 3.5953567 | R23: =(Q23-L23)/L23 -> 0.82415572
B24: BUILT ENVIRONMENT GROSS EMISSIONS SUBTOTAL | E24: =E20+E23 -> 42868985 | F24: =F20+F23 -> 34852104 | G24: =G20+G23 -> 34788562 | H24: =H20+H23 -> 35523566 | I24: =I20+I23 -> 31160350 | J24: =J20+J23 -> 33591385 | K24: =(J24-E24)/E24 -> -0.21641753 | L24: =L20+L23 -> 42.868985 | M24: =M20+M23 -> 34.852104 | N24: =N20+N23 -> 34.788562 | O24: =O20+O23 -> 35.523566 | P24: =P20+P23 -> 31.16035 | Q24: =Q20+Q23 -> 33.591385 | R24: =(Q24-L24)/L24 -> -0.21641753
B25: TRANSPORTATION AND MOBILE
B26: Transportation and Mobile | C26: On Road Transportation | D26: On Road Mobile | E26: 23423116 | F26: 24153367 | G26: 23860678 | H26: 23219464 | I26: 19134196 | J26: 20570060 | K26: =(J26-E26)/E26 -> -0.12180512 | L26: =E26/1000000 -> 23.423116 | M26: =F26/1000000 -> 24.153367 | N26: =G26/1000000 -> 23.860678 | O26: =H26/1000000 -> 23.219464 | P26: =I26/1000000 -> 19.134196 | Q26: =J26/1000000 -> 20.57006 | R26: =(Q26-L26)/L26 -> -0.12180512
C27: Emissions from Off Road Vehicles | D27: Off Road Mobile | E27: 2383016.2 | F27: 1850943.7 | G27: 1730426.7 | H27: 1805776.1 | I27: 1867246.5 | J27: 1915086.2 | K27: =(J27-E27)/E27 -> -0.19636037 | L27: =E27/1000000 -> 2.3830162 | M27: =F27/1000000 -> 1.8509437 | N27: =G27/1000000 -> 1.7304267 | O27: =H27/1000000 -> 1.8057761 | P27: =I27/1000000 -> 1.8672465 | Q27: =J27/1000000 -> 1.9150862 | R27: =(Q27-L27)/L27 -> -0.19636037
C28: Aviation Travel | D28: Passenger Air Travel | E28: 3210981.1 | F28: 2079662.1 | G28: 1899838.6 | H28: 2002397.7 | I28: 1549238.3 | J28: 2726905.6 | K28: =(J28-E28)/E28 -> -0.15075624 | L28: =E28/1000000 -> 3.2109811 | M28: =F28/1000000 -> 2.0796621 | N28: =G28/1000000 -> 1.8998386 | O28: =H28/1000000 -> 2.0023977 | P28: =I28/1000000 -> 1.5492383 | Q28: =J28/1000000 -> 2.7269056 | R28: =(Q28-L28)/L28 -> -0.15075624
C29: Rail Transportation | D29: Commuter Rail | E29: 0 | F29: 31455 | G29: 34275 | H29: 37773 | I29: 33600 | J29: 35760 | K29: =(J29-E29)/E29 -> #DIV/0! | L29: =E29/1000000 -> 0 | M29: =F29/1000000 -> 0.031455 | N29: =G29/1000000 -> 0.034275 | O29: =H29/1000000 -> 0.037773 | P29: =I29/1000000 -> 0.0336 | Q29: =J29/1000000 -> 0.03576 | R29: =(Q29-L29)/L29 -> #DIV/0!
B30: TRANSPORTATION AND MOBILE GROSS EMISSIONS SUBTOTAL | E30: =SUM(E26:E29) -> 29017113 | F30: =SUM(F26:F29) -> 28115427 | G30: =SUM(G26:G29) -> 27525219 | H30: =SUM(H26:H29) -> 27065411 | I30: =SUM(I26:I29) -> 22584280 | J30: =SUM(J26:J29) -> 25247812 | K30: =(J30-E30)/E30 -> -0.12989923 | L30: =SUM(L26:L29) -> 29.017113 | M30: =SUM(M26:M29) -> 28.115427 | N30: =SUM(N26:N29) -> 27.525219 | O30: =SUM(O26:O29) -> 27.065411 | P30: =SUM(P26:P29) -> 22.58428 | Q30: =SUM(Q26:Q29) -> 25.247812 | R30: =(Q30-L30)/L30 -> -0.12989923
B31: WASTE
B32: Solid Waste | C32: Waste Generation | D32: Landfill Waste Generation | E32: 1261626.9 | F32: 1134336 | G32: 1158534.2 | H32: 1090070.4 | I32: 1225080.7 | J32: 1113969.9 | K32: =(J32-E32)/E32 -> -0.11703698 | L32: =E32/1000000 -> 1.2616269 | M32: =F32/1000000 -> 1.134336 | N32: =G32/1000000 -> 1.1585342 | O32: =H32/1000000 -> 1.0900704 | P32: =I32/1000000 -> 1.2250807 | Q32: =J32/1000000 -> 1.1139699 | R32: =(Q32-L32)/L32 -> -0.11703698
C33: Combustion of Solid Waste Generated by the Community | D33: Combustion of Solid Waste | E33: 689548.91 | F33: 592245.7 | G33: 579288.6 | H33: 644207.4 | I33: 603788 | J33: 586928.1 | K33: =(J33-E33)/E33 -> -0.14882311 | L33: =E33/1000000 -> 0.68954891 | M33: =F33/1000000 -> 0.5922457 | N33: =G33/1000000 -> 0.5792886 | O33: =H33/1000000 -> 0.6442074 | P33: =I33/1000000 -> 0.603788 | Q33: =J33/1000000 -> 0.5869281 | R33: =(Q33-L33)/L33 -> -0.14882311
C34: Solid Waste Subtotal | E34: =SUM(E31:E33) -> 1951175.8 | F34: =SUM(F31:F33) -> 1726581.7 | G34: =SUM(G31:G33) -> 1737822.8 | H34: =SUM(H31:H33) -> 1734277.8 | I34: =SUM(I31:I33) -> 1828868.7 | J34: =SUM(J31:J33) -> 1700898 | K34: =(J34-E34)/E34 -> -0.12827025 | L34: =SUM(L31:L33) -> 1.9511758 | M34: =SUM(M31:M33) -> 1.7265817 | N34: =SUM(N31:N33) -> 1.7378228 | O34: =SUM(O31:O33) -> 1.7342778 | P34: =SUM(P31:P33) -> 1.8288687 | Q34: =SUM(Q31:Q33) -> 1.700898 | R34: =(Q34-L34)/L34 -> -0.12827025
B35: Water and Wastewater | C35: Fugitive Emissions from Septic Systems | D35: Septic System | E35: 39635.46 | F35: 37148.44 | G35: 37639.34 | H35: 37364.21 | I35: 42973 | J35: 45916.04 | K35: =(J35-E35)/E35 -> 0.15845861 | L35: =E35/1000000 -> 0.03963546 | M35: =F35/1000000 -> 0.03714844 | N35: =G35/1000000 -> 0.03763934 | O35: =H35/1000000 -> 0.03736421 | P35: =I35/1000000 -> 0.042973 | Q35: =J35/1000000 -> 0.04591604 | R35: =(Q35-L35)/L35 -> 0.15845861
C36: Nitrification/Denitrification Process N2O Emissions from Wastewater Treatment | D36: Sewer System | E36: 10277.066 | F36: 12761.032 | G36: 13024.517 | H36: 13626.231 | I36: 12281 | J36: 12723.252 | K36: =(J36-E36)/E36 -> 0.23802377 | L36: =E36/1000000 -> 0.010277066 | M36: =F36/1000000 -> 0.012761032 | N36: =G36/1000000 -> 0.013024517 | O36: =H36/1000000 -> 0.013626231 | P36: =I36/1000000 -> 0.012281 | Q36: =J36/1000000 -> 0.012723252 | R36: =(Q36-L36)/L36 -> 0.23802377
C37: Process N2O from Effluent Discharge to Rivers and Estuaries | D37: N2O Effluent Discharge | E37: 10403.96 | F37: 7145.858 | G37: 5891.089 | H37: 6308.943 | I37: 5177 | J37: 5270.1974 | K37: =(J37-E37)/E37 -> -0.49344313 | L37: =E37/1000000 -> 0.01040396 | M37: =F37/1000000 -> 0.007145858 | N37: =G37/1000000 -> 0.005891089 | O37: =H37/1000000 -> 0.006308943 | P37: =I37/1000000 -> 0.005177 | Q37: =J37/1000000 -> 0.0052701974 | R37: =(Q37-L37)/L37 -> -0.49344313
C38: Water and Wastewater Subtotal | E38: =SUM(E35:E37) -> 60316.486 | F38: =SUM(F35:F37) -> 57055.33 | G38: =SUM(G35:G37) -> 56554.946 | H38: =SUM(H35:H37) -> 57299.384 | I38: =SUM(I35:I37) -> 60431 | J38: =SUM(J35:J37) -> 63909.489 | K38: =(J38-E38)/E38 -> 0.059569176 | L38: =SUM(L35:L37) -> 0.060316486 | M38: =SUM(M35:M37) -> 0.05705533 | N38: =SUM(N35:N37) -> 0.056554946 | O38: =SUM(O35:O37) -> 0.057299384 | P38: =SUM(P35:P37) -> 0.060431 | Q38: =SUM(Q35:Q37) -> 0.063909489 | R38: =(Q38-L38)/L38 -> 0.059569176
B39: WASTE GROSS EMISSIONS SUBTOTAL | E39: =E34+E38 -> 2011492.3 | F39: =F34+F38 -> 1783637 | G39: =G34+G38 -> 1794377.7 | H39: =H34+H38 -> 1791577.2 | I39: =I34+I38 -> 1889299.7 | J39: =J34+J38 -> 1764807.5 | K39: =(J39-E39)/E39 -> -0.12263771 | L39: =L34+L38 -> 2.0114923 | M39: =M34+M38 -> 1.783637 | N39: =N34+N38 -> 1.7943777 | O39: =O34+O38 -> 1.7915772 | P39: =P34+P38 -> 1.8892997 | Q39: =Q34+Q38 -> 1.7648075 | R39: =(Q39-L39)/L39 -> -0.12263771
B40: LAND USE
B41: Agriculture | C41: Emissions from Agricultural Activities | D41: Enteric Fermentation | E41: 280083.53 | F41: 242568.09 | G41: 206902.01 | H41: 177781.45 | I41: 222377.23 | J41: 191483.43 | K41: =(J41-E41)/E41 -> -0.31633456 | L41: =E41/1000000 -> 0.28008353 | M41: =F41/1000000 -> 0.24256809 | N41: =G41/1000000 -> 0.20690201 | O41: =H41/1000000 -> 0.17778145 | P41: =I41/1000000 -> 0.22237723 | Q41: =J41/1000000 -> 0.19148343 | R41: =(Q41-L41)/L41 -> -0.31633456
D42: Manure Management | E42: 104803.27 | F42: 72004.862 | G42: 60361.79 | H42: 49706.182 | I42: 101144.92 | J42: 77091.246 | K42: =(J42-E42)/E42 -> -0.26441943 | L42: =E42/1000000 -> 0.10480327 | M42: =F42/1000000 -> 0.072004862 | N42: =G42/1000000 -> 0.06036179 | O42: =H42/1000000 -> 0.049706182 | P42: =I42/1000000 -> 0.10114492 | Q42: =J42/1000000 -> 0.077091246 | R42: =(Q42-L42)/L42 -> -0.26441943
D43: Ag Soils | E43: 168783.93 | F43: 221376.32 | G43: 207613.5 | H43: 208892.64 | I43: 190384.78 | J43: 144869.66 | K43: =(J43-E43)/E43 -> -0.14168573 | L43: =E43/1000000 -> 0.16878393 | M43: =F43/1000000 -> 0.22137632 | N43: =G43/1000000 -> 0.2076135 | O43: =H43/1000000 -> 0.20889264 | P43: =I43/1000000 -> 0.19038478 | Q43: =J43/1000000 -> 0.14486966 | R43: =(Q43-L43)/L43 -> -0.14168573
C44: Agriculture Emissions Subtotal | E44: =SUM(E41:E43) -> 553670.73 | F44: =SUM(F41:F43) -> 535949.27 | G44: =SUM(G41:G43) -> 474877.3 | H44: =SUM(H41:H43) -> 436380.26 | I44: =SUM(I41:I43) -> 513906.93 | J44: =SUM(J41:J43) -> 413444.33 | K44: =(J44-E44)/E44 -> -0.25326676 | L44: =SUM(L41:L43) -> 0.55367073 | M44: =SUM(M41:M43) -> 0.53594927 | N44: =SUM(N41:N43) -> 0.4748773 | O44: =SUM(O41:O43) -> 0.43638026 | P44: =SUM(P41:P43) -> 0.51390693 | Q44: =SUM(Q41:Q43) -> 0.41344433 | R44: =(Q44-L44)/L44 -> -0.25326676
B45: Forests and Trees Outside Forests | C45: Average Annual Emissions | D45: Forests Converted to Non-Forests | E45: 389517 | F45: 235195 | G45: 235195 | H45: 159903 | I45: 159903 | J45: 159903 | K45: =(J45-E45)/E45 -> -0.5894839 | L45: =E45/1000000 -> 0.389517 | M45: =F45/1000000 -> 0.235195 | N45: =G45/1000000 -> 0.235195 | O45: =H45/1000000 -> 0.159903 | P45: =I45/1000000 -> 0.159903 | Q45: =J45/1000000 -> 0.159903 | R45: =(Q45-L45)/L45 -> -0.5894839
D46: Disturbances in Forests Remaining Forests | E46: 102683 | F46: 69652 | G46: 69652 | H46: 96462 | I46: 96462 | J46: 96462 | K46: =(J46-E46)/E46 -> -0.060584517 | L46: =E46/1000000 -> 0.102683 | M46: =F46/1000000 -> 0.069652 | N46: =G46/1000000 -> 0.069652 | O46: =H46/1000000 -> 0.096462 | P46: =I46/1000000 -> 0.096462 | Q46: =J46/1000000 -> 0.096462 | R46: =(Q46-L46)/L46 -> -0.060584517
D47: Loss of Trees Outside Forests | E47: 704906.02 | F47: 298415 | G47: 298415 | H47: 298415 | I47: 298415 | J47: 298415 | K47: =(J47-E47)/E47 -> -0.57665988 | L47: =E47/1000000 -> 0.70490602 | M47: =F47/1000000 -> 0.298415 | N47: =G47/1000000 -> 0.298415 | O47: =H47/1000000 -> 0.298415 | P47: =I47/1000000 -> 0.298415 | Q47: =J47/1000000 -> 0.298415 | R47: =(Q47-L47)/L47 -> -0.57665988
D48: Emissions Subtotal | E48: =SUM(E45:E47) -> 1197106 | F48: =SUM(F45:F47) -> 603262 | G48: =SUM(G45:G47) -> 603262 | H48: =SUM(H45:H47) -> 554780 | I48: =SUM(I45:I47) -> 554780 | J48: =SUM(J45:J47) -> 554780 | K48: =(J48-E48)/E48 -> -0.53656569 | L48: =SUM(L45:L47) -> 1.197106 | M48: =SUM(M45:M47) -> 0.603262 | N48: =SUM(N45:N47) -> 0.603262 | O48: =SUM(O45:O47) -> 0.55478 | P48: =SUM(P45:P47) -> 0.55478 | Q48: =SUM(Q45:Q47) -> 0.55478 | R48: =(Q48-L48)/L48 -> -0.53656569
C49: Average Annual Removals (Sequestration) | D49: Forests Remaining Forests | E49: -2357218 | F49: -2373709 | G49: -2373709 | H49: -2399039 | I49: -2399039 | J49: -2399039 | K49: =(J49-E49)/E49 -> 0.017741677 | L49: =E49/1000000 -> -2.357218 | M49: =F49/1000000 -> -2.373709 | N49: =G49/1000000 -> -2.373709 | O49: =H49/1000000 -> -2.399039 | P49: =I49/1000000 -> -2.399039 | Q49: =J49/1000000 -> -2.399039 | R49: =(Q49-L49)/L49 -> 0.017741677
D50: Non-Forests Converted to Forests | E50: -42592 | F50: -34354 | G50: -34354 | H50: -12258 | I50: -12258 | J50: -12258 | K50: =(J50-E50)/E50 -> -0.71219947 | L50: =E50/1000000 -> -0.042592 | M50: =F50/1000000 -> -0.034354 | N50: =G50/1000000 -> -0.034354 | O50: =H50/1000000 -> -0.012258 | P50: =I50/1000000 -> -0.012258 | Q50: =J50/1000000 -> -0.012258 | R50: =(Q50-L50)/L50 -> -0.71219947
D51: Trees Outside Forests | E51: -1473001.5 | F51: -1434854 | G51: -1434854 | H51: -1434854 | I51: -1434854 | J51: -1434854 | K51: =(J51-E51)/E51 -> -0.02589778 | L51: =E51/1000000 -> -1.4730015 | M51: =F51/1000000 -> -1.434854 | N51: =G51/1000000 -> -1.434854 | O51: =H51/1000000 -> -1.434854 | P51: =I51/1000000 -> -1.434854 | Q51: =J51/1000000 -> -1.434854 | R51: =(Q51-L51)/L51 -> -0.02589778
D52: Removals Subtotal | E52: =SUM(E49:E51) -> -3872811.5 | F52: =SUM(F49:F51) -> -3842917 | G52: =SUM(G49:G51) -> -3842917 | H52: =SUM(H49:H51) -> -3846151 | I52: =SUM(I49:I51) -> -3846151 | J52: =SUM(J49:J51) -> -3846151 | K52: =(J52-E52)/E52 -> -0.0068840088 | L52: =SUM(L49:L51) -> -3.8728115 | M52: =SUM(M49:M51) -> -3.842917 | N52: =SUM(N49:N51) -> -3.842917 | O52: =SUM(O49:O51) -> -3.846151 | P52: =SUM(P49:P51) -> -3.846151 | Q52: =SUM(Q49:Q51) -> -3.846151 | R52: =(Q52-L52)/L52 -> -0.0068840088
C53: Forest and Trees Net Greenhouse Gas Flux | E53: =SUM(E52,E48) -> -2675705.5 | F53: =SUM(F52,F48) -> -3239655 | G53: =SUM(G52,G48) -> -3239655 | H53: =SUM(H52,H48) -> -3291371 | I53: =SUM(I52,I48) -> -3291371 | J53: =SUM(J52,J48) -> -3291371 | K53: =(J53-E53)/E53 -> 0.23009466 | L53: =SUM(L52,L48) -> -2.6757055 | M53: =SUM(M52,M48) -> -3.239655 | N53: =SUM(N52,N48) -> -3.239655 | O53: =SUM(O52,O48) -> -3.291371 | P53: =SUM(P52,P48) -> -3.291371 | Q53: =SUM(Q52,Q48) -> -3.291371 | R53: =(Q53-L53)/L53 -> 0.23009466
B54: LAND USE GROSS EMISSIONS SUBTOTAL | E54: =E44+E48 -> 1750776.7 | F54: =F44+F48 -> 1139211.3 | G54: =G44+G48 -> 1078139.3 | H54: =H44+H48 -> 991160.26 | I54: =I44+I48 -> 1068686.9 | J54: =J44+J48 -> 968224.33 | K54: =(J54-E54)/E54 -> -0.44697441 | L54: =L44+L48 -> 1.7507767 | M54: =M44+M48 -> 1.1392113 | N54: =N44+N48 -> 1.0781393 | O54: =O44+O48 -> 0.99116026 | P54: =P44+P48 -> 1.0686869 | Q54: =Q44+Q48 -> 0.96822433 | R54: =(Q54-L54)/L54 -> -0.44697441
B55: LAND USE NET EMISSIONS SUBTOTAL | E55: =E44+E48+E52 -> -2122034.7 | F55: =F44+F48+F52 -> -2703705.7 | G55: =G44+G48+G52 -> -2764777.7 | H55: =H44+H48+H52 -> -2854990.7 | I55: =I44+I48+I52 -> -2777464.1 | J55: =J44+J48+J52 -> -2877926.7 | K55: =(J55-E55)/E55 -> 0.35621092 | L55: =L44+L48+L52 -> -2.1220347 | M55: =M44+M48+M52 -> -2.7037057 | N55: =N44+N48+N52 -> -2.7647777 | O55: =O44+O48+O52 -> -2.8549907 | P55: =P44+P48+P52 -> -2.7774641 | Q55: =Q44+Q48+Q52 -> -2.8779267 | R55: =(Q55-L55)/L55 -> 0.35621092
B56: GROSS GREENHOUSE GAS EMISSIONS (ALL SECTORS) | E56: =E24+E30+E39+E54 -> 75648367 | F56: =F24+F30+F39+F54 -> 65890380 | G56: =G24+G30+G39+G54 -> 65186298 | H56: =H24+H30+H39+H54 -> 65371715 | I56: =I24+I30+I39+I54 -> 56702617 | J56: =J24+J30+J39+J54 -> 61572229 | K56: =(J56-E56)/E56 -> -0.18607326 | L56: =L24+L30+L39+L54 -> 75.648367 | M56: =M24+M30+M39+M54 -> 65.89038 | N56: =N24+N30+N39+N54 -> 65.186298 | O56: =O24+O30+O39+O54 -> 65.371715 | P56: =P24+P30+P39+P54 -> 56.702617 | Q56: =Q24+Q30+Q39+Q54 -> 61.572229 | R56: =(Q56-L56)/L56 -> -0.18607326
B57: NET GREENHOUSE GAS EMISSIONS (ALL SECTORS) | E57: =E24+E30+E39+E55 -> 71775555 | F57: =F24+F30+F39+F55 -> 62047463 | G57: =G24+G30+G39+G55 -> 61343381 | H57: =H24+H30+H39+H55 -> 61525564 | I57: =I24+I30+I39+I55 -> 52856466 | J57: =J24+J30+J39+J55 -> 57726078 | K57: =(J57-E57)/E57 -> -0.19574181 | L57: =L24+L30+L39+L55 -> 71.775555 | M57: =M24+M30+M39+M55 -> 62.047463 | N57: =N24+N30+N39+N55 -> 61.343381 | O57: =O24+O30+O39+O55 -> 61.525564 | P57: =P24+P30+P39+P55 -> 52.856466 | Q57: =Q24+Q30+Q39+Q55 -> 57.726078 | R57: =(Q57-L57)/L57 -> -0.19574181
B59: Column Header | C59: Description
B60: Emissions Type | C60: This column lists the main tabs in the online ClearPath tool's GHG inventory entry pages.
B61: Emissions Activity/Source | C61: This column lists the ClearPath calculators used for the development of these inventories. These calculators are found under each of the main tabs in ClearPath.
B62: Inventory Records | C62: This column lists COG's inventory record entries according to which calculator was used to create that entry.
B63: Emissions | C63: Metric Tons of CO2 Equivalent (MTCO2e) and Million Metric Tons of CO2 Equivalent (MMTCO2e) by emissions activity or source and percent change between 2005 and the latest inventory year.
B65: Legend:
C66: Table organization only. Do not alter, enter or calculate data in gray-shaded cells.
C67: Light blue are data entry cells.
C68: Shades of green are cells that contain calculations. Moderate green colored cells contain subtotals, darker green cells contain grand totals.
C69: Yellow cells are not final and need to be completed or checked.
C70: Yellow cells are not final and need to be completed or checked.

Sheet Summary Chart
B1: COMMUNITY GREENHOUSE GAS INVENTORY
B2: GREENHOUSE GAS TRENDS CHART - METROPOLITAN WASHINGTON - DRAFT
G3: Metropolitan Washington GROSS greenhouse gas emissions decreased by | H3: 0.19 | I3: from 2005 - 2023.
G4: Metropolitan Washington NET greenhouse gas emissions decreased by | H4: 0.2 | I4: from 2005 - 2023.
B31: Greenhouse Gas Emissions Summary Table
B32: Sector | C32: MTCO2e
C33: 2005 | D33: 2012 | E33: 2020 | F33: 2023
B34: Buildings | C34: =Outputs!E20 -> 40898015 | D34: =Outputs!F20 -> 32188978 | E34: =Outputs!I20-Outputs!I13 -> 25738820 | F34: =Outputs!J20-Outputs!J13 -> 24488726
B35: Data Centers | E35: =Outputs!I13 -> 2156669 | F35: =Outputs!J13 -> 5507302.1
B36: Transportation | C36: =Outputs!E30 -> 29017113 | D36: =Outputs!F30 -> 28115427 | E36: =Outputs!I30 -> 22584280 | F36: =Outputs!J30 -> 25247812
B37: Waste | C37: =Outputs!E39 -> 2011492.3 | D37: =Outputs!F39 -> 1783637 | E37: =Outputs!I39 -> 1889299.7 | F37: =Outputs!J39 -> 1764807.5
B38: Other | C38: =(Outputs!E23+Outputs!E44) -> 2524641 | D38: =(Outputs!F23+Outputs!F44) -> 3199075.3 | E38: =(Outputs!I23+Outputs!I44) -> 3778767.5 | F38: =(Outputs!J23+Outputs!J44) -> 4008801
B39: Forest & Trees Emissions | C39: =Outputs!E48 -> 1197106 | D39: =Outputs!F48 -> 603262 | E39: =Outputs!I48 -> 554780 | F39: =Outputs!J48 -> 554780
B40: Forest & Trees Removals | C40: =Outputs!E52 -> -3872811.5 | D40: =Outputs!F52 -> -3842917 | E40: =Outputs!I52 -> -3846151 | F40: =Outputs!J52 -> -3846151
B41: 2020 Goal | C41: =C43*0.8 -> 60518693 | D41: =C41 -> 60518693 | E41: =C41 -> 60518693 | F41: =C41 -> 60518693
B42: 2030 Goal | C42: =C43*0.5 -> 37824183 | D42: =C42 -> 37824183 | E42: =C42 -> 37824183 | F42: =C42 -> 37824183
B43: Totals - Gross Emissions | C43: =Outputs!E56 -> 75648367 | D43: =Outputs!F56 -> 65890380 | E43: =Outputs!I56 -> 56702617 | F43: =Outputs!J56 -> 61572229
B44: Totals - Net Emissions | C44: =Outputs!E57 -> 71775555 | D44: =Outputs!F57 -> 62047463 | E44: =Outputs!I57 -> 52856466 | F44: =Outputs!J57 -> 57726078
B46: Sources and Notes:
B47: Other = Agriculture emissions + Process and Fugitive emissions
B48: 2020 Goal = 20% below 2005 levels
B49: 2030 Goal = 50% below 2005 levels
