Workbook
Name Blue: Dashboard!$L$52:$AA$56
Name Calculation: 'Rate Reference'!$A$51
Name Calculations: 'Rate Reference'!$A$51:$B$51
Name Carbon_Dioxide: Dashboard!$D$33
Name CO: Dashboard!$D$33
Name details: 'Rate Lookup'!$U$3:$U$5
Name ElectricitySavingsUnit: 'Rate Lookup'!$I$113:$I$114
Name EmissionsReductionRateType: 'Rate Lookup'!$I$116:$I$117
Name EnergySavingsUnit: 'Rate Lookup'!$I$113:$I$114
Name EnergyType: 'Rate Lookup'!$B$14:$B$19
Name hlkjhlk: (OFFSET(#REF!,#REF!-1,0,#REF!-#REF!+1,1))
Name Nitrogen_Oxide: Dashboard!$C$33:$C$34
Name Nitrogen_Oxides: Dashboard!$C$33:$C$34
Name Non_Baseload_Average: Dashboard!$E$43:$E$49
Name Sulfer_Dioxide: Dashboard!$E$33
Name System_Average: Dashboard!$F$43:$F$49
Name Time_Matched_Marginal: Dashboard!$C$36:$C$41
Name Wind: Dashboard!$C$36:$C$41

Sheet Information
B2: Spreadsheet Dashboard Developed By Amy Sanders and Jeff King, Department of Environmental Programs, Metropolitan Washington Council of Governments
B3: Technical Assistance provided by Colin High, Resource Systems Group
B4: Draft Beta Test Version – June 2009
B7: General Instructions:
C8: Enter energy savings data into the Dashboard spreadsheet's white input cells. Click on the white input cells to choose Units to output, Region, Measure Type, Pollutant and Time Period of emissions from a dropdown menu. (Note: Measure type emissions rates only vary for Time Matched Marginal Methodology, while Regions will only vary for the Non-Baseload and System Output Average Rates).
C10: Or, enter a user-defined emissions rate for the chosen pollutant. Refer to 'Rate Lookup' sheet to view possible input rates.
C11: Environmental Benefits including the avoided emissions rates and avoided emissions for the chosen methodology will be displayed for the chosen pollutant in black ouput cells.
B13: Source of Emission Factors include:
C14: Time Matched Methodology Developed by Resource Systems Group Calculator
C15: System-wide average and non-baseload average provided by EPA eGrid 2007 v 1.1
C16: Emission Factors will be updated periodically.
C18: Direct Questions/Comments to:
C19: Jeffrey King
C20: jking@mwcog.org
C21: 202-962-3238

Sheet Dashboard
B1: Dashboard
B2: Inputs: | N2: Outputs:
C3: Annual Electricity Savings: | G3: Electricity Savings Unit: | N3: Avoided Emissions Rate:
C4: 1 | G4: MWh | O4: ='Rate Reference'!$F$47 -> 8.09 | P4: =C8 -> Pounds | R4: per | S4: =G4 -> MWh
C7: Avoided Emissions Rate Unit: | N7: Avoided Emissions:
C8: Pounds | O8: ='Rate Reference'!$G$47 -> 8.09 | P8: =C8 -> Pounds
C11: Rate Type: | L11: =IF($C$53=TRUE, L52, "") -> Calculations (Rates Taken from "Rate Lookup" Sheet):
C12: System Average | L12: =IF($C$53=TRUE, L53, "") -> Emissions Rate: | O12: =IF($C$53=TRUE, O53, " ") -> System Average | P12: =IF($C$53=TRUE, P53, " ") -> Rate | Q12: =IF($C$53=TRUE, R53, " ") -> * | R12: =IF($C$53=TRUE, S53, " ") -> (1 kWh/1000 MWh)
C15: Region: | G15: =IF(H8='Rate Reference'!F3, "Measure Type:", "Region") -> Measure Type: | L15: =IF($C$53=TRUE, L56, "") -> Emissions: | O15: =IF($C$53=TRUE, O56, " ") -> System Average | P15: =IF($C$53=TRUE, P56, " ") -> Rate | Q15: =IF($C$53=TRUE, R56, " ") -> * | R15: =IF($C$53=TRUE, S56, " ") -> 1 | S15: =IF($C$53=TRUE, T56, " ") -> Pounds | U15: =IF($C$53=TRUE, V56, " ") -> per | V15: =IF($C$53=TRUE, W56, " ") -> MWh | W15: =IF($C$53=TRUE, X56, " ") -> * | X15: =IF($C$53=TRUE, Y56, " ") -> (1 kWh/1000 MWh)
B16: (Choose for Non-Baseload and System Average Rates Only) | F16: (Choose for Time Matched Marginal Rate Only)
C17: DC | G17: Wind
K19: =IF(ISBLANK($R$3),"Input User-Defined Emissions Rate",'[1]Rate Lookup'!$M$16) -> Input User-Defined Emissions Rate
C20: Pollutant: | G20: Time Period:
C21: Sulfer_Dioxide | G21: Annual
C25: Emission Rate Type Definitions:
C26: The Time Matched Marginal Emissions Rate provides a more accurate estimate of a emission reductions from EERE programs and projects than the eGRID system averages because it includes seasonal emission changes and estimates average emission rates of the marginal units based on their incremental contribution to the load.
C27: The Output System Average Emissions Rate is calculated by taking the average emission rate of all electric generating units (including all units on the grid - nuclear power plants, hydroelectric plants, other zero-emission sources and also fossil fuel-fired generation units) over a year. This methodology will understate the emission reduction benefits of EERE technologies.
C29: The Non-Baseload Average Emissions Rate is calculated from the average emission rates of those generating units that have variable generation that follows the regional load. They do not include baseload units, such as nuclear power plants and some coal-fired units. Thus, the non-baseload emission rate is higher than the system average rate because it excludes zero-emission nuclear power units.
C33: Annual | D33: Annual | E33: Annual
C34: Ozone Season
C36: Wind | D36: N/A | E36: N/A
C37: PV
C38: HVAC
C39: Lighting
C40: LED
C41: Generic
D43: N/A | E43: DC | F43: DC
E44: Maryland | F44: Maryland
E45: Virginia | F45: Virginia
E46: RFC | F46: RFC
E47: SERC | F47: SERC
E48: RFC East | F48: RFC East
E49: SRVC | F49: SRVC
L52: Calculations (Rates Taken from "Rate Lookup" Sheet):
C53: TRUE | L53: Emissions Rate: | O53: =C12 -> System Average | P53: Rate | R53: =IF(G4="MWh", "*", " ") -> * | S53: =IF(G4="MWh", "(1 kWh/1000 MWh)", " ") -> (1 kWh/1000 MWh)
L56: Emissions: | O56: =C12 -> System Average | P56: Rate | R56: * | S56: =C4 -> 1 | T56: =C8 -> Pounds | V56: per | W56: =G4 -> MWh | X56: =IF(G4="MWh", "*", " ") -> * | Y56: =IF(G4="MWh", "(1 kWh/1000 MWh)", " ") -> (1 kWh/1000 MWh)

Sheet Rate Lookup
A2: Time Matched Marginal Rates:
B3: NOx: Ozone Season | I3: Daily Nox: Ozone Season
B4: Type | C4: Tons/kWh | D4: Metric Tons/kWh | E4: Pounds/kWh | J4: Emission Rate with days, type included | K4: Emission Rate with weight unit included | L4: Emission Rate with weight unit, MWh/kWh unit included | M4: Total Emissions, with # of kWh/Mwh included
B5: Wind | C5: =E5/2000 -> 1.3852612e-06 | D5: =C5/$J$116 -> 1.2566878e-06 | E5: =Data!$C$56/1000 -> 0.0027705223 | I5: TMM | J5: =INDEX($B$4:$D$10, MATCH(Dashboard!$G$17, $B$4:$B$10, 0), 2) -> 1.3852612e-06 | K5: - | P5: UNIT CONVERSIONS:
B6: PV | C6: =E6/2000 -> 1.3206648e-06 | D6: =C6/$J$116 -> 1.1980869e-06 | E6: =Data!$C$23/1000 -> 0.0026413295 | I6: Tons/kWh | J6: - | K6: =IF(Dashboard!$C$8="tons", J5, 0) -> 0 | L6: =K9 -> 0.0027705223 | M6: - | P6: Kilowatt hours (kWh) | Q6: 1
B7: HVAC | C7: =E7/2000 -> 1.3457332e-06 | D7: =C7/$J$116 -> 1.2208286e-06 | E7: =Data!$C$72/1000 -> 0.0026914664 | I7: Metric Tons/MWh | J7: - | K7: =IF(Dashboard!$C$8="Metric Tons", (J5/$J$116), 0) -> 0 | L7: =K9*1000 -> 2.7705223 | M7: - | P7: Megawatt hours (MWh) | Q7: 1000
B8: Lighting | C8: =E8/2000 -> 1.3396836e-06 | D8: =C8/$J$116 -> 1.2153405e-06 | E8: =Data!$C$39/1000 -> 0.0026793672 | I8: Lbs. | J8: - | K8: =IF(Dashboard!$C$8="Pounds", (J5*$J$118), 0) -> 0.0027705223 | L8: - | M8: -
B9: LED | C9: =E9/2000 -> 1.3734357e-06 | D9: =C9/$J$116 -> 1.2459599e-06 | E9: =Data!$C$7/1000 -> 0.0027468714 | I9: Actual | J9: - | K9: =SUM(K6:K8) -> 0.0027705223 | L9: =IF(Dashboard!$G$4="kWh", L6, L7) -> 2.7705223 | M9: =L9*Dashboard!$C$4 -> 2.7705223 | P9: Tons | Q9: 1
B10: Generic | C10: =AVERAGE(C5:C9) -> 1.3529557e-06 | D10: =AVERAGE(D5:D9) -> 1.2273808e-06 | E10: =AVERAGE(E5:E9) -> 0.0027059114 | P10: Metric Tons | Q10: 1.1023113
J11: Emission Rate with days, type included | K11: Emission Rate with weight unit included | L11: Emission Rate with weight unit, MWh/kWh unit included | M11: Total Emissions, with # of kWh/Mwh included | P11: Pounds | Q11: 2000
B12: Annual NOx: | I12: Optional Input Rate | J12: =IF(ISNUMBER(Dashboard!$C$12), Dashboard!$C$12, 0) -> 0 | K12: - | L12: =IF(Dashboard!$H$4="Metric Tons", (1/$J$116)*K12, K12) -> - | M12: -
B13: Type | C13: Tons/kWh | D13: Metric Tons/kWh | E13: Pounds/kWh | I13: Tons/kWh | J13: - | K13: =IF(Dashboard!$C$8="tons", J12, 0) -> 0 | L13: =K16 -> 0 | M13: - | P13: Days per Ozone Season | Q13: 153
B14: Wind | C14: =E14/2000 -> 1.4630489e-06 | D14: =C14/$J$116 -> 1.3272557e-06 | E14: =Data!$C$55/1000 -> 0.0029260978 | I14: Metric Tons/MWh | J14: - | K14: =IF(Dashboard!$C$8="Metric Tons", (J12/$J$116), 0) -> 0 | L14: =K16*1000 -> 0 | M14: -
B15: PV | C15: =E15/2000 -> 1.408329e-06 | D15: =C15/$J$116 -> 1.2776146e-06 | E15: =Data!$C$22/1000 -> 0.002816658 | I15: Lbs. | J15: - | K15: =IF(Dashboard!$C$8="Pounds", (J12*$J$118), 0) -> 0 | L15: - | M15: -
B16: HVAC | C16: =E16/2000 -> 1.4090556e-06 | D16: =C16/$J$116 -> 1.2782738e-06 | E16: =Data!$C$71/1000 -> 0.0028181113 | I16: Actual | J16: - | K16: =SUM(K13:K15) -> 0 | L16: =IF(Dashboard!$G$4="kWh", L13, L14) -> 0 | M16: =L16*Dashboard!$C$4 -> 0
B17: Lighting | C17: =E17/2000 -> 1.4207614e-06 | D17: =C17/$J$116 -> 1.2888931e-06 | E17: =Data!$C$38/1000 -> 0.0028415228 | O17: Sample Calculation Using Time Matched Marginal Rates:
B18: LED | C18: =E18/2000 -> 1.4565696e-06 | D18: =C18/$J$116 -> 1.3213777e-06 | E18: =Data!$C$6/1000 -> 0.0029131392 | P18: Inputs:
B19: Generic | C19: =AVERAGE(C14:C18) -> 1.4315529e-06 | D19: =AVERAGE(D14:D18) -> 1.298683e-06 | E19: =AVERAGE(E14:E18) -> 0.0028631058 | P19: 12,000 MWh
P20: Tons
B22: Annual CO2: | P22: Wind
B23: Type | C23: Tons/kWh | D23: Metric Tons/kWh | E23: Pounds/kWh | P23: SO2
B24: Wind | C24: =E24/2000 -> 0.00095855978 | D24: =C24/$J$116 -> 0.0008695908 | E24: =Data!$E$55/1000 -> 1.9171196 | P24: Outputs:
B25: PV | C25: =E25/2000 -> 0.000926592 | D25: =C25/$J$116 -> 0.00084059012 | E25: =Data!$E$22/1000 -> 1.853184 | P25: (0.00000762 Tons/kWh SO2) * (1 kWh/1000MWh) = 0.00192571 Tons SO2/MWh
B26: HVAC | C26: =E26/2000 -> 0.00093034766 | D26: =C26/$J$116 -> 0.0008439972 | E26: =Data!$E$71/1000 -> 1.8606953 | P26: (12,000 MWh) * (1 kWh/1000MWh) * (0.00000762 Tons/kWh SO2) = 23.1084 Tons SO2
B27: Lighting | C27: =E27/2000 -> 0.00093458533 | D27: =C27/$J$116 -> 0.00084784155 | E27: =Data!$E$38/1000 -> 1.8691707
B28: LED | C28: =E28/2000 -> 0.00095199943 | D28: =C28/$J$116 -> 0.00086363935 | E28: =Data!$E$6/1000 -> 1.9039989
B29: Generic | C29: =AVERAGE(C24:C28) -> 0.00094041684 | D29: =AVERAGE(D24:D28) -> 0.00085313181 | E29: =AVERAGE(E24:E28) -> 1.8808337
B31: Annual SO2:
B32: Type | C32: Tons/kWh | D32: Metric Tons/kWh | E32: Pounds/kWh | I32: Daily Nox: Annual
B33: Wind | C33: =E33/2000 -> 7.620325e-06 | D33: =C33/$J$116 -> 6.9130425e-06 | E33: 0.01524065 | J33: Emission Rate with days, type included | K33: Emission Rate with weight unit included | L33: Emission Rate with weight unit, MWh/kWh unit included | M33: Total Emissions, with # of kWh/Mwh included
B34: PV | C34: =E34/2000 -> 6.6721261e-06 | D34: =C34/$J$116 -> 6.052851e-06 | E34: 0.013344252 | I34: TMM | J34: =INDEX($B$13:$D$19, MATCH(Dashboard!$G$17, $B$13:$B$19, 0), 2) -> 1.4630489e-06 | K34: - | L34: - | M34: -
B35: HVAC | C35: =E35/2000 -> 6.7409636e-06 | D35: =C35/$J$116 -> 6.1152993e-06 | E35: 0.013481927 | I35: Tons/kWh | J35: - | K35: =IF(Dashboard!$C$8="tons", J34, 0) -> 0 | L35: =K38 -> 0.0029260978 | M35: -
B36: Lighting | C36: =E36/2000 -> 6.9163846e-06 | D36: =C36/$J$116 -> 6.2744386e-06 | E36: 0.013832769 | I36: Metric Tons/MWh | J36: - | K36: =IF(Dashboard!$C$8="Metric Tons", (J34/$J$116), 0) -> 0 | L36: =K38*1000 -> 2.9260978 | M36: -
B37: LED | C37: =E37/2000 -> 7.3925795e-06 | D37: =C37/$J$116 -> 6.7064354e-06 | E37: 0.014785159 | I37: Lbs. | J37: - | K37: =IF(Dashboard!$C$8="Pounds", (J34*$J$118), 0) -> 0.0029260978 | L37: - | M37: -
B38: Generic | C38: =AVERAGE(C33:C37) -> 7.0684758e-06 | D38: =AVERAGE(D33:D37) -> 6.4124134e-06 | E38: =AVERAGE(E33:E37) -> 0.014136952 | I38: Actual | J38: - | K38: =SUM(K35:K37) -> 0.0029260978 | L38: =IF(Dashboard!$G$4="kWh", L35, L36) -> 2.9260978 | M38: =L38*Dashboard!$C$4 -> 2.9260978
A40: Output System Average Rates: | J40: Emission Rate with days, type included | K40: Emission Rate with weight unit included | L40: Emission Rate with weight unit, MWh/kWh unit included | M40: Total Emissions, with # of kWh/Mwh included
B41: NOx: Ozone Season | I41: Optional Input Rate | J41: =IF(ISNUMBER(Dashboard!$C$12), Dashboard!$C$12, 0) -> 0 | K41: - | L41: =IF(Dashboard!$H$4="Metric Tons", (1/$J$116)*K41, K41) -> - | M41: -
B42: Region | C42: Tons/kWh | D42: Metric Tons/kWh | E42: Pounds/kWh | I42: Tons/kWh | J42: - | K42: =IF(Dashboard!$C$8="tons", J41, 0) -> 0 | L42: =K45 -> 0 | M42: - | O42: Sample Calculation Using Average Rates:
B43: DC | C43: ='Output Sys. Avg. Rates'!I3 -> 1.7232e-06 | D43: =C43/$J$116 -> 1.5632607e-06 | E43: =C43*2000 -> 0.0034464 | I43: Metric Tons/MWh | J43: - | K43: =IF(Dashboard!$C$8="Metric Tons", (J41/$J$116), 0) -> 0 | L43: =K45*1000 -> 0 | M43: - | P43: Inputs:
B44: Maryland | C44: ='Output Sys. Avg. Rates'!I31 -> 9.2005e-07 | D44: =C44/$J$116 -> 8.3465532e-07 | E44: =C44*2000 -> 0.0018401 | I44: Lbs. | J44: - | K44: =IF(Dashboard!$C$8="Pounds", (J41*$J$118), 0) -> 0 | L44: - | M44: - | P44: 8,000 kWh
B45: Virginia | C45: ='Output Sys. Avg. Rates'!I59 -> 6.3645e-07 | D45: =C45/$J$116 -> 5.7737773e-07 | E45: =C45*2000 -> 0.0012729 | I45: Actual | J45: - | K45: =SUM(K42:K44) -> 0 | L45: =IF(Dashboard!$G$4="kWh", L42, L43) -> 0 | M45: =L45*Dashboard!$C$4 -> 0 | P45: Metric Tons
B46: RFC | C46: ='Output Sys. Avg. Rates'!I87 -> 7.09e-07 | D46: =C46/$J$116 -> 6.4319398e-07 | E46: =C46*2000 -> 0.001418 | P46: DC
B47: SERC | C47: ='Output Sys. Avg. Rates'!I115 -> 6.5135e-07 | D47: =C47/$J$116 -> 5.9089478e-07 | E47: =C47*2000 -> 0.0013027 | P47: CO2
B48: RFC East | C48: ='Output Sys. Avg. Rates'!I143 -> 5.8535e-07 | D48: =C48/$J$116 -> 5.3102059e-07 | E48: =C48*2000 -> 0.0011707 | P48: Outputs:
B49: SRVC | C49: ='Output Sys. Avg. Rates'!I171 -> 4.836e-07 | D49: =C49/$J$116 -> 4.3871454e-07 | E49: =C49*2000 -> 0.0009672 | P49: Avoided Emissions Rate (from Table) = 0.00110327 Metric Tons CO2/kWh
P50: Avoided Emissions = (8,000 kWh) * (0.00110327 Metric Tons/kWh CO2) = 8.82618 Metric Tons CO2
B51: Annual NOx:
B52: Region | C52: Tons/kWh | D52: Metric Tons/kWh | E52: Pounds/kWh
B53: DC | C53: ='Output Sys. Avg. Rates'!I10 -> 1.8269e-06 | D53: =C53/$J$116 -> 1.6573358e-06 | E53: =C53*2000 -> 0.0036538
B54: Maryland | C54: ='Output Sys. Avg. Rates'!I38 -> 1.2311e-06 | D54: =C54/$J$116 -> 1.1168351e-06 | E54: =C54*2000 -> 0.0024622
B55: Virginia | C55: ='Output Sys. Avg. Rates'!I66 -> 8.945e-07 | D55: =C55/$J$116 -> 8.1147675e-07 | E55: =C55*2000 -> 0.001789
B56: RFC | C56: ='Output Sys. Avg. Rates'!I94 -> 1.144e-06 | D56: =C56/$J$116 -> 1.0378193e-06 | E56: =C56*2000 -> 0.002288
B57: SERC | C57: ='Output Sys. Avg. Rates'!I122 -> 9.631e-07 | D57: =C57/$J$116 -> 8.7370962e-07 | E57: =C57*2000 -> 0.0019262
B58: RFC East | C58: ='Output Sys. Avg. Rates'!I150 -> 8.1535e-07 | D58: =C58/$J$116 -> 7.3967308e-07 | E58: =C58*2000 -> 0.0016307
B59: SRVC | C59: ='Output Sys. Avg. Rates'!I178 -> 8.0265e-07 | D59: =C59/$J$116 -> 7.2815183e-07 | E59: =C59*2000 -> 0.0016053
B61: Annual CO2:
B62: Region | C62: Tons/kWh | D62: Metric Tons/kWh | E62: Pounds/kWh
B63: DC | C63: ='Output Sys. Avg. Rates'!I17 -> 0.00121615 | D63: =C63/$J$116 -> 0.0011032727 | E63: =C63*2000 -> 2.4323 | I63: Daily CO2: Annual
B64: Maryland | C64: ='Output Sys. Avg. Rates'!I45 -> 0.000676135 | D64: =C64/$J$116 -> 0.00061337935 | E64: =C64*2000 -> 1.35227 | J64: Emission Rate with days, type included | K64: Emission Rate with weight unit included | L64: Emission Rate with weight unit, MWh/kWh unit included | M64: Total Emissions, with # of kWh/Mwh included
B65: Virginia | C65: ='Output Sys. Avg. Rates'!I73 -> 0.000598025 | D65: =C65/$J$116 -> 0.00054251915 | E65: =C65*2000 -> 1.19605 | I65: TMM | J65: =INDEX($B$23:$D$29, MATCH(Dashboard!$G$17, $B$23:$B$29, 0), 2) -> 0.00095855978 | K65: - | L65: - | M65: -
B66: RFC | C66: ='Output Sys. Avg. Rates'!I101 -> 0.000713605 | D66: =C66/$J$116 -> 0.00064737157 | E66: =C66*2000 -> 1.42721 | I66: Tons/kWh | J66: - | K66: =IF(Dashboard!$C$8="Tons", J65, 0) -> 0 | L66: =K69 -> 1.9171196 | M66: -
B67: SERC | C67: ='Output Sys. Avg. Rates'!I129 -> 0.000684425 | D67: =C67/$J$116 -> 0.00062089992 | E67: =C67*2000 -> 1.36885 | I67: Metric Tons/MWh | J67: - | K67: =IF(Dashboard!$C$8="Metric Tons", (J65/$J$116), 0) -> 0 | L67: =K69*1000 -> 1917.1196 | M67: -
B68: RFC East | C68: ='Output Sys. Avg. Rates'!I157 -> 0.000569535 | D68: =C68/$J$116 -> 0.00051667346 | E68: =C68*2000 -> 1.13907 | I68: Lbs. | J68: - | K68: =IF(Dashboard!$C$8="Pounds", (J65*2000), 0) -> 1.9171196 | L68: - | M68: -
B69: SRVC | C69: ='Output Sys. Avg. Rates'!I185 -> 0.00056744 | D69: =C69/$J$116 -> 0.00051477291 | E69: =C69*2000 -> 1.13488 | I69: Actual | J69: - | K69: =SUM(K66:K68) -> 1.9171196 | L69: =IF(Dashboard!$G$4="kWh", L66, L67) -> 1917.1196 | M69: =L69*Dashboard!$C$4 -> 1917.1196
B71: Annual SO2: | J71: Emission Rate with days, type included | K71: Emission Rate with weight unit included | L71: Emission Rate with weight unit, MWh/kWh unit included | M71: Total Emissions, with # of kWh/Mwh included
B72: Region | C72: Tons/kWh | D72: Metric Tons/kWh | E72: Pounds/kWh | I72: Optional Input Rate | J72: =IF(ISNUMBER(Dashboard!$C$12), Dashboard!$C$12, 0) -> 0 | K72: - | L72: =IF(Dashboard!$H$4="Metric Tons", (1/$J$116)*K72, K72) -> - | M72: -
B73: DC | C73: ='Output Sys. Avg. Rates'!I24 -> 4.045e-06 | D73: =C73/$J$116 -> 3.6695623e-06 | E73: =C73*2000 -> 0.00809 | I73: Tons/kWh | J73: - | K73: =IF(Dashboard!$C$8="tons", J72, 0) -> 0 | L73: =K76 -> 0 | M73: -
B74: Maryland | C74: ='Output Sys. Avg. Rates'!I52 -> 5.46875e-06 | D74: =C74/$J$116 -> 4.9611666e-06 | E74: =C74*2000 -> 0.0109375 | I74: Metric Tons/MWh | J74: - | K74: =IF(Dashboard!$C$8="Metric Tons", (J72/$J$116), 0) -> 0 | L74: =K76*1000 -> 0 | M74: -
B75: Virginia | C75: ='Output Sys. Avg. Rates'!I80 -> 2.88175e-06 | D75: =C75/$J$116 -> 2.6142796e-06 | E75: =C75*2000 -> 0.0057635 | I75: Lbs. | J75: - | K75: =IF(Dashboard!$C$8="Pounds", (J72*$J$118), 0) -> 0 | L75: - | M75: -
B76: RFC | C76: ='Output Sys. Avg. Rates'!I108 -> 4.4923e-06 | D76: =C76/$J$116 -> 4.075346e-06 | E76: =C76*2000 -> 0.0089846 | I76: Actual | J76: - | K76: =SUM(K73:K75) -> 0 | L76: =IF(Dashboard!$G$4="kWh", L73, L74) -> 0 | M76: =L76*Dashboard!$C$4 -> 0
B77: SERC | C77: ='Output Sys. Avg. Rates'!I136 -> 3.12215e-06 | D77: =C77/$J$116 -> 2.8323668e-06 | E77: =C77*2000 -> 0.0062443
B78: RFC East | C78: ='Output Sys. Avg. Rates'!I164 -> 3.8959e-06 | D78: =C78/$J$116 -> 3.534301e-06 | E78: =C78*2000 -> 0.0077918
B79: SRVC | C79: ='Output Sys. Avg. Rates'!I192 -> 2.9429e-06 | D79: =C79/$J$116 -> 2.669754e-06 | E79: =C79*2000 -> 0.0058858
A81: Non-Baseload Average Rates:
B82: NOx: Ozone Season
B83: Region | C83: Tons/kWh | D83: Metric Tons/kWh | E83: Pounds/kWh
B84: DC | C84: ='Non-Baseload Output Rates'!E3 -> 1.7232e-06 | D84: =C84/$J$116 -> 1.5632607e-06 | E84: =C84*2000 -> 0.0034464
B85: Maryland | C85: ='Non-Baseload Output Rates'!E31 -> 1.62755e-06 | D85: =C85/$J$116 -> 1.4764885e-06 | E85: =C85*2000 -> 0.0032551
B86: Virginia | C86: ='Non-Baseload Output Rates'!E59 -> 8.098e-07 | D86: =C86/$J$116 -> 7.346382e-07 | E86: =C86*2000 -> 0.0016196
B87: RFC | C87: ='Non-Baseload Output Rates'!E87 -> 1.15725e-06 | D87: =C87/$J$116 -> 1.0498395e-06 | E87: =C87*2000 -> 0.0023145
B88: SERC | C88: ='Non-Baseload Output Rates'!E115 -> 9.678e-07 | D88: =C88/$J$116 -> 8.7797339e-07 | E88: =C88*2000 -> 0.0019356
B89: RFC East | C89: ='Non-Baseload Output Rates'!E143 -> 1.14725e-06 | D89: =C89/$J$116 -> 1.0407677e-06 | E89: =C89*2000 -> 0.0022945
B90: SRVC | C90: ='Non-Baseload Output Rates'!E171 -> 9.125e-07 | D90: =C90/$J$116 -> 8.2780608e-07 | E90: =C90*2000 -> 0.001825
B92: Annual NOx:
B93: Region | C93: Tons/kWh | D93: Metric Tons/kWh | E93: Pounds/kWh | I93: Daily Sox: Annual
B94: DC | C94: ='Non-Baseload Output Rates'!E10 -> 1.8179e-06 | D94: =C94/$J$116 -> 1.6491711e-06 | E94: =C94*2000 -> 0.0036358 | J94: Emission Rate with days, type included | K94: Emission Rate with weight unit included | L94: Emission Rate with weight unit, MWh/kWh unit included | M94: Total Emissions, with # of kWh/Mwh included
B95: Maryland | C95: ='Non-Baseload Output Rates'!E38 -> 1.8761e-06 | D95: =C95/$J$116 -> 1.7019693e-06 | E95: =C95*2000 -> 0.0037522 | I95: TMM | J95: =INDEX($B$32:$D$38, MATCH(Dashboard!$G$17, $B$32:$B$38, 0), 2) -> 7.620325e-06 | K95: - | L95: - | M95: -
B96: Virginia | C96: ='Non-Baseload Output Rates'!E66 -> 1.15285e-06 | D96: =C96/$J$116 -> 1.0458479e-06 | E96: =C96*2000 -> 0.0023057 | I96: Tons/kWh | J96: - | K96: =IF(Dashboard!$C$8="tons", J95, 0) -> 0 | L96: =K99 -> 0.01524065 | M96: -
B97: RFC | C97: ='Non-Baseload Output Rates'!E94 -> 1.52935e-06 | D97: =C97/$J$116 -> 1.387403e-06 | E97: =C97*2000 -> 0.0030587 | I97: Metric Tons/MWh | J97: - | K97: =IF(Dashboard!$C$8="Metric Tons", (J95/$J$116), 0) -> 0 | L97: =K99*1000 -> 15.24065 | M97: -
B98: SERC | C98: ='Non-Baseload Output Rates'!E122 -> 1.29225e-06 | D98: =C98/$J$116 -> 1.1723095e-06 | E98: =C98*2000 -> 0.0025845 | I98: Lbs. | J98: - | K98: =IF(Dashboard!$C$8="Pounds", (J95*$J$118), 0) -> 0.01524065 | L98: - | M98: -
B99: RFC East | C99: ='Non-Baseload Output Rates'!E150 -> 1.38405e-06 | D99: =C99/$J$116 -> 1.255589e-06 | E99: =C99*2000 -> 0.0027681 | I99: Actual | J99: - | K99: =SUM(K96:K98) -> 0.01524065 | L99: =IF(Dashboard!$G$4="kWh", L96, L97) -> 15.24065 | M99: =L99*Dashboard!$C$4 -> 15.24065
B100: SRVC | C100: ='Non-Baseload Output Rates'!E178 -> 1.24395e-06 | D100: =C100/$J$116 -> 1.1284925e-06 | E100: =C100*2000 -> 0.0024879
J101: Emission Rate with days, type included | K101: Emission Rate with weight unit included | L101: Emission Rate with weight unit, MWh/kWh unit included | M101: Total Emissions, with # of kWh/Mwh included
B102: Annual CO2: | I102: Optional Input Rate | J102: =IF(ISNUMBER(Dashboard!$C$12), Dashboard!$C$12, 0) -> 0 | K102: - | L102: =IF(Dashboard!$H$4="Metric Tons", (1/$J$116)*K102, K102) -> - | M102: -
B103: Region | C103: Tons/kWh | D103: Metric Tons/kWh | E103: Pounds/kWh | I103: Tons/kWh | J103: - | K103: =IF(Dashboard!$C$8="tons", J102, 0) -> 0 | L103: =K106 -> 0 | M103: -
B104: DC | C104: ='Non-Baseload Output Rates'!E17 -> 0.0012161508 | D104: =C104/$J$116 -> 0.0011032734 | E104: =C104*2000 -> 2.4323015 | I104: Metric Tons/MWh | J104: - | K104: =IF(Dashboard!$C$8="Metric Tons", (J102/$J$116), 0) -> 0 | L104: =K106*1000 -> 0 | M104: -
B105: Maryland | C105: ='Non-Baseload Output Rates'!E45 -> 0.00098226 | D105: =C105/$J$116 -> 0.00089109128 | E105: =C105*2000 -> 1.96452 | I105: Lbs. | J105: - | K105: =IF(Dashboard!$C$8="Pounds", (J102*$J$118), 0) -> 0 | L105: - | M105: -
B106: Virginia | C106: ='Non-Baseload Output Rates'!E73 -> 0.00080621 | D106: =C106/$J$116 -> 0.00073138141 | E106: =C106*2000 -> 1.61242 | I106: Actual | J106: - | K106: =SUM(K103:K105) -> 0 | L106: =IF(Dashboard!$G$4="kWh", L103, L104) -> 0 | M106: =L106*Dashboard!$C$4 -> 0
B107: RFC | C107: ='Non-Baseload Output Rates'!E101 -> 0.000941455 | D107: =C107/$J$116 -> 0.00085407361 | E107: =C107*2000 -> 1.88291
B108: SERC | C108: ='Non-Baseload Output Rates'!E129 -> 0.000863405 | D108: =C108/$J$116 -> 0.00078326784 | E108: =C108*2000 -> 1.72681
...

Sheet Output Sys. Avg. Rates
E1: Region/State: | F1: Pollutant: | G1: Season/Year? | H1: Given Rate (lb/MWh): | I1: Converted Rate (tons/kWh):
E3: DC | F3: NOx | G3: Ozone Season | H3: 3.4464 | I3: =H3/($Y$10*$Y$5) -> 1.7232e-06 | L3: Emission Rate with days, type included | M3: Emission Rate with weight unit included | N3: Emission Rate with weight unit, MWh/kWh unit included | O3: Total Emissions, with # of kWh/Mwh included
K4: Output System Average | L4: =I3 -> 1.7232e-06 | M4: - | N4: =IF(Dashboard!$H$4="Metric Tons", (1/$G$128)*M4, M4) -> - | O4: - | X4: UNIT CONVERSIONS:
K5: Tons/kWh | L5: - | M5: =IF(Dashboard!$C$8="tons", L4, 0) -> 0 | N5: =M8 -> 0.0034464 | O5: - | X5: MWh | Y5: 1000
K6: Metric Tons/MWh | L6: - | M6: =IF(Dashboard!$C$8="Metric Tons", (L4/$T$128), 0) -> 0 | N6: =M8*1000 -> 3.4464 | O6: - | X6: kWh | Y6: 1
K7: Lbs. | L7: - | M7: =IF(Dashboard!$C$8="Pounds", (L4*$Y$10), 0) -> 0.0034464 | N7: - | O7: -
K8: Actual | L8: - | M8: =SUM(M5:M7) -> 0.0034464 | N8: =IF(Dashboard!$G$4="kWh", N5, N6) -> 3.4464 | O8: =N8*Dashboard!$C$4 -> 3.4464 | X8: Metric Tons | Y8: 1.1023113
X9: Tons | Y9: 1
F10: NOx | G10: Annual | H10: 3.6538 | I10: =H10/($Y$10*$Y$5) -> 1.8269e-06 | L10: Emission Rate with days, type included | M10: Emission Rate with weight unit included | N10: Emission Rate with weight unit, MWh/kWh unit included | O10: Total Emissions, with # of kWh/Mwh included | X10: Pounds | Y10: 2000
K11: Output System Average | L11: =I10 -> 1.8269e-06 | M11: - | N11: =IF(Dashboard!$H$4="Metric Tons", (1/$G$128)*M11, M11) -> - | O11: -
K12: Tons/kWh | L12: - | M12: =IF(Dashboard!$C$8="tons", L11, 0) -> 0 | N12: =M15 -> 0.0036538 | O12: -
K13: Metric Tons/MWh | L13: - | M13: =IF(Dashboard!$C$8="Metric Tons", (L11/$T$128), 0) -> 0 | N13: =M15*1000 -> 3.6538 | O13: -
K14: Lbs. | L14: - | M14: =IF(Dashboard!$C$8="Pounds", (L11*$Y$10), 0) -> 0.0036538 | N14: - | O14: -
K15: Actual | L15: - | M15: =SUM(M12:M14) -> 0.0036538 | N15: =IF(Dashboard!$G$4="kWh", N12, N13) -> 3.6538 | O15: =N15*Dashboard!$C$4 -> 3.6538
F17: CO2 | G17: Annual | H17: 2432.3 | I17: =H17/($Y$10*$Y$5) -> 0.00121615 | L17: Emission Rate with days, type included | M17: Emission Rate with weight unit included | N17: Emission Rate with weight unit, MWh/kWh unit included | O17: Total Emissions, with # of kWh/Mwh included
K18: Output System Average | L18: =I17 -> 0.00121615 | M18: - | N18: =IF(Dashboard!$H$4="Metric Tons", (1/$G$128)*M18, M18) -> - | O18: -
K19: Tons/kWh | L19: - | M19: =IF(Dashboard!$C$8="tons", L18, 0) -> 0 | N19: =M22 -> 2.4323 | O19: -
K20: Metric Tons/MWh | L20: - | M20: =IF(Dashboard!$C$8="Metric Tons", (L18/$T$128), 0) -> 0 | N20: =M22*1000 -> 2432.3 | O20: -
K21: Lbs. | L21: - | M21: =IF(Dashboard!$C$8="Pounds", (L18*$Y$10), 0) -> 2.4323 | N21: - | O21: -
K22: Actual | L22: - | M22: =SUM(M19:M21) -> 2.4323 | N22: =IF(Dashboard!$G$4="kWh", N19, N20) -> 2432.3 | O22: =N22*Dashboard!$C$4 -> 2432.3
F24: SO2 | G24: Annual | H24: 8.09 | I24: =H24/($Y$10*$Y$5) -> 4.045e-06 | L24: Emission Rate with days, type included | M24: Emission Rate with weight unit included | N24: Emission Rate with weight unit, MWh/kWh unit included | O24: Total Emissions, with # of kWh/Mwh included
K25: Output System Average | L25: =I24 -> 4.045e-06 | M25: - | N25: =IF(Dashboard!$H$4="Metric Tons", (1/$G$128)*M25, M25) -> - | O25: -
K26: Tons/kWh | L26: - | M26: =IF(Dashboard!$C$8="tons", L25, 0) -> 0 | N26: =M29 -> 0.00809 | O26: -
K27: Metric Tons/MWh | L27: - | M27: =IF(Dashboard!$C$8="Metric Tons", (L25/$T$128), 0) -> 0 | N27: =M29*1000 -> 8.09 | O27: -
K28: Lbs. | L28: - | M28: =IF(Dashboard!$C$8="Pounds", (L25*$Y$10), 0) -> 0.00809 | N28: - | O28: -
K29: Actual | L29: - | M29: =SUM(M26:M28) -> 0.00809 | N29: =IF(Dashboard!$G$4="kWh", N26, N27) -> 8.09 | O29: =N29*Dashboard!$C$4 -> 8.09
E31: MD | F31: NOx | G31: Ozone Season | H31: 1.8401 | I31: =H31/($Y$10*$Y$5) -> 9.2005e-07
L32: Emission Rate with days, type included | M32: Emission Rate with weight unit included | N32: Emission Rate with weight unit, MWh/kWh unit included | O32: Total Emissions, with # of kWh/Mwh included
K33: Output System Average | L33: =I31 -> 9.2005e-07 | M33: - | N33: =IF(Dashboard!$H$4="Metric Tons", (1/$G$128)*M33, M33) -> - | O33: -
K34: Tons/kWh | L34: - | M34: =IF(Dashboard!$C$8="tons", L33, 0) -> 0 | N34: =M37 -> 0.0018401 | O34: -
K35: Metric Tons/MWh | L35: - | M35: =IF(Dashboard!$C$8="Metric Tons", (L33/$T$128), 0) -> 0 | N35: =M37*1000 -> 1.8401 | O35: -
K36: Lbs. | L36: - | M36: =IF(Dashboard!$C$8="Pounds", (L33*$Y$10), 0) -> 0.0018401 | N36: - | O36: -
K37: Actual | L37: - | M37: =SUM(M34:M36) -> 0.0018401 | N37: =IF(Dashboard!$G$4="kWh", N34, N35) -> 1.8401 | O37: =N37*Dashboard!$C$4 -> 1.8401
F38: NOx | G38: Annual | H38: 2.4622 | I38: =H38/($Y$10*$Y$5) -> 1.2311e-06
L39: Emission Rate with days, type included | M39: Emission Rate with weight unit included | N39: Emission Rate with weight unit, MWh/kWh unit included | O39: Total Emissions, with # of kWh/Mwh included
K40: Output System Average | L40: =I38 -> 1.2311e-06 | M40: - | N40: =IF(Dashboard!$H$4="Metric Tons", (1/$G$128)*M40, M40) -> - | O40: -
K41: Tons/kWh | L41: - | M41: =IF(Dashboard!$C$8="tons", L40, 0) -> 0 | N41: =M44 -> 0.0024622 | O41: -
K42: Metric Tons/MWh | L42: - | M42: =IF(Dashboard!$C$8="Metric Tons", (L40/$T$128), 0) -> 0 | N42: =M44*1000 -> 2.4622 | O42: -
K43: Lbs. | L43: - | M43: =IF(Dashboard!$C$8="Pounds", (L40*$Y$10), 0) -> 0.0024622 | N43: - | O43: -
K44: Actual | L44: - | M44: =SUM(M41:M43) -> 0.0024622 | N44: =IF(Dashboard!$G$4="kWh", N41, N42) -> 2.4622 | O44: =N44*Dashboard!$C$4 -> 2.4622
F45: CO2 | G45: Annual | H45: 1352.27 | I45: =H45/($Y$10*$Y$5) -> 0.000676135
L46: Emission Rate with days, type included | M46: Emission Rate with weight unit included | N46: Emission Rate with weight unit, MWh/kWh unit included | O46: Total Emissions, with # of kWh/Mwh included
K47: Output System Average | L47: =I45 -> 0.000676135 | M47: - | N47: =IF(Dashboard!$H$4="Metric Tons", (1/$G$128)*M47, M47) -> - | O47: -
K48: Tons/kWh | L48: - | M48: =IF(Dashboard!$C$8="tons", L47, 0) -> 0 | N48: =M51 -> 1.35227 | O48: -
K49: Metric Tons/MWh | L49: - | M49: =IF(Dashboard!$C$8="Metric Tons", (L47/$T$128), 0) -> 0 | N49: =M51*1000 -> 1352.27 | O49: -
K50: Lbs. | L50: - | M50: =IF(Dashboard!$C$8="Pounds", (L47*$Y$10), 0) -> 1.35227 | N50: - | O50: -
K51: Actual | L51: - | M51: =SUM(M48:M50) -> 1.35227 | N51: =IF(Dashboard!$G$4="kWh", N48, N49) -> 1352.27 | O51: =N51*Dashboard!$C$4 -> 1352.27
F52: SO2 | G52: Annual | H52: 10.9375 | I52: =H52/($Y$10*$Y$5) -> 5.46875e-06
L53: Emission Rate with days, type included | M53: Emission Rate with weight unit included | N53: Emission Rate with weight unit, MWh/kWh unit included | O53: Total Emissions, with # of kWh/Mwh included
K54: Output System Average | L54: =I52 -> 5.46875e-06 | M54: - | N54: =IF(Dashboard!$H$4="Metric Tons", (1/$G$128)*M54, M54) -> - | O54: -
K55: Tons/kWh | L55: - | M55: =IF(Dashboard!$C$8="tons", L54, 0) -> 0 | N55: =M58 -> 0.0109375 | O55: -
K56: Metric Tons/MWh | L56: - | M56: =IF(Dashboard!$C$8="Metric Tons", (L54/$T$128), 0) -> 0 | N56: =M58*1000 -> 10.9375 | O56: -
K57: Lbs. | L57: - | M57: =IF(Dashboard!$C$8="Pounds", (L54*$Y$10), 0) -> 0.0109375 | N57: - | O57: -
K58: Actual | L58: - | M58: =SUM(M55:M57) -> 0.0109375 | N58: =IF(Dashboard!$G$4="kWh", N55, N56) -> 10.9375 | O58: =N58*Dashboard!$C$4 -> 10.9375
E59: VA | F59: NOx | G59: Ozone Season | H59: 1.2729 | I59: =H59/($Y$10*$Y$5) -> 6.3645e-07
L60: Emission Rate with days, type included | M60: Emission Rate with weight unit included | N60: Emission Rate with weight unit, MWh/kWh unit included | O60: Total Emissions, with # of kWh/Mwh included
K61: Output System Average | L61: =I59 -> 6.3645e-07 | M61: - | N61: =IF(Dashboard!$H$4="Metric Tons", (1/$G$128)*M61, M61) -> - | O61: -
K62: Tons/kWh | L62: - | M62: =IF(Dashboard!$C$8="tons", L61, 0) -> 0 | N62: =M65 -> 0.0012729 | O62: -
K63: Metric Tons/MWh | L63: - | M63: =IF(Dashboard!$C$8="Metric Tons", (L61/$T$128), 0) -> 0 | N63: =M65*1000 -> 1.2729 | O63: -
K64: Lbs. | L64: - | M64: =IF(Dashboard!$C$8="Pounds", (L61*$Y$10), 0) -> 0.0012729 | N64: - | O64: -
K65: Actual | L65: - | M65: =SUM(M62:M64) -> 0.0012729 | N65: =IF(Dashboard!$G$4="kWh", N62, N63) -> 1.2729 | O65: =N65*Dashboard!$C$4 -> 1.2729
F66: NOx | G66: Annual | H66: 1.789 | I66: =H66/($Y$10*$Y$5) -> 8.945e-07
L67: Emission Rate with days, type included | M67: Emission Rate with weight unit included | N67: Emission Rate with weight unit, MWh/kWh unit included | O67: Total Emissions, with # of kWh/Mwh included
K68: Output System Average | L68: =I66 -> 8.945e-07 | M68: - | N68: =IF(Dashboard!$H$4="Metric Tons", (1/$G$128)*M68, M68) -> - | O68: -
K69: Tons/kWh | L69: - | M69: =IF(Dashboard!$C$8="tons", L68, 0) -> 0 | N69: =M72 -> 0.001789 | O69: -
K70: Metric Tons/MWh | L70: - | M70: =IF(Dashboard!$C$8="Metric Tons", (L68/$T$128), 0) -> 0 | N70: =M72*1000 -> 1.789 | O70: -
K71: Lbs. | L71: - | M71: =IF(Dashboard!$C$8="Pounds", (L68*$Y$10), 0) -> 0.001789 | N71: - | O71: -
K72: Actual | L72: - | M72: =SUM(M69:M71) -> 0.001789 | N72: =IF(Dashboard!$G$4="kWh", N69, N70) -> 1.789 | O72: =N72*Dashboard!$C$4 -> 1.789
F73: CO2 | G73: Annual | H73: 1196.05 | I73: =H73/($Y$10*$Y$5) -> 0.000598025
L74: Emission Rate with days, type included | M74: Emission Rate with weight unit included | N74: Emission Rate with weight unit, MWh/kWh unit included | O74: Total Emissions, with # of kWh/Mwh included
K75: Output System Average | L75: =I73 -> 0.000598025 | M75: - | N75: =IF(Dashboard!$H$4="Metric Tons", (1/$G$128)*M75, M75) -> - | O75: -
K76: Tons/kWh | L76: - | M76: =IF(Dashboard!$C$8="tons", L75, 0) -> 0 | N76: =M79 -> 1.19605 | O76: -
K77: Metric Tons/MWh | L77: - | M77: =IF(Dashboard!$C$8="Metric Tons", (L75/$T$128), 0) -> 0 | N77: =M79*1000 -> 1196.05 | O77: -
K78: Lbs. | L78: - | M78: =IF(Dashboard!$C$8="Pounds", (L75*$Y$10), 0) -> 1.19605 | N78: - | O78: -
K79: Actual | L79: - | M79: =SUM(M76:M78) -> 1.19605 | N79: =IF(Dashboard!$G$4="kWh", N76, N77) -> 1196.05 | O79: =N79*Dashboard!$C$4 -> 1196.05
F80: SO2 | G80: Annual | H80: 5.7635 | I80: =H80/($Y$10*$Y$5) -> 2.88175e-06
L81: Emission Rate with days, type included | M81: Emission Rate with weight unit included | N81: Emission Rate with weight unit, MWh/kWh unit included | O81: Total Emissions, with # of kWh/Mwh included
K82: Output System Average | L82: =I80 -> 2.88175e-06 | M82: - | N82: =IF(Dashboard!$H$4="Metric Tons", (1/$G$128)*M82, M82) -> - | O82: -
K83: Tons/kWh | L83: - | M83: =IF(Dashboard!$C$8="tons", L82, 0) -> 0 | N83: =M86 -> 0.0057635 | O83: -
K84: Metric Tons/MWh | L84: - | M84: =IF(Dashboard!$C$8="Metric Tons", (L82/$T$128), 0) -> 0 | N84: =M86*1000 -> 5.7635 | O84: -
K85: Lbs. | L85: - | M85: =IF(Dashboard!$C$8="Pounds", (L82*$Y$10), 0) -> 0.0057635 | N85: - | O85: -
K86: Actual | L86: - | M86: =SUM(M83:M85) -> 0.0057635 | N86: =IF(Dashboard!$G$4="kWh", N83, N84) -> 5.7635 | O86: =N86*Dashboard!$C$4 -> 5.7635
E87: RFC | F87: NOx | G87: Ozone Season | H87: 1.418 | I87: =H87/($Y$10*$Y$5) -> 7.09e-07
L88: Emission Rate with days, type included | M88: Emission Rate with weight unit included | N88: Emission Rate with weight unit, MWh/kWh unit included | O88: Total Emissions, with # of kWh/Mwh included
K89: Output System Average | L89: =I87 -> 7.09e-07 | M89: - | N89: =IF(Dashboard!$H$4="Metric Tons", (1/$G$128)*M89, M89) -> - | O89: -
K90: Tons/kWh | L90: - | M90: =IF(Dashboard!$C$8="tons", L89, 0) -> 0 | N90: =M93 -> 0.001418 | O90: -
K91: Metric Tons/MWh | L91: - | M91: =IF(Dashboard!$C$8="Metric Tons", (L89/$T$128), 0) -> 0 | N91: =M93*1000 -> 1.418 | O91: -
K92: Lbs. | L92: - | M92: =IF(Dashboard!$C$8="Pounds", (L89*$Y$10), 0) -> 0.001418 | N92: - | O92: -
K93: Actual | L93: - | M93: =SUM(M90:M92) -> 0.001418 | N93: =IF(Dashboard!$G$4="kWh", N90, N91) -> 1.418 | O93: =N93*Dashboard!$C$4 -> 1.418
F94: NOx | G94: Annual | H94: 2.288 | I94: =H94/($Y$10*$Y$5) -> 1.144e-06
L95: Emission Rate with days, type included | M95: Emission Rate with weight unit included | N95: Emission Rate with weight unit, MWh/kWh unit included | O95: Total Emissions, with # of kWh/Mwh included
K96: Output System Average | L96: =I94 -> 1.144e-06 | M96: - | N96: =IF(Dashboard!$H$4="Metric Tons", (1/$G$128)*M96, M96) -> - | O96: -
K97: Tons/kWh | L97: - | M97: =IF(Dashboard!$C$8="tons", L96, 0) -> 0 | N97: =M100 -> 0.002288 | O97: -
K98: Metric Tons/MWh | L98: - | M98: =IF(Dashboard!$C$8="Metric Tons", (L96/$T$128), 0) -> 0 | N98: =M100*1000 -> 2.288 | O98: -
K99: Lbs. | L99: - | M99: =IF(Dashboard!$C$8="Pounds", (L96*$Y$10), 0) -> 0.002288 | N99: - | O99: -
K100: Actual | L100: - | M100: =SUM(M97:M99) -> 0.002288 | N100: =IF(Dashboard!$G$4="kWh", N97, N98) -> 2.288 | O100: =N100*Dashboard!$C$4 -> 2.288
F101: CO2 | G101: Annual | H101: 1427.21 | I101: =H101/($Y$10*$Y$5) -> 0.000713605
L102: Emission Rate with days, type included | M102: Emission Rate with weight unit included | N102: Emission Rate with weight unit, MWh/kWh unit included | O102: Total Emissions, with # of kWh/Mwh included
K103: Output System Average | L103: =I101 -> 0.000713605 | M103: - | N103: =IF(Dashboard!$H$4="Metric Tons", (1/$G$128)*M103, M103) -> - | O103: -
K104: Tons/kWh | L104: - | M104: =IF(Dashboard!$C$8="tons", L103, 0) -> 0 | N104: =M107 -> 1.42721 | O104: -
...

Sheet Non-Baseload Output Rates
A1: Region/State: | B1: Pollutant: | C1: Season/Year? | D1: Given Rate (lb/MWh): | E1: Converted Rate (tons/kWh):
A3: DC | B3: NOx | C3: Ozone Season | D3: 3.4464 | E3: =D3/($T$130*$T$125) -> 1.7232e-06 | H3: Emission Rate with days, type included | I3: Emission Rate with weight unit included | J3: Emission Rate with weight unit, MWh/kWh unit included | K3: Total Emissions, with # of kWh/Mwh included
G4: Non-baseload Rates | H4: =E3 -> 1.7232e-06 | I4: - | J4: =IF(Dashboard!$H$4="Metric Tons", (1/$C$128)*I4, I4) -> - | K4: -
G5: Tons/kWh | H5: - | I5: =IF(Dashboard!$C$8="tons", H4, 0) -> 0 | J5: =I8 -> 0.0034464 | K5: -
G6: Metric Tons/MWh | H6: - | I6: =IF(Dashboard!$C$8="Metric Tons", (H4/$T$128), 0) -> 0 | J6: =I8*1000 -> 3.4464 | K6: -
G7: Lbs. | H7: - | I7: =IF(Dashboard!$C$8="Pounds", (H4*$T$130), 0) -> 0.0034464 | J7: - | K7: -
G8: Actual | H8: - | I8: =SUM(I5:I7) -> 0.0034464 | J8: =IF(Dashboard!$G$4="kWh", J5, J6) -> 3.4464 | K8: =J8*Dashboard!$C$4 -> 3.4464
B10: NOx | C10: Annual | D10: 3.6358 | E10: =D10/($T$130*$T$125) -> 1.8179e-06 | H10: Emission Rate with days, type included | I10: Emission Rate with weight unit included | J10: Emission Rate with weight unit, MWh/kWh unit included | K10: Total Emissions, with # of kWh/Mwh included
G11: Non-baseload Rates | H11: =E10 -> 1.8179e-06 | I11: - | J11: =IF(Dashboard!$H$4="Metric Tons", (1/$C$128)*I11, I11) -> - | K11: -
G12: Tons/kWh | H12: - | I12: =IF(Dashboard!$C$8="tons", H11, 0) -> 0 | J12: =I15 -> 0.0036358 | K12: -
G13: Metric Tons/MWh | H13: - | I13: =IF(Dashboard!$C$8="Metric Tons", (H11/$T$128), 0) -> 0 | J13: =I15*1000 -> 3.6358 | K13: -
G14: Lbs. | H14: - | I14: =IF(Dashboard!$C$8="Pounds", (H11*$T$130), 0) -> 0.0036358 | J14: - | K14: -
G15: Actual | H15: - | I15: =SUM(I12:I14) -> 0.0036358 | J15: =IF(Dashboard!$G$4="kWh", J12, J13) -> 3.6358 | K15: =J15*Dashboard!$C$4 -> 3.6358
B17: CO2 | C17: Annual | D17: 2432.3015 | E17: =D17/($T$130*$T$125) -> 0.0012161508 | H17: Emission Rate with days, type included | I17: Emission Rate with weight unit included | J17: Emission Rate with weight unit, MWh/kWh unit included | K17: Total Emissions, with # of kWh/Mwh included
G18: Non-baseload Rates | H18: =E17 -> 0.0012161508 | I18: - | J18: =IF(Dashboard!$H$4="Metric Tons", (1/$C$128)*I18, I18) -> - | K18: -
G19: Tons/kWh | H19: - | I19: =IF(Dashboard!$C$8="tons", H18, 0) -> 0 | J19: =I22 -> 2.4323015 | K19: -
G20: Metric Tons/MWh | H20: - | I20: =IF(Dashboard!$C$8="Metric Tons", (H18/$T$128), 0) -> 0 | J20: =I22*1000 -> 2432.3015 | K20: -
G21: Lbs. | H21: - | I21: =IF(Dashboard!$C$8="Pounds", (H18*$T$130), 0) -> 2.4323015 | J21: - | K21: -
G22: Actual | H22: - | I22: =SUM(I19:I21) -> 2.4323015 | J22: =IF(Dashboard!$G$4="kWh", J19, J20) -> 2432.3015 | K22: =J22*Dashboard!$C$4 -> 2432.3015
B24: SO2 | C24: Annual | D24: 8.09 | E24: =D24/($T$130*$T$125) -> 4.045e-06 | H24: Emission Rate with days, type included | I24: Emission Rate with weight unit included | J24: Emission Rate with weight unit, MWh/kWh unit included | K24: Total Emissions, with # of kWh/Mwh included
G25: Non-baseload Rates | H25: =E24 -> 4.045e-06 | I25: - | J25: =IF(Dashboard!$H$4="Metric Tons", (1/$C$128)*I25, I25) -> - | K25: -
G26: Tons/kWh | H26: - | I26: =IF(Dashboard!$C$8="tons", H25, 0) -> 0 | J26: =I29 -> 0.00809 | K26: -
G27: Metric Tons/MWh | H27: - | I27: =IF(Dashboard!$C$8="Metric Tons", (H25/$T$128), 0) -> 0 | J27: =I29*1000 -> 8.09 | K27: -
G28: Lbs. | H28: - | I28: =IF(Dashboard!$C$8="Pounds", (H25*$T$130), 0) -> 0.00809 | J28: - | K28: -
G29: Actual | H29: - | I29: =SUM(I26:I28) -> 0.00809 | J29: =IF(Dashboard!$G$4="kWh", J26, J27) -> 8.09 | K29: =J29*Dashboard!$C$4 -> 8.09
A31: MD | B31: NOx | C31: Ozone Season | D31: 3.2551 | E31: =D31/($T$130*$T$125) -> 1.62755e-06
H32: Emission Rate with days, type included | I32: Emission Rate with weight unit included | J32: Emission Rate with weight unit, MWh/kWh unit included | K32: Total Emissions, with # of kWh/Mwh included
G33: Output System Average | H33: =E31 -> 1.62755e-06 | I33: - | J33: =IF(Dashboard!$H$4="Metric Tons", (1/$C$128)*I33, I33) -> - | K33: -
G34: Tons/kWh | H34: - | I34: =IF(Dashboard!$C$8="tons", H33, 0) -> 0 | J34: =I37 -> 0.0032551 | K34: -
G35: Metric Tons/MWh | H35: - | I35: =IF(Dashboard!$C$8="Metric Tons", (H33/$T$128), 0) -> 0 | J35: =I37*1000 -> 3.2551 | K35: -
G36: Lbs. | H36: - | I36: =IF(Dashboard!$C$8="Pounds", (H33*$T$130), 0) -> 0.0032551 | J36: - | K36: -
G37: Actual | H37: - | I37: =SUM(I34:I36) -> 0.0032551 | J37: =IF(Dashboard!$G$4="kWh", J34, J35) -> 3.2551 | K37: =J37*Dashboard!$C$4 -> 3.2551
B38: NOx | C38: Annual | D38: 3.7522 | E38: =D38/($T$130*$T$125) -> 1.8761e-06
H39: Emission Rate with days, type included | I39: Emission Rate with weight unit included | J39: Emission Rate with weight unit, MWh/kWh unit included | K39: Total Emissions, with # of kWh/Mwh included
G40: Non-baseload Rates | H40: =E38 -> 1.8761e-06 | I40: - | J40: =IF(Dashboard!$H$4="Metric Tons", (1/$C$128)*I40, I40) -> - | K40: -
G41: Tons/kWh | H41: - | I41: =IF(Dashboard!$C$8="tons", H40, 0) -> 0 | J41: =I44 -> 0.0037522 | K41: -
G42: Metric Tons/MWh | H42: - | I42: =IF(Dashboard!$C$8="Metric Tons", (H40/$T$128), 0) -> 0 | J42: =I44*1000 -> 3.7522 | K42: -
G43: Lbs. | H43: - | I43: =IF(Dashboard!$C$8="Pounds", (H40*$T$130), 0) -> 0.0037522 | J43: - | K43: -
G44: Actual | H44: - | I44: =SUM(I41:I43) -> 0.0037522 | J44: =IF(Dashboard!$G$4="kWh", J41, J42) -> 3.7522 | K44: =J44*Dashboard!$C$4 -> 3.7522
B45: CO2 | C45: Annual | D45: 1964.52 | E45: =D45/($T$130*$T$125) -> 0.00098226
H46: Emission Rate with days, type included | I46: Emission Rate with weight unit included | J46: Emission Rate with weight unit, MWh/kWh unit included | K46: Total Emissions, with # of kWh/Mwh included
G47: Non-baseload Rates | H47: =E45 -> 0.00098226 | I47: - | J47: =IF(Dashboard!$H$4="Metric Tons", (1/$C$128)*I47, I47) -> - | K47: -
G48: Tons/kWh | H48: - | I48: =IF(Dashboard!$C$8="tons", H47, 0) -> 0 | J48: =I51 -> 1.96452 | K48: -
G49: Metric Tons/MWh | H49: - | I49: =IF(Dashboard!$C$8="Metric Tons", (H47/$T$128), 0) -> 0 | J49: =I51*1000 -> 1964.52 | K49: -
G50: Lbs. | H50: - | I50: =IF(Dashboard!$C$8="Pounds", (H47*$T$130), 0) -> 1.96452 | J50: - | K50: -
G51: Actual | H51: - | I51: =SUM(I48:I50) -> 1.96452 | J51: =IF(Dashboard!$G$4="kWh", J48, J49) -> 1964.52 | K51: =J51*Dashboard!$C$4 -> 1964.52
B52: SO2 | C52: Annual | D52: 17.1892 | E52: =D52/($T$130*$T$125) -> 8.5946e-06
H53: Emission Rate with days, type included | I53: Emission Rate with weight unit included | J53: Emission Rate with weight unit, MWh/kWh unit included | K53: Total Emissions, with # of kWh/Mwh included
G54: Non-baseload Rates | H54: =E52 -> 8.5946e-06 | I54: - | J54: =IF(Dashboard!$H$4="Metric Tons", (1/$C$128)*I54, I54) -> - | K54: -
G55: Tons/kWh | H55: - | I55: =IF(Dashboard!$C$8="tons", H54, 0) -> 0 | J55: =I58 -> 0.0171892 | K55: -
G56: Metric Tons/MWh | H56: - | I56: =IF(Dashboard!$C$8="Metric Tons", (H54/$T$128), 0) -> 0 | J56: =I58*1000 -> 17.1892 | K56: -
G57: Lbs. | H57: - | I57: =IF(Dashboard!$C$8="Pounds", (H54*$T$130), 0) -> 0.0171892 | J57: - | K57: -
G58: Actual | H58: - | I58: =SUM(I55:I57) -> 0.0171892 | J58: =IF(Dashboard!$G$4="kWh", J55, J56) -> 17.1892 | K58: =J58*Dashboard!$C$4 -> 17.1892
A59: VA | B59: NOx | C59: Ozone Season | D59: 1.6196 | E59: =D59/($T$130*$T$125) -> 8.098e-07
H60: Emission Rate with days, type included | I60: Emission Rate with weight unit included | J60: Emission Rate with weight unit, MWh/kWh unit included | K60: Total Emissions, with # of kWh/Mwh included
G61: Non-baseload Rates | H61: =E59 -> 8.098e-07 | I61: - | J61: =IF(Dashboard!$H$4="Metric Tons", (1/$C$128)*I61, I61) -> - | K61: -
G62: Tons/kWh | H62: - | I62: =IF(Dashboard!$C$8="tons", H61, 0) -> 0 | J62: =I65 -> 0.0016196 | K62: -
G63: Metric Tons/MWh | H63: - | I63: =IF(Dashboard!$C$8="Metric Tons", (H61/$T$128), 0) -> 0 | J63: =I65*1000 -> 1.6196 | K63: -
G64: Lbs. | H64: - | I64: =IF(Dashboard!$C$8="Pounds", (H61*$T$130), 0) -> 0.0016196 | J64: - | K64: -
G65: Actual | H65: - | I65: =SUM(I62:I64) -> 0.0016196 | J65: =IF(Dashboard!$G$4="kWh", J62, J63) -> 1.6196 | K65: =J65*Dashboard!$C$4 -> 1.6196
B66: NOx | C66: Annual | D66: 2.3057 | E66: =D66/($T$130*$T$125) -> 1.15285e-06
H67: Emission Rate with days, type included | I67: Emission Rate with weight unit included | J67: Emission Rate with weight unit, MWh/kWh unit included | K67: Total Emissions, with # of kWh/Mwh included
G68: Non-baseload Rates | H68: =E66 -> 1.15285e-06 | I68: - | J68: =IF(Dashboard!$H$4="Metric Tons", (1/$C$128)*I68, I68) -> - | K68: -
G69: Tons/kWh | H69: - | I69: =IF(Dashboard!$C$8="tons", H68, 0) -> 0 | J69: =I72 -> 0.0023057 | K69: -
G70: Metric Tons/MWh | H70: - | I70: =IF(Dashboard!$C$8="Metric Tons", (H68/$T$128), 0) -> 0 | J70: =I72*1000 -> 2.3057 | K70: -
G71: Lbs. | H71: - | I71: =IF(Dashboard!$C$8="Pounds", (H68*$T$130), 0) -> 0.0023057 | J71: - | K71: -
G72: Actual | H72: - | I72: =SUM(I69:I71) -> 0.0023057 | J72: =IF(Dashboard!$G$4="kWh", J69, J70) -> 2.3057 | K72: =J72*Dashboard!$C$4 -> 2.3057
B73: CO2 | C73: Annual | D73: 1612.42 | E73: =D73/($T$130*$T$125) -> 0.00080621
H74: Emission Rate with days, type included | I74: Emission Rate with weight unit included | J74: Emission Rate with weight unit, MWh/kWh unit included | K74: Total Emissions, with # of kWh/Mwh included
G75: Non-baseload Rates | H75: =E73 -> 0.00080621 | I75: - | J75: =IF(Dashboard!$H$4="Metric Tons", (1/$C$128)*I75, I75) -> - | K75: -
G76: Tons/kWh | H76: - | I76: =IF(Dashboard!$C$8="tons", H75, 0) -> 0 | J76: =I79 -> 1.61242 | K76: -
G77: Metric Tons/MWh | H77: - | I77: =IF(Dashboard!$C$8="Metric Tons", (H75/$T$128), 0) -> 0 | J77: =I79*1000 -> 1612.42 | K77: -
G78: Lbs. | H78: - | I78: =IF(Dashboard!$C$8="Pounds", (H75*$T$130), 0) -> 1.61242 | J78: - | K78: -
G79: Actual | H79: - | I79: =SUM(I76:I78) -> 1.61242 | J79: =IF(Dashboard!$G$4="kWh", J76, J77) -> 1612.42 | K79: =J79*Dashboard!$C$4 -> 1612.42
B80: SO2 | C80: Annual | D80: 8.7684 | E80: =D80/($T$130*$T$125) -> 4.3842e-06
H81: Emission Rate with days, type included | I81: Emission Rate with weight unit included | J81: Emission Rate with weight unit, MWh/kWh unit included | K81: Total Emissions, with # of kWh/Mwh included
G82: Non-baseload Rates | H82: =E80 -> 4.3842e-06 | I82: - | J82: =IF(Dashboard!$H$4="Metric Tons", (1/$C$128)*I82, I82) -> - | K82: -
G83: Tons/kWh | H83: - | I83: =IF(Dashboard!$C$8="tons", H82, 0) -> 0 | J83: =I86 -> 0.0087684 | K83: -
G84: Metric Tons/MWh | H84: - | I84: =IF(Dashboard!$C$8="Metric Tons", (H82/$T$128), 0) -> 0 | J84: =I86*1000 -> 8.7684 | K84: -
G85: Lbs. | H85: - | I85: =IF(Dashboard!$C$8="Pounds", (H82*$T$130), 0) -> 0.0087684 | J85: - | K85: -
G86: Actual | H86: - | I86: =SUM(I83:I85) -> 0.0087684 | J86: =IF(Dashboard!$G$4="kWh", J83, J84) -> 8.7684 | K86: =J86*Dashboard!$C$4 -> 8.7684
A87: RFC | B87: NOx | C87: Ozone Season | D87: 2.3145 | E87: =D87/($T$130*$T$125) -> 1.15725e-06
H88: Emission Rate with days, type included | I88: Emission Rate with weight unit included | J88: Emission Rate with weight unit, MWh/kWh unit included | K88: Total Emissions, with # of kWh/Mwh included
G89: Non-baseload Rates | H89: =E87 -> 1.15725e-06 | I89: - | J89: =IF(Dashboard!$H$4="Metric Tons", (1/$C$128)*I89, I89) -> - | K89: -
G90: Tons/kWh | H90: - | I90: =IF(Dashboard!$C$8="tons", H89, 0) -> 0 | J90: =I93 -> 0.0023145 | K90: -
G91: Metric Tons/MWh | H91: - | I91: =IF(Dashboard!$C$8="Metric Tons", (H89/$T$128), 0) -> 0 | J91: =I93*1000 -> 2.3145 | K91: -
G92: Lbs. | H92: - | I92: =IF(Dashboard!$C$8="Pounds", (H89*$T$130), 0) -> 0.0023145 | J92: - | K92: -
G93: Actual | H93: - | I93: =SUM(I90:I92) -> 0.0023145 | J93: =IF(Dashboard!$G$4="kWh", J90, J91) -> 2.3145 | K93: =J93*Dashboard!$C$4 -> 2.3145
B94: NOx | C94: Annual | D94: 3.0587 | E94: =D94/($T$130*$T$125) -> 1.52935e-06
H95: Emission Rate with days, type included | I95: Emission Rate with weight unit included | J95: Emission Rate with weight unit, MWh/kWh unit included | K95: Total Emissions, with # of kWh/Mwh included
G96: Non-baseload Rates | H96: =E94 -> 1.52935e-06 | I96: - | J96: =IF(Dashboard!$H$4="Metric Tons", (1/$C$128)*I96, I96) -> - | K96: -
G97: Tons/kWh | H97: - | I97: =IF(Dashboard!$C$8="tons", H96, 0) -> 0 | J97: =I100 -> 0.0030587 | K97: -
G98: Metric Tons/MWh | H98: - | I98: =IF(Dashboard!$C$8="Metric Tons", (H96/$T$128), 0) -> 0 | J98: =I100*1000 -> 3.0587 | K98: -
G99: Lbs. | H99: - | I99: =IF(Dashboard!$C$8="Pounds", (H96*$T$130), 0) -> 0.0030587 | J99: - | K99: -
G100: Actual | H100: - | I100: =SUM(I97:I99) -> 0.0030587 | J100: =IF(Dashboard!$G$4="kWh", J97, J98) -> 3.0587 | K100: =J100*Dashboard!$C$4 -> 3.0587
B101: CO2 | C101: Annual | D101: 1882.91 | E101: =D101/($T$130*$T$125) -> 0.000941455
H102: Emission Rate with days, type included | I102: Emission Rate with weight unit included | J102: Emission Rate with weight unit, MWh/kWh unit included | K102: Total Emissions, with # of kWh/Mwh included
G103: Non-baseload Rates | H103: =E101 -> 0.000941455 | I103: - | J103: =IF(Dashboard!$H$4="Metric Tons", (1/$C$128)*I103, I103) -> - | K103: -
G104: Tons/kWh | H104: - | I104: =IF(Dashboard!$C$8="tons", H103, 0) -> 0 | J104: =I107 -> 1.88291 | K104: -
G105: Metric Tons/MWh | H105: - | I105: =IF(Dashboard!$C$8="Metric Tons", (H103/$T$128), 0) -> 0 | J105: =I107*1000 -> 1882.91 | K105: -
...

Sheet Rate Reference
E1: Output System Average Rate | M1: Non-Baseload Average Rate | U1: Time Matched Marginal Rate | AA1: User-Defined Rate
AA2: O3 Season Nox
A3: Time Matched Marginal | G3: Emission Rate: | H3: Including Region: | I3: Including Pollutant: | J3: Including Time Period: | K3: Emissions: | O3: Emission Rate: | P3: Including Region | Q3: Including Pollutant: | R3: Including Time Period: | S3: Emissions: | V3: Emission Rate: | W3: Including Pollutant: | X3: Including Time Period: | Y3: Emissions: | AB3: Emission Rate: | AC3: Including Pollutant: | AD3: Including Time Period: | AE3: Emissions:
A4: System Average | F4: DC | G4: =IF(Dashboard!$C$12 = A4, 'Output Sys. Avg. Rates'!$N$8, 0) -> 3.4464 | H4: =IF(Dashboard!$C$17=F4, G4, 0) -> 3.4464 | I4: =IF(Dashboard!$C$21=$A$8, H4, 0) -> 0 | K4: =IF($B$4=TRUE, 'Output Sys. Avg. Rates'!$O$8, 0) -> 0 | N4: DC | O4: =IF(Dashboard!$C$12 = A5, 'Non-Baseload Output Rates'!$J$8, 0) -> 0 | P4: =IF(Dashboard!$C$17=N4, O4, 0) -> 0 | Q4: =IF(Dashboard!$C$21=$A$8, P4, 0) -> 0 | S4: =IF($B$4=TRUE, 'Output Sys. Avg. Rates'!$O$8, " ")
A5: Non-Baseload Average | E5: O3 Season Nox | F5: Maryland | G5: =IF(Dashboard!$C$12 = A4, 'Output Sys. Avg. Rates'!$N$37, 0) -> 1.8401 | H5: =IF(Dashboard!$C$17=F5, G5, 0) -> 0 | I5: =IF(Dashboard!$C$21=$A$8, H5, 0) -> 0 | K5: =IF($B$4=TRUE, 'Output Sys. Avg. Rates'!$O$37, 0) -> 0 | M5: O3 Season Nox | N5: Maryland | O5: =IF(Dashboard!$C$12 = A5, 'Non-Baseload Output Rates'!$J$37, 0) -> 0 | P5: =IF(Dashboard!$C$17=N5, O5, 0) -> 0 | Q5: =IF(Dashboard!$C$21=$A$8, P5, 0) -> 0 | S5: =IF($B$4=TRUE, 'Output Sys. Avg. Rates'!$O$37, " ") | U5: O3 Season Nox | V5: =IF(Dashboard!$C$12=A3, 'Rate Lookup'!$L$9, 0) -> 0 | W5: =IF(Dashboard!$C$21=$A$8, V5, 0) -> 0 | AA5: O3 Season Nox | AB5: ='Rate Lookup'!$L$16 -> 0 | AC5: =IF(Dashboard!$C$21=$A$8, AB5, 0) -> 0
F6: Virginia | G6: =IF(Dashboard!$C$12=A4,'Output Sys. Avg. Rates'!$N$65,0) -> 1.2729 | H6: =IF(Dashboard!$C$17=F6, G6, 0) -> 0 | I6: =IF(Dashboard!$C$21=$A$8, H6, 0) -> 0 | K6: =IF($B$4=TRUE, 'Output Sys. Avg. Rates'!$O$65, 0) -> 0 | N6: Virginia | O6: =IF(Dashboard!$C$12 = A5, 'Non-Baseload Output Rates'!$J$65, 0) -> 0 | P6: =IF(Dashboard!$C$17=N6, O6, 0) -> 0 | Q6: =IF(Dashboard!$C$21=$A$8, P6, 0) -> 0 | S6: =IF($B$4=TRUE, 'Output Sys. Avg. Rates'!$O$65, " ")
F7: RFC | G7: =IF(Dashboard!$C$12 = A4, 'Output Sys. Avg. Rates'!$N$93, 0) -> 1.418 | H7: =IF(Dashboard!$C$17=F7, G7, 0) -> 0 | I7: =IF(Dashboard!$C$21=$A$8, H7, 0) -> 0 | K7: =IF($B$4=TRUE, 'Output Sys. Avg. Rates'!$O$93, 0) -> 0 | N7: RFC | O7: =IF(Dashboard!$C$12 = A5, 'Non-Baseload Output Rates'!$J$93, 0) -> 0 | P7: =IF(Dashboard!$C$17=N7, O7, 0) -> 0 | Q7: =IF(Dashboard!$C$21=$A$8, P7, 0) -> 0 | S7: =IF($B$4=TRUE, 'Output Sys. Avg. Rates'!$O$93, " ")
A8: Nitrogen_Oxides | F8: SERC | G8: =IF(Dashboard!$C$12 = A4, 'Output Sys. Avg. Rates'!$N$121, 0) -> 1.3027 | H8: =IF(Dashboard!$C$17=F8, G8, 0) -> 0 | I8: =IF(Dashboard!$C$21=$A$8, H8, 0) -> 0 | K8: =IF($B$4=TRUE, 'Output Sys. Avg. Rates'!$O$121, 0) -> 0 | N8: SERC | O8: =IF(Dashboard!$C$12 = A5, 'Non-Baseload Output Rates'!$J$121, 0) -> 0 | P8: =IF(Dashboard!$C$17=N8, O8, 0) -> 0 | Q8: =IF(Dashboard!$C$21=$A$8, P8, 0) -> 0 | S8: =IF($B$4=TRUE, 'Output Sys. Avg. Rates'!$O$121, " ")
A9: Carbon_Dioxide | F9: RFC East | G9: =IF(Dashboard!$C$12 = A4, 'Output Sys. Avg. Rates'!$N$149, 0) -> 1.1707 | H9: =IF(Dashboard!$C$17=F9, G9, 0) -> 0 | I9: =IF(Dashboard!$C$21=$A$8, H9, 0) -> 0 | K9: =IF($B$4=TRUE, 'Output Sys. Avg. Rates'!$O$149, 0) -> 0 | N9: RFC East | O9: =IF(Dashboard!$C$12 = A5, 'Non-Baseload Output Rates'!$J$149, 0) -> 0 | P9: =IF(Dashboard!$C$17=N9, O9, 0) -> 0 | Q9: =IF(Dashboard!$C$21=$A$8, P9, 0) -> 0 | S9: =IF($B$4=TRUE, 'Output Sys. Avg. Rates'!$O$149, " ")
A10: Sulfer_Dioxide | F10: SRVC | G10: =IF(Dashboard!$C$12 = A4, 'Output Sys. Avg. Rates'!$N$177, 0) -> 0.9672 | H10: =IF(Dashboard!$C$17=F10, G10, 0) -> 0 | I10: =IF(Dashboard!$C$21=$A$8, H10, 0) -> 0 | K10: =IF($B$4=TRUE, 'Output Sys. Avg. Rates'!$O$177, 0) -> 0 | N10: SRVC | O10: =IF(Dashboard!$C$12 = A5, 'Non-Baseload Output Rates'!$J$177, 0) -> 0 | P10: =IF(Dashboard!$C$17=N10, O10, 0) -> 0 | Q10: =IF(Dashboard!$C$21=$A$8, P10, 0) -> 0
G11: Actual | H11: =SUM(H4:H10) -> 3.4464 | I11: =IF(Dashboard!$C$21=$A$8, H11, 0) -> 0 | K11: =IF($B$4=TRUE, 'Output Sys. Avg. Rates'!$O$121, 0) -> 0 | O11: Actual | P11: =SUM(P4:P10) -> 0 | Q11: =IF(Dashboard!$C$21=$A$8, P11, 0) -> 0
A12: Annual | B12: Annual
A13: Ozone Season
E14: Annual Nox | M14: Annual Nox | U14: Annual Nox | V14: =IF(Dashboard!$C$12=A3, 'Rate Lookup'!L38, 0) -> 0 | W14: =IF(Dashboard!$C$21=$A$8, V14, 0) -> 0 | X14: =IF(Dashboard!$G$21=$A$12, W14, W5) -> 0 | Y14: =X14*Dashboard!$C$4 -> 0 | AA14: Annual Nox | AB14: ='Rate Lookup'!$L$45 -> 0 | AC14: =IF(Dashboard!$C$21=$A$8, AB14, 0) -> 0 | AD14: =IF(Dashboard!$G$21=$A$12, AC14, AC5) -> 0 | AE14: =AD14*Dashboard!$C$4 -> 0
A15: Wind | F15: DC | G15: =IF(Dashboard!$C$12 = A4, 'Output Sys. Avg. Rates'!$N$15, 0) -> 3.6538 | H15: =IF(Dashboard!$C$17=F15, G15, 0) -> 3.6538 | I15: =IF(Dashboard!$C$21=$A$8, H15, 0) -> 0 | K15: =IF($B$4=TRUE, 'Output Sys. Avg. Rates'!$O$15, 0) -> 0 | N15: DC | O15: =IF(Dashboard!$C$12 = A5, 'Non-Baseload Output Rates'!$J$15, 0) -> 0 | P15: =IF(Dashboard!$C$17=N15, O15, 0) -> 0 | Q15: =IF(Dashboard!$C$21=$A$8, P15, 0) -> 0 | S15: =IF($B$4=TRUE, 'Output Sys. Avg. Rates'!$O$15, 0) -> 0
A16: PV | F16: Maryland | G16: =IF(Dashboard!$C$12 = A4, 'Output Sys. Avg. Rates'!$N$44, 0) -> 2.4622 | H16: =IF(Dashboard!$C$17=F16, G16, 0) -> 0 | I16: =IF(Dashboard!$C$21=$A$8, H16, 0) -> 0 | K16: =IF($B$4=TRUE, 'Output Sys. Avg. Rates'!$O$44, 0) -> 0 | N16: Maryland | O16: =IF(Dashboard!$C$12 = A5, 'Non-Baseload Output Rates'!$J$44, 0) -> 0 | P16: =IF(Dashboard!$C$17=N16, O16, 0) -> 0 | Q16: =IF(Dashboard!$C$21=$A$8, P16, 0) -> 0 | S16: =IF($B$4=TRUE, 'Output Sys. Avg. Rates'!$O$44, 0) -> 0
A17: HVAC | F17: Virginia | G17: =IF(Dashboard!$C$12 = A4, 'Output Sys. Avg. Rates'!$N$72, 0) -> 1.789 | H17: =IF(Dashboard!$C$17=F17, G17, 0) -> 0 | I17: =IF(Dashboard!$C$21=$A$8, H17, 0) -> 0 | K17: =IF($B$4=TRUE, 'Output Sys. Avg. Rates'!$O$72, 0) -> 0 | N17: Virginia | O17: =IF(Dashboard!$C$12 = A5, 'Non-Baseload Output Rates'!$J$72, 0) -> 0 | P17: =IF(Dashboard!$C$17=N17, O17, 0) -> 0 | Q17: =IF(Dashboard!$C$21=$A$8, P17, 0) -> 0 | S17: =IF($B$4=TRUE, 'Output Sys. Avg. Rates'!$O$72, 0) -> 0
A18: Lighting | F18: RFC | G18: =IF(Dashboard!$C$12 = A4, 'Output Sys. Avg. Rates'!$N$100, 0) -> 2.288 | H18: =IF(Dashboard!$C$17=F18, G18, 0) -> 0 | I18: =IF(Dashboard!$C$21=$A$8, H18, 0) -> 0 | K18: =IF($B$4=TRUE, 'Output Sys. Avg. Rates'!$O$100, 0) -> 0 | N18: RFC | O18: =IF(Dashboard!$C$12 = A5, 'Non-Baseload Output Rates'!$J$100, 0) -> 0 | P18: =IF(Dashboard!$C$17=N18, O18, 0) -> 0 | Q18: =IF(Dashboard!$C$21=$A$8, P18, 0) -> 0 | S18: =IF($B$4=TRUE, 'Output Sys. Avg. Rates'!$O$100, 0) -> 0
A19: LED | F19: SERC | G19: =IF(Dashboard!$C$12 = A4, 'Output Sys. Avg. Rates'!$N$121, 0) -> 1.3027 | H19: =IF(Dashboard!$C$17=F19, G19, 0) -> 0 | I19: =IF(Dashboard!$C$21=$A$8, H19, 0) -> 0 | K19: =IF($B$4=TRUE, 'Output Sys. Avg. Rates'!$O$121, 0) -> 0 | N19: SERC | O19: =IF(Dashboard!$C$12 = A5, 'Non-Baseload Output Rates'!$J$121, 0) -> 0 | P19: =IF(Dashboard!$C$17=N19, O19, 0) -> 0 | Q19: =IF(Dashboard!$C$21=$A$8, P19, 0) -> 0 | S19: =IF($B$4=TRUE, 'Output Sys. Avg. Rates'!$O$121, 0) -> 0
A20: Generic | F20: RFC East | G20: =IF(Dashboard!$C$12 = A4, 'Output Sys. Avg. Rates'!$N$156, 0) -> 1.6307 | H20: =IF(Dashboard!$C$17=F20, G20, 0) -> 0 | I20: =IF(Dashboard!$C$21=$A$8, H20, 0) -> 0 | K20: =IF($B$4=TRUE, 'Output Sys. Avg. Rates'!$O$156, 0) -> 0 | N20: RFC East | O20: =IF(Dashboard!$C$12 = A5, 'Non-Baseload Output Rates'!$J$156, 0) -> 0 | P20: =IF(Dashboard!$C$17=N20, O20, 0) -> 0 | Q20: =IF(Dashboard!$C$21=$A$8, P20, 0) -> 0 | S20: =IF($B$4=TRUE, 'Output Sys. Avg. Rates'!$O$156, 0) -> 0
F21: SRVC | G21: =IF(Dashboard!$C$12 = A4, 'Output Sys. Avg. Rates'!$N$184, 0) -> 1.6053 | H21: =IF(Dashboard!$C$17=F21, G21, 0) -> 0 | I21: =IF(Dashboard!$C$21=$A$8, H21, 0) -> 0 | K21: =IF($B$4=TRUE, 'Output Sys. Avg. Rates'!$O$184, 0) -> 0 | N21: SRVC | O21: =IF(Dashboard!$C$12 = A5, 'Non-Baseload Output Rates'!$J$184, 0) -> 0 | P21: =IF(Dashboard!$C$17=N21, O21, 0) -> 0 | Q21: =IF(Dashboard!$C$21=$A$8, P21, 0) -> 0 | S21: =IF($B$4=TRUE, 'Output Sys. Avg. Rates'!$O$184, 0) -> 0
A22: DC | G22: Actual | H22: =SUM(H15:H21) -> 3.6538 | I22: =SUM(I15:I21) -> 0 | J22: =IF(Dashboard!$G$21=A12, I22, I11) -> 0 | K22: =J22*Dashboard!$C$4 -> 0 | O22: Actual | P22: =SUM(P15:P21) -> 0 | Q22: =SUM(Q15:Q21) -> 0 | R22: =IF(Dashboard!$G$21=$A$12, Q22, Q11) -> 0 | S22: =R22*Dashboard!$C$4 -> 0
A23: Maryland | E23: Annual CO2 | M23: Annual CO2 | U23: Annual CO2 | V23: =IF(Dashboard!$C$12=A3, 'Rate Lookup'!L69, 0) -> 0 | W23: =IF(Dashboard!$C$21=$A$9, V23, 0) -> 0 | X23: =W23 -> 0 | Y23: =W23*Dashboard!$C$4 -> 0 | AA23: Annual CO2 | AB23: ='Rate Lookup'!$L$76 -> 0 | AC23: =IF(Dashboard!$C$21=$A$9, AB23, 0) -> 0 | AD23: =AC23 -> 0 | AE23: =AD23*Dashboard!$C$4 -> 0
A24: Virginia | F24: DC | G24: =IF(Dashboard!$C$12 = A4, 'Output Sys. Avg. Rates'!$N$22, 0) -> 2432.3 | H24: =IF(Dashboard!$C$17=F24, G24, 0) -> 2432.3 | I24: =IF(Dashboard!$C$21=$A$9, H24, 0) -> 0 | N24: DC | O24: =IF(Dashboard!$C$12 = A5, 'Non-Baseload Output Rates'!$J$22, 0) -> 0 | P24: =IF(Dashboard!$C$17=N24, O24, 0) -> 0 | Q24: =IF(Dashboard!$C$21=$A$9, P24, 0) -> 0 | S24: =IF($B$4=TRUE, 'Output Sys. Avg. Rates'!$O$22, 0) -> 0
A25: RFC | F25: Maryland | G25: =IF(Dashboard!$C$12 = A4, 'Output Sys. Avg. Rates'!$N$51, 0) -> 1352.27 | H25: =IF(Dashboard!$C$17=F25, G25, 0) -> 0 | I25: =IF(Dashboard!$C$21=$A$9, H25, 0) -> 0 | N25: Maryland | O25: =IF(Dashboard!$C$12 = A5, 'Non-Baseload Output Rates'!$J$51, 0) -> 0 | P25: =IF(Dashboard!$C$17=N25, O25, 0) -> 0 | Q25: =IF(Dashboard!$C$21=$A$9, P25, 0) -> 0 | S25: =IF($B$4=TRUE, 'Output Sys. Avg. Rates'!$O$51, 0) -> 0
A26: SERC | F26: Virginia | G26: =IF(Dashboard!$C$12 = A4, 'Output Sys. Avg. Rates'!$N$79, 0) -> 1196.05 | H26: =IF(Dashboard!$C$17=F26, G26, 0) -> 0 | I26: =IF(Dashboard!$C$21=$A$9, H26, 0) -> 0 | N26: Virginia | O26: =IF(Dashboard!$C$12 = A5, 'Non-Baseload Output Rates'!$J$79, 0) -> 0 | P26: =IF(Dashboard!$C$17=N26, O26, 0) -> 0 | Q26: =IF(Dashboard!$C$21=$A$9, P26, 0) -> 0 | S26: =IF($B$4=TRUE, 'Output Sys. Avg. Rates'!$O$79, 0) -> 0
A27: RFC East | F27: RFC | G27: =IF(Dashboard!$C$12 = A4, 'Output Sys. Avg. Rates'!$N$107, 0) -> 1427.21 | H27: =IF(Dashboard!$C$17=F27, G27, 0) -> 0 | I27: =IF(Dashboard!$C$21=$A$9, H27, 0) -> 0 | N27: RFC | O27: =IF(Dashboard!$C$12 = A5, 'Non-Baseload Output Rates'!$J$107, 0) -> 0 | P27: =IF(Dashboard!$C$17=N27, O27, 0) -> 0 | Q27: =IF(Dashboard!$C$21=$A$9, P27, 0) -> 0 | S27: =IF($B$4=TRUE, 'Output Sys. Avg. Rates'!$O$107, 0) -> 0
A28: SRVC | F28: SERC | G28: =IF(Dashboard!$C$12 = A4, 'Output Sys. Avg. Rates'!$N$135, 0) -> 1368.85 | H28: =IF(Dashboard!$C$17=F28, G28, 0) -> 0 | I28: =IF(Dashboard!$C$21=$A$9, H28, 0) -> 0 | N28: SERC | O28: =IF(Dashboard!$C$12 = A5, 'Non-Baseload Output Rates'!$J$135, 0) -> 0 | P28: =IF(Dashboard!$C$17=N28, O28, 0) -> 0 | Q28: =IF(Dashboard!$C$21=$A$9, P28, 0) -> 0 | S28: =IF($B$4=TRUE, 'Output Sys. Avg. Rates'!$O$135, 0) -> 0
F29: RFC East | G29: =IF(Dashboard!$C$12 = A4, 'Output Sys. Avg. Rates'!$N$163, 0) -> 1139.07 | H29: =IF(Dashboard!$C$17=F29, G29, 0) -> 0 | I29: =IF(Dashboard!$C$21=$A$9, H29, 0) -> 0 | N29: RFC East | O29: =IF(Dashboard!$C$12 = A5, 'Non-Baseload Output Rates'!$J$163, 0) -> 0 | P29: =IF(Dashboard!$C$17=N29, O29, 0) -> 0 | Q29: =IF(Dashboard!$C$21=$A$9, P29, 0) -> 0 | S29: =IF($B$4=TRUE, 'Output Sys. Avg. Rates'!$O$163, 0) -> 0
F30: SRVC | G30: =IF(Dashboard!$C$12 = A4, 'Output Sys. Avg. Rates'!$N$191, 0) -> 1134.88 | H30: =IF(Dashboard!$C$17=F30, G30, 0) -> 0 | I30: =IF(Dashboard!$C$21=$A$9, H30, 0) -> 0 | N30: SRVC | O30: =IF(Dashboard!$C$12 = A5, 'Non-Baseload Output Rates'!$J$191, 0) -> 0 | P30: =IF(Dashboard!$C$17=N30, O30, 0) -> 0 | Q30: =IF(Dashboard!$C$21=$A$9, P30, 0) -> 0 | S30: =IF($B$4=TRUE, 'Output Sys. Avg. Rates'!$O$191, 0) -> 0
G31: Actual | H31: =SUM(H24:H30) -> 2432.3 | I31: =SUM(I24:I30) -> 0 | J31: =I31 -> 0 | K31: =J31*Dashboard!$C$4 -> 0 | O31: Actual | P31: =SUM(P24:P30) -> 0 | Q31: =SUM(Q24:Q30) -> 0 | R31: =Q31 -> 0 | S31: =R31*Dashboard!$C$4 -> 0
E32: Annual SO2 | M32: Annual SO2 | U32: Annual SO2 | V32: =IF(Dashboard!$C$12=A3, 'Rate Lookup'!L99, 0) -> 0 | W32: =IF(Dashboard!$C$21=$A$10, V32, 0) -> 0 | X32: =W32 -> 0 | Y32: =W32*Dashboard!$C$4 -> 0 | AA32: Annual SO2 | AB32: ='Rate Lookup'!$L$106 -> 0 | AC32: =IF(Dashboard!$C$21=$A$10, AB32, 0) -> 0 | AD32: =AC32 -> 0 | AE32: =AD32*Dashboard!$C$4 -> 0
F33: DC | G33: =IF(Dashboard!$C$12 = A4, 'Output Sys. Avg. Rates'!$N$29, 0) -> 8.09 | H33: =IF(Dashboard!$C$17=F33, G33, 0) -> 8.09 | I33: =IF(Dashboard!$C$21=$A$10, H33, 0) -> 8.09 | N33: DC | O33: =IF(Dashboard!$C$12 = A5, 'Output Sys. Avg. Rates'!$N$29, 0) -> 0 | P33: =IF(Dashboard!$C$17=N33, O33, 0) -> 0 | Q33: =IF(Dashboard!$C$21=$A$10, P33, 0) -> 0 | S33: =IF($B$4=TRUE, 'Output Sys. Avg. Rates'!$O$29, 0) -> 0
F34: Maryland | G34: =IF(Dashboard!$C$12 = A4, 'Output Sys. Avg. Rates'!$N$58, 0) -> 10.9375 | H34: =IF(Dashboard!$C$17=F34, G34, 0) -> 0 | I34: =IF(Dashboard!$C$21=$A$10, H34, 0) -> 0 | N34: Maryland | O34: =IF(Dashboard!$C$12 = A5, 'Output Sys. Avg. Rates'!$N$58, 0) -> 0 | P34: =IF(Dashboard!$C$17=N34, O34, 0) -> 0 | Q34: =IF(Dashboard!$C$21=$A$10, P34, 0) -> 0 | S34: =IF($B$4=TRUE, 'Output Sys. Avg. Rates'!$O$58, 0) -> 0
F35: Virginia | G35: =IF(Dashboard!$C$12 = A4, 'Output Sys. Avg. Rates'!$N$86, 0) -> 5.7635 | H35: =IF(Dashboard!$C$17=F35, G35, 0) -> 0 | I35: =IF(Dashboard!$C$21=$A$10, H35, 0) -> 0 | N35: Virginia | O35: =IF(Dashboard!$C$12 = A5, 'Output Sys. Avg. Rates'!$N$86, 0) -> 0 | P35: =IF(Dashboard!$C$17=N35, O35, 0) -> 0 | Q35: =IF(Dashboard!$C$21=$A$10, P35, 0) -> 0 | S35: =IF($B$4=TRUE, 'Output Sys. Avg. Rates'!$O$86, 0) -> 0
F36: RFC | G36: =IF(Dashboard!$C$12 = A4, 'Output Sys. Avg. Rates'!$N$114, 0) -> 8.9846 | H36: =IF(Dashboard!$C$17=F36, G36, 0) -> 0 | I36: =IF(Dashboard!$C$21=$A$10, H36, 0) -> 0 | N36: RFC | O36: =IF(Dashboard!$C$12 = A5, 'Output Sys. Avg. Rates'!$N$114, 0) -> 0 | P36: =IF(Dashboard!$C$17=N36, O36, 0) -> 0 | Q36: =IF(Dashboard!$C$21=$A$10, P36, 0) -> 0 | S36: =IF($B$4=TRUE, 'Output Sys. Avg. Rates'!$O$114, 0) -> 0
F37: SERC | G37: =IF(Dashboard!$C$12 = A4, 'Output Sys. Avg. Rates'!$N$142, 0) -> 6.2443 | H37: =IF(Dashboard!$C$17=F37, G37, 0) -> 0 | I37: =IF(Dashboard!$C$21=$A$10, H37, 0) -> 0 | N37: SERC | O37: =IF(Dashboard!$C$12 = A5, 'Output Sys. Avg. Rates'!$N$142, 0) -> 0 | P37: =IF(Dashboard!$C$17=N37, O37, 0) -> 0 | Q37: =IF(Dashboard!$C$21=$A$10, P37, 0) -> 0 | S37: =IF($B$4=TRUE, 'Output Sys. Avg. Rates'!$O$142, 0) -> 0
F38: RFC East | G38: =IF(Dashboard!$C$12 = A4, 'Output Sys. Avg. Rates'!$N$170, 0) -> 7.7918 | H38: =IF(Dashboard!$C$17=F38, G38, 0) -> 0 | I38: =IF(Dashboard!$C$21=$A$10, H38, 0) -> 0 | N38: RFC East | O38: =IF(Dashboard!$C$12 = A5, 'Output Sys. Avg. Rates'!$N$170, 0) -> 0 | P38: =IF(Dashboard!$C$17=N38, O38, 0) -> 0 | Q38: =IF(Dashboard!$C$21=$A$10, P38, 0) -> 0 | S38: =IF($B$4=TRUE, 'Output Sys. Avg. Rates'!$O$170, 0) -> 0
F39: SRVC | G39: =IF(Dashboard!$C$12 = A4, 'Output Sys. Avg. Rates'!$N$198, 0) -> 5.8858 | H39: =IF(Dashboard!$C$17=F39, G39, 0) -> 0 | I39: =IF(Dashboard!$C$21=$A$10, H39, 0) -> 0 | N39: SRVC | O39: =IF(Dashboard!$C$12 = A5, 'Output Sys. Avg. Rates'!$N$198, 0) -> 0 | P39: =IF(Dashboard!$C$17=N39, O39, 0) -> 0 | Q39: =IF(Dashboard!$C$21=$A$10, P39, 0) -> 0 | S39: =IF($B$4=TRUE, 'Output Sys. Avg. Rates'!$O$198, 0) -> 0
G40: Actual | H40: =SUM(H33:H39) -> 8.09 | I40: =SUM(I33:I39) -> 8.09 | J40: =I40 -> 8.09 | K40: =J40*Dashboard!$C$4 -> 8.09 | O40: Actual | P40: =SUM(P33:P39) -> 0 | Q40: =SUM(Q33:Q39) -> 0 | R40: =Q40 -> 0 | S40: =R40*Dashboard!$C$4 -> 0
F42: Emission Rate: | G42: Emission:
E43: Time Matched Marginal Methodology Rate: | F43: =SUM(X14:X32) -> 0 | G43: =SUM(Y14:Y32) -> 0
E44: Output System Average Rate: | F44: =SUM(J22:J40) -> 8.09 | G44: =SUM(K22:K40) -> 8.09
E45: Non-Baseload Average Rate: | F45: =SUM(R22:R40) -> 0 | G45: =SUM(S22:S40) -> 0
E46: User-Defined Rate: | F46: =SUM(AD14:AD32) -> 0 | G46: =SUM(AE14:AE32) -> 0
E47: Actual: | F47: =SUM(F43:F46) -> 8.09 | G47: =SUM(G43:G46) -> 8.09
A51: Dashboard'!$O$11 | B51: is cool

Sheet How to Update Values
B1: Notes on how to replace rate values:
B2: **All new rates should be in Tons/kWh emitted (Can use dashboard to convert your number to these units if necessary).
B3: **Some of the cells referred to below are hidden. To unhide cell columns/rows, select surrounding columns/rows and right click "Unhide."
B5: Additional notes on how this spreadsheet works:
B6: **The sheet 'Rate Lookup' is the spreadsheet for users to refer to in order to look up and input their own user-defined rate on the dashboard.
B7: **The sheet 'Rate Lookup' also calculates the Time-Matched Marginal (TMM) methodology rates and emissions, by changing units (weight units [tons/metric tons/pounds] and electric units [kWh/MWh]) one step at a time. This is hidden.
B8: **The sheet 'Ouput Sys. Avg Rates' calculates the Ouput System Average Rates in the same way that the TMM Rates are calculated.
B9: **The Sheet Non-Baseload Output Rates calculates the non-baseload average output rates in the same way that the TMM and Ouput System Average rates are calculated.
B10: **These rates are calculated and converted based on the preferred units that the user indicates on the dashboard, and listed on the sheet 'Rate Reference,' before being sent to the Dashboard's output cells.
E12: Sheet to Refer To: | K12: Sheet to Refer To: | Q12: Sheet to Refer To:
E13: Rate Lookup | K13: Output Sys. Avg. Rates | Q13: Non-Baseload Output Rates
B14: Rate Type: | C14: Pollutant/Time Period: | D14: Energy Type: | E14: Cell Value to Change: | G14: Rate Type: | H14: Pollutant/Time Period: | J14: Region: | K14: Cell Value to Change: | M14: Rate Type: | N14: Pollutant/Time Period: | P14: Region: | Q14: Cell Value to Change:
B16: TMM Rates: | C16: NOx Ozone Season: | D16: Wind | E16: C5 | G16: Output System Average Rates: | H16: NOx Ozone Season: | J16: DC | K16: I3 | M16: Non-Baseload Rates: | N16: NOx Ozone Season: | P16: DC | Q16: E3
D17: PV | E17: C6 | J17: Maryland | K17: I31 | P17: Maryland | Q17: E31
D18: HVAC | E18: C7 | J18: Virginia | K18: I59 | P18: Virginia | Q18: E59
D19: Lighting | E19: C8 | J19: RFC | K19: I87 | P19: RFC | Q19: E87
D20: LED | E20: C9 | J20: SERC | K20: I115 | P20: SERC | Q20: E115
D21: Generic | E21: C10 | J21: RFC East | K21: I143 | P21: RFC East | Q21: E143
C22: NOx Annual | D22: Wind | E22: C14 | J22: SRVC | K22: I171 | P22: SRVC | Q22: E171
D23: PV | E23: C15 | H23: NOx Annual | J23: DC | K23: I10 | N23: NOx Annual | P23: DC | Q23: E10
D24: HVAC | E24: C16 | J24: Maryland | K24: I38 | P24: Maryland | Q24: E38
D25: Lighting | E25: C17 | J25: Virginia | K25: I66 | P25: Virginia | Q25: E66
D26: LED | E26: C18 | J26: RFC | K26: I94 | P26: RFC | Q26: E94
D27: Generic | E27: C19 | J27: SERC | K27: I122 | P27: SERC | Q27: E122
C28: CO2 Annual | D28: Wind | E28: C24 | J28: RFC East | K28: I150 | P28: RFC East | Q28: E150
D29: PV | E29: C25 | J29: SRVC | K29: I178 | P29: SRVC | Q29: E178
D30: HVAC | E30: C26 | H30: CO2 Annual | J30: DC | K30: I17 | N30: CO2 Annual | P30: DC | Q30: E17
D31: Lighting | E31: C27 | J31: Maryland | K31: I45 | P31: Maryland | Q31: E45
D32: LED | E32: C28 | J32: Virginia | K32: I73 | P32: Virginia | Q32: E73
D33: Generic | E33: C29 | J33: RFC | K33: I101 | P33: RFC | Q33: E101
C34: SO2 Annual | D34: Wind | E34: C33 | J34: SERC | K34: I129 | P34: SERC | Q34: E129
D35: PV | E35: C34 | J35: RFC East | K35: I157 | P35: RFC East | Q35: E157
D36: HVAC | E36: C35 | J36: SRVC | K36: I185 | P36: SRVC | Q36: E185
D37: Lighting | E37: C36 | H37: SO2 Annual | J37: DC | K37: I24 | N37: SO2 Annual | P37: DC | Q37: E24
D38: LED | E38: C37 | J38: Maryland | K38: I52 | P38: Maryland | Q38: E152
D39: Generic | E39: C38 | J39: Virginia | K39: I80 | P39: Virginia | Q39: E280
J40: RFC | K40: I108 | P40: RFC | Q40: E408
J41: SERC | K41: I136 | P41: SERC | Q41: E536
J42: RFC East | K42: I164 | P42: RFC East | Q42: E664
J43: SRVC | K43: I192 | P43: SRVC | Q43: E792

Sheet Data
A1: Data for MWCOG Calculator Revisions
B2: LED
B3: Average Annual Avoided Emission Rates (lb/MWH)
C4: lbs/MWh
C5: NOx | D5: SO2 | E5: CO2
B6: Annual | C6: 2.9131392 | D6: 14.785159 | E6: 1903.9989
B7: Ozone Season | C7: 2.7468714 | D7: 13.302042 | E7: 1835.9543
B10: Total Annual Avoided Emissions (tons per year) for 1000 MWh per year
C11: tons
C12: NOx | D12: SO2 | E12: CO2
B13: Annual | C13: 1.4565696 | D13: 7.3925795 | E13: 951.99943
B14: Ozone Season | C14: 0.58355339 | D14: 2.8259247 | E14: 390.0355
B18: PV
B19: Average Annual Avoided Emission Rates (lb/MWH)
C20: lbs/MWh
C21: NOx | D21: SO2 | E21: CO2
B22: Annual | C22: 2.816658 | D22: 13.344252 | E22: 1853.184
B23: Ozone Season | C23: 2.6413295 | D23: 11.673324 | E23: 1773.3133
B26: Total Annual Avoided Emissions (tons per year) for 1000 MWh per year
C27: tons
C28: NOx | D28: SO2 | E28: CO2
B29: Annual | C29: 1.408329 | D29: 6.6721261 | E29: 926.592
B30: Ozone Season | C30: 0.7721991 | D30: 3.4127247 | E30: 518.43244
B34: Lighting
B35: Average Annual Avoided Emission Rates (lb/MWH)
C36: lbs/MWh
C37: NOx | D37: SO2 | E37: CO2
B38: Annual | C38: 2.8415228 | D38: 13.832769 | E38: 1869.1707
B39: Ozone Season | C39: 2.6793672 | D39: 12.177194 | E39: 1802.5348
B42: Total Annual Avoided Emissions (tons per year) for 1000 MWh per year
C43: tons
C44: NOx | D44: SO2 | E44: CO2
B45: Annual | C45: 1.4207614 | D45: 6.9163846 | E45: 934.58533
B46: Ozone Season | C46: 0.64227612 | D46: 2.9190179 | E46: 432.08899
B51: Wind
B52: Average Annual Avoided Emission Rates (lb/MWH)
C53: lbs/MWh
C54: NOx | D54: SO2 | E54: CO2
B55: Annual | C55: 2.9260978 | D55: 15.24065 | E55: 1917.1196
B56: Ozone Season | C56: 2.7705223 | D56: 13.87337 | E56: 1850.2631
B59: Total Annual Avoided Emissions (tons per year) for 1000 MWh per year
C60: tons
C61: NOx | D61: SO2 | E61: CO2
B62: Annual | C62: 1.4630489 | D62: 7.620325 | E62: 958.55978
B63: Ozone Season | C63: 0.4978918 | D63: 2.4931895 | E63: 332.5116
B67: AC
B68: Average Annual Avoided Emission Rates (lb/MWH)
C69: lbs/MWh
C70: NOx | D70: SO2 | E70: CO2
B71: Annual | C71: 2.8181113 | D71: 13.481927 | E71: 1860.6953
B72: Ozone Season | C72: 2.6914664 | D72: 12.132704 | E72: 1800.325
B75: Total Annual Avoided Emissions (tons per year) for 1000 MWh per year
C76: tons
C77: NOx | D77: SO2 | E77: CO2
B78: Annual | C78: 1.4090556 | D78: 6.7409636 | E78: 930.34766
B79: Ozone Season | C79: 0.87217493 | D79: 3.9316265 | E79: 583.39883
