Workbook
Name Blue: Dashboard!$L$52:$AA$56
Name Calculation: 'Rate Reference'!$A$51
Name Calculations: 'Rate Reference'!$A$51:$B$51
Name Carbon_Dioxide: Dashboard!$D$33
Name CO: Dashboard!$D$33
Name details: 'Rate Lookup'!$U$3:$U$5
Name ElectricitySavingsUnit: 'Rate Lookup'!$I$113:$I$114
Name EmissionsReductionRateType: 'Rate Lookup'!$I$116:$I$117
Name EnergySavingsUnit: 'Rate Lookup'!$I$113:$I$114
Name EnergyType: 'Rate Lookup'!$B$14:$B$19
Name hlkjhlk: (OFFSET(#REF!,#REF!-1,0,#REF!-#REF!+1,1))
Name Nitrogen_Oxide: Dashboard!$C$33:$C$34
Name Nitrogen_Oxides: Dashboard!$C$33:$C$34
Name Non_Baseload_Average: Dashboard!$E$43:$E$49
Name Sulfer_Dioxide: Dashboard!$E$33
Name System_Average: Dashboard!$F$43:$F$49
Name Time_Matched_Marginal: Dashboard!$C$36:$C$41
Name Wind: Dashboard!$C$36:$C$41

Sheet Information
B2: Spreadsheet Dashboard Developed By Amy Sanders and Jeff King, Department of Environmental Programs, Metropolitan Washington Council of Governments
B3: Technical Assistance provided by Colin High, Resource Systems Group
B4: Draft Beta Test Version – June 2009
B7: General Instructions:
C8: Enter energy savings data into the Dashboard spreadsheet's white input cells. Click on the white input cells to choose Units to output, Region, Measure Type, Pollutant and Time Period of emissions from a dropdown menu. (Note: Measure type emissions rates only vary for Time Matched Marginal Methodology, while Regions will only vary for the Non-Baseload and System Output Average Rates).
C10: Or, enter a user-defined emissions rate for the chosen pollutant. Refer to 'Rate Lookup' sheet to view possible input rates.
C11: Environmental Benefits including the avoided emissions rates and avoided emissions for the chosen methodology will be displayed for the chosen pollutant in black ouput cells.
B13: Source of Emission Factors include:
C14: Time Matched Methodology Developed by Resource Systems Group Calculator
C15: System-wide average and non-baseload average provided by EPA eGrid 2007 v 1.1
C16: Emission Factors will be updated periodically.
C18: Direct Questions/Comments to:
C19: Jeffrey King
C20: jking@mwcog.org
C21: 202-962-3238

Sheet Dashboard
B1: Dashboard
B2: Inputs: | N2: Outputs:
C3: Annual Electricity Savings: | G3: Electricity Savings Unit: | N3: Avoided Emissions Rate:
C4: 1 | G4: MWh | O4: ='Rate Reference'!$F$47 -> 8.09 | P4: =C8 -> Pounds | R4: per | S4: =G4 -> MWh
C7: Avoided Emissions Rate Unit: | N7: Avoided Emissions:
C8: Pounds | O8: ='Rate Reference'!$G$47 -> 8.09 | P8: =C8 -> Pounds
C11: Rate Type: | L11: =IF($C$53=TRUE, L52, "") -> Calculations (Rates Taken from "Rate Lookup" Sheet):
C12: System Average | L12: =IF($C$53=TRUE, L53, "") -> Emissions Rate: | O12: =IF($C$53=TRUE, O53, " ") -> System Average | P12: =IF($C$53=TRUE, P53, " ") -> Rate | Q12: =IF($C$53=TRUE, R53, " ") -> * | R12: =IF($C$53=TRUE, S53, " ") -> (1 kWh/1000 MWh)
C15: Region: | G15: =IF(H8='Rate Reference'!F3, "Measure Type:", "Region") -> Measure Type: | L15: =IF($C$53=TRUE, L56, "") -> Emissions: | O15: =IF($C$53=TRUE, O56, " ") -> System Average | P15: =IF($C$53=TRUE, P56, " ") -> Rate | Q15: =IF($C$53=TRUE, R56, " ") -> * | R15: =IF($C$53=TRUE, S56, " ") -> 1 | S15: =IF($C$53=TRUE, T56, " ") -> Pounds | U15: =IF($C$53=TRUE, V56, " ") -> per | V15: =IF($C$53=TRUE, W56, " ") -> MWh | W15: =IF($C$53=TRUE, X56, " ") -> * | X15: =IF($C$53=TRUE, Y56, " ") -> (1 kWh/1000 MWh)
B16: (Choose for Non-Baseload and System Average Rates Only) | F16: (Choose for Time Matched Marginal Rate Only)
C17: DC | G17: Wind
K19: =IF(ISBLANK($R$3),"Input User-Defined Emissions Rate",'[1]Rate Lookup'!$M$16) -> Input User-Defined Emissions Rate
C20: Pollutant: | G20: Time Period:
C21: Sulfer_Dioxide | G21: Annual
C25: Emission Rate Type Definitions:
C26: The Time Matched Marginal Emissions Rate provides a more accurate estimate of a emission reductions from EERE programs and projects than the eGRID system averages because it includes seasonal emission changes and estimates average emission rates of the marginal units based on their incremental contribution to the load.
C27: The Output System Average Emissions Rate is calculated by taking the average emission rate of all electric generating units (including all units on the grid - nuclear power plants, hydroelectric plants, other zero-emission sources and also fossil fuel-fired generation units) over a year. This methodology will understate the emission reduction benefits of EERE technologies.
C29: The Non-Baseload Average Emissions Rate is calculated from the average emission rates of those generating units that have variable generation that follows the regional load. They do not include baseload units, such as nuclear power plants and some coal-fired units. Thus, the non-baseload emission rate is higher than the system average rate because it excludes zero-emission nuclear power units.
C33: Annual | D33: Annual | E33: Annual
C34: Ozone Season
C36: Wind | D36: N/A | E36: N/A
C37: PV
C38: HVAC
C39: Lighting
C40: LED
C41: Generic
D43: N/A | E43: DC | F43: DC
E44: Maryland | F44: Maryland
E45: Virginia | F45: Virginia
E46: RFC | F46: RFC
E47: SERC | F47: SERC
E48: RFC East | F48: RFC East
E49: SRVC | F49: SRVC
L52: Calculations (Rates Taken from "Rate Lookup" Sheet):
C53: TRUE | L53: Emissions Rate: | O53: =C12 -> System Average | P53: Rate | R53: =IF(G4="MWh", "*", " ") -> * | S53: =IF(G4="MWh", "(1 kWh/1000 MWh)", " ") -> (1 kWh/1000 MWh)
L56: Emissions: | O56: =C12 -> System Average | P56: Rate | R56: * | S56: =C4 -> 1 | T56: =C8 -> Pounds | V56: per | W56: =G4 -> MWh | X56: =IF(G4="MWh", "*", " ") -> * | Y56: =IF(G4="MWh", "(1 kWh/1000 MWh)", " ") -> (1 kWh/1000 MWh)

Sheet Rate Lookup
A2: Time Matched Marginal Rates:
B3: NOx: Ozone Season | I3: Daily Nox: Ozone Season
B4: Type | C4: Tons/kWh | D4: Metric Tons/kWh | E4: Pounds/kWh | J4: Emission Rate with days, type included | K4: Emission Rate with weight unit included | L4: Emission Rate with weight unit, MWh/kWh unit included | M4: Total Emissions, with # of kWh/Mwh included
B5: Wind | C5: =E5/2000 -> 1.3852612e-06 | D5: =C5/$J$116 -> 1.2566878e-06 | E5: =Data!$C$56/1000 -> 0.0027705223 | I5: TMM | J5: =INDEX($B$4:$D$10, MATCH(Dashboard!$G$17, $B$4:$B$10, 0), 2) -> 1.3852612e-06 | K5: - | P5: UNIT CONVERSIONS:
B6: PV | C6: =E6/2000 -> 1.3206648e-06 | D6: =C6/$J$116 -> 1.1980869e-06 | E6: =Data!$C$23/1000 -> 0.0026413295 | I6: Tons/kWh | J6: - | K6: =IF(Dashboard!$C$8="tons", J5, 0) -> 0 | L6: =K9 -> 0.0027705223 | M6: - | P6: Kilowatt hours (kWh) | Q6: 1
B7: HVAC | C7: =E7/2000 -> 1.3457332e-06 | D7: =C7/$J$116 -> 1.2208286e-06 | E7: =Data!$C$72/1000 -> 0.0026914664 | I7: Metric Tons/MWh | J7: - | K7: =IF(Dashboard!$C$8="Metric Tons", (J5/$J$116), 0) -> 0 | L7: =K9*1000 -> 2.7705223 | M7: - | P7: Megawatt hours (MWh) | Q7: 1000
B8: Lighting | C8: =E8/2000 -> 1.3396836e-06 | D8: =C8/$J$116 -> 1.2153405e-06 | E8: =Data!$C$39/1000 -> 0.0026793672 | I8: Lbs. | J8: - | K8: =IF(Dashboard!$C$8="Pounds", (J5*$J$118), 0) -> 0.0027705223 | L8: - | M8: -
B9: LED | C9: =E9/2000 -> 1.3734357e-06 | D9: =C9/$J$116 -> 1.2459599e-06 | E9: =Data!$C$7/1000 -> 0.0027468714 | I9: Actual | J9: - | K9: =SUM(K6:K8) -> 0.0027705223 | L9: =IF(Dashboard!$G$4="kWh", L6, L7) -> 2.7705223 | M9: =L9*Dashboard!$C$4 -> 2.7705223 | P9: Tons | Q9: 1
B10: Generic | C10: =AVERAGE(C5:C9) -> 1.3529557e-06 | D10: =AVERAGE(D5:D9) -> 1.2273808e-06 | E10: =AVERAGE(E5:E9) -> 0.0027059114 | P10: Metric Tons | Q10: 1.1023113
J11: Emission Rate with days, type included | K11: Emission Rate with weight unit included | L11: Emission Rate with weight unit, MWh/kWh unit included | M11: Total Emissions, with # of kWh/Mwh included | P11: Pounds | Q11: 2000
B12: Annual NOx: | I12: Optional Input Rate | J12: =IF(ISNUMBER(Dashboard!$C$12), Dashboard!$C$12, 0) -> 0 | K12: - | L12: =IF(Dashboard!$H$4="Metric Tons", (1/$J$116)*K12, K12) -> - | M12: -
B13: Type | C13: Tons/kWh | D13: Metric Tons/kWh | E13: Pounds/kWh | I13: Tons/kWh | J13: - | K13: =IF(Dashboard!$C$8="tons", J12, 0) -> 0 | L13: =K16 -> 0 | M13: - | P13: Days per Ozone Season | Q13: 153
B14: Wind | C14: =E14/2000 -> 1.4630489e-06 | D14: =C14/$J$116 -> 1.3272557e-06 | E14: =Data!$C$55/1000 -> 0.0029260978 | I14: Metric Tons/MWh | J14: - | K14: =IF(Dashboard!$C$8="Metric Tons", (J12/$J$116), 0) -> 0 | L14: =K16*1000 -> 0 | M14: -
B15: PV | C15: =E15/2000 -> 1.408329e-06 | D15: =C15/$J$116 -> 1.2776146e-06 | E15: =Data!$C$22/1000 -> 0.002816658 | I15: Lbs. | J15: - | K15: =IF(Dashboard!$C$8="Pounds", (J12*$J$118), 0) -> 0 | L15: - | M15: -
B16: HVAC | C16: =E16/2000 -> 1.4090556e-06 | D16: =C16/$J$116 -> 1.2782738e-06 | E16: =Data!$C$71/1000 -> 0.0028181113 | I16: Actual | J16: - | K16: =SUM(K13:K15) -> 0 | L16: =IF(Dashboard!$G$4="kWh", L13, L14) -> 0 | M16: =L16*Dashboard!$C$4 -> 0
B17: Lighting | C17: =E17/2000 -> 1.4207614e-06 | D17: =C17/$J$116 -> 1.2888931e-06 | E17: =Data!$C$38/1000 -> 0.0028415228 | O17: Sample Calculation Using Time Matched Marginal Rates:
B18: LED | C18: =E18/2000 -> 1.4565696e-06 | D18: =C18/$J$116 -> 1.3213777e-06 | E18: =Data!$C$6/1000 -> 0.0029131392 | P18: Inputs:
B19: Generic | C19: =AVERAGE(C14:C18) -> 1.4315529e-06 | D19: =AVERAGE(D14:D18) -> 1.298683e-06 | E19: =AVERAGE(E14:E18) -> 0.0028631058 | P19: 12,000 MWh
P20: Tons
B22: Annual CO2: | P22: Wind
B23: Type | C23: Tons/kWh | D23: Metric Tons/kWh | E23: Pounds/kWh | P23: SO2
B24: Wind | C24: =E24/2000 -> 0.00095855978 | D24: =C24/$J$116 -> 0.0008695908 | E24: =Data!$E$55/1000 -> 1.9171196 | P24: Outputs:
B25: PV | C25: =E25/2000 -> 0.000926592 | D25: =C25/$J$116 -> 0.00084059012 | E25: =Data!$E$22/1000 -> 1.853184 | P25: (0.00000762 Tons/kWh SO2) * (1 kWh/1000MWh) = 0.00192571 Tons SO2/MWh
B26: HVAC | C26: =E26/2000 -> 0.00093034766 | D26: =C26/$J$116 -> 0.0008439972 | E26: =Data!$E$71/1000 -> 1.8606953 | P26: (12,000 MWh) * (1 kWh/1000MWh) * (0.00000762 Tons/kWh SO2) = 23.1084 Tons SO2
B27: Lighting | C27: =E27/2000 -> 0.00093458533 | D27: =C27/$J$116 -> 0.00084784155 | E27: =Data!$E$38/1000 -> 1.8691707
B28: LED | C28: =E28/2000 -> 0.00095199943 | D28: =C28/$J$116 -> 0.00086363935 | E28: =Data!$E$6/1000 -> 1.9039989
B29: Generic | C29: =AVERAGE(C24:C28) -> 0.00094041684 | D29: =AVERAGE(D24:D28) -> 0.00085313181 | E29: =AVERAGE(E24:E28) -> 1.8808337
B31: Annual SO2:
B32: Type | C32: Tons/kWh | D32: Metric Tons/kWh | E32: Pounds/kWh | I32: Daily Nox: Annual
B33: Wind | C33: =E33/2000 -> 7.620325e-06 | D33: =C33/$J$116 -> 6.9130425e-06 | E33: 0.01524065 | J33: Emission Rate with days, type included | K33: Emission Rate with weight unit included | L33: Emission Rate with weight unit, MWh/kWh unit included | M33: Total Emissions, with # of kWh/Mwh included
B34: PV | C34: =E34/2000 -> 6.6721261e-06 | D34: =C34/$J$116 -> 6.052851e-06 | E34: 0.013344252 | I34: TMM | J34: =INDEX($B$13:$D$19, MATCH(Dashboard!$G$17, $B$13:$B$19, 0), 2) -> 1.4630489e-06 | K34: - | L34: - | M34: -
B35: HVAC | C35: =E35/2000 -> 6.7409636e-06 | D35: =C35/$J$116 -> 6.1152993e-06 | E35: 0.013481927 | I35: Tons/kWh | J35: - | K35: =IF(Dashboard!$C$8="tons", J34, 0) -> 0 | L35: =K38 -> 0.0029260978 | M35: -
B36: Lighting | C36: =E36/2000 -> 6.9163846e-06 | D36: =C36/$J$116 -> 6.2744386e-06 | E36: 0.013832769 | I36: Metric Tons/MWh | J36: - | K36: =IF(Dashboard!$C$8="Metric Tons", (J34/$J$116), 0) -> 0 | L36: =K38*1000 -> 2.9260978 | M36: -
B37: LED | C37: =E37/2000 -> 7.3925795e-06 | D37: =C37/$J$116 -> 6.7064354e-06 | E37: 0.014785159 | I37: Lbs. | J37: - | K37: =IF(Dashboard!$C$8="Pounds", (J34*$J$118), 0) -> 0.0029260978 | L37: - | M37: -
B38: Generic | C38: =AVERAGE(C33:C37) -> 7.0684758e-06 | D38: =AVERAGE(D33:D37) -> 6.4124134e-06 | E38: =AVERAGE(E33:E37) -> 0.014136952 | I38: Actual | J38: - | K38: =SUM(K35:K37) -> 0.0029260978 | L38: =IF(Dashboard!$G$4="kWh", L35, L36) -> 2.9260978 | M38: =L38*Dashboard!$C$4 -> 2.9260978
A40: Output System Average Rates: | J40: Emission Rate with days, type included | K40: Emission Rate with weight unit included | L40: Emission Rate with weight unit, MWh/kWh unit included | M40: Total Emissions, with # of kWh/Mwh included
B41: NOx: Ozone Season | I41: Optional Input Rate | J41: =IF(ISNUMBER(Dashboard!$C$12), Dashboard!$C$12, 0) -> 0 | K41: - | L41: =IF(Dashboard!$H$4="Metric Tons", (1/$J$116)*K41, K41) -> - | M41: -
B42: Region | C42: Tons/kWh | D42: Metric Tons/kWh | E42: Pounds/kWh | I42: Tons/kWh | J42: - | K42: =IF(Dashboard!$C$8="tons", J41, 0) -> 0 | L42: =K45 -> 0 | M42: - | O42: Sample Calculation Using Average Rates:
B43: DC | C43: ='Output Sys. Avg. Rates'!I3 -> 1.7232e-06 | D43: =C43/$J$116 -> 1.5632607e-06 | E43: =C43*2000 -> 0.0034464 | I43: Metric Tons/MWh | J43: - | K43: =IF(Dashboard!$C$8="Metric Tons", (J41/$J$116), 0) -> 0 | L43: =K45*1000 -> 0 | M43: - | P43: Inputs:
B44: Maryland | C44: ='Output Sys. Avg. Rates'!I31 -> 9.2005e-07 | D44: =C44/$J$116 -> 8.3465532e-07 | E44: =C44*2000 -> 0.0018401 | I44: Lbs. | J44: - | K44: =IF(Dashboard!$C$8="Pounds", (J41*$J$118), 0) -> 0 | L44: - | M44: - | P44: 8,000 kWh
...

Sheet Output Sys. Avg. Rates
E1: Region/State: | F1: Pollutant: | G1: Season/Year? | H1: Given Rate (lb/MWh): | I1: Converted Rate (tons/kWh):
E3: DC | F3: NOx | G3: Ozone Season | H3: 3.4464 | I3: =H3/($Y$10*$Y$5) -> 1.7232e-06 | L3: Emission Rate with days, type included | M3: Emission Rate with weight unit included | N3: Emission Rate with weight unit, MWh/kWh unit included | O3: Total Emissions, with # of kWh/Mwh included
K4: Output System Average | L4: =I3 -> 1.7232e-06 | M4: - | N4: =IF(Dashboard!$H$4="Metric Tons", (1/$G$128)*M4, M4) -> - | O4: - | X4: UNIT CONVERSIONS:
K5: Tons/kWh | L5: - | M5: =IF(Dashboard!$C$8="tons", L4, 0) -> 0 | N5: =M8 -> 0.0034464 | O5: - | X5: MWh | Y5: 1000
K6: Metric Tons/MWh | L6: - | M6: =IF(Dashboard!$C$8="Metric Tons", (L4/$T$128), 0) -> 0 | N6: =M8*1000 -> 3.4464 | O6: - | X6: kWh | Y6: 1
K7: Lbs. | L7: - | M7: =IF(Dashboard!$C$8="Pounds", (L4*$Y$10), 0) -> 0.0034464 | N7: - | O7: -
K8: Actual | L8: - | M8: =SUM(M5:M7) -> 0.0034464 | N8: =IF(Dashboard!$G$4="kWh", N5, N6) -> 3.4464 | O8: =N8*Dashboard!$C$4 -> 3.4464 | X8: Metric Tons | Y8: 1.1023113
X9: Tons | Y9: 1
F10: NOx | G10: Annual | H10: 3.6538 | I10: =H10/($Y$10*$Y$5) -> 1.8269e-06 | L10: Emission Rate with days, type included | M10: Emission Rate with weight unit included | N10: Emission Rate with weight unit, MWh/kWh unit included | O10: Total Emissions, with # of kWh/Mwh included | X10: Pounds | Y10: 2000
K11: Output System Average | L11: =I10 -> 1.8269e-06 | M11: - | N11: =IF(Dashboard!$H$4="Metric Tons", (1/$G$128)*M11, M11) -> - | O11: -
K12: Tons/kWh | L12: - | M12: =IF(Dashboard!$C$8="tons", L11, 0) -> 0 | N12: =M15 -> 0.0036538 | O12: -
K13: Metric Tons/MWh | L13: - | M13: =IF(Dashboard!$C$8="Metric Tons", (L11/$T$128), 0) -> 0 | N13: =M15*1000 -> 3.6538 | O13: -
K14: Lbs. | L14: - | M14: =IF(Dashboard!$C$8="Pounds", (L11*$Y$10), 0) -> 0.0036538 | N14: - | O14: -
K15: Actual | L15: - | M15: =SUM(M12:M14) -> 0.0036538 | N15: =IF(Dashboard!$G$4="kWh", N12, N13) -> 3.6538 | O15: =N15*Dashboard!$C$4 -> 3.6538
F17: CO2 | G17: Annual | H17: 2432.3 | I17: =H17/($Y$10*$Y$5) -> 0.00121615 | L17: Emission Rate with days, type included | M17: Emission Rate with weight unit included | N17: Emission Rate with weight unit, MWh/kWh unit included | O17: Total Emissions, with # of kWh/Mwh included
K18: Output System Average | L18: =I17 -> 0.00121615 | M18: - | N18: =IF(Dashboard!$H$4="Metric Tons", (1/$G$128)*M18, M18) -> - | O18: -
K19: Tons/kWh | L19: - | M19: =IF(Dashboard!$C$8="tons", L18, 0) -> 0 | N19: =M22 -> 2.4323 | O19: -
K20: Metric Tons/MWh | L20: - | M20: =IF(Dashboard!$C$8="Metric Tons", (L18/$T$128), 0) -> 0 | N20: =M22*1000 -> 2432.3 | O20: -
K21: Lbs. | L21: - | M21: =IF(Dashboard!$C$8="Pounds", (L18*$Y$10), 0) -> 2.4323 | N21: - | O21: -
K22: Actual | L22: - | M22: =SUM(M19:M21) -> 2.4323 | N22: =IF(Dashboard!$G$4="kWh", N19, N20) -> 2432.3 | O22: =N22*Dashboard!$C$4 -> 2432.3
F24: SO2 | G24: Annual | H24: 8.09 | I24: =H24/($Y$10*$Y$5) -> 4.045e-06 | L24: Emission Rate with days, type included | M24: Emission Rate with weight unit included | N24: Emission Rate with weight unit, MWh/kWh unit included | O24: Total Emissions, with # of kWh/Mwh included
K25: Output System Average | L25: =I24 -> 4.045e-06 | M25: - | N25: =IF(Dashboard!$H$4="Metric Tons", (1/$G$128)*M25, M25) -> - | O25: -
K26: Tons/kWh | L26: - | M26: =IF(Dashboard!$C$8="tons", L25, 0) -> 0 | N26: =M29 -> 0.00809 | O26: -
K27: Metric Tons/MWh | L27: - | M27: =IF(Dashboard!$C$8="Metric Tons", (L25/$T$128), 0) -> 0 | N27: =M29*1000 -> 8.09 | O27: -
K28: Lbs. | L28: - | M28: =IF(Dashboard!$C$8="Pounds", (L25*$Y$10), 0) -> 0.00809 | N28: - | O28: -
K29: Actual | L29: - | M29: =SUM(M26:M28) -> 0.00809 | N29: =IF(Dashboard!$G$4="kWh", N26, N27) -> 8.09 | O29: =N29*Dashboard!$C$4 -> 8.09
E31: MD | F31: NOx | G31: Ozone Season | H31: 1.8401 | I31: =H31/($Y$10*$Y$5) -> 9.2005e-07
L32: Emission Rate with days, type included | M32: Emission Rate with weight unit included | N32: Emission Rate with weight unit, MWh/kWh unit included | O32: Total Emissions, with # of kWh/Mwh included
K33: Output System Average | L33: =I31 -> 9.2005e-07 | M33: - | N33: =IF(Dashboard!$H$4="Metric Tons", (1/$G$128)*M33, M33) -> - | O33: -
K34: Tons/kWh | L34: - | M34: =IF(Dashboard!$C$8="tons", L33, 0) -> 0 | N34: =M37 -> 0.0018401 | O34: -
K35: Metric Tons/MWh | L35: - | M35: =IF(Dashboard!$C$8="Metric Tons", (L33/$T$128), 0) -> 0 | N35: =M37*1000 -> 1.8401 | O35: -
K36: Lbs. | L36: - | M36: =IF(Dashboard!$C$8="Pounds", (L33*$Y$10), 0) -> 0.0018401 | N36: - | O36: -
K37: Actual | L37: - | M37: =SUM(M34:M36) -> 0.0018401 | N37: =IF(Dashboard!$G$4="kWh", N34, N35) -> 1.8401 | O37: =N37*Dashboard!$C$4 -> 1.8401
F38: NOx | G38: Annual | H38: 2.4622 | I38: =H38/($Y$10*$Y$5) -> 1.2311e-06
L39: Emission Rate with days, type included | M39: Emission Rate with weight unit included | N39: Emission Rate with weight unit, MWh/kWh unit included | O39: Total Emissions, with # of kWh/Mwh included
K40: Output System Average | L40: =I38 -> 1.2311e-06 | M40: - | N40: =IF(Dashboard!$H$4="Metric Tons", (1/$G$128)*M40, M40) -> - | O40: -
K41: Tons/kWh | L41: - | M41: =IF(Dashboard!$C$8="tons", L40, 0) -> 0 | N41: =M44 -> 0.0024622 | O41: -
K42: Metric Tons/MWh | L42: - | M42: =IF(Dashboard!$C$8="Metric Tons", (L40/$T$128), 0) -> 0 | N42: =M44*1000 -> 2.4622 | O42: -
K43: Lbs. | L43: - | M43: =IF(Dashboard!$C$8="Pounds", (L40*$Y$10), 0) -> 0.0024622 | N43: - | O43: -
K44: Actual | L44: - | M44: =SUM(M41:M43) -> 0.0024622 | N44: =IF(Dashboard!$G$4="kWh", N41, N42) -> 2.4622 | O44: =N44*Dashboard!$C$4 -> 2.4622
...

Sheet Non-Baseload Output Rates
A1: Region/State: | B1: Pollutant: | C1: Season/Year? | D1: Given Rate (lb/MWh): | E1: Converted Rate (tons/kWh):
A3: DC | B3: NOx | C3: Ozone Season | D3: 3.4464 | E3: =D3/($T$130*$T$125) -> 1.7232e-06 | H3: Emission Rate with days, type included | I3: Emission Rate with weight unit included | J3: Emission Rate with weight unit, MWh/kWh unit included | K3: Total Emissions, with # of kWh/Mwh included
G4: Non-baseload Rates | H4: =E3 -> 1.7232e-06 | I4: - | J4: =IF(Dashboard!$H$4="Metric Tons", (1/$C$128)*I4, I4) -> - | K4: -
G5: Tons/kWh | H5: - | I5: =IF(Dashboard!$C$8="tons", H4, 0) -> 0 | J5: =I8 -> 0.0034464 | K5: -
G6: Metric Tons/MWh | H6: - | I6: =IF(Dashboard!$C$8="Metric Tons", (H4/$T$128), 0) -> 0 | J6: =I8*1000 -> 3.4464 | K6: -
G7: Lbs. | H7: - | I7: =IF(Dashboard!$C$8="Pounds", (H4*$T$130), 0) -> 0.0034464 | J7: - | K7: -
G8: Actual | H8: - | I8: =SUM(I5:I7) -> 0.0034464 | J8: =IF(Dashboard!$G$4="kWh", J5, J6) -> 3.4464 | K8: =J8*Dashboard!$C$4 -> 3.4464
B10: NOx | C10: Annual | D10: 3.6358 | E10: =D10/($T$130*$T$125) -> 1.8179e-06 | H10: Emission Rate with days, type included | I10: Emission Rate with weight unit included | J10: Emission Rate with weight unit, MWh/kWh unit included | K10: Total Emissions, with # of kWh/Mwh included
G11: Non-baseload Rates | H11: =E10 -> 1.8179e-06 | I11: - | J11: =IF(Dashboard!$H$4="Metric Tons", (1/$C$128)*I11, I11) -> - | K11: -
G12: Tons/kWh | H12: - | I12: =IF(Dashboard!$C$8="tons", H11, 0) -> 0 | J12: =I15 -> 0.0036358 | K12: -
G13: Metric Tons/MWh | H13: - | I13: =IF(Dashboard!$C$8="Metric Tons", (H11/$T$128), 0) -> 0 | J13: =I15*1000 -> 3.6358 | K13: -
G14: Lbs. | H14: - | I14: =IF(Dashboard!$C$8="Pounds", (H11*$T$130), 0) -> 0.0036358 | J14: - | K14: -
G15: Actual | H15: - | I15: =SUM(I12:I14) -> 0.0036358 | J15: =IF(Dashboard!$G$4="kWh", J12, J13) -> 3.6358 | K15: =J15*Dashboard!$C$4 -> 3.6358
B17: CO2 | C17: Annual | D17: 2432.3015 | E17: =D17/($T$130*$T$125) -> 0.0012161508 | H17: Emission Rate with days, type included | I17: Emission Rate with weight unit included | J17: Emission Rate with weight unit, MWh/kWh unit included | K17: Total Emissions, with # of kWh/Mwh included
G18: Non-baseload Rates | H18: =E17 -> 0.0012161508 | I18: - | J18: =IF(Dashboard!$H$4="Metric Tons", (1/$C$128)*I18, I18) -> - | K18: -
G19: Tons/kWh | H19: - | I19: =IF(Dashboard!$C$8="tons", H18, 0) -> 0 | J19: =I22 -> 2.4323015 | K19: -
G20: Metric Tons/MWh | H20: - | I20: =IF(Dashboard!$C$8="Metric Tons", (H18/$T$128), 0) -> 0 | J20: =I22*1000 -> 2432.3015 | K20: -
G21: Lbs. | H21: - | I21: =IF(Dashboard!$C$8="Pounds", (H18*$T$130), 0) -> 2.4323015 | J21: - | K21: -
G22: Actual | H22: - | I22: =SUM(I19:I21) -> 2.4323015 | J22: =IF(Dashboard!$G$4="kWh", J19, J20) -> 2432.3015 | K22: =J22*Dashboard!$C$4 -> 2432.3015
B24: SO2 | C24: Annual | D24: 8.09 | E24: =D24/($T$130*$T$125) -> 4.045e-06 | H24: Emission Rate with days, type included | I24: Emission Rate with weight unit included | J24: Emission Rate with weight unit, MWh/kWh unit included | K24: Total Emissions, with # of kWh/Mwh included
G25: Non-baseload Rates | H25: =E24 -> 4.045e-06 | I25: - | J25: =IF(Dashboard!$H$4="Metric Tons", (1/$C$128)*I25, I25) -> - | K25: -
G26: Tons/kWh | H26: - | I26: =IF(Dashboard!$C$8="tons", H25, 0) -> 0 | J26: =I29 -> 0.00809 | K26: -
G27: Metric Tons/MWh | H27: - | I27: =IF(Dashboard!$C$8="Metric Tons", (H25/$T$128), 0) -> 0 | J27: =I29*1000 -> 8.09 | K27: -
G28: Lbs. | H28: - | I28: =IF(Dashboard!$C$8="Pounds", (H25*$T$130), 0) -> 0.00809 | J28: - | K28: -
G29: Actual | H29: - | I29: =SUM(I26:I28) -> 0.00809 | J29: =IF(Dashboard!$G$4="kWh", J26, J27) -> 8.09 | K29: =J29*Dashboard!$C$4 -> 8.09
A31: MD | B31: NOx | C31: Ozone Season | D31: 3.2551 | E31: =D31/($T$130*$T$125) -> 1.62755e-06
H32: Emission Rate with days, type included | I32: Emission Rate with weight unit included | J32: Emission Rate with weight unit, MWh/kWh unit included | K32: Total Emissions, with # of kWh/Mwh included
G33: Output System Average | H33: =E31 -> 1.62755e-06 | I33: - | J33: =IF(Dashboard!$H$4="Metric Tons", (1/$C$128)*I33, I33) -> - | K33: -
G34: Tons/kWh | H34: - | I34: =IF(Dashboard!$C$8="tons", H33, 0) -> 0 | J34: =I37 -> 0.0032551 | K34: -
G35: Metric Tons/MWh | H35: - | I35: =IF(Dashboard!$C$8="Metric Tons", (H33/$T$128), 0) -> 0 | J35: =I37*1000 -> 3.2551 | K35: -
G36: Lbs. | H36: - | I36: =IF(Dashboard!$C$8="Pounds", (H33*$T$130), 0) -> 0.0032551 | J36: - | K36: -
G37: Actual | H37: - | I37: =SUM(I34:I36) -> 0.0032551 | J37: =IF(Dashboard!$G$4="kWh", J34, J35) -> 3.2551 | K37: =J37*Dashboard!$C$4 -> 3.2551
B38: NOx | C38: Annual | D38: 3.7522 | E38: =D38/($T$130*$T$125) -> 1.8761e-06
H39: Emission Rate with days, type included | I39: Emission Rate with weight unit included | J39: Emission Rate with weight unit, MWh/kWh unit included | K39: Total Emissions, with # of kWh/Mwh included
G40: Non-baseload Rates | H40: =E38 -> 1.8761e-06 | I40: - | J40: =IF(Dashboard!$H$4="Metric Tons", (1/$C$128)*I40, I40) -> - | K40: -
G41: Tons/kWh | H41: - | I41: =IF(Dashboard!$C$8="tons", H40, 0) -> 0 | J41: =I44 -> 0.0037522 | K41: -
G42: Metric Tons/MWh | H42: - | I42: =IF(Dashboard!$C$8="Metric Tons", (H40/$T$128), 0) -> 0 | J42: =I44*1000 -> 3.7522 | K42: -
G43: Lbs. | H43: - | I43: =IF(Dashboard!$C$8="Pounds", (H40*$T$130), 0) -> 0.0037522 | J43: - | K43: -
G44: Actual | H44: - | I44: =SUM(I41:I43) -> 0.0037522 | J44: =IF(Dashboard!$G$4="kWh", J41, J42) -> 3.7522 | K44: =J44*Dashboard!$C$4 -> 3.7522
B45: CO2 | C45: Annual | D45: 1964.52 | E45: =D45/($T$130*$T$125) -> 0.00098226
...

Sheet Rate Reference
E1: Output System Average Rate | M1: Non-Baseload Average Rate | U1: Time Matched Marginal Rate | AA1: User-Defined Rate
AA2: O3 Season Nox
A3: Time Matched Marginal | G3: Emission Rate: | H3: Including Region: | I3: Including Pollutant: | J3: Including Time Period: | K3: Emissions: | O3: Emission Rate: | P3: Including Region | Q3: Including Pollutant: | R3: Including Time Period: | S3: Emissions: | V3: Emission Rate: | W3: Including Pollutant: | X3: Including Time Period: | Y3: Emissions: | AB3: Emission Rate: | AC3: Including Pollutant: | AD3: Including Time Period: | AE3: Emissions:
A4: System Average | F4: DC | G4: =IF(Dashboard!$C$12 = A4, 'Output Sys. Avg. Rates'!$N$8, 0) -> 3.4464 | H4: =IF(Dashboard!$C$17=F4, G4, 0) -> 3.4464 | I4: =IF(Dashboard!$C$21=$A$8, H4, 0) -> 0 | K4: =IF($B$4=TRUE, 'Output Sys. Avg. Rates'!$O$8, 0) -> 0 | N4: DC | O4: =IF(Dashboard!$C$12 = A5, 'Non-Baseload Output Rates'!$J$8, 0) -> 0 | P4: =IF(Dashboard!$C$17=N4, O4, 0) -> 0 | Q4: =IF(Dashboard!$C$21=$A$8, P4, 0) -> 0 | S4: =IF($B$4=TRUE, 'Output Sys. Avg. Rates'!$O$8, " ")
A5: Non-Baseload Average | E5: O3 Season Nox | F5: Maryland | G5: =IF(Dashboard!$C$12 = A4, 'Output Sys. Avg. Rates'!$N$37, 0) -> 1.8401 | H5: =IF(Dashboard!$C$17=F5, G5, 0) -> 0 | I5: =IF(Dashboard!$C$21=$A$8, H5, 0) -> 0 | K5: =IF($B$4=TRUE, 'Output Sys. Avg. Rates'!$O$37, 0) -> 0 | M5: O3 Season Nox | N5: Maryland | O5: =IF(Dashboard!$C$12 = A5, 'Non-Baseload Output Rates'!$J$37, 0) -> 0 | P5: =IF(Dashboard!$C$17=N5, O5, 0) -> 0 | Q5: =IF(Dashboard!$C$21=$A$8, P5, 0) -> 0 | S5: =IF($B$4=TRUE, 'Output Sys. Avg. Rates'!$O$37, " ") | U5: O3 Season Nox | V5: =IF(Dashboard!$C$12=A3, 'Rate Lookup'!$L$9, 0) -> 0 | W5: =IF(Dashboard!$C$21=$A$8, V5, 0) -> 0 | AA5: O3 Season Nox | AB5: ='Rate Lookup'!$L$16 -> 0 | AC5: =IF(Dashboard!$C$21=$A$8, AB5, 0) -> 0
F6: Virginia | G6: =IF(Dashboard!$C$12=A4,'Output Sys. Avg. Rates'!$N$65,0) -> 1.2729 | H6: =IF(Dashboard!$C$17=F6, G6, 0) -> 0 | I6: =IF(Dashboard!$C$21=$A$8, H6, 0) -> 0 | K6: =IF($B$4=TRUE, 'Output Sys. Avg. Rates'!$O$65, 0) -> 0 | N6: Virginia | O6: =IF(Dashboard!$C$12 = A5, 'Non-Baseload Output Rates'!$J$65, 0) -> 0 | P6: =IF(Dashboard!$C$17=N6, O6, 0) -> 0 | Q6: =IF(Dashboard!$C$21=$A$8, P6, 0) -> 0 | S6: =IF($B$4=TRUE, 'Output Sys. Avg. Rates'!$O$65, " ")
F7: RFC | G7: =IF(Dashboard!$C$12 = A4, 'Output Sys. Avg. Rates'!$N$93, 0) -> 1.418 | H7: =IF(Dashboard!$C$17=F7, G7, 0) -> 0 | I7: =IF(Dashboard!$C$21=$A$8, H7, 0) -> 0 | K7: =IF($B$4=TRUE, 'Output Sys. Avg. Rates'!$O$93, 0) -> 0 | N7: RFC | O7: =IF(Dashboard!$C$12 = A5, 'Non-Baseload Output Rates'!$J$93, 0) -> 0 | P7: =IF(Dashboard!$C$17=N7, O7, 0) -> 0 | Q7: =IF(Dashboard!$C$21=$A$8, P7, 0) -> 0 | S7: =IF($B$4=TRUE, 'Output Sys. Avg. Rates'!$O$93, " ")
A8: Nitrogen_Oxides | F8: SERC | G8: =IF(Dashboard!$C$12 = A4, 'Output Sys. Avg. Rates'!$N$121, 0) -> 1.3027 | H8: =IF(Dashboard!$C$17=F8, G8, 0) -> 0 | I8: =IF(Dashboard!$C$21=$A$8, H8, 0) -> 0 | K8: =IF($B$4=TRUE, 'Output Sys. Avg. Rates'!$O$121, 0) -> 0 | N8: SERC | O8: =IF(Dashboard!$C$12 = A5, 'Non-Baseload Output Rates'!$J$121, 0) -> 0 | P8: =IF(Dashboard!$C$17=N8, O8, 0) -> 0 | Q8: =IF(Dashboard!$C$21=$A$8, P8, 0) -> 0 | S8: =IF($B$4=TRUE, 'Output Sys. Avg. Rates'!$O$121, " ")
A9: Carbon_Dioxide | F9: RFC East | G9: =IF(Dashboard!$C$12 = A4, 'Output Sys. Avg. Rates'!$N$149, 0) -> 1.1707 | H9: =IF(Dashboard!$C$17=F9, G9, 0) -> 0 | I9: =IF(Dashboard!$C$21=$A$8, H9, 0) -> 0 | K9: =IF($B$4=TRUE, 'Output Sys. Avg. Rates'!$O$149, 0) -> 0 | N9: RFC East | O9: =IF(Dashboard!$C$12 = A5, 'Non-Baseload Output Rates'!$J$149, 0) -> 0 | P9: =IF(Dashboard!$C$17=N9, O9, 0) -> 0 | Q9: =IF(Dashboard!$C$21=$A$8, P9, 0) -> 0 | S9: =IF($B$4=TRUE, 'Output Sys. Avg. Rates'!$O$149, " ")
A10: Sulfer_Dioxide | F10: SRVC | G10: =IF(Dashboard!$C$12 = A4, 'Output Sys. Avg. Rates'!$N$177, 0) -> 0.9672 | H10: =IF(Dashboard!$C$17=F10, G10, 0) -> 0 | I10: =IF(Dashboard!$C$21=$A$8, H10, 0) -> 0 | K10: =IF($B$4=TRUE, 'Output Sys. Avg. Rates'!$O$177, 0) -> 0 | N10: SRVC | O10: =IF(Dashboard!$C$12 = A5, 'Non-Baseload Output Rates'!$J$177, 0) -> 0 | P10: =IF(Dashboard!$C$17=N10, O10, 0) -> 0 | Q10: =IF(Dashboard!$C$21=$A$8, P10, 0) -> 0
G11: Actual | H11: =SUM(H4:H10) -> 3.4464 | I11: =IF(Dashboard!$C$21=$A$8, H11, 0) -> 0 | K11: =IF($B$4=TRUE, 'Output Sys. Avg. Rates'!$O$121, 0) -> 0 | O11: Actual | P11: =SUM(P4:P10) -> 0 | Q11: =IF(Dashboard!$C$21=$A$8, P11, 0) -> 0
A12: Annual | B12: Annual
A13: Ozone Season
E14: Annual Nox | M14: Annual Nox | U14: Annual Nox | V14: =IF(Dashboard!$C$12=A3, 'Rate Lookup'!L38, 0) -> 0 | W14: =IF(Dashboard!$C$21=$A$8, V14, 0) -> 0 | X14: =IF(Dashboard!$G$21=$A$12, W14, W5) -> 0 | Y14: =X14*Dashboard!$C$4 -> 0 | AA14: Annual Nox | AB14: ='Rate Lookup'!$L$45 -> 0 | AC14: =IF(Dashboard!$C$21=$A$8, AB14, 0) -> 0 | AD14: =IF(Dashboard!$G$21=$A$12, AC14, AC5) -> 0 | AE14: =AD14*Dashboard!$C$4 -> 0
A15: Wind | F15: DC | G15: =IF(Dashboard!$C$12 = A4, 'Output Sys. Avg. Rates'!$N$15, 0) -> 3.6538 | H15: =IF(Dashboard!$C$17=F15, G15, 0) -> 3.6538 | I15: =IF(Dashboard!$C$21=$A$8, H15, 0) -> 0 | K15: =IF($B$4=TRUE, 'Output Sys. Avg. Rates'!$O$15, 0) -> 0 | N15: DC | O15: =IF(Dashboard!$C$12 = A5, 'Non-Baseload Output Rates'!$J$15, 0) -> 0 | P15: =IF(Dashboard!$C$17=N15, O15, 0) -> 0 | Q15: =IF(Dashboard!$C$21=$A$8, P15, 0) -> 0 | S15: =IF($B$4=TRUE, 'Output Sys. Avg. Rates'!$O$15, 0) -> 0
A16: PV | F16: Maryland | G16: =IF(Dashboard!$C$12 = A4, 'Output Sys. Avg. Rates'!$N$44, 0) -> 2.4622 | H16: =IF(Dashboard!$C$17=F16, G16, 0) -> 0 | I16: =IF(Dashboard!$C$21=$A$8, H16, 0) -> 0 | K16: =IF($B$4=TRUE, 'Output Sys. Avg. Rates'!$O$44, 0) -> 0 | N16: Maryland | O16: =IF(Dashboard!$C$12 = A5, 'Non-Baseload Output Rates'!$J$44, 0) -> 0 | P16: =IF(Dashboard!$C$17=N16, O16, 0) -> 0 | Q16: =IF(Dashboard!$C$21=$A$8, P16, 0) -> 0 | S16: =IF($B$4=TRUE, 'Output Sys. Avg. Rates'!$O$44, 0) -> 0
A17: HVAC | F17: Virginia | G17: =IF(Dashboard!$C$12 = A4, 'Output Sys. Avg. Rates'!$N$72, 0) -> 1.789 | H17: =IF(Dashboard!$C$17=F17, G17, 0) -> 0 | I17: =IF(Dashboard!$C$21=$A$8, H17, 0) -> 0 | K17: =IF($B$4=TRUE, 'Output Sys. Avg. Rates'!$O$72, 0) -> 0 | N17: Virginia | O17: =IF(Dashboard!$C$12 = A5, 'Non-Baseload Output Rates'!$J$72, 0) -> 0 | P17: =IF(Dashboard!$C$17=N17, O17, 0) -> 0 | Q17: =IF(Dashboard!$C$21=$A$8, P17, 0) -> 0 | S17: =IF($B$4=TRUE, 'Output Sys. Avg. Rates'!$O$72, 0) -> 0
A18: Lighting | F18: RFC | G18: =IF(Dashboard!$C$12 = A4, 'Output Sys. Avg. Rates'!$N$100, 0) -> 2.288 | H18: =IF(Dashboard!$C$17=F18, G18, 0) -> 0 | I18: =IF(Dashboard!$C$21=$A$8, H18, 0) -> 0 | K18: =IF($B$4=TRUE, 'Output Sys. Avg. Rates'!$O$100, 0) -> 0 | N18: RFC | O18: =IF(Dashboard!$C$12 = A5, 'Non-Baseload Output Rates'!$J$100, 0) -> 0 | P18: =IF(Dashboard!$C$17=N18, O18, 0) -> 0 | Q18: =IF(Dashboard!$C$21=$A$8, P18, 0) -> 0 | S18: =IF($B$4=TRUE, 'Output Sys. Avg. Rates'!$O$100, 0) -> 0
A19: LED | F19: SERC | G19: =IF(Dashboard!$C$12 = A4, 'Output Sys. Avg. Rates'!$N$121, 0) -> 1.3027 | H19: =IF(Dashboard!$C$17=F19, G19, 0) -> 0 | I19: =IF(Dashboard!$C$21=$A$8, H19, 0) -> 0 | K19: =IF($B$4=TRUE, 'Output Sys. Avg. Rates'!$O$121, 0) -> 0 | N19: SERC | O19: =IF(Dashboard!$C$12 = A5, 'Non-Baseload Output Rates'!$J$121, 0) -> 0 | P19: =IF(Dashboard!$C$17=N19, O19, 0) -> 0 | Q19: =IF(Dashboard!$C$21=$A$8, P19, 0) -> 0 | S19: =IF($B$4=TRUE, 'Output Sys. Avg. Rates'!$O$121, 0) -> 0
A20: Generic | F20: RFC East | G20: =IF(Dashboard!$C$12 = A4, 'Output Sys. Avg. Rates'!$N$156, 0) -> 1.6307 | H20: =IF(Dashboard!$C$17=F20, G20, 0) -> 0 | I20: =IF(Dashboard!$C$21=$A$8, H20, 0) -> 0 | K20: =IF($B$4=TRUE, 'Output Sys. Avg. Rates'!$O$156, 0) -> 0 | N20: RFC East | O20: =IF(Dashboard!$C$12 = A5, 'Non-Baseload Output Rates'!$J$156, 0) -> 0 | P20: =IF(Dashboard!$C$17=N20, O20, 0) -> 0 | Q20: =IF(Dashboard!$C$21=$A$8, P20, 0) -> 0 | S20: =IF($B$4=TRUE, 'Output Sys. Avg. Rates'!$O$156, 0) -> 0
F21: SRVC | G21: =IF(Dashboard!$C$12 = A4, 'Output Sys. Avg. Rates'!$N$184, 0) -> 1.6053 | H21: =IF(Dashboard!$C$17=F21, G21, 0) -> 0 | I21: =IF(Dashboard!$C$21=$A$8, H21, 0) -> 0 | K21: =IF($B$4=TRUE, 'Output Sys. Avg. Rates'!$O$184, 0) -> 0 | N21: SRVC | O21: =IF(Dashboard!$C$12 = A5, 'Non-Baseload Output Rates'!$J$184, 0) -> 0 | P21: =IF(Dashboard!$C$17=N21, O21, 0) -> 0 | Q21: =IF(Dashboard!$C$21=$A$8, P21, 0) -> 0 | S21: =IF($B$4=TRUE, 'Output Sys. Avg. Rates'!$O$184, 0) -> 0
A22: DC | G22: Actual | H22: =SUM(H15:H21) -> 3.6538 | I22: =SUM(I15:I21) -> 0 | J22: =IF(Dashboard!$G$21=A12, I22, I11) -> 0 | K22: =J22*Dashboard!$C$4 -> 0 | O22: Actual | P22: =SUM(P15:P21) -> 0 | Q22: =SUM(Q15:Q21) -> 0 | R22: =IF(Dashboard!$G$21=$A$12, Q22, Q11) -> 0 | S22: =R22*Dashboard!$C$4 -> 0
A23: Maryland | E23: Annual CO2 | M23: Annual CO2 | U23: Annual CO2 | V23: =IF(Dashboard!$C$12=A3, 'Rate Lookup'!L69, 0) -> 0 | W23: =IF(Dashboard!$C$21=$A$9, V23, 0) -> 0 | X23: =W23 -> 0 | Y23: =W23*Dashboard!$C$4 -> 0 | AA23: Annual CO2 | AB23: ='Rate Lookup'!$L$76 -> 0 | AC23: =IF(Dashboard!$C$21=$A$9, AB23, 0) -> 0 | AD23: =AC23 -> 0 | AE23: =AD23*Dashboard!$C$4 -> 0
A24: Virginia | F24: DC | G24: =IF(Dashboard!$C$12 = A4, 'Output Sys. Avg. Rates'!$N$22, 0) -> 2432.3 | H24: =IF(Dashboard!$C$17=F24, G24, 0) -> 2432.3 | I24: =IF(Dashboard!$C$21=$A$9, H24, 0) -> 0 | N24: DC | O24: =IF(Dashboard!$C$12 = A5, 'Non-Baseload Output Rates'!$J$22, 0) -> 0 | P24: =IF(Dashboard!$C$17=N24, O24, 0) -> 0 | Q24: =IF(Dashboard!$C$21=$A$9, P24, 0) -> 0 | S24: =IF($B$4=TRUE, 'Output Sys. Avg. Rates'!$O$22, 0) -> 0
A25: RFC | F25: Maryland | G25: =IF(Dashboard!$C$12 = A4, 'Output Sys. Avg. Rates'!$N$51, 0) -> 1352.27 | H25: =IF(Dashboard!$C$17=F25, G25, 0) -> 0 | I25: =IF(Dashboard!$C$21=$A$9, H25, 0) -> 0 | N25: Maryland | O25: =IF(Dashboard!$C$12 = A5, 'Non-Baseload Output Rates'!$J$51, 0) -> 0 | P25: =IF(Dashboard!$C$17=N25, O25, 0) -> 0 | Q25: =IF(Dashboard!$C$21=$A$9, P25, 0) -> 0 | S25: =IF($B$4=TRUE, 'Output Sys. Avg. Rates'!$O$51, 0) -> 0
A26: SERC | F26: Virginia | G26: =IF(Dashboard!$C$12 = A4, 'Output Sys. Avg. Rates'!$N$79, 0) -> 1196.05 | H26: =IF(Dashboard!$C$17=F26, G26, 0) -> 0 | I26: =IF(Dashboard!$C$21=$A$9, H26, 0) -> 0 | N26: Virginia | O26: =IF(Dashboard!$C$12 = A5, 'Non-Baseload Output Rates'!$J$79, 0) -> 0 | P26: =IF(Dashboard!$C$17=N26, O26, 0) -> 0 | Q26: =IF(Dashboard!$C$21=$A$9, P26, 0) -> 0 | S26: =IF($B$4=TRUE, 'Output Sys. Avg. Rates'!$O$79, 0) -> 0
A27: RFC East | F27: RFC | G27: =IF(Dashboard!$C$12 = A4, 'Output Sys. Avg. Rates'!$N$107, 0) -> 1427.21 | H27: =IF(Dashboard!$C$17=F27, G27, 0) -> 0 | I27: =IF(Dashboard!$C$21=$A$9, H27, 0) -> 0 | N27: RFC | O27: =IF(Dashboard!$C$12 = A5, 'Non-Baseload Output Rates'!$J$107, 0) -> 0 | P27: =IF(Dashboard!$C$17=N27, O27, 0) -> 0 | Q27: =IF(Dashboard!$C$21=$A$9, P27, 0) -> 0 | S27: =IF($B$4=TRUE, 'Output Sys. Avg. Rates'!$O$107, 0) -> 0
A28: SRVC | F28: SERC | G28: =IF(Dashboard!$C$12 = A4, 'Output Sys. Avg. Rates'!$N$135, 0) -> 1368.85 | H28: =IF(Dashboard!$C$17=F28, G28, 0) -> 0 | I28: =IF(Dashboard!$C$21=$A$9, H28, 0) -> 0 | N28: SERC | O28: =IF(Dashboard!$C$12 = A5, 'Non-Baseload Output Rates'!$J$135, 0) -> 0 | P28: =IF(Dashboard!$C$17=N28, O28, 0) -> 0 | Q28: =IF(Dashboard!$C$21=$A$9, P28, 0) -> 0 | S28: =IF($B$4=TRUE, 'Output Sys. Avg. Rates'!$O$135, 0) -> 0
F29: RFC East | G29: =IF(Dashboard!$C$12 = A4, 'Output Sys. Avg. Rates'!$N$163, 0) -> 1139.07 | H29: =IF(Dashboard!$C$17=F29, G29, 0) -> 0 | I29: =IF(Dashboard!$C$21=$A$9, H29, 0) -> 0 | N29: RFC East | O29: =IF(Dashboard!$C$12 = A5, 'Non-Baseload Output Rates'!$J$163, 0) -> 0 | P29: =IF(Dashboard!$C$17=N29, O29, 0) -> 0 | Q29: =IF(Dashboard!$C$21=$A$9, P29, 0) -> 0 | S29: =IF($B$4=TRUE, 'Output Sys. Avg. Rates'!$O$163, 0) -> 0
F30: SRVC | G30: =IF(Dashboard!$C$12 = A4, 'Output Sys. Avg. Rates'!$N$191, 0) -> 1134.88 | H30: =IF(Dashboard!$C$17=F30, G30, 0) -> 0 | I30: =IF(Dashboard!$C$21=$A$9, H30, 0) -> 0 | N30: SRVC | O30: =IF(Dashboard!$C$12 = A5, 'Non-Baseload Output Rates'!$J$191, 0) -> 0 | P30: =IF(Dashboard!$C$17=N30, O30, 0) -> 0 | Q30: =IF(Dashboard!$C$21=$A$9, P30, 0) -> 0 | S30: =IF($B$4=TRUE, 'Output Sys. Avg. Rates'!$O$191, 0) -> 0
G31: Actual | H31: =SUM(H24:H30) -> 2432.3 | I31: =SUM(I24:I30) -> 0 | J31: =I31 -> 0 | K31: =J31*Dashboard!$C$4 -> 0 | O31: Actual | P31: =SUM(P24:P30) -> 0 | Q31: =SUM(Q24:Q30) -> 0 | R31: =Q31 -> 0 | S31: =R31*Dashboard!$C$4 -> 0
E32: Annual SO2 | M32: Annual SO2 | U32: Annual SO2 | V32: =IF(Dashboard!$C$12=A3, 'Rate Lookup'!L99, 0) -> 0 | W32: =IF(Dashboard!$C$21=$A$10, V32, 0) -> 0 | X32: =W32 -> 0 | Y32: =W32*Dashboard!$C$4 -> 0 | AA32: Annual SO2 | AB32: ='Rate Lookup'!$L$106 -> 0 | AC32: =IF(Dashboard!$C$21=$A$10, AB32, 0) -> 0 | AD32: =AC32 -> 0 | AE32: =AD32*Dashboard!$C$4 -> 0
F33: DC | G33: =IF(Dashboard!$C$12 = A4, 'Output Sys. Avg. Rates'!$N$29, 0) -> 8.09 | H33: =IF(Dashboard!$C$17=F33, G33, 0) -> 8.09 | I33: =IF(Dashboard!$C$21=$A$10, H33, 0) -> 8.09 | N33: DC | O33: =IF(Dashboard!$C$12 = A5, 'Output Sys. Avg. Rates'!$N$29, 0) -> 0 | P33: =IF(Dashboard!$C$17=N33, O33, 0) -> 0 | Q33: =IF(Dashboard!$C$21=$A$10, P33, 0) -> 0 | S33: =IF($B$4=TRUE, 'Output Sys. Avg. Rates'!$O$29, 0) -> 0
F34: Maryland | G34: =IF(Dashboard!$C$12 = A4, 'Output Sys. Avg. Rates'!$N$58, 0) -> 10.9375 | H34: =IF(Dashboard!$C$17=F34, G34, 0) -> 0 | I34: =IF(Dashboard!$C$21=$A$10, H34, 0) -> 0 | N34: Maryland | O34: =IF(Dashboard!$C$12 = A5, 'Output Sys. Avg. Rates'!$N$58, 0) -> 0 | P34: =IF(Dashboard!$C$17=N34, O34, 0) -> 0 | Q34: =IF(Dashboard!$C$21=$A$10, P34, 0) -> 0 | S34: =IF($B$4=TRUE, 'Output Sys. Avg. Rates'!$O$58, 0) -> 0
F35: Virginia | G35: =IF(Dashboard!$C$12 = A4, 'Output Sys. Avg. Rates'!$N$86, 0) -> 5.7635 | H35: =IF(Dashboard!$C$17=F35, G35, 0) -> 0 | I35: =IF(Dashboard!$C$21=$A$10, H35, 0) -> 0 | N35: Virginia | O35: =IF(Dashboard!$C$12 = A5, 'Output Sys. Avg. Rates'!$N$86, 0) -> 0 | P35: =IF(Dashboard!$C$17=N35, O35, 0) -> 0 | Q35: =IF(Dashboard!$C$21=$A$10, P35, 0) -> 0 | S35: =IF($B$4=TRUE, 'Output Sys. Avg. Rates'!$O$86, 0) -> 0
F36: RFC | G36: =IF(Dashboard!$C$12 = A4, 'Output Sys. Avg. Rates'!$N$114, 0) -> 8.9846 | H36: =IF(Dashboard!$C$17=F36, G36, 0) -> 0 | I36: =IF(Dashboard!$C$21=$A$10, H36, 0) -> 0 | N36: RFC | O36: =IF(Dashboard!$C$12 = A5, 'Output Sys. Avg. Rates'!$N$114, 0) -> 0 | P36: =IF(Dashboard!$C$17=N36, O36, 0) -> 0 | Q36: =IF(Dashboard!$C$21=$A$10, P36, 0) -> 0 | S36: =IF($B$4=TRUE, 'Output Sys. Avg. Rates'!$O$114, 0) -> 0
F37: SERC | G37: =IF(Dashboard!$C$12 = A4, 'Output Sys. Avg. Rates'!$N$142, 0) -> 6.2443 | H37: =IF(Dashboard!$C$17=F37, G37, 0) -> 0 | I37: =IF(Dashboard!$C$21=$A$10, H37, 0) -> 0 | N37: SERC | O37: =IF(Dashboard!$C$12 = A5, 'Output Sys. Avg. Rates'!$N$142, 0) -> 0 | P37: =IF(Dashboard!$C$17=N37, O37, 0) -> 0 | Q37: =IF(Dashboard!$C$21=$A$10, P37, 0) -> 0 | S37: =IF($B$4=TRUE, 'Output Sys. Avg. Rates'!$O$142, 0) -> 0
F38: RFC East | G38: =IF(Dashboard!$C$12 = A4, 'Output Sys. Avg. Rates'!$N$170, 0) -> 7.7918 | H38: =IF(Dashboard!$C$17=F38, G38, 0) -> 0 | I38: =IF(Dashboard!$C$21=$A$10, H38, 0) -> 0 | N38: RFC East | O38: =IF(Dashboard!$C$12 = A5, 'Output Sys. Avg. Rates'!$N$170, 0) -> 0 | P38: =IF(Dashboard!$C$17=N38, O38, 0) -> 0 | Q38: =IF(Dashboard!$C$21=$A$10, P38, 0) -> 0 | S38: =IF($B$4=TRUE, 'Output Sys. Avg. Rates'!$O$170, 0) -> 0
F39: SRVC | G39: =IF(Dashboard!$C$12 = A4, 'Output Sys. Avg. Rates'!$N$198, 0) -> 5.8858 | H39: =IF(Dashboard!$C$17=F39, G39, 0) -> 0 | I39: =IF(Dashboard!$C$21=$A$10, H39, 0) -> 0 | N39: SRVC | O39: =IF(Dashboard!$C$12 = A5, 'Output Sys. Avg. Rates'!$N$198, 0) -> 0 | P39: =IF(Dashboard!$C$17=N39, O39, 0) -> 0 | Q39: =IF(Dashboard!$C$21=$A$10, P39, 0) -> 0 | S39: =IF($B$4=TRUE, 'Output Sys. Avg. Rates'!$O$198, 0) -> 0
G40: Actual | H40: =SUM(H33:H39) -> 8.09 | I40: =SUM(I33:I39) -> 8.09 | J40: =I40 -> 8.09 | K40: =J40*Dashboard!$C$4 -> 8.09 | O40: Actual | P40: =SUM(P33:P39) -> 0 | Q40: =SUM(Q33:Q39) -> 0 | R40: =Q40 -> 0 | S40: =R40*Dashboard!$C$4 -> 0
...

Sheet How to Update Values
B1: Notes on how to replace rate values:
B2: **All new rates should be in Tons/kWh emitted (Can use dashboard to convert your number to these units if necessary).
B3: **Some of the cells referred to below are hidden. To unhide cell columns/rows, select surrounding columns/rows and right click "Unhide."
B5: Additional notes on how this spreadsheet works:
B6: **The sheet 'Rate Lookup' is the spreadsheet for users to refer to in order to look up and input their own user-defined rate on the dashboard.
B7: **The sheet 'Rate Lookup' also calculates the Time-Matched Marginal (TMM) methodology rates and emissions, by changing units (weight units [tons/metric tons/pounds] and electric units [kWh/MWh]) one step at a time. This is hidden.
B8: **The sheet 'Ouput Sys. Avg Rates' calculates the Ouput System Average Rates in the same way that the TMM Rates are calculated.
B9: **The Sheet Non-Baseload Output Rates calculates the non-baseload average output rates in the same way that the TMM and Ouput System Average rates are calculated.
B10: **These rates are calculated and converted based on the preferred units that the user indicates on the dashboard, and listed on the sheet 'Rate Reference,' before being sent to the Dashboard's output cells.
E12: Sheet to Refer To: | K12: Sheet to Refer To: | Q12: Sheet to Refer To:
E13: Rate Lookup | K13: Output Sys. Avg. Rates | Q13: Non-Baseload Output Rates
B14: Rate Type: | C14: Pollutant/Time Period: | D14: Energy Type: | E14: Cell Value to Change: | G14: Rate Type: | H14: Pollutant/Time Period: | J14: Region: | K14: Cell Value to Change: | M14: Rate Type: | N14: Pollutant/Time Period: | P14: Region: | Q14: Cell Value to Change:
B16: TMM Rates: | C16: NOx Ozone Season: | D16: Wind | E16: C5 | G16: Output System Average Rates: | H16: NOx Ozone Season: | J16: DC | K16: I3 | M16: Non-Baseload Rates: | N16: NOx Ozone Season: | P16: DC | Q16: E3
D17: PV | E17: C6 | J17: Maryland | K17: I31 | P17: Maryland | Q17: E31
D18: HVAC | E18: C7 | J18: Virginia | K18: I59 | P18: Virginia | Q18: E59
D19: Lighting | E19: C8 | J19: RFC | K19: I87 | P19: RFC | Q19: E87
D20: LED | E20: C9 | J20: SERC | K20: I115 | P20: SERC | Q20: E115
D21: Generic | E21: C10 | J21: RFC East | K21: I143 | P21: RFC East | Q21: E143
C22: NOx Annual | D22: Wind | E22: C14 | J22: SRVC | K22: I171 | P22: SRVC | Q22: E171
D23: PV | E23: C15 | H23: NOx Annual | J23: DC | K23: I10 | N23: NOx Annual | P23: DC | Q23: E10
D24: HVAC | E24: C16 | J24: Maryland | K24: I38 | P24: Maryland | Q24: E38
D25: Lighting | E25: C17 | J25: Virginia | K25: I66 | P25: Virginia | Q25: E66
D26: LED | E26: C18 | J26: RFC | K26: I94 | P26: RFC | Q26: E94
D27: Generic | E27: C19 | J27: SERC | K27: I122 | P27: SERC | Q27: E122
C28: CO2 Annual | D28: Wind | E28: C24 | J28: RFC East | K28: I150 | P28: RFC East | Q28: E150
D29: PV | E29: C25 | J29: SRVC | K29: I178 | P29: SRVC | Q29: E178
D30: HVAC | E30: C26 | H30: CO2 Annual | J30: DC | K30: I17 | N30: CO2 Annual | P30: DC | Q30: E17
D31: Lighting | E31: C27 | J31: Maryland | K31: I45 | P31: Maryland | Q31: E45
D32: LED | E32: C28 | J32: Virginia | K32: I73 | P32: Virginia | Q32: E73
D33: Generic | E33: C29 | J33: RFC | K33: I101 | P33: RFC | Q33: E101
C34: SO2 Annual | D34: Wind | E34: C33 | J34: SERC | K34: I129 | P34: SERC | Q34: E129
D35: PV | E35: C34 | J35: RFC East | K35: I157 | P35: RFC East | Q35: E157
D36: HVAC | E36: C35 | J36: SRVC | K36: I185 | P36: SRVC | Q36: E185
D37: Lighting | E37: C36 | H37: SO2 Annual | J37: DC | K37: I24 | N37: SO2 Annual | P37: DC | Q37: E24
D38: LED | E38: C37 | J38: Maryland | K38: I52 | P38: Maryland | Q38: E152
D39: Generic | E39: C38 | J39: Virginia | K39: I80 | P39: Virginia | Q39: E280
J40: RFC | K40: I108 | P40: RFC | Q40: E408
J41: SERC | K41: I136 | P41: SERC | Q41: E536
J42: RFC East | K42: I164 | P42: RFC East | Q42: E664
J43: SRVC | K43: I192 | P43: SRVC | Q43: E792

Sheet Data
A1: Data for MWCOG Calculator Revisions
B2: LED
B3: Average Annual Avoided Emission Rates (lb/MWH)
C4: lbs/MWh
C5: NOx | D5: SO2 | E5: CO2
B6: Annual | C6: 2.9131392 | D6: 14.785159 | E6: 1903.9989
B7: Ozone Season | C7: 2.7468714 | D7: 13.302042 | E7: 1835.9543
B10: Total Annual Avoided Emissions (tons per year) for 1000 MWh per year
C11: tons
C12: NOx | D12: SO2 | E12: CO2
B13: Annual | C13: 1.4565696 | D13: 7.3925795 | E13: 951.99943
B14: Ozone Season | C14: 0.58355339 | D14: 2.8259247 | E14: 390.0355
B18: PV
B19: Average Annual Avoided Emission Rates (lb/MWH)
C20: lbs/MWh
C21: NOx | D21: SO2 | E21: CO2
B22: Annual | C22: 2.816658 | D22: 13.344252 | E22: 1853.184
B23: Ozone Season | C23: 2.6413295 | D23: 11.673324 | E23: 1773.3133
B26: Total Annual Avoided Emissions (tons per year) for 1000 MWh per year
C27: tons
C28: NOx | D28: SO2 | E28: CO2
B29: Annual | C29: 1.408329 | D29: 6.6721261 | E29: 926.592
B30: Ozone Season | C30: 0.7721991 | D30: 3.4127247 | E30: 518.43244
B34: Lighting
B35: Average Annual Avoided Emission Rates (lb/MWH)
C36: lbs/MWh
C37: NOx | D37: SO2 | E37: CO2
B38: Annual | C38: 2.8415228 | D38: 13.832769 | E38: 1869.1707
B39: Ozone Season | C39: 2.6793672 | D39: 12.177194 | E39: 1802.5348
B42: Total Annual Avoided Emissions (tons per year) for 1000 MWh per year
C43: tons
C44: NOx | D44: SO2 | E44: CO2
B45: Annual | C45: 1.4207614 | D45: 6.9163846 | E45: 934.58533
B46: Ozone Season | C46: 0.64227612 | D46: 2.9190179 | E46: 432.08899
B51: Wind
B52: Average Annual Avoided Emission Rates (lb/MWH)
C53: lbs/MWh
C54: NOx | D54: SO2 | E54: CO2
B55: Annual | C55: 2.9260978 | D55: 15.24065 | E55: 1917.1196
B56: Ozone Season | C56: 2.7705223 | D56: 13.87337 | E56: 1850.2631
...
