Workbook

Sheet Econometric Model Comparision
A2: (June 2015) ROUND 9.0 ECONOMETRIC MODEL RESULTS (thousands) - COG / TPB Planning Area
C4: 2015 | D4: 2020 | E4: 2025 | F4: 2030 | G4: 2035 | H4: 2040 | I4: 2045
A6: TOTAL JOBS | C6: 3146.186 | D6: 3390.8085 | E6: 3542.9443 | F6: 3689.8092 | G6: 3846.7556 | H6: 4018.4301 | I6: 4166
A7: TOTAL POPULATION | C7: 5486.5391 | D7: 5793.5871 | E7: 6043.605 | F7: 6274.2947 | G7: 6488.6653 | H7: 6686.6455 | I7: 6888.394
A8: TOTAL HOUSEHOLDS | C8: 2009.3609 | D8: 2146.2123 | E8: 2276.1603 | F8: 2400.2457 | G8: 2519.6116 | H8: 2642.6741 | I8: 2775.414
B10: FINAL ROUND 9.0 INTERMEDIATE SCENARIO (thousands) - COG / TPB Planning Area
C12: 2015 | D12: 2020 | E12: 2025 | F12: 2030 | G12: 2035 | H12: 2040 | I12: 2045
A14: TOTAL JOBS | C14: ='Round 9.0 Employment'!B63 -> 3151.679 | D14: ='Round 9.0 Employment'!C63 -> 3343.042 | E14: ='Round 9.0 Employment'!D63 -> 3562.569 | F14: ='Round 9.0 Employment'!E63 -> 3766.653 | G14: ='Round 9.0 Employment'!F63 -> 3949.045 | H14: ='Round 9.0 Employment'!G63 -> 4125.017 | I14: ='Round 9.0 Employment'!H63 -> 4291.154
A15: TOTAL POPULATION | C15: ='Round 9.0 Population'!B63 -> 5372.032 | D15: ='Round 9.0 Population'!C63 -> 5673.11 | E15: ='Round 9.0 Population'!D63 -> 5955.951 | F15: ='Round 9.0 Population'!E63 -> 6214.294 | G15: ='Round 9.0 Population'!F63 -> 6453.004 | H15: ='Round 9.0 Population'!G63 -> 6665.33 | I15: ='Round 9.0 Population'!H63 -> 6875.997
A16: TOTAL HOUSEHOLDS | C16: ='Round 9.0 Households'!B63 -> 2009.347 | D16: ='Round 9.0 Households'!C63 -> 2135.084 | E16: ='Round 9.0 Households'!D63 -> 2256.385 | F16: ='Round 9.0 Households'!E63 -> 2371.129 | G16: ='Round 9.0 Households'!F63 -> 2470.153 | H16: ='Round 9.0 Households'!G63 -> 2557.916 | I16: ='Round 9.0 Households'!H63 -> 2651.269
A18: COG / TPB Planning Area | B18: Absolute and Percentage Difference between Final Round 9.0 and the
B19: Round 9.0 Econometric Model (Final Round 9.0 minus Model Results)
C21: 2015 | D21: 2020 | E21: 2025 | F21: 2030 | G21: 2035 | H21: 2040 | I21: 2045
A23: TOTAL JOBS | C23: =SUM(C14-C6) -> 5.493 | D23: =SUM(D14-D6) -> -47.766484 | E23: =SUM(E14-E6) -> 19.62467 | F23: =SUM(F14-F6) -> 76.843793 | G23: =SUM(G14-G6) -> 102.28945 | H23: =SUM(H14-H6) -> 106.58687 | I23: =SUM(I14-I6) -> 125.154
C24: =SUM(C23/C6) -> 0.0017459235 | D24: =SUM(D23/D6) -> -0.014087049 | E24: =SUM(E23/E6) -> 0.005539085 | F24: =SUM(F23/F6) -> 0.020825953 | G24: =SUM(G23/G6) -> 0.026591096 | H24: =SUM(H23/H6) -> 0.026524505 | I24: =SUM(I23/I6) -> 0.030041767
A26: TOTAL POPULATION | C26: =SUM(C15-C7) -> -114.50712 | D26: =SUM(D15-D7) -> -120.47713 | E26: =SUM(E15-E7) -> -87.65403 | F26: =SUM(F15-F7) -> -60.000658 | G26: =SUM(G15-G7) -> -35.661315 | H26: =SUM(H15-H7) -> -21.31545 | I26: =SUM(I15-I7) -> -12.397
C27: =SUM(C26/C7) -> -0.020870555 | D27: =SUM(D26/D7) -> -0.020794912 | E27: =SUM(E26/E7) -> -0.0145036 | F27: =SUM(F26/F7) -> -0.0095629328 | G27: =SUM(G26/G7) -> -0.0054959399 | H27: =SUM(H26/H7) -> -0.0031877644 | I27: =SUM(I26/I7) -> -0.0017996938
A29: TOTAL HOUSEHOLDS | C29: =SUM(C16-C8) -> -0.013877129 | D29: =SUM(D16-D8) -> -11.128256 | E29: =SUM(E16-E8) -> -19.77535 | F29: =SUM(F16-F8) -> -29.1167 | G29: =SUM(G16-G8) -> -49.458608 | H29: =SUM(H16-H8) -> -84.758079 | I29: =SUM(I16-I8) -> -124.145
C30: =SUM(C29/C8) -> -6.9062401e-06 | D30: =SUM(D29/D8) -> -0.0051850679 | E30: =SUM(E29/E8) -> -0.0086880302 | F30: =SUM(F29/F8) -> -0.012130716 | G30: =SUM(G29/G8) -> -0.019629457 | H30: =SUM(H29/H8) -> -0.032072846 | I30: =SUM(I29/I8) -> -0.044730264

Sheet Round 9.0 Employment
J1: =NOW() -> 43014.538
A2: Summary of Intermediate Employment Forecasts | I2: Final COG Board of Directors 11/09/16
A3: Final Round 9.0 Cooperative Forecasts
A4: (Thousands)
I5: 2015 to 2045
A6: JURISDICTION | B6: 2015 | C6: 2020 | D6: 2025 | E6: 2030 | F6: 2035 | G6: 2040 | H6: 2045 | I6: Number | J6: % Change
A8: District of Columbia | B8: 798.271 | C8: 846.28 | D8: 895.12 | E8: 937.854 | F8: 978.223 | G8: 1011.806 | H8: 1045.39 | I8: =SUM(H8-B8) -> 247.119 | J8: =I8/B8 -> 0.3095678
A9: Arlington County | B9: 209.604 | C9: 213.202 | D9: 225.194 | E9: 242.136 | F9: 255.75 | G9: 267.641 | H9: 279.551 | I9: =SUM(H9-B9) -> 69.947 | J9: =I9/B9 -> 0.33371023
A10: City of Alexandria | B10: 106.238 | C10: 110.119 | D10: 121.772 | E10: 127.266 | F10: 135.254 | G10: 142.735 | H10: 155.095 | I10: =SUM(H10-B10) -> 48.857 | J10: =I10/B10 -> 0.45988253
A12: Central Jurisdictions | B12: =SUM(B8:B10) -> 1114.113 | C12: =SUM(C8:C10) -> 1169.601 | D12: =SUM(D8:D10) -> 1242.086 | E12: =SUM(E8:E10) -> 1307.256 | F12: =SUM(F8:F10) -> 1369.227 | G12: =SUM(G8:G10) -> 1422.182 | H12: =SUM(H8:H10) -> 1480.036 | I12: =SUM(H12-B12) -> 365.923 | J12: =I12/B12 -> 0.32844334
A14: Montgomery County | B14: 520.16 | C14: 543.542 | D14: 572.521 | E14: 604.491 | F14: 627.35 | G14: 653.917 | H14: 678.689 | I14: =H14-B14 -> 158.529 | J14: =I14/B14 -> 0.30476969
A15: City of Rockville (1) | B15: 76.943 | C15: 78.265 | D15: 80.526 | E15: 82.495 | F15: 86.808 | G15: 91.195 | H15: 96.774 | I15: =H15-B15 -> 19.831 | J15: =I15/B15 -> 0.25773625
A16: City of Gaithersburg (1) | B16: 46.429 | C16: 47.574 | D16: 50.01 | E16: 52.653 | F16: 56.12 | G16: 61.134 | H16: 65.684 | I16: =H16-B16 -> 19.255 | J16: =I16/B16 -> 0.41471925
A17: Prince George's County | B17: 338.565 | C17: 349.048 | D17: 366.326 | E17: 375.741 | F17: 385.51 | G17: 393.336 | H17: 402.147 | I17: =H17-B17 -> 63.582 | J17: =I17/B17 -> 0.1877985
A18: Fairfax County (2) | B18: 654.1 | C18: 702.6 | D18: 749.325 | E18: 790.63 | F18: 827.83 | G18: 864.53 | H18: 898.13 | I18: =H18-B18 -> 244.03 | J18: =I18/B18 -> 0.37307751
A19: City of Fairfax | B19: 20.765 | C19: 21.877 | D19: 22.756 | E19: 23.683 | F19: 24.621 | G19: 25.6 | H19: 26.579 | I19: =H19-B19 -> 5.814 | J19: =I19/B19 -> 0.27999037
A20: City of Falls Church | B20: 12 | C20: 14.3 | D20: 16.2 | E20: 17.6 | F20: 18 | G20: 18.3 | H20: 18.6 | I20: =H20-B20 -> 6.6 | J20: =I20/B20 -> 0.55
A22: Inner Suburbs | B22: =SUM(B14,B17,B18,B19,B20) -> 1545.59 | C22: =SUM(C14,C17,C18,C19,C20) -> 1631.367 | D22: =SUM(D14,D17,D18,D19,D20) -> 1727.128 | E22: =SUM(E14,E17,E18,E19,E20) -> 1812.145 | F22: =SUM(F14,F17,F18,F19,F20) -> 1883.311 | G22: =SUM(G14,G17,G18,G19,G20) -> 1955.683 | H22: =SUM(H14,H17,H18,H19,H20) -> 2024.145 | I22: =H22-B22 -> 478.555 | J22: =I22/B22 -> 0.3096261
A24: Loudoun County | B24: 164.21 | C24: 187.959 | D24: 211 | E24: 235.476 | F24: 255.633 | G24: 273.91 | H24: 290.757 | I24: =H24-B24 -> 126.547 | J24: =I24/B24 -> 0.77064125
A25: Prince William County | B25: 144.613 | C25: 164.96 | D25: 184.388 | E25: 204.541 | F25: 223.103 | G25: 245.139 | H25: 258.28 | I25: =H25-B25 -> 113.667 | J25: =I25/B25 -> 0.78600817
A26: City of Manassas | B26: 25.719 | C26: 26.877 | D26: 28.31 | E26: 28.848 | F26: 29.576 | G26: 30.301 | H26: 31.032 | I26: =H26-B26 -> 5.313 | J26: =I26/B26 -> 0.20657879
A27: City of Manassas Park | B27: 4.626 | C27: 4.718 | D27: 4.812 | E27: 4.908 | F27: 5.007 | G27: 5.106 | H27: 5.205 | I27: =H27-B27 -> 0.579 | J27: =I27/B27 -> 0.12516213
A28: Charles County | B28: 46.606 | C28: 46.988 | D28: 49.227 | E28: 52.196 | F28: 55.378 | G28: 58.762 | H28: 61.505 | I28: =H28-B28 -> 14.899 | J28: =I28/B28 -> 0.31967987
A29: Frederick County | B29: 106.202 | C29: 110.572 | D29: 115.618 | E29: 121.283 | F29: 127.81 | G29: 133.934 | H29: 140.194 | I29: =H29-B29 -> 33.992 | J29: =I29/B29 -> 0.3200693
A30: City of Frederick (3) | B30: 50.05 | C30: 51.756 | D30: 53.516 | E30: 55.389 | F30: 57.273 | G30: 59.221 | H30: 61.175 | I30: =H30-B30 -> 11.125 | J30: =I30/B30 -> 0.22227772
A32: Outer Suburbs | B32: =SUM(B24,B25,B26,B27,B28,B29) -> 491.976 | C32: =SUM(C24,C25,C26,C27,C28,C29) -> 542.074 | D32: =SUM(D24,D25,D26,D27,D28,D29) -> 593.355 | E32: =SUM(E24,E25,E26,E27,E28,E29) -> 647.252 | F32: =SUM(F24,F25,F26,F27,F28,F29) -> 696.507 | G32: =SUM(G24,G25,G26,G27,G28,G29) -> 747.152 | H32: =SUM(H24,H25,H26,H27,H28,H29) -> 786.973 | I32: =SUM(H32-B32) -> 294.997 | J32: =I32/B32 -> 0.59961665
A34: Anne Arundel County (6) | B34: 342.011 | C34: 361.688 | D34: 376.085 | E34: 391.312 | F34: 404.986 | G34: 424.061 | H34: 433.083 | I34: =H34-B34 -> 91.072 | J34: =I34/B34 -> 0.26628383
A35: Carroll County (6) | B35: 73.063 | C35: 76.107 | D35: 78.421 | E35: 80.888 | F35: 82.996 | G35: 85.351 | H35: 87.706 | I35: =H35-B35 -> 14.643 | J35: =I35/B35 -> 0.20041608
A36: Howard County (6) | B36: 196.381 | C36: 211.381 | D36: 226.381 | E36: 241.381 | F36: 251.71 | G36: 260.309 | H36: 268.908 | I36: =H36-B36 -> 72.527 | J36: =I36/B36 -> 0.36931781
A38: Modeled Region - | B38: =SUM(B34:B36) -> 611.455 | C38: =SUM(C34:C36) -> 649.176 | D38: =SUM(D34:D36) -> 680.887 | E38: =SUM(E34:E36) -> 713.581 | F38: =SUM(F34:F36) -> 739.692 | G38: =SUM(G34:G36) -> 769.721 | H38: =SUM(H34:H36) -> 789.697 | I38: =SUM(H38-B38) -> 178.242 | J38: =SUM(I38/B38) -> 0.29150469
A39: Baltimore Area Jurisdictions
A41: King George County (5) | B41: 17.804 | C41: 19.377 | D41: 20.947 | E41: 22.49 | F41: 24.124 | G41: 25.747 | H41: 27.37 | I41: =SUM(H41-B41) -> 9.566 | J41: =SUM(I41/B41) -> 0.53729499
A42: Spotsylvania County (5) | B42: 49.011 | C42: 52.327 | D42: 56.26 | E42: 59.864 | F42: 65.026 | G42: 70.168 | H42: 75.31 | I42: =SUM(H42-B42) -> 26.299 | J42: =SUM(I42/B42) -> 0.53659383
A43: Modeled Portion Only | B43: 43.173 | C43: 46.219 | D43: 49.168 | E43: 52.086 | F43: 56.731 | G43: 61.356 | H43: 65.981 | I43: =SUM(H43-B43) -> 22.808 | J43: =SUM(I43/B43) -> 0.52829315
A44: Stafford County (5) | B44: 52.681 | C44: 58.399 | D44: 64.304 | E44: 70.17 | F44: 77.198 | G44: 84.159 | H44: 91.12 | I44: =SUM(H44-B44) -> 38.439 | J44: =SUM(I44/B44) -> 0.72965585
A45: City of Fredericksburg (5) | B45: 35.586 | C45: 39.662 | D45: 43.729 | E45: 47.779 | F45: 51.298 | G45: 54.819 | H45: 58.34 | I45: =SUM(H45-B45) -> 22.754 | J45: =SUM(I45/B45) -> 0.63940876
A47: Modeled Region - | B47: =SUM(B41,B43,B45,B44) -> 149.244 | C47: =SUM(C41,C43,C45,C44) -> 163.657 | D47: =SUM(D41,D43,D45,D44) -> 178.148 | E47: =SUM(E41,E43,E45,E44) -> 192.525 | F47: =SUM(F41,F43,F45,F44) -> 209.351 | G47: =SUM(G41,G43,G45,G44) -> 226.081 | H47: =SUM(H41,H43,H45,H44) -> 242.811 | I47: =SUM(H47-B47) -> 93.567 | J47: =SUM(I47/B47) -> 0.62693978
A48: Fredericksburg Area Jurisdictions
A50: Calvert County | B50: 34 | C50: 36.8 | D50: 39.5 | E50: 40.9 | F50: 41.9 | G50: 43.1 | H50: 44.3 | I50: =H50-B50 -> 10.3 | J50: =I50/B50 -> 0.30294118
A51: St. Mary's County | B51: 66 | C51: 70.4 | D51: 74.3 | E51: 76.5 | F51: 79.1 | G51: 81.8 | H51: 84.5 | I51: =H51-B51 -> 18.5 | J51: =I51/B51 -> 0.28030303
...

Sheet Round 9.0 Population
J1: =NOW() -> 43014.538
A2: Summary of Intermediate Population Forecasts | I2: Final COG Board of Directors 11/09/16
A3: Final Round 9.0 Cooperative Forecasts
A4: (Thousands)
I5: 2015 to 2045
A6: JURISDICTION | B6: 2015 | C6: 2020 | D6: 2025 | E6: 2030 | F6: 2035 | G6: 2040 | H6: 2045 | I6: Number | J6: % Change
A8: District of Columbia | B8: 672.23 | C8: 729.501 | D8: 787.116 | E8: 842.154 | F8: 893.898 | G8: 940.687 | H8: 987.213 | I8: =H8-B8 -> 314.983 | J8: =I8/B8 -> 0.46856433
A9: Arlington County | B9: 220.523 | C9: 232.702 | D9: 244.782 | E9: 256.013 | F9: 266.302 | G9: 278.055 | H9: 289.498 | I9: =H9-B9 -> 68.975 | J9: =I9/B9 -> 0.31277917
A10: City of Alexandria | B10: 147.646 | C10: 159.169 | D10: 167.515 | E10: 172.781 | F10: 180.463 | G10: 190.824 | H10: 208.451 | I10: =H10-B10 -> 60.805 | J10: =I10/B10 -> 0.41182965
A12: Central Jurisdictions | B12: =SUM(B8:B10) -> 1040.399 | C12: =SUM(C8:C10) -> 1121.372 | D12: =SUM(D8:D10) -> 1199.413 | E12: =SUM(E8:E10) -> 1270.948 | F12: =SUM(F8:F10) -> 1340.663 | G12: =SUM(G8:G10) -> 1409.566 | H12: =SUM(H8:H10) -> 1485.162 | I12: =H12-B12 -> 444.763 | J12: =I12/B12 -> 0.42749272
A14: Montgomery County | B14: 1015.273 | C14: 1052.023 | D14: 1087.259 | E14: 1128.823 | F14: 1167.709 | G14: 1197.131 | H14: 1223.335 | I14: =H14-B14 -> 208.062 | J14: =I14/B14 -> 0.20493207
A15: City of Rockville (1) | B15: 66.296 | C15: 71.518 | D15: 76.871 | E15: 80.357 | F15: 83.571 | G15: 86.827 | H15: 89.893 | I15: =H15-B15 -> 23.597 | J15: =I15/B15 -> 0.35593399
A16: City of Gaithersburg (1) | B16: 67.099 | C16: 70.676 | D16: 74.594 | E16: 78.718 | F16: 82.416 | G16: 86.128 | H16: 89.258 | I16: =H16-B16 -> 22.159 | J16: =I16/B16 -> 0.33024337
A17: Prince George's County | B17: 904.43 | C17: 923.144 | D17: 938.023 | E17: 952.955 | F17: 967.842 | G17: 982.385 | H17: 995.876 | I17: =H17-B17 -> 91.446 | J17: =I17/B17 -> 0.10110899
A18: Fairfax County (2) | B18: 1125.389 | C18: 1162.537 | D18: 1213.199 | E18: 1264.723 | F18: 1314.307 | G18: 1362.476 | H18: 1406.739 | I18: =H18-B18 -> 281.35 | J18: =I18/B18 -> 0.25000244
A19: City of Fairfax | B19: 24.672 | C19: 25.95 | D19: 26.42 | E19: 26.894 | F19: 27.372 | G19: 27.853 | H19: 28.334 | I19: =H19-B19 -> 3.662 | J19: =I19/B19 -> 0.14842737
A20: City of Falls Church | B20: 13.1 | C20: 14.2 | D20: 15.5 | E20: 16.4 | F20: 17 | G20: 17.3 | H20: 17.6 | I20: =H20-B20 -> 4.5 | J20: =I20/B20 -> 0.34351145
A22: Inner Suburbs | B22: =SUM(B14,B17,B18,B19,B20) -> 3082.864 | C22: =SUM(C14,C17,C18,C19,C20) -> 3177.854 | D22: =SUM(D14,D17,D18,D19,D20) -> 3280.401 | E22: =SUM(E14,E17,E18,E19,E20) -> 3389.795 | F22: =SUM(F14,F17,F18,F19,F20) -> 3494.23 | G22: =SUM(G14,G17,G18,G19,G20) -> 3587.145 | H22: =SUM(H14,H17,H18,H19,H20) -> 3671.884 | I22: =H22-B22 -> 589.02 | J22: =I22/B22 -> 0.1910626
A24: Loudoun County | B24: 363.519 | C24: 414.699 | D24: 451.119 | E24: 470.695 | F24: 484.41 | G24: 492.517 | H24: 497.488 | I24: =H24-B24 -> 133.969 | J24: =I24/B24 -> 0.36853369
A25: Prince William County | B25: 431.217 | C25: 464.711 | D25: 496.701 | E25: 521.261 | F25: 541.928 | G25: 558.931 | H25: 572.849 | I25: =H25-B25 -> 141.632 | J25: =I25/B25 -> 0.32844716
A26: City of Manassas | B26: 42.48 | C26: 43.792 | D26: 45.525 | E26: 47.477 | F26: 49.029 | G26: 50.581 | H26: 52.133 | I26: =H26-B26 -> 9.653 | J26: =I26/B26 -> 0.22723635
A27: City of Manassas Park | B27: 14.273 | C27: 15.864 | D27: 15.864 | E27: 15.864 | F27: 15.864 | G27: 15.864 | H27: 15.864 | I27: =H27-B27 -> 1.591 | J27: =I27/B27 -> 0.11146921
A28: Charles County | B28: 150.781 | C28: 167.036 | D28: 178.238 | E28: 194.671 | F28: 207.519 | G28: 218.575 | H28: 236.479 | I28: =H28-B28 -> 85.698 | J28: =I28/B28 -> 0.56836074
A29: Frederick County | B29: 246.499 | C29: 267.782 | D29: 288.69 | E29: 303.583 | F29: 319.361 | G29: 332.151 | H29: 344.138 | I29: =H29-B29 -> 97.639 | J29: =I29/B29 -> 0.39610303
A30: City of Frederick (3) | B30: 70.428 | C30: 79.364 | D30: 86.989 | E30: 89.574 | F30: 91.146 | G30: 92.849 | H30: 93.105 | I30: =H30-B30 -> 22.677 | J30: =I30/B30 -> 0.32198841
A32: Outer Suburbs | B32: =SUM(B24,B25,B26,B27,B28,B29) -> 1248.769 | C32: =SUM(C24,C25,C26,C27,C28,C29) -> 1373.884 | D32: =SUM(D24,D25,D26,D27,D28,D29) -> 1476.137 | E32: =SUM(E24,E25,E26,E27,E28,E29) -> 1553.551 | F32: =SUM(F24,F25,F26,F27,F28,F29) -> 1618.111 | G32: =SUM(G24,G25,G26,G27,G28,G29) -> 1668.619 | H32: =SUM(H24,H25,H26,H27,H28,H29) -> 1718.951 | I32: =H32-B32 -> 470.182 | J32: =I32/B32 -> 0.37651639
A34: Anne Arundel County (6) | B34: 559.618 | C34: 580.006 | D34: 593.594 | E34: 606.688 | F34: 618.176 | G34: 628.047 | H34: 657.491 | I34: =H34-B34 -> 97.873 | J34: =I34/B34 -> 0.17489252
A35: Carroll County (6) | B35: 170.549 | C35: 175.9 | D35: 179.437 | E35: 183.258 | F35: 186.18 | G35: 189.574 | H35: 192.968 | I35: =H35-B35 -> 22.419 | J35: =I35/B35 -> 0.13145196
A36: Howard County (6) | B36: 309.043 | C36: 332.273 | D36: 346.517 | E36: 357.094 | F36: 363.501 | G36: 366.352 | H36: 369.203 | I36: =H36-B36 -> 60.16 | J36: =I36/B36 -> 0.19466547
A38: Modeled Region - | B38: =SUM(B34:B36) -> 1039.21 | C38: =SUM(C34:C36) -> 1088.179 | D38: =SUM(D34:D36) -> 1119.548 | E38: =SUM(E34:E36) -> 1147.04 | F38: =SUM(F34:F36) -> 1167.857 | G38: =SUM(G34:G36) -> 1183.973 | H38: =SUM(H34:H36) -> 1219.662 | I38: =H38-B38 -> 180.452 | J38: =I38/B38 -> 0.17364344
A39: Baltimore Area Jurisdictions
A41: King George County (5) | B41: 26.911 | C41: 30.226 | D41: 34.029 | E41: 37.819 | F41: 41.273 | G41: 44.707 | H41: 48.141 | I41: =H41-B41 -> 21.23 | J41: =I41/B41 -> 0.78889673
A42: Spotsylvania County (5) | B42: 142.044 | C42: 161.483 | D42: 182.126 | E42: 202.735 | F42: 221.672 | G42: 240.578 | H42: 259.484 | I42: =H42-B42 -> 117.44 | J42: =I42/B42 -> 0.82678607
A43: Modeled Portion Only | B43: 107.675 | C43: 119.355 | D43: 129.406 | E43: 139.424 | F43: 147.448 | G43: 155.442 | H43: 163.436 | I43: =H43-B43 -> 55.761 | J43: =I43/B43 -> 0.51786394
A44: Stafford County (5) | B44: 149.386 | C44: 169.774 | D44: 191.249 | E44: 212.671 | F44: 232.289 | G44: 251.851 | H44: 271.413 | I44: =H44-B44 -> 122.027 | J44: =I44/B44 -> 0.816857
A45: City of Fredericksburg (5) | B45: 25.728 | C45: 27.16 | D45: 28.87 | E45: 30.57 | F45: 32.095 | G45: 33.61 | H45: 35.125 | I45: =H45-B45 -> 9.397 | J45: =I45/B45 -> 0.36524409
A47: Modeled Region - | B47: =SUM(B41,B43,B45,B44) -> 309.7 | C47: =SUM(C41,C43,C45,C44) -> 346.515 | D47: =SUM(D41,D43,D45,D44) -> 383.554 | E47: =SUM(E41,E43,E45,E44) -> 420.484 | F47: =SUM(F41,F43,F45,F44) -> 453.105 | G47: =SUM(G41,G43,G45,G44) -> 485.61 | H47: =SUM(H41,H43,H45,H44) -> 518.115 | I47: =H47-B47 -> 208.415 | J47: =I47/B47 -> 0.6729577
A48: Fredericksburg Area Jurisdictions
A50: Calvert County (3) | B50: 91.65 | C50: 95.6 | D50: 98.35 | E50: 100.2 | F50: 101.05 | G50: 101.45 | H50: 101.85 | I50: =H50-B50 -> 10.2 | J50: =I50/B50 -> 0.11129296
A51: St. Mary's County (3) | B51: 113.899 | C51: 125.149 | D51: 137.199 | E51: 148.749 | F51: 156.149 | G51: 163.349 | H51: 170.55 | I51: =H51-B51 -> 56.651 | J51: =I51/B51 -> 0.49737926
...

Sheet Round 9.0 Households
J1: =NOW() -> 43014.538
A2: Summary of Intermediate Household Forecasts | I2: Final COG Board of Directors 11/09/16
A3: Final Round 9.0 Cooperative Forecasts
A4: (Thousands)
I5: 2015 to 2045
A6: JURISDICTION | B6: 2015 | C6: 2020 | D6: 2025 | E6: 2030 | F6: 2035 | G6: 2040 | H6: 2045 | I6: Number | J6: % Change
A8: District of Columbia | B8: 297.112 | C8: 319.29 | D8: 341.019 | E8: 362.524 | F8: 380.594 | G8: 396.233 | H8: 411.872 | I8: =H8-B8 -> 114.76 | J8: =I8/B8 -> 0.38625165
A9: Arlington County | B9: 103.644 | C9: 109.318 | D9: 115.238 | E9: 120.666 | F9: 125.837 | G9: 131.149 | H9: 136.276 | I9: =H9-B9 -> 32.632 | J9: =I9/B9 -> 0.31484698
A10: City of Alexandria | B10: 71.191 | C10: 75.665 | D10: 80.779 | E10: 84.118 | F10: 87.848 | G10: 92.898 | H10: 107.082 | I10: =H10-B10 -> 35.891 | J10: =I10/B10 -> 0.50415081
A12: Central Jurisdictions | B12: =SUM(B8:B10) -> 471.947 | C12: =SUM(C8:C10) -> 504.273 | D12: =SUM(D8:D10) -> 537.036 | E12: =SUM(E8:E10) -> 567.308 | F12: =SUM(F8:F10) -> 594.279 | G12: =SUM(G8:G10) -> 620.28 | H12: =SUM(H8:H10) -> 655.23 | I12: =H12-B12 -> 183.283 | J12: =I12/B12 -> 0.38835505
A14: Montgomery County | B14: 374.85 | C14: 391.1 | D14: 405.562 | E14: 422.342 | F14: 438.087 | G14: 450.922 | H14: 461.943 | I14: =H14-B14 -> 87.093 | J14: =I14/B14 -> 0.23234094
A15: City of Rockville (1) | B15: 26.448 | C15: 28.458 | D15: 30.801 | E15: 32.465 | F15: 33.999 | G15: 35.362 | H15: 36.767 | I15: =H15-B15 -> 10.319 | J15: =I15/B15 -> 0.39016183
A16: City of Gaithersburg (1) | B16: 24.651 | C16: 26.036 | D16: 27.548 | E16: 28.884 | F16: 30.479 | G16: 32.082 | H16: 33.409 | I16: =H16-B16 -> 8.758 | J16: =I16/B16 -> 0.3552797
A17: Prince George's County | B17: 321.143 | C17: 334.268 | D17: 343.865 | E17: 355.494 | F17: 363.283 | G17: 370.023 | H17: 376.787 | I17: =H17-B17 -> 55.644 | J17: =I17/B17 -> 0.17326861
A18: Fairfax County (2) | B18: 403.936 | C18: 421.149 | D18: 444.495 | E18: 467.753 | F18: 490.152 | G18: 511.87 | H18: 531.838 | I18: =H18-B18 -> 127.902 | J18: =I18/B18 -> 0.31663927
A19: City of Fairfax | B19: 9.228 | C19: 9.748 | D19: 9.898 | E19: 10.048 | F19: 10.198 | G19: 10.348 | H19: 10.498 | I19: =H19-B19 -> 1.27 | J19: =I19/B19 -> 0.13762462
A20: City of Falls Church | B20: 5.5 | C20: 6.2 | D20: 6.9 | E20: 7.4 | F20: 7.7 | G20: 7.9 | H20: 8.1 | I20: =H20-B20 -> 2.6 | J20: =I20/B20 -> 0.47272727
A22: Inner Suburbs | B22: =SUM(B14,B17,B18,B19,B20) -> 1114.657 | C22: =SUM(C14,C17,C18,C19,C20) -> 1162.465 | D22: =SUM(D14,D17,D18,D19,D20) -> 1210.72 | E22: =SUM(E14,E17,E18,E19,E20) -> 1263.037 | F22: =SUM(F14,F17,F18,F19,F20) -> 1309.42 | G22: =SUM(G14,G17,G18,G19,G20) -> 1351.063 | H22: =SUM(H14,H17,H18,H19,H20) -> 1389.166 | I22: =H22-B22 -> 274.509 | J22: =I22/B22 -> 0.24627217
A24: Loudoun County | B24: 121.072 | C24: 137.906 | D24: 150.76 | E24: 158.568 | F24: 164.328 | G24: 167.588 | H24: 169.261 | I24: =H24-B24 -> 48.189 | J24: =I24/B24 -> 0.39801936
A25: Prince William County | B25: 140.407 | C25: 151.861 | D25: 164.373 | E25: 173.773 | F25: 181.615 | G25: 187.94 | H25: 192.892 | I25: =H25-B25 -> 52.485 | J25: =I25/B25 -> 0.37380615
A26: City of Manassas | B26: 13.636 | C26: 14.231 | D26: 14.997 | E26: 15.43 | F26: 15.736 | G26: 16.044 | H26: 16.354 | I26: =H26-B26 -> 2.718 | J26: =I26/B26 -> 0.19932532
A27: City of Manassas Park | B27: 4.507 | C27: 5.036 | D27: 5.036 | E27: 5.036 | F27: 5.036 | G27: 5.036 | H27: 5.036 | I27: =H27-B27 -> 0.529 | J27: =I27/B27 -> 0.11737298
A28: Charles County | B28: 53.659 | C28: 60.302 | D28: 65.529 | E28: 72.911 | F28: 78.606 | G28: 83.426 | H28: 92.163 | I28: =H28-B28 -> 38.504 | J28: =I28/B28 -> 0.71756835
A29: Frederick County | B29: 89.462 | C29: 99.01 | D29: 107.934 | E29: 115.066 | F29: 121.133 | G29: 126.539 | H29: 131.167 | I29: =H29-B29 -> 41.705 | J29: =I29/B29 -> 0.46617558
A30: City of Frederick (3) | B30: 27.269 | C30: 30.863 | D30: 34.117 | E30: 35.242 | F30: 35.913 | G30: 36.631 | H30: 36.745 | I30: =H30-B30 -> 9.476 | J30: =I30/B30 -> 0.34750083
A32: Outer Suburbs | B32: =SUM(B24,B25,B26,B27,B28,B29) -> 422.743 | C32: =SUM(C24,C25,C26,C27,C28,C29) -> 468.346 | D32: =SUM(D24,D25,D26,D27,D28,D29) -> 508.629 | E32: =SUM(E24,E25,E26,E27,E28,E29) -> 540.784 | F32: =SUM(F24,F25,F26,F27,F28,F29) -> 566.454 | G32: =SUM(G24,G25,G26,G27,G28,G29) -> 586.573 | H32: =SUM(H24,H25,H26,H27,H28,H29) -> 606.873 | I32: =H32-B32 -> 184.13 | J32: =I32/B32 -> 0.43556014
A34: Anne Arundel County (6) | B34: 206.441 | C34: 213.504 | D34: 220.565 | E34: 227.626 | F34: 234.647 | G34: 241.542 | H34: 245.758 | I34: =H34-B34 -> 39.317 | J34: =I34/B34 -> 0.19045151
A35: Carroll County (6) | B35: 64.142 | C35: 66.219 | D35: 68.025 | E35: 69.692 | F35: 71.305 | G35: 72.853 | H35: 74.401 | I35: =H35-B35 -> 10.259 | J35: =I35/B35 -> 0.159942
A36: Howard County (6) | B36: 112.173 | C36: 123.899 | D36: 130.948 | E36: 135.517 | F36: 138.513 | G36: 139.497 | H36: 140.481 | I36: =H36-B36 -> 28.308 | J36: =I36/B36 -> 0.25236019
A38: Modeled Region - | B38: =SUM(B34:B36) -> 382.756 | C38: =SUM(C34:C36) -> 403.622 | D38: =SUM(D34:D36) -> 419.538 | E38: =SUM(E34:E36) -> 432.835 | F38: =SUM(F34:F36) -> 444.465 | G38: =SUM(G34:G36) -> 453.892 | H38: =SUM(H34:H36) -> 460.64 | I38: =H38-B38 -> 77.884 | J38: =I38/B38 -> 0.20348211
A39: Baltimore Area Jurisdictions
A41: King George County (5) | B41: 9.808 | C41: 11.237 | D41: 12.808 | E41: 14.366 | F41: 15.761 | G41: 17.142 | H41: 18.523 | I41: =H41-B41 -> 8.715 | J41: =I41/B41 -> 0.88856036
A42: Spotsylvania County (5) | B42: 49.527 | C42: 57.076 | D42: 64.985 | E42: 72.87 | F42: 79.511 | G42: 86.125 | H42: 92.739 | I42: =H42-B42 -> 43.212 | J42: =I42/B42 -> 0.87249379
A43: Modeled Portion Only | B43: 37.503 | C43: 42.153 | D43: 46.117 | E43: 50.057 | F43: 52.825 | G43: 55.567 | H43: 58.309 | I43: =H43-B43 -> 20.806 | J43: =I43/B43 -> 0.55478228
A44: Stafford County (5) | B44: 49.673 | C44: 57.533 | D44: 65.473 | E44: 73.367 | F44: 80.539 | G44: 87.67 | H44: 94.801 | I44: =H44-B44 -> 45.128 | J44: =I44/B44 -> 0.9085016
A45: City of Fredericksburg (5) | B45: 10.239 | C45: 10.969 | D45: 11.761 | E45: 12.547 | F45: 13.147 | G45: 13.739 | H45: 14.331 | I45: =H45-B45 -> 4.092 | J45: =I45/B45 -> 0.3996484
A47: Modeled Region - | B47: =SUM(B41,B43,B45,B44) -> 107.223 | C47: =SUM(C41,C43,C45,C44) -> 121.892 | D47: =SUM(D41,D43,D45,D44) -> 136.159 | E47: =SUM(E41,E43,E45,E44) -> 150.337 | F47: =SUM(F41,F43,F45,F44) -> 162.272 | G47: =SUM(G41,G43,G45,G44) -> 174.118 | H47: =SUM(H41,H43,H45,H44) -> 185.964 | I47: =H47-B47 -> 78.741 | J47: =I47/B47 -> 0.73436669
A48: Fredericksburg Area Jurisdictions
A50: Calvert County (3) | B50: 32.225 | C50: 34.325 | D50: 36.125 | E50: 37.35 | F50: 37.95 | G50: 38.125 | H50: 38.3 | I50: =H50-B50 -> 6.075 | J50: =I50/B50 -> 0.18851823
A51: St. Mary's County (3) | B51: 41.05 | C51: 46.05 | D51: 51.075 | E51: 55.875 | F51: 58.975 | G51: 62.425 | H51: 65.875 | I51: =H51-B51 -> 24.825 | J51: =I51/B51 -> 0.6047503
...
