Workbook
Name Annual_Rail_Temp_Alloc_Episodic_212817728_01aug2025_v0: 'Ratios_MARAMA-VA'!$M$1781:$X$1864
Name Annual_Rail_Temp_Alloc_Episodic_212817728_01aug2025_v0: 'Ratios_MARAMA-VA+3 Airports QP'!$O$1781:$Z$1864
Name OS_Rail_Temp_Alloc_Episodic_212546932_01aug2025_v0: 'Ratios_MARAMA-VA'!$A$1781:$L$1864
Name OS_Rail_Temp_Alloc_Episodic_212546932_01aug2025_v0: 'Ratios_MARAMA-VA+3 Airports QP'!$A$1781:$N$1864

Sheet Emissions Summary-EMP
B1: Ozone Season Day Emissions (Tons per day)
B2: (2015 Ozone NAAAQS Redesignation Request & Maintenance Plan)
B4: Row Labels | C4: 2022 | D4: 2032 | E4: 2038
B5: NOx | C5: 27.21912 | D5: 26.392752 | E5: 26.22293
B6: Airport | C6: 0.12860678 | D6: 0.13509917 | E6: 0.1379145
B7: 11001 | C7: 4.9549415e-05 | D7: 4.9561032e-05 | E7: 4.9561032e-05
B8: 24009 | C8: 0.00029828575 | D8: 0.00029835568 | E8: 0.00029835568
B9: 24017 | C9: 0.010781854 | D9: 0.010784381 | E9: 0.010784381
B10: 24021 | C10: 0.0209551 | D10: 0.022789576 | E10: 0.022789576
B11: 24031 | C11: 0.0064179195 | D11: 0.0066792819 | E11: 0.0066792819
B12: 24033 | C12: 0.0044412704 | D12: 0.0046464665 | E12: 0.0046541952
B13: 51013 | C13: 0 | D13: 0 | E13: 0
B14: 51107 | C14: 0.034827084 | D14: 0.036615565 | E14: 0.038175474
B15: 51683 | C15: 0.050835718 | D15: 0.053235983 | E15: 0.054483673
B16: Marine | C16: 1.1827119 | D16: 1.1832264 | E16: 1.1986486
B17: 11001 | C17: 0.28227805 | D17: 0.29637848 | E17: 0.30738623
B18: 24009 | C18: 0.60465335 | D18: 0.57904386 | E18: 0.57368955
B19: 24017 | C19: 0.14192494 | D19: 0.14413269 | E19: 0.14653458
B20: 24033 | C20: 0.021318178 | D20: 0.022622272 | E20: 0.023607095
B21: 51013 | C21: 0 | D21: 0 | E21: 0
B22: 51059 | C22: 0.025865682 | D22: 0.025821179 | E22: 0.025972167
B23: 51153 | C23: 0.0072539976 | D23: 0.0072415169 | E23: 0.0072838613
B24: 51510 | C24: 0.099417671 | D24: 0.10798639 | E24: 0.11417509
B25: Nonpoint | C25: 21.414498 | D25: 20.339897 | E25: 19.870613
B26: 11001 | C26: 1.5050962 | D26: 1.3551527 | E26: 1.2881208
B27: 24009 | C27: 0.21111197 | D27: 0.18726826 | E27: 0.17763399
B28: 24017 | C28: 0.83152538 | D28: 0.78776603 | E28: 0.77070025
B29: 24021 | C29: 1.2595662 | D29: 1.1503067 | E29: 1.1015673
B30: 24031 | C30: 3.3525127 | D30: 3.056624 | E30: 2.916531
B31: 24033 | C31: 3.0351237 | D31: 2.7636826 | E31: 2.6390002
B32: 51013 | C32: 0.88168345 | D32: 0.84689334 | E32: 0.82785378
B33: 51059 | C33: 5.1702294 | D33: 5.0674802 | E33: 5.0207824
B34: 51107 | C34: 2.1483552 | D34: 2.1373196 | E34: 2.1457323
B35: 51153 | C35: 1.8042205 | D35: 1.7960884 | E35: 1.8021333
B36: 51510 | C36: 0.61967879 | D36: 0.60210358 | E36: 0.59353449
B37: 51600 | C37: 0.18115926 | D37: 0.17560719 | E37: 0.17272764
... B40: 51685 | C40: 0.090491568 | D40: 0.091393296 | E40: 0.09232882
B41: Rail | C41: 4.2180036 | D41: 4.4592297 | E41: 4.7404536
B42: 11001 | C42: 0.74552445 | D42: 0.75249512 | E42: 0.79022828
B43: 24017 | C43: 0.0046888784 | D43: 0.004702945 | E43: 0.0050311665
B44: 24021 | C44: 0.84212491 | D44: 0.86545637 | E44: 0.91896235
B45: 24031 | C45: 0.74114805 | D45: 0.79225902 | E45: 0.84595003
B46: 24033 | C46: 0.58930496 | D46: 0.64775165 | E46: 0.69110222
B47: 51013 | C47: 0.059353783 | D47: 0.064201527 | E47: 0.068529243
B48: 51059 | C48: 0.5403189 | D48: 0.58382746 | E48: 0.6215414
B49: 51153 | C49: 0.43049015 | D49: 0.45772322 | E49: 0.48881833
B50: 51510 | C50: 0.19268164 | D50: 0.20993608 | E50: 0.22404144
B51: 51683 | C51: 0.058939533 | D51: 0.065535152 | E51: 0.069898652
B52: 51685 | C52: 0.013428362 | D52: 0.015341178 | E52: 0.016350516
B53: Wildfires | C53: 0.2753 | D53: 0.2753 | E53: 0.2753
B54: 24009 | C54: 0.008086 | D54: 0.008086 | E54: 0.008086
B55: 24017 | C55: 0.034497 | D55: 0.034497 | E55: 0.034497
B56: 24021 | C56: 0.00397 | D56: 0.00397 | E56: 0.00397
B57: 24033 | C57: 0.203754 | D57: 0.203754 | E57: 0.203754
B58: 51059 | C58: 0.024698 | D58: 0.024698 | E58: 0.024698
B59: 51107 | C59: 0 | D59: 0 | E59: 0
B60: 51153 | C60: 0.000295 | D60: 0.000295 | E60: 0.000295
B61: VOC | C61: 140.14272 | D61: 152.34106 | E61: 159.11084
B62: Airport | C62: 0.14876818 | D62: 1.3810902 | E62: 1.4733919
B63: 11001 | C63: 0.00010758422 | D63: 0.00010760944 | E63: 0.00010760944
B64: 24009 | C64: 0.00041858009 | D64: 0.00041867823 | E64: 0.00041867823
B65: 24017 | C65: 0.0097657847 | D65: 0.0097680743 | E65: 0.0097680743
B66: 24021 | C66: 0.028242309 | D66: 0.032477004 | E66: 0.032477004
B67: 24031 | C67: 0.013593785 | D67: 0.014144695 | E67: 0.014144695
B68: 24033 | C68: 0.0081310984 | D68: 0.008577779 | E68: 0.0085945819
B69: 51013 | C69: 0 | D69: 0.4212529 | E69: 0.42129715
B70: 51107 | C70: 0.040670495 | D70: 0.84460134 | E70: 0.93523185
B71: 51683 | C71: 0.047838545 | D71: 0.049742115 | E71: 0.051352274
B72: Marine | C72: 0.045455597 | D72: 0.04666809 | E72: 0.047763819
B73: 11001 | C73: 0.010541219 | D73: 0.010981599 | E73: 0.011337365
B74: 24009 | C74: 0.024346553 | D74: 0.024721823 | E74: 0.025133773
B75: 24017 | C75: 0.0048555816 | D75: 0.0049188699 | E75: 0.0049931872
B76: 24033 | C76: 0.0008873343 | D76: 0.00093121186 | E76: 0.00096552772
B77: 51059 | C77: 0.0010200187 | D77: 0.0010182638 | E77: 0.001024218
B78: 51153 | C78: 0.00045326273 | D78: 0.00045248288 | E78: 0.00045512875
B79: 51510 | C79: 0.0033516277 | D79: 0.0036438402 | E79: 0.0038546198
B80: Nonpoint | C80: 137.07308 | D80: 148.02817 | E80: 154.69251
B81: 11001 | C81: 12.131646 | D81: 13.017905 | E81: 13.410898
B82: 24009 | C82: 2.0436864 | D82: 2.252344 | E82: 2.3509132
B83: 24017 | C83: 10.247065 | D83: 10.600498 | E83: 10.786061
B84: 24021 | C84: 11.881197 | D84: 12.630909 | E84: 12.917795
B85: 24031 | C85: 21.484455 | D85: 22.861436 | E85: 23.470859
B86: 24033 | C86: 26.848449 | D86: 27.54074 | E86: 27.995773
B87: 51013 | C87: 4.3256276 | D87: 4.4709768 | E87: 4.573838
B88: 51059 | C88: 23.004888 | D88: 25.807923 | E88: 27.700542
B89: 51107 | C89: 9.2077649 | D89: 11.231371 | E89: 12.687269
B90: 51153 | C90: 10.3202 | D90: 11.623714 | E90: 12.526787
B91: 51510 | C91: 2.9929406 | D91: 3.156365 | E91: 3.2531372
B92: 51600 | C92: 0.69990706 | D92: 0.76358281 | E92: 0.80566377
... B95: 51685 | C95: 0.57055966 | D95: 0.59403988 | E95: 0.62490318
B96: Rail | C96: 0.18860438 | D96: 0.19831382 | E96: 0.2103635
B97: 11001 | C97: 0.040578707 | D97: 0.040295568 | E97: 0.0420991
B98: 24017 | C98: 0.00018850881 | D98: 0.00018907433 | E98: 0.00020226995
B99: 24021 | C99: 0.036560316 | D99: 0.037348776 | E99: 0.039571622
B100: 24031 | C100: 0.030120353 | D100: 0.032228595 | E100: 0.034411757
B101: 24033 | C101: 0.024788441 | D101: 0.0273191 | E101: 0.029145265
B102: 51013 | C102: 0.0025888692 | D102: 0.0028172015 | E102: 0.0030065915
B103: 51059 | C103: 0.023977986 | D103: 0.025880399 | E103: 0.027518871
B104: 51153 | C104: 0.018380575 | D104: 0.01965255 | E104: 0.020984258
B105: 51510 | C105: 0.0083219026 | D105: 0.0091105383 | E105: 0.0097213555
...

Sheet Emissions Summary-Coop Forecast
B1: Ozone Season Day Emissions (Tons per day)
B2: (2015 Ozone NAAAQS Redesignation Request & Maintenance Plan)
B4: Row Labels | C4: 2022 | D4: 2032 | E4: 2038
B5: NOx | C5: 27.21912 | D5: 27.8596 | E5: 28.61126
B6: Airport | C6: 0.12860678 | D6: 0.13465622 | E6: 0.13575401
B7: 11001 | C7: 4.9549415e-05 | D7: 5.2928895e-05 | E7: 5.5012412e-05
B8: 24009 | C8: 0.00029828575 | D8: 0.00029835568 | E8: 0.00029835568
B9: 24017 | C9: 0.010781854 | D9: 0.010784381 | E9: 0.010784381
B10: 24021 | C10: 0.0209551 | D10: 0.022789576 | E10: 0.022789576
B11: 24031 | C11: 0.0064179195 | D11: 0.0066792819 | E11: 0.0066792819
B12: 24033 | C12: 0.0044412704 | D12: 0.0046464665 | E12: 0.0046541952
B13: 51013 | C13: 0 | D13: 0 | E13: 0
B14: 51107 | C14: 0.034827084 | D14: 0.037108992 | E14: 0.037737762
B15: 51683 | C15: 0.050835718 | D15: 0.052296237 | E15: 0.052755445
B16: Marine | C16: 1.1827119 | D16: 1.2072326 | E16: 1.2294874
B17: 11001 | C17: 0.28227805 | D17: 0.30153061 | E17: 0.3134002
B18: 24009 | C18: 0.60465335 | D18: 0.57904386 | E18: 0.57368955
B19: 24017 | C19: 0.14192494 | D19: 0.14413269 | E19: 0.14653458
B20: 24033 | C20: 0.021318178 | D20: 0.022622272 | E20: 0.023607095
B21: 51013 | C21: 0 | D21: 0 | E21: 0
B22: 51059 | C22: 0.025865682 | D22: 0.027566943 | E22: 0.028350077
B23: 51153 | C23: 0.0072539976 | D23: 0.0079381703 | E23: 0.0081520102
B24: 51510 | C24: 0.099417671 | D24: 0.12439807 | E24: 0.13575394
B25: Nonpoint | C25: 21.414498 | D25: 21.636769 | E25: 22.099379
B26: 11001 | C26: 1.5050962 | D26: 1.3502531 | E26: 1.3508784
B27: 24009 | C27: 0.21111197 | D27: 0.20944278 | E27: 0.21160761
B28: 24017 | C28: 0.83152538 | D28: 0.85814841 | E28: 0.87622346
B29: 24021 | C29: 1.2595662 | D29: 1.3374108 | E29: 1.3808745
B30: 24031 | C30: 3.3525127 | D30: 3.3621009 | E30: 3.46314
B31: 24033 | C31: 3.0351237 | D31: 3.044722 | E31: 3.1180728
B32: 51013 | C32: 0.88168345 | D32: 0.93560432 | E32: 0.97486747
B33: 51059 | C33: 5.1702294 | D33: 5.4293007 | E33: 5.5371927
B34: 51107 | C34: 2.1483552 | D34: 2.1389968 | E34: 2.1688357
B35: 51153 | C35: 1.8042205 | D35: 1.7901846 | E35: 1.8151182
B36: 51510 | C36: 0.61967879 | D36: 0.58872986 | E36: 0.60540734
B37: 51600 | C37: 0.18115926 | D37: 0.1752442 | E37: 0.17643402
... B40: 51685 | C40: 0.090491568 | D40: 0.088917284 | E40: 0.089056299
B41: Rail | C41: 4.2180036 | D41: 4.605642 | E41: 4.8713395
B42: 11001 | C42: 0.74552445 | D42: 0.82945253 | E42: 0.86138205
B43: 24017 | C43: 0.0046888784 | D43: 0.004702945 | E43: 0.0050311665
B44: 24021 | C44: 0.84212491 | D44: 0.86545637 | E44: 0.91896235
B45: 24031 | C45: 0.74114805 | D45: 0.79225902 | E45: 0.84595003
B46: 24033 | C46: 0.58930496 | D46: 0.64775165 | E46: 0.69110222
B47: 51013 | C47: 0.059353783 | D47: 0.06562176 | E47: 0.069989981
B48: 51059 | C48: 0.5403189 | D48: 0.61635968 | E48: 0.64235028
B49: 51153 | C49: 0.43049015 | D49: 0.51223805 | E49: 0.54978981
B50: 51510 | C50: 0.19268164 | D50: 0.19408191 | E50: 0.20716395
B51: 51683 | C51: 0.058939533 | D51: 0.062633964 | E51: 0.064203443
B52: 51685 | C52: 0.013428362 | D52: 0.015084102 | E52: 0.01541417
B53: Wildfires | C53: 0.2753 | D53: 0.2753 | E53: 0.2753
B54: 24009 | C54: 0.008086 | D54: 0.008086 | E54: 0.008086
B55: 24017 | C55: 0.034497 | D55: 0.034497 | E55: 0.034497
B56: 24021 | C56: 0.00397 | D56: 0.00397 | E56: 0.00397
B57: 24033 | C57: 0.203754 | D57: 0.203754 | E57: 0.203754
B58: 51059 | C58: 0.024698 | D58: 0.024698 | E58: 0.024698
B59: 51107 | C59: 0 | D59: 0 | E59: 0
B60: 51153 | C60: 0.000295 | D60: 0.000295 | E60: 0.000295
B61: VOC | C61: 140.14272 | D61: 147.2627 | E61: 150.48418
B62: Airport | C62: 0.14876818 | D62: 0.16146939 | E62: 0.16364979
B63: 11001 | C63: 0.00010758422 | D63: 0.00011492191 | E63: 0.00011944575
B64: 24009 | C64: 0.00041858009 | D64: 0.00041867823 | E64: 0.00041867823
B65: 24017 | C65: 0.0097657847 | D65: 0.0097680743 | E65: 0.0097680743
B66: 24021 | C66: 0.028242309 | D66: 0.032477004 | E66: 0.032477004
B67: 24031 | C67: 0.013593785 | D67: 0.014144695 | E67: 0.014144695
B68: 24033 | C68: 0.0081310984 | D68: 0.008577779 | E68: 0.0085945819
B69: 51013 | C69: 0 | D69: 0 | E69: 0
B70: 51107 | C70: 0.040670495 | D70: 0.045460962 | E70: 0.046780954
B71: 51683 | C71: 0.047838545 | D71: 0.050507272 | E71: 0.051346356
B72: Marine | C72: 0.045455597 | D72: 0.047608982 | E72: 0.048999897
B73: 11001 | C73: 0.010541219 | D73: 0.011260175 | E73: 0.011703425
B74: 24009 | C74: 0.024346553 | D74: 0.024721823 | E74: 0.025133773
B75: 24017 | C75: 0.0048555816 | D75: 0.0049188699 | E75: 0.0049931872
B76: 24033 | C76: 0.0008873343 | D76: 0.00093121186 | E76: 0.00096552772
B77: 51059 | C77: 0.0010200187 | D77: 0.0010871083 | E77: 0.0011179914
B78: 51153 | C78: 0.00045326273 | D78: 0.00049601295 | E78: 0.00050937464
B79: 51510 | C79: 0.0033516277 | D79: 0.0041937817 | E79: 0.0045766175
B80: Nonpoint | C80: 137.07308 | D80: 144.16078 | E80: 147.36711
B81: 11001 | C81: 12.131646 | D81: 12.909325 | E81: 13.322388
B82: 24009 | C82: 2.0436864 | D82: 2.1044143 | E82: 2.0982189
B83: 24017 | C83: 10.247065 | D83: 10.62551 | E83: 10.755254
B84: 24021 | C84: 11.881197 | D84: 12.530764 | E84: 12.86288
B85: 24031 | C85: 21.484455 | D85: 22.137661 | E85: 22.340871
B86: 24033 | C86: 26.848449 | D86: 27.554023 | E86: 28.128293
B87: 51013 | C87: 4.3256276 | D87: 4.6099749 | E87: 4.7897075
B88: 51059 | C88: 23.004888 | D88: 24.018781 | E88: 24.504486
B89: 51107 | C89: 9.2077649 | D89: 10.233793 | E89: 10.510265
B90: 51153 | C90: 10.3202 | D90: 11.03115 | E90: 11.290792
B91: 51510 | C91: 2.9929406 | D91: 3.5165111 | E91: 3.7796965
B92: 51600 | C92: 0.69990706 | D92: 0.821835 | E92: 0.85101153
... B95: 51685 | C95: 0.57055966 | D95: 0.61933666 | E95: 0.63714675
B96: Rail | C96: 0.18860438 | D96: 0.20602871 | E96: 0.2176056
B97: 11001 | C97: 0.040578707 | D97: 0.045146891 | E97: 0.046884807
B98: 24017 | C98: 0.00018850881 | D98: 0.00018907433 | E98: 0.00020226995
B99: 24021 | C99: 0.036560316 | D99: 0.037348776 | E99: 0.039571622
B100: 24031 | C100: 0.030120353 | D100: 0.032228595 | E100: 0.034411757
B101: 24033 | C101: 0.024788441 | D101: 0.0273191 | E101: 0.029145265
B102: 51013 | C102: 0.0025888692 | D102: 0.0028622633 | E102: 0.0030527946
B103: 51059 | C103: 0.023977986 | D103: 0.027352483 | E103: 0.02850588
B104: 51153 | C104: 0.018380575 | D104: 0.021870953 | E104: 0.023474295
B105: 51510 | C105: 0.0083219026 | D105: 0.0083823799 | E105: 0.0089473923
...

Sheet NP-NRModel-MAR-WILDFIRES Mo (2)
A1: State | B1: FIPS | C1: Pollutant | D1: 2022 Annual Emiss Data Tool v1 Emissions (Tons) | E1: 2022 Annual MARAMA-VA Emissions (Tons) | F1: 2022 MARAMA-VA OSD Emissions (tpd) | G1: 2022 OSD/Annual Ratio | H1: 2032 Annual Emissions (Tons) | I1: 2032 OSD Emissions (tpd) | J1: 2038 Annual Emissions (Tons) | K1: 2038 OSD Emissions (tpd) | L1: Coop Growth Surrogate | M1: Coop 2032 Growth Factor | N1: Coop 2038 Growth Factor | O1: 2032/38 Control Factor | P1: 2032 Coop OSD Emissions (tpd) | Q1: 2038 Coop OSD Emissions (tpd) | R1: SCC Code | S1: Sector | T1: SCC Level 1 | U1: SCC Level 2 | V1: SCC Level 3 | W1: SCC Level 4 | X1: Source Description | Y1: SCC-Fips-Pollutant combos missing in EMP, but present in tab "Ratios_MARAMA-VA" | Z1: Helper column for unique key | AA1: Column1
A2: Maryland | B2: 24017 | C2: NOx | D2: 2.791654 | E2: =SUMIFS('Ratios_MARAMA-VA'!T:T, 'Ratios_MARAMA-VA'!AA:AA, Z2) -> 2.7909996 | F2: =SUMIFS('Ratios_MARAMA-VA'!J:J, 'Ratios_MARAMA-VA'!AA:AA, Z2) -> 0.0080851284 | G2: =F2/E2 -> 0.0028968576 | H2: 2.791654 | I2: 0.008087024 | J2: 2.791654 | K2: 0.008087024 | L2: {=_xlfn.SWITCH(A2, "District of Columbia", _xlfn.XLOOKUP(R2, '2015 O3 Growth Surrogates'!A:A, '2015 O3 Growth Surrogates'!H:H), "Maryland", _xlfn.XLOOKUP(R2, '2015 O3 Growth Surrogates'!A:A, '2015 O3 Growth Surrogates'!I:I), "Virginia", _xlfn.XLOOKUP(R2, '2015 O3 Growth Surrogates'!A:A, '2015 O3 Growth Surrogates'!J:J) )} -> EPA EMP | M2: {=_xlfn.SWITCH(L2, "Employment", INDEX('Coop GFs_CFs'!C:D, MATCH(B2,'Coop GFs_CFs'!B:B,0),1), "Population", INDEX('Coop GFs_CFs'!E:F, MATCH(B2,'Coop GFs_CFs'!B:B,0),1), "Household", INDEX('Coop GFs_CFs'!G:H, MATCH(B2,'Coop GFs_CFs'!B:B,0),1), "VMT", INDEX('Coop GFs_CFs'!I:J, MATCH(B2,'Coop GFs_CFs'!B:B,0),1), "Lane Mile", INDEX('Coop GFs_CFs'!K:L, MATCH(B2,'Coop GFs_CFs'!B:B,0),1), "Gas Sales", INDEX('Coop GFs_CFs'!M:N, MATCH(B2,'Coop GFs_CFs'!B:B,0),1), "No Growth", INDEX('Coop GFs_CFs'!O:P, MATCH(B2,'Coop GFs_CFs'!B:B,0),1) )} -> #N/A | N2: {=_xlfn.SWITCH(L2, "Employment", INDEX('Coop GFs_CFs'!C:D, MATCH(B2,'Coop GFs_CFs'!B:B,0),2), "Population", INDEX('Coop GFs_CFs'!E:F, MATCH(B2,'Coop GFs_CFs'!B:B,0),2), "Household", INDEX('Coop GFs_CFs'!G:H, MATCH(B2,'Coop GFs_CFs'!B:B,0),2), "VMT", INDEX('Coop GFs_CFs'!I:J, MATCH(B2,'Coop GFs_CFs'!B:B,0),2), "Lane Mile", INDEX('Coop GFs_CFs'!K:L, MATCH(B2,'Coop GFs_CFs'!B:B,0),2), "Gas Sales", INDEX('Coop GFs_CFs'!M:N, MATCH(B2,'Coop GFs_CFs'!B:B,0),2), "No Growth", INDEX('Coop GFs_CFs'!O:P, MATCH(B2,'Coop GFs_CFs'!B:B,0),2) )} -> #N/A | P2: =I2 -> 0.008087024 | Q2: =K2 -> 0.008087024 | R2: 2275001000 | S2: Mobile - Aircraft | T2: Mobile Sources | U2: Aircraft | V2: Military Aircraft | W2: Total | X2: Airport | Z2: 2275001000-24017-NOx
A3: Maryland | B3: 24021 | C3: NOx | D3: 3.372317 | E3: =SUMIFS('Ratios_MARAMA-VA'!T:T, 'Ratios_MARAMA-VA'!AA:AA, Z3) -> 3.3715265 | F3: =SUMIFS('Ratios_MARAMA-VA'!J:J, 'Ratios_MARAMA-VA'!AA:AA, Z3) -> 0.0097668321 | G3: =F3/E3 -> 0.0028968576 | H3: 3.372317 | I3: 0.009769122 | J3: 3.372317 | K3: 0.009769122 | L3: {=_xlfn.SWITCH(A3, "District of Columbia", _xlfn.XLOOKUP(R3, '2015 O3 Growth Surrogates'!A:A, '2015 O3 Growth Surrogates'!H:H), "Maryland", _xlfn.XLOOKUP(R3, '2015 O3 Growth Surrogates'!A:A, '2015 O3 Growth Surrogates'!I:I), "Virginia", _xlfn.XLOOKUP(R3, '2015 O3 Growth Surrogates'!A:A, '2015 O3 Growth Surrogates'!J:J) )} -> EPA EMP | M3: {=_xlfn.SWITCH(L3, "Employment", INDEX('Coop GFs_CFs'!C:D, MATCH(B3,'Coop GFs_CFs'!B:B,0),1), "Population", INDEX('Coop GFs_CFs'!E:F, MATCH(B3,'Coop GFs_CFs'!B:B,0),1), "Household", INDEX('Coop GFs_CFs'!G:H, MATCH(B3,'Coop GFs_CFs'!B:B,0),1), "VMT", INDEX('Coop GFs_CFs'!I:J, MATCH(B3,'Coop GFs_CFs'!B:B,0),1), "Lane Mile", INDEX('Coop GFs_CFs'!K:L, MATCH(B3,'Coop GFs_CFs'!B:B,0),1), "Gas Sales", INDEX('Coop GFs_CFs'!M:N, MATCH(B3,'Coop GFs_CFs'!B:B,0),1), "No Growth", INDEX('Coop GFs_CFs'!O:P, MATCH(B3,'Coop GFs_CFs'!B:B,0),1) )} -> #N/A | N3: {=_xlfn.SWITCH(L3, "Employment", INDEX('Coop GFs_CFs'!C:D, MATCH(B3,'Coop GFs_CFs'!B:B,0),2), "Population", INDEX('Coop GFs_CFs'!E:F, MATCH(B3,'Coop GFs_CFs'!B:B,0),2), "Household", INDEX('Coop GFs_CFs'!G:H, MATCH(B3,'Coop GFs_CFs'!B:B,0),2), "VMT", INDEX('Coop GFs_CFs'!I:J, MATCH(B3,'Coop GFs_CFs'!B:B,0),2), "Lane Mile", INDEX('Coop GFs_CFs'!K:L, MATCH(B3,'Coop GFs_CFs'!B:B,0),2), "Gas Sales", INDEX('Coop GFs_CFs'!M:N, MATCH(B3,'Coop GFs_CFs'!B:B,0),2), "No Growth", INDEX('Coop GFs_CFs'!O:P, MATCH(B3,'Coop GFs_CFs'!B:B,0),2) )} -> #N/A | P3: =I3 -> 0.009769122 | Q3: =K3 -> 0.009769122 | R3: 2275001000 | S3: Mobile - Aircraft | T3: Mobile Sources | U3: Aircraft | V3: Military Aircraft | W3: Total | X3: Airport | Z3: 2275001000-24021-NOx
A4: Maryland | B4: 24033 | C4: NOx | D4: 283.1295 | E4: =SUMIFS('Ratios_MARAMA-VA'!T:T, 'Ratios_MARAMA-VA'!AA:AA, Z4) -> 0.33491988 | F4: =SUMIFS('Ratios_MARAMA-VA'!J:J, 'Ratios_MARAMA-VA'!AA:AA, Z4) -> 0.00097021518 | G4: =F4/E4 -> 0.0028968576 | H4: 283.1295 | I4: =NP_Data[[#This Row],[2022 MARAMA-VA OSD Emissions (tpd)]]*NP_Data[[#This Row],[Coop 2032 Growth Factor]] -> 0.00097021518 | J4: 283.1295 | K4: =NP_Data[[#This Row],[2022 MARAMA-VA OSD Emissions (tpd)]]*NP_Data[[#This Row],[Coop 2038 Growth Factor]] -> 0.00097021518 | L4: {=_xlfn.SWITCH(A4, "District of Columbia", _xlfn.XLOOKUP(R4, '2015 O3 Growth Surrogates'!A:A, '2015 O3 Growth Surrogates'!H:H), "Maryland", _xlfn.XLOOKUP(R4, '2015 O3 Growth Surrogates'!A:A, '2015 O3 Growth Surrogates'!I:I), "Virginia", _xlfn.XLOOKUP(R4, '2015 O3 Growth Surrogates'!A:A, '2015 O3 Growth Surrogates'!J:J) )} -> EPA EMP | M4: =NP_Data[[#This Row],[2032 Annual Emissions (Tons)]]/NP_Data[[#This Row],[2022 Annual Emiss Data Tool v1 Emissions (Tons)]] -> 1 | N4: =NP_Data[[#This Row],[2038 Annual Emissions (Tons)]]/NP_Data[[#This Row],[2022 Annual Emiss Data Tool v1 Emissions (Tons)]] -> 1 | P4: =I4 -> 0.00097021518 | Q4: =K4 -> 0.00097021518 | R4: 2275001000 | S4: Mobile - Aircraft | T4: Mobile Sources | U4: Aircraft | V4: Military Aircraft | W4: Total | X4: Airport | Z4: 2275001000-24033-NOx
A5: Virginia | B5: 51013 | C5: NOx | D5: 8.5759597 | E5: =SUMIFS('Ratios_MARAMA-VA'!T:T, 'Ratios_MARAMA-VA'!AA:AA, Z5) -> 0 | F5: =SUMIFS('Ratios_MARAMA-VA'!J:J, 'Ratios_MARAMA-VA'!AA:AA, Z5) -> 0 | G5: =F5/E5 -> #DIV/0! | H5: 8.5759597 | I5: =NP_Data[[#This Row],[2022 MARAMA-VA OSD Emissions (tpd)]]*NP_Data[[#This Row],[2032 Annual Emissions (Tons)]]/NP_Data[[#This Row],[2022 Annual Emiss Data Tool v1 Emissions (Tons)]] -> 0 | J5: 8.5759597 | K5: =NP_Data[[#This Row],[2022 MARAMA-VA OSD Emissions (tpd)]]*NP_Data[[#This Row],[2038 Annual Emissions (Tons)]]/NP_Data[[#This Row],[2022 Annual Emiss Data Tool v1 Emissions (Tons)]] -> 0 | L5: {=_xlfn.SWITCH(A5, "District of Columbia", _xlfn.XLOOKUP(R5, '2015 O3 Growth Surrogates'!A:A, '2015 O3 Growth Surrogates'!H:H), "Maryland", _xlfn.XLOOKUP(R5, '2015 O3 Growth Surrogates'!A:A, '2015 O3 Growth Surrogates'!I:I), "Virginia", _xlfn.XLOOKUP(R5, '2015 O3 Growth Surrogates'!A:A, '2015 O3 Growth Surrogates'!J:J) )} -> No Growth | M5: {=_xlfn.SWITCH(L5, "Employment", INDEX('Coop GFs_CFs'!C:D, MATCH(B5,'Coop GFs_CFs'!B:B,0),1), "Population", INDEX('Coop GFs_CFs'!E:F, MATCH(B5,'Coop GFs_CFs'!B:B,0),1), "Household", INDEX('Coop GFs_CFs'!G:H, MATCH(B5,'Coop GFs_CFs'!B:B,0),1), "VMT", INDEX('Coop GFs_CFs'!I:J, MATCH(B5,'Coop GFs_CFs'!B:B,0),1), "Lane Mile", INDEX('Coop GFs_CFs'!K:L, MATCH(B5,'Coop GFs_CFs'!B:B,0),1), "Gas Sales", INDEX('Coop GFs_CFs'!M:N, MATCH(B5,'Coop GFs_CFs'!B:B,0),1), "No Growth", INDEX('Coop GFs_CFs'!O:P, MATCH(B5,'Coop GFs_CFs'!B:B,0),1) )} -> 1 | N5: {=_xlfn.SWITCH(L5, "Employment", INDEX('Coop GFs_CFs'!C:D, MATCH(B5,'Coop GFs_CFs'!B:B,0),2), "Population", INDEX('Coop GFs_CFs'!E:F, MATCH(B5,'Coop GFs_CFs'!B:B,0),2), "Household", INDEX('Coop GFs_CFs'!G:H, MATCH(B5,'Coop GFs_CFs'!B:B,0),2), "VMT", INDEX('Coop GFs_CFs'!I:J, MATCH(B5,'Coop GFs_CFs'!B:B,0),2), "Lane Mile", INDEX('Coop GFs_CFs'!K:L, MATCH(B5,'Coop GFs_CFs'!B:B,0),2), "Gas Sales", INDEX('Coop GFs_CFs'!M:N, MATCH(B5,'Coop GFs_CFs'!B:B,0),2), "No Growth", INDEX('Coop GFs_CFs'!O:P, MATCH(B5,'Coop GFs_CFs'!B:B,0),2) )} -> 1 | P5: =F5*M5 -> 0 | Q5: =F5*N5 -> 0 | R5: 2275001000 | S5: Mobile - Aircraft | T5: Mobile Sources | U5: Aircraft | V5: Military Aircraft | W5: Total | X5: Airport | Z5: 2275001000-51013-NOx
A6: Virginia | B6: 51107 | C6: NOx | D6: 9.9166087 | E6: =SUMIFS('Ratios_MARAMA-VA'!T:T, 'Ratios_MARAMA-VA'!AA:AA, Z6) -> 6.944006 | F6: =SUMIFS('Ratios_MARAMA-VA'!J:J, 'Ratios_MARAMA-VA'!AA:AA, Z6) -> 0.020115796 | G6: =F6/E6 -> 0.0028968576 | H6: 9.9166087 | I6: =NP_Data[[#This Row],[2022 MARAMA-VA OSD Emissions (tpd)]]*NP_Data[[#This Row],[2032 Annual Emissions (Tons)]]/NP_Data[[#This Row],[2022 Annual Emiss Data Tool v1 Emissions (Tons)]] -> 0.020115796 | J6: 9.9166087 | K6: =NP_Data[[#This Row],[2022 MARAMA-VA OSD Emissions (tpd)]]*NP_Data[[#This Row],[2038 Annual Emissions (Tons)]]/NP_Data[[#This Row],[2022 Annual Emiss Data Tool v1 Emissions (Tons)]] -> 0.020115796 | L6: {=_xlfn.SWITCH(A6, "District of Columbia", _xlfn.XLOOKUP(R6, '2015 O3 Growth Surrogates'!A:A, '2015 O3 Growth Surrogates'!H:H), "Maryland", _xlfn.XLOOKUP(R6, '2015 O3 Growth Surrogates'!A:A, '2015 O3 Growth Surrogates'!I:I), "Virginia", _xlfn.XLOOKUP(R6, '2015 O3 Growth Surrogates'!A:A, '2015 O3 Growth Surrogates'!J:J) )} -> No Growth | M6: {=_xlfn.SWITCH(L6, "Employment", INDEX('Coop GFs_CFs'!C:D, MATCH(B6,'Coop GFs_CFs'!B:B,0),1), "Population", INDEX('Coop GFs_CFs'!E:F, MATCH(B6,'Coop GFs_CFs'!B:B,0),1), "Household", INDEX('Coop GFs_CFs'!G:H, MATCH(B6,'Coop GFs_CFs'!B:B,0),1), "VMT", INDEX('Coop GFs_CFs'!I:J, MATCH(B6,'Coop GFs_CFs'!B:B,0),1), "Lane Mile", INDEX('Coop GFs_CFs'!K:L, MATCH(B6,'Coop GFs_CFs'!B:B,0),1), "Gas Sales", INDEX('Coop GFs_CFs'!M:N, MATCH(B6,'Coop GFs_CFs'!B:B,0),1), "No Growth", INDEX('Coop GFs_CFs'!O:P, MATCH(B6,'Coop GFs_CFs'!B:B,0),1) )} -> 1 | N6: {=_xlfn.SWITCH(L6, "Employment", INDEX('Coop GFs_CFs'!C:D, MATCH(B6,'Coop GFs_CFs'!B:B,0),2), "Population", INDEX('Coop GFs_CFs'!E:F, MATCH(B6,'Coop GFs_CFs'!B:B,0),2), "Household", INDEX('Coop GFs_CFs'!G:H, MATCH(B6,'Coop GFs_CFs'!B:B,0),2), "VMT", INDEX('Coop GFs_CFs'!I:J, MATCH(B6,'Coop GFs_CFs'!B:B,0),2), "Lane Mile", INDEX('Coop GFs_CFs'!K:L, MATCH(B6,'Coop GFs_CFs'!B:B,0),2), "Gas Sales", INDEX('Coop GFs_CFs'!M:N, MATCH(B6,'Coop GFs_CFs'!B:B,0),2), "No Growth", INDEX('Coop GFs_CFs'!O:P, MATCH(B6,'Coop GFs_CFs'!B:B,0),2) )} -> 1 | P6: =F6*M6 -> 0.020115796 | Q6: =F6*N6 -> 0.020115796 | R6: 2275001000 | S6: Mobile - Aircraft | T6: Mobile Sources | U6: Aircraft | V6: Military Aircraft | W6: Total | X6: Airport | Z6: 2275001000-51107-NOx
A7: Virginia | B7: 51683 | C7: NOx | D7: 11.60211 | E7: =SUMIFS('Ratios_MARAMA-VA'!T:T, 'Ratios_MARAMA-VA'!AA:AA, Z7) -> 11.59939 | F7: =SUMIFS('Ratios_MARAMA-VA'!J:J, 'Ratios_MARAMA-VA'!AA:AA, Z7) -> 0.033601782 | G7: =F7/E7 -> 0.0028968576 | H7: 11.60211 | I7: 0.03360966 | J7: 11.60211 | K7: 0.03360966 | L7: {=_xlfn.SWITCH(A7, "District of Columbia", _xlfn.XLOOKUP(R7, '2015 O3 Growth Surrogates'!A:A, '2015 O3 Growth Surrogates'!H:H), "Maryland", _xlfn.XLOOKUP(R7, '2015 O3 Growth Surrogates'!A:A, '2015 O3 Growth Surrogates'!I:I), "Virginia", _xlfn.XLOOKUP(R7, '2015 O3 Growth Surrogates'!A:A, '2015 O3 Growth Surrogates'!J:J) )} -> No Growth | M7: {=_xlfn.SWITCH(L7, "Employment", INDEX('Coop GFs_CFs'!C:D, MATCH(B7,'Coop GFs_CFs'!B:B,0),1), "Population", INDEX('Coop GFs_CFs'!E:F, MATCH(B7,'Coop GFs_CFs'!B:B,0),1), "Household", INDEX('Coop GFs_CFs'!G:H, MATCH(B7,'Coop GFs_CFs'!B:B,0),1), "VMT", INDEX('Coop GFs_CFs'!I:J, MATCH(B7,'Coop GFs_CFs'!B:B,0),1), "Lane Mile", INDEX('Coop GFs_CFs'!K:L, MATCH(B7,'Coop GFs_CFs'!B:B,0),1), "Gas Sales", INDEX('Coop GFs_CFs'!M:N, MATCH(B7,'Coop GFs_CFs'!B:B,0),1), "No Growth", INDEX('Coop GFs_CFs'!O:P, MATCH(B7,'Coop GFs_CFs'!B:B,0),1) )} -> 1 | N7: {=_xlfn.SWITCH(L7, "Employment", INDEX('Coop GFs_CFs'!C:D, MATCH(B7,'Coop GFs_CFs'!B:B,0),2), "Population", INDEX('Coop GFs_CFs'!E:F, MATCH(B7,'Coop GFs_CFs'!B:B,0),2), "Household", INDEX('Coop GFs_CFs'!G:H, MATCH(B7,'Coop GFs_CFs'!B:B,0),2), "VMT", INDEX('Coop GFs_CFs'!I:J, MATCH(B7,'Coop GFs_CFs'!B:B,0),2), "Lane Mile", INDEX('Coop GFs_CFs'!K:L, MATCH(B7,'Coop GFs_CFs'!B:B,0),2), "Gas Sales", INDEX('Coop GFs_CFs'!M:N, MATCH(B7,'Coop GFs_CFs'!B:B,0),2), "No Growth", INDEX('Coop GFs_CFs'!O:P, MATCH(B7,'Coop GFs_CFs'!B:B,0),2) )} -> 1 | P7: =F7*M7 -> 0.033601782 | Q7: =F7*N7 -> 0.033601782 | R7: 2275001000 | S7: Mobile - Aircraft | T7: Mobile Sources | U7: Aircraft | V7: Military Aircraft | W7: Total | X7: Airport | Z7: 2275001000-51683-NOx
A8: Maryland | B8: 24017 | C8: VOC | D8: 1.358193 | E8: =SUMIFS('Ratios_MARAMA-VA'!T:T, 'Ratios_MARAMA-VA'!AA:AA, Z8) -> 1.3578746 | F8: =SUMIFS('Ratios_MARAMA-VA'!J:J, 'Ratios_MARAMA-VA'!AA:AA, Z8) -> 0.0039335694 | G8: =F8/E8 -> 0.0028968576 | H8: 1.358193 | I8: 0.0039344917 | J8: 1.358193 | K8: 0.0039344917 | L8: {=_xlfn.SWITCH(A8, "District of Columbia", _xlfn.XLOOKUP(R8, '2015 O3 Growth Surrogates'!A:A, '2015 O3 Growth Surrogates'!H:H), "Maryland", _xlfn.XLOOKUP(R8, '2015 O3 Growth Surrogates'!A:A, '2015 O3 Growth Surrogates'!I:I), "Virginia", _xlfn.XLOOKUP(R8, '2015 O3 Growth Surrogates'!A:A, '2015 O3 Growth Surrogates'!J:J) )} -> EPA EMP | M8: {=_xlfn.SWITCH(L8, "Employment", INDEX('Coop GFs_CFs'!C:D, MATCH(B8,'Coop GFs_CFs'!B:B,0),1), "Population", INDEX('Coop GFs_CFs'!E:F, MATCH(B8,'Coop GFs_CFs'!B:B,0),1), "Household", INDEX('Coop GFs_CFs'!G:H, MATCH(B8,'Coop GFs_CFs'!B:B,0),1), "VMT", INDEX('Coop GFs_CFs'!I:J, MATCH(B8,'Coop GFs_CFs'!B:B,0),1), "Lane Mile", INDEX('Coop GFs_CFs'!K:L, MATCH(B8,'Coop GFs_CFs'!B:B,0),1), "Gas Sales", INDEX('Coop GFs_CFs'!M:N, MATCH(B8,'Coop GFs_CFs'!B:B,0),1), "No Growth", INDEX('Coop GFs_CFs'!O:P, MATCH(B8,'Coop GFs_CFs'!B:B,0),1) )} -> #N/A | N8: {=_xlfn.SWITCH(L8, "Employment", INDEX('Coop GFs_CFs'!C:D, MATCH(B8,'Coop GFs_CFs'!B:B,0),2), "Population", INDEX('Coop GFs_CFs'!E:F, MATCH(B8,'Coop GFs_CFs'!B:B,0),2), "Household", INDEX('Coop GFs_CFs'!G:H, MATCH(B8,'Coop GFs_CFs'!B:B,0),2), "VMT", INDEX('Coop GFs_CFs'!I:J, MATCH(B8,'Coop GFs_CFs'!B:B,0),2), "Lane Mile", INDEX('Coop GFs_CFs'!K:L, MATCH(B8,'Coop GFs_CFs'!B:B,0),2), "Gas Sales", INDEX('Coop GFs_CFs'!M:N, MATCH(B8,'Coop GFs_CFs'!B:B,0),2), "No Growth", INDEX('Coop GFs_CFs'!O:P, MATCH(B8,'Coop GFs_CFs'!B:B,0),2) )} -> #N/A | P8: =I8 -> 0.0039344917 | Q8: =K8 -> 0.0039344917 | R8: 2275001000 | S8: Mobile - Aircraft | T8: Mobile Sources | U8: Aircraft | V8: Military Aircraft | W8: Total | X8: Airport | Z8: 2275001000-24017-VOC
A9: Maryland | B9: 24021 | C9: VOC | D9: 1.640697 | E9: =SUMIFS('Ratios_MARAMA-VA'!T:T, 'Ratios_MARAMA-VA'!AA:AA, Z9) -> 1.6403124 | F9: =SUMIFS('Ratios_MARAMA-VA'!J:J, 'Ratios_MARAMA-VA'!AA:AA, Z9) -> 0.0047517514 | G9: =F9/E9 -> 0.0028968576 | H9: 1.640697 | I9: 0.0047528655 | J9: 1.640697 | K9: 0.0047528655 | L9: {=_xlfn.SWITCH(A9, "District of Columbia", _xlfn.XLOOKUP(R9, '2015 O3 Growth Surrogates'!A:A, '2015 O3 Growth Surrogates'!H:H), "Maryland", _xlfn.XLOOKUP(R9, '2015 O3 Growth Surrogates'!A:A, '2015 O3 Growth Surrogates'!I:I), "Virginia", _xlfn.XLOOKUP(R9, '2015 O3 Growth Surrogates'!A:A, '2015 O3 Growth Surrogates'!J:J) )} -> EPA EMP | M9: {=_xlfn.SWITCH(L9, "Employment", INDEX('Coop GFs_CFs'!C:D, MATCH(B9,'Coop GFs_CFs'!B:B,0),1), "Population", INDEX('Coop GFs_CFs'!E:F, MATCH(B9,'Coop GFs_CFs'!B:B,0),1), "Household", INDEX('Coop GFs_CFs'!G:H, MATCH(B9,'Coop GFs_CFs'!B:B,0),1), "VMT", INDEX('Coop GFs_CFs'!I:J, MATCH(B9,'Coop GFs_CFs'!B:B,0),1), "Lane Mile", INDEX('Coop GFs_CFs'!K:L, MATCH(B9,'Coop GFs_CFs'!B:B,0),1), "Gas Sales", INDEX('Coop GFs_CFs'!M:N, MATCH(B9,'Coop GFs_CFs'!B:B,0),1), "No Growth", INDEX('Coop GFs_CFs'!O:P, MATCH(B9,'Coop GFs_CFs'!B:B,0),1) )} -> #N/A | N9: {=_xlfn.SWITCH(L9, "Employment", INDEX('Coop GFs_CFs'!C:D, MATCH(B9,'Coop GFs_CFs'!B:B,0),2), "Population", INDEX('Coop GFs_CFs'!E:F, MATCH(B9,'Coop GFs_CFs'!B:B,0),2), "Household", INDEX('Coop GFs_CFs'!G:H, MATCH(B9,'Coop GFs_CFs'!B:B,0),2), "VMT", INDEX('Coop GFs_CFs'!I:J, MATCH(B9,'Coop GFs_CFs'!B:B,0),2), "Lane Mile", INDEX('Coop GFs_CFs'!K:L, MATCH(B9,'Coop GFs_CFs'!B:B,0),2), "Gas Sales", INDEX('Coop GFs_CFs'!M:N, MATCH(B9,'Coop GFs_CFs'!B:B,0),2), "No Growth", INDEX('Coop GFs_CFs'!O:P, MATCH(B9,'Coop GFs_CFs'!B:B,0),2) )} -> #N/A | P9: =I9 -> 0.0047528655 | Q9: =K9 -> 0.0047528655 | R9: 2275001000 | S9: Mobile - Aircraft | T9: Mobile Sources | U9: Aircraft | V9: Military Aircraft | W9: Total | X9: Airport | Z9: 2275001000-24021-VOC
A10: Maryland | B10: 24033 | C10: VOC | D10: 137.74798 | E10: =SUMIFS('Ratios_MARAMA-VA'!T:T, 'Ratios_MARAMA-VA'!AA:AA, Z10) -> 0.162945 | F10: =SUMIFS('Ratios_MARAMA-VA'!J:J, 'Ratios_MARAMA-VA'!AA:AA, Z10) -> 0.00047202845 | G10: =F10/E10 -> 0.0028968576 | H10: 137.74798 | I10: =NP_Data[[#This Row],[2022 MARAMA-VA OSD Emissions (tpd)]]*NP_Data[[#This Row],[Coop 2032 Growth Factor]] -> 0.00047202845 | J10: 137.74798 | K10: =NP_Data[[#This Row],[2022 MARAMA-VA OSD Emissions (tpd)]]*NP_Data[[#This Row],[Coop 2038 Growth Factor]] -> 0.00047202845 | L10: {=_xlfn.SWITCH(A10, "District of Columbia", _xlfn.XLOOKUP(R10, '2015 O3 Growth Surrogates'!A:A, '2015 O3 Growth Surrogates'!H:H), "Maryland", _xlfn.XLOOKUP(R10, '2015 O3 Growth Surrogates'!A:A, '2015 O3 Growth Surrogates'!I:I), "Virginia", _xlfn.XLOOKUP(R10, '2015 O3 Growth Surrogates'!A:A, '2015 O3 Growth Surrogates'!J:J) )} -> EPA EMP | M10: =NP_Data[[#This Row],[2032 Annual Emissions (Tons)]]/NP_Data[[#This Row],[2022 Annual Emiss Data Tool v1 Emissions (Tons)]] -> 1 | N10: =NP_Data[[#This Row],[2038 Annual Emissions (Tons)]]/NP_Data[[#This Row],[2022 Annual Emiss Data Tool v1 Emissions (Tons)]] -> 1 | P10: =I10 -> 0.00047202845 | Q10: =K10 -> 0.00047202845 | R10: 2275001000 | S10: Mobile - Aircraft | T10: Mobile Sources | U10: Aircraft | V10: Military Aircraft | W10: Total | X10: Airport | Z10: 2275001000-24033-VOC
A11: Virginia | B11: 51013 | C11: VOC | D11: 4.1723698 | E11: =SUMIFS('Ratios_MARAMA-VA'!T:T, 'Ratios_MARAMA-VA'!AA:AA, Z11) -> 0 | F11: =SUMIFS('Ratios_MARAMA-VA'!J:J, 'Ratios_MARAMA-VA'!AA:AA, Z11) -> 0 | G11: =F11/E11 -> #DIV/0! | H11: 4.1723698 | I11: 0.012086761 | J11: 4.1723698 | K11: 0.012086761 | L11: {=_xlfn.SWITCH(A11, "District of Columbia", _xlfn.XLOOKUP(R11, '2015 O3 Growth Surrogates'!A:A, '2015 O3 Growth Surrogates'!H:H), "Maryland", _xlfn.XLOOKUP(R11, '2015 O3 Growth Surrogates'!A:A, '2015 O3 Growth Surrogates'!I:I), "Virginia", _xlfn.XLOOKUP(R11, '2015 O3 Growth Surrogates'!A:A, '2015 O3 Growth Surrogates'!J:J) )} -> No Growth | M11: {=_xlfn.SWITCH(L11, "Employment", INDEX('Coop GFs_CFs'!C:D, MATCH(B11,'Coop GFs_CFs'!B:B,0),1), "Population", INDEX('Coop GFs_CFs'!E:F, MATCH(B11,'Coop GFs_CFs'!B:B,0),1), "Household", INDEX('Coop GFs_CFs'!G:H, MATCH(B11,'Coop GFs_CFs'!B:B,0),1), "VMT", INDEX('Coop GFs_CFs'!I:J, MATCH(B11,'Coop GFs_CFs'!B:B,0),1), "Lane Mile", INDEX('Coop GFs_CFs'!K:L, MATCH(B11,'Coop GFs_CFs'!B:B,0),1), "Gas Sales", INDEX('Coop GFs_CFs'!M:N, MATCH(B11,'Coop GFs_CFs'!B:B,0),1), "No Growth", INDEX('Coop GFs_CFs'!O:P, MATCH(B11,'Coop GFs_CFs'!B:B,0),1) )} -> 1 | N11: {=_xlfn.SWITCH(L11, "Employment", INDEX('Coop GFs_CFs'!C:D, MATCH(B11,'Coop GFs_CFs'!B:B,0),2), "Population", INDEX('Coop GFs_CFs'!E:F, MATCH(B11,'Coop GFs_CFs'!B:B,0),2), "Household", INDEX('Coop GFs_CFs'!G:H, MATCH(B11,'Coop GFs_CFs'!B:B,0),2), "VMT", INDEX('Coop GFs_CFs'!I:J, MATCH(B11,'Coop GFs_CFs'!B:B,0),2), "Lane Mile", INDEX('Coop GFs_CFs'!K:L, MATCH(B11,'Coop GFs_CFs'!B:B,0),2), "Gas Sales", INDEX('Coop GFs_CFs'!M:N, MATCH(B11,'Coop GFs_CFs'!B:B,0),2), "No Growth", INDEX('Coop GFs_CFs'!O:P, MATCH(B11,'Coop GFs_CFs'!B:B,0),2) )} -> 1 | P11: =F11*M11 -> 0 | Q11: =F11*N11 -> 0 | R11: 2275001000 | S11: Mobile - Aircraft | T11: Mobile Sources | U11: Aircraft | V11: Military Aircraft | W11: Total | X11: Airport | Z11: 2275001000-51013-VOC
A12: Virginia | B12: 51107 | C12: VOC | D12: 4.9051946 | E12: =SUMIFS('Ratios_MARAMA-VA'!T:T, 'Ratios_MARAMA-VA'!AA:AA, Z12) -> 3.3783929 | F12: =SUMIFS('Ratios_MARAMA-VA'!J:J, 'Ratios_MARAMA-VA'!AA:AA, Z12) -> 0.0097867231 | G12: =F12/E12 -> 0.0028968576 | H12: 4.9051946 | I12: 0.01420965 | J12: 4.9051946 | K12: 0.01420965 | L12: {=_xlfn.SWITCH(A12, "District of Columbia", _xlfn.XLOOKUP(R12, '2015 O3 Growth Surrogates'!A:A, '2015 O3 Growth Surrogates'!H:H), "Maryland", _xlfn.XLOOKUP(R12, '2015 O3 Growth Surrogates'!A:A, '2015 O3 Growth Surrogates'!I:I), "Virginia", _xlfn.XLOOKUP(R12, '2015 O3 Growth Surrogates'!A:A, '2015 O3 Growth Surrogates'!J:J) )} -> No Growth | M12: {=_xlfn.SWITCH(L12, "Employment", INDEX('Coop GFs_CFs'!C:D, MATCH(B12,'Coop GFs_CFs'!B:B,0),1), "Population", INDEX('Coop GFs_CFs'!E:F, MATCH(B12,'Coop GFs_CFs'!B:B,0),1), "Household", INDEX('Coop GFs_CFs'!G:H, MATCH(B12,'Coop GFs_CFs'!B:B,0),1), "VMT", INDEX('Coop GFs_CFs'!I:J, MATCH(B12,'Coop GFs_CFs'!B:B,0),1), "Lane Mile", INDEX('Coop GFs_CFs'!K:L, MATCH(B12,'Coop GFs_CFs'!B:B,0),1), "Gas Sales", INDEX('Coop GFs_CFs'!M:N, MATCH(B12,'Coop GFs_CFs'!B:B,0),1), "No Growth", INDEX('Coop GFs_CFs'!O:P, MATCH(B12,'Coop GFs_CFs'!B:B,0),1) )} -> 1 | N12: {=_xlfn.SWITCH(L12, "Employment", INDEX('Coop GFs_CFs'!C:D, MATCH(B12,'Coop GFs_CFs'!B:B,0),2), "Population", INDEX('Coop GFs_CFs'!E:F, MATCH(B12,'Coop GFs_CFs'!B:B,0),2), "Household", INDEX('Coop GFs_CFs'!G:H, MATCH(B12,'Coop GFs_CFs'!B:B,0),2), "VMT", INDEX('Coop GFs_CFs'!I:J, MATCH(B12,'Coop GFs_CFs'!B:B,0),2), "Lane Mile", INDEX('Coop GFs_CFs'!K:L, MATCH(B12,'Coop GFs_CFs'!B:B,0),2), "Gas Sales", INDEX('Coop GFs_CFs'!M:N, MATCH(B12,'Coop GFs_CFs'!B:B,0),2), "No Growth", INDEX('Coop GFs_CFs'!O:P, MATCH(B12,'Coop GFs_CFs'!B:B,0),2) )} -> 1 | P12: =F12*M12 -> 0.0097867231 | Q12: =F12*N12 -> 0.0097867231 | R12: 2275001000 | S12: Mobile - Aircraft | T12: Mobile Sources | U12: Aircraft | V12: Military Aircraft | W12: Total | X12: Airport | Z12: 2275001000-51107-VOC
A13: Virginia | B13: 51683 | C13: VOC | D13: 5.644651 | E13: =SUMIFS('Ratios_MARAMA-VA'!T:T, 'Ratios_MARAMA-VA'!AA:AA, Z13) -> 5.6433279 | F13: =SUMIFS('Ratios_MARAMA-VA'!J:J, 'Ratios_MARAMA-VA'!AA:AA, Z13) -> 0.016347917 | G13: =F13/E13 -> 0.0028968576 | H13: 5.644651 | I13: 0.01635175 | J13: 5.644651 | K13: 0.01635175 | L13: {=_xlfn.SWITCH(A13, "District of Columbia", _xlfn.XLOOKUP(R13, '2015 O3 Growth Surrogates'!A:A, '2015 O3 Growth Surrogates'!H:H), "Maryland", _xlfn.XLOOKUP(R13, '2015 O3 Growth Surrogates'!A:A, '2015 O3 Growth Surrogates'!I:I), "Virginia", _xlfn.XLOOKUP(R13, '2015 O3 Growth Surrogates'!A:A, '2015 O3 Growth Surrogates'!J:J) )} -> No Growth | M13: {=_xlfn.SWITCH(L13, "Employment", INDEX('Coop GFs_CFs'!C:D, MATCH(B13,'Coop GFs_CFs'!B:B,0),1), "Population", INDEX('Coop GFs_CFs'!E:F, MATCH(B13,'Coop GFs_CFs'!B:B,0),1), "Household", INDEX('Coop GFs_CFs'!G:H, MATCH(B13,'Coop GFs_CFs'!B:B,0),1), "VMT", INDEX('Coop GFs_CFs'!I:J, MATCH(B13,'Coop GFs_CFs'!B:B,0),1), "Lane Mile", INDEX('Coop GFs_CFs'!K:L, MATCH(B13,'Coop GFs_CFs'!B:B,0),1), "Gas Sales", INDEX('Coop GFs_CFs'!M:N, MATCH(B13,'Coop GFs_CFs'!B:B,0),1), "No Growth", INDEX('Coop GFs_CFs'!O:P, MATCH(B13,'Coop GFs_CFs'!B:B,0),1) )} -> 1 | N13: {=_xlfn.SWITCH(L13, "Employment", INDEX('Coop GFs_CFs'!C:D, MATCH(B13,'Coop GFs_CFs'!B:B,0),2), "Population", INDEX('Coop GFs_CFs'!E:F, MATCH(B13,'Coop GFs_CFs'!B:B,0),2), "Household", INDEX('Coop GFs_CFs'!G:H, MATCH(B13,'Coop GFs_CFs'!B:B,0),2), "VMT", INDEX('Coop GFs_CFs'!I:J, MATCH(B13,'Coop GFs_CFs'!B:B,0),2), "Lane Mile", INDEX('Coop GFs_CFs'!K:L, MATCH(B13,'Coop GFs_CFs'!B:B,0),2), "Gas Sales", INDEX('Coop GFs_CFs'!M:N, MATCH(B13,'Coop GFs_CFs'!B:B,0),2), "No Growth", INDEX('Coop GFs_CFs'!O:P, MATCH(B13,'Coop GFs_CFs'!B:B,0),2) )} -> 1 | P13: =F13*M13 -> 0.016347917 | Q13: =F13*N13 -> 0.016347917 | R13: 2275001000 | S13: Mobile - Aircraft | T13: Mobile Sources | U13: Aircraft | V13: Military Aircraft | W13: Total | X13: Airport | Z13: 2275001000-51683-VOC
A14: Maryland | B14: 24021 | C14: NOx | D14: 0.0074304 | E14: =SUMIFS('Ratios_MARAMA-VA'!T:T, 'Ratios_MARAMA-VA'!AA:AA, Z14) -> 0.0074286583 | F14: =SUMIFS('Ratios_MARAMA-VA'!J:J, 'Ratios_MARAMA-VA'!AA:AA, Z14) -> 2.1519765e-05 | G14: =F14/E14 -> 0.0028968576 | H14: 0.0037152 | I14: 1.0762405e-05 | J14: 0.0037152 | K14: 1.0762405e-05 | L14: {=_xlfn.SWITCH(A14, "District of Columbia", _xlfn.XLOOKUP(R14, '2015 O3 Growth Surrogates'!A:A, '2015 O3 Growth Surrogates'!H:H), "Maryland", _xlfn.XLOOKUP(R14, '2015 O3 Growth Surrogates'!A:A, '2015 O3 Growth Surrogates'!I:I), "Virginia", _xlfn.XLOOKUP(R14, '2015 O3 Growth Surrogates'!A:A, '2015 O3 Growth Surrogates'!J:J) )} -> EPA EMP | M14: {=_xlfn.SWITCH(L14, "Employment", INDEX('Coop GFs_CFs'!C:D, MATCH(B14,'Coop GFs_CFs'!B:B,0),1), "Population", INDEX('Coop GFs_CFs'!E:F, MATCH(B14,'Coop GFs_CFs'!B:B,0),1), "Household", INDEX('Coop GFs_CFs'!G:H, MATCH(B14,'Coop GFs_CFs'!B:B,0),1), "VMT", INDEX('Coop GFs_CFs'!I:J, MATCH(B14,'Coop GFs_CFs'!B:B,0),1), "Lane Mile", INDEX('Coop GFs_CFs'!K:L, MATCH(B14,'Coop GFs_CFs'!B:B,0),1), "Gas Sales", INDEX('Coop GFs_CFs'!M:N, MATCH(B14,'Coop GFs_CFs'!B:B,0),1), "No Growth", INDEX('Coop GFs_CFs'!O:P, MATCH(B14,'Coop GFs_CFs'!B:B,0),1) )} -> #N/A | N14: {=_xlfn.SWITCH(L14, "Employment", INDEX('Coop GFs_CFs'!C:D, MATCH(B14,'Coop GFs_CFs'!B:B,0),2), "Population", INDEX('Coop GFs_CFs'!E:F, MATCH(B14,'Coop GFs_CFs'!B:B,0),2), "Household", INDEX('Coop GFs_CFs'!G:H, MATCH(B14,'Coop GFs_CFs'!B:B,0),2), "VMT", INDEX('Coop GFs_CFs'!I:J, MATCH(B14,'Coop GFs_CFs'!B:B,0),2), "Lane Mile", INDEX('Coop GFs_CFs'!K:L, MATCH(B14,'Coop GFs_CFs'!B:B,0),2), "Gas Sales", INDEX('Coop GFs_CFs'!M:N, MATCH(B14,'Coop GFs_CFs'!B:B,0),2), "No Growth", INDEX('Coop GFs_CFs'!O:P, MATCH(B14,'Coop GFs_CFs'!B:B,0),2) )} -> #N/A | P14: =I14 -> 1.0762405e-05 | Q14: =K14 -> 1.0762405e-05 | R14: 2275020000 | S14: Mobile - Aircraft | T14: Mobile Sources | U14: Aircraft | V14: Commercial Aircraft | W14: Total: All Types | X14: Airport | Z14: 2275020000-24021-NOx
A15: Virginia | B15: 51013 | C15: NOx | D15: 836.04003 | E15: =SUMIFS('Ratios_MARAMA-VA'!T:T, 'Ratios_MARAMA-VA'!AA:AA, Z15) -> 0 | F15: =SUMIFS('Ratios_MARAMA-VA'!J:J, 'Ratios_MARAMA-VA'!AA:AA, Z15) -> 0 | G15: =F15/E15 -> #DIV/0! | H15: 852.0084 | I15: =NP_Data[[#This Row],[2022 MARAMA-VA OSD Emissions (tpd)]]*NP_Data[[#This Row],[2032 Annual Emissions (Tons)]]/NP_Data[[#This Row],[2022 Annual Emiss Data Tool v1 Emissions (Tons)]] -> 0 | J15: 852.0084 | K15: =NP_Data[[#This Row],[2022 MARAMA-VA OSD Emissions (tpd)]]*NP_Data[[#This Row],[2038 Annual Emissions (Tons)]]/NP_Data[[#This Row],[2022 Annual Emiss Data Tool v1 Emissions (Tons)]] -> 0 | L15: {=_xlfn.SWITCH(A15, "District of Columbia", _xlfn.XLOOKUP(R15, '2015 O3 Growth Surrogates'!A:A, '2015 O3 Growth Surrogates'!H:H), "Maryland", _xlfn.XLOOKUP(R15, '2015 O3 Growth Surrogates'!A:A, '2015 O3 Growth Surrogates'!I:I), "Virginia", _xlfn.XLOOKUP(R15, '2015 O3 Growth Surrogates'!A:A, '2015 O3 Growth Surrogates'!J:J) )} -> Population | M15: {=_xlfn.SWITCH(L15, "Employment", INDEX('Coop GFs_CFs'!C:D, MATCH(B15,'Coop GFs_CFs'!B:B,0),1), "Population", INDEX('Coop GFs_CFs'!E:F, MATCH(B15,'Coop GFs_CFs'!B:B,0),1), "Household", INDEX('Coop GFs_CFs'!G:H, MATCH(B15,'Coop GFs_CFs'!B:B,0),1), "VMT", INDEX('Coop GFs_CFs'!I:J, MATCH(B15,'Coop GFs_CFs'!B:B,0),1), "Lane Mile", INDEX('Coop GFs_CFs'!K:L, MATCH(B15,'Coop GFs_CFs'!B:B,0),1), "Gas Sales", INDEX('Coop GFs_CFs'!M:N, MATCH(B15,'Coop GFs_CFs'!B:B,0),1), "No Growth", INDEX('Coop GFs_CFs'!O:P, MATCH(B15,'Coop GFs_CFs'!B:B,0),1) )} -> 1.098465 | N15: {=_xlfn.SWITCH(L15, "Employment", INDEX('Coop GFs_CFs'!C:D, MATCH(B15,'Coop GFs_CFs'!B:B,0),2), "Population", INDEX('Coop GFs_CFs'!E:F, MATCH(B15,'Coop GFs_CFs'!B:B,0),2), "Household", INDEX('Coop GFs_CFs'!G:H, MATCH(B15,'Coop GFs_CFs'!B:B,0),2), "VMT", INDEX('Coop GFs_CFs'!I:J, MATCH(B15,'Coop GFs_CFs'!B:B,0),2), "Lane Mile", INDEX('Coop GFs_CFs'!K:L, MATCH(B15,'Coop GFs_CFs'!B:B,0),2), "Gas Sales", INDEX('Coop GFs_CFs'!M:N, MATCH(B15,'Coop GFs_CFs'!B:B,0),2), "No Growth", INDEX('Coop GFs_CFs'!O:P, MATCH(B15,'Coop GFs_CFs'!B:B,0),2) )} -> 1.150447 | P15: =F15*M15 -> 0 | Q15: =F15*N15 -> 0 | R15: 2275020000 | S15: Mobile - Aircraft | T15: Mobile Sources | U15: Aircraft | V15: Commercial Aircraft | W15: Total: All Types | X15: Airport | Z15: 2275020000-51013-NOx
A16: Virginia | B16: 51107 | C16: NOx | D16: 938.58337 | E16: =SUMIFS('Ratios_MARAMA-VA'!T:T, 'Ratios_MARAMA-VA'!AA:AA, Z16) -> 0 | F16: =SUMIFS('Ratios_MARAMA-VA'!J:J, 'Ratios_MARAMA-VA'!AA:AA, Z16) -> 0 | G16: =F16/E16 -> #DIV/0! | H16: 1557.5791 | I16: =NP_Data[[#This Row],[2022 MARAMA-VA OSD Emissions (tpd)]]*NP_Data[[#This Row],[2032 Annual Emissions (Tons)]]/NP_Data[[#This Row],[2022 Annual Emiss Data Tool v1 Emissions (Tons)]] -> 0 | J16: 1730.4662 | K16: =NP_Data[[#This Row],[2022 MARAMA-VA OSD Emissions (tpd)]]*NP_Data[[#This Row],[2038 Annual Emissions (Tons)]]/NP_Data[[#This Row],[2022 Annual Emiss Data Tool v1 Emissions (Tons)]] -> 0 | L16: {=_xlfn.SWITCH(A16, "District of Columbia", _xlfn.XLOOKUP(R16, '2015 O3 Growth Surrogates'!A:A, '2015 O3 Growth Surrogates'!H:H), "Maryland", _xlfn.XLOOKUP(R16, '2015 O3 Growth Surrogates'!A:A, '2015 O3 Growth Surrogates'!I:I), "Virginia", _xlfn.XLOOKUP(R16, '2015 O3 Growth Surrogates'!A:A, '2015 O3 Growth Surrogates'!J:J) )} -> Population | M16: {=_xlfn.SWITCH(L16, "Employment", INDEX('Coop GFs_CFs'!C:D, MATCH(B16,'Coop GFs_CFs'!B:B,0),1), "Population", INDEX('Coop GFs_CFs'!E:F, MATCH(B16,'Coop GFs_CFs'!B:B,0),1), "Household", INDEX('Coop GFs_CFs'!G:H, MATCH(B16,'Coop GFs_CFs'!B:B,0),1), "VMT", INDEX('Coop GFs_CFs'!I:J, MATCH(B16,'Coop GFs_CFs'!B:B,0),1), "Lane Mile", INDEX('Coop GFs_CFs'!K:L, MATCH(B16,'Coop GFs_CFs'!B:B,0),1), "Gas Sales", INDEX('Coop GFs_CFs'!M:N, MATCH(B16,'Coop GFs_CFs'!B:B,0),1), "No Growth", INDEX('Coop GFs_CFs'!O:P, MATCH(B16,'Coop GFs_CFs'!B:B,0),1) )} -> 1.1551128 | N16: {=_xlfn.SWITCH(L16, "Employment", INDEX('Coop GFs_CFs'!C:D, MATCH(B16,'Coop GFs_CFs'!B:B,0),2), "Population", INDEX('Coop GFs_CFs'!E:F, MATCH(B16,'Coop GFs_CFs'!B:B,0),2), "Household", INDEX('Coop GFs_CFs'!G:H, MATCH(B16,'Coop GFs_CFs'!B:B,0),2), "VMT", INDEX('Coop GFs_CFs'!I:J, MATCH(B16,'Coop GFs_CFs'!B:B,0),2), "Lane Mile", INDEX('Coop GFs_CFs'!K:L, MATCH(B16,'Coop GFs_CFs'!B:B,0),2), "Gas Sales", INDEX('Coop GFs_CFs'!M:N, MATCH(B16,'Coop GFs_CFs'!B:B,0),2), "No Growth", INDEX('Coop GFs_CFs'!O:P, MATCH(B16,'Coop GFs_CFs'!B:B,0),2) )} -> 1.1978534 | P16: =F16*M16 -> 0 | Q16: =F16*N16 -> 0 | R16: 2275020000 | S16: Mobile - Aircraft | T16: Mobile Sources | U16: Aircraft | V16: Commercial Aircraft | W16: Total: All Types | X16: Airport | Z16: 2275020000-51107-NOx
A17: Maryland | B17: 24021 | C17: VOC | D17: 0.0024656 | E17: =SUMIFS('Ratios_MARAMA-VA'!T:T, 'Ratios_MARAMA-VA'!AA:AA, Z17) -> 0.0024650221 | F17: =SUMIFS('Ratios_MARAMA-VA'!J:J, 'Ratios_MARAMA-VA'!AA:AA, Z17) -> 7.1408178e-06 | G17: =F17/E17 -> 0.0028968576 | H17: 0.0012328 | I17: 3.571246e-06 | J17: 0.0012328 | K17: 3.571246e-06 | L17: {=_xlfn.SWITCH(A17, "District of Columbia", _xlfn.XLOOKUP(R17, '2015 O3 Growth Surrogates'!A:A, '2015 O3 Growth Surrogates'!H:H), "Maryland", _xlfn.XLOOKUP(R17, '2015 O3 Growth Surrogates'!A:A, '2015 O3 Growth Surrogates'!I:I), "Virginia", _xlfn.XLOOKUP(R17, '2015 O3 Growth Surrogates'!A:A, '2015 O3 Growth Surrogates'!J:J) )} -> EPA EMP | M17: {=_xlfn.SWITCH(L17, "Employment", INDEX('Coop GFs_CFs'!C:D, MATCH(B17,'Coop GFs_CFs'!B:B,0),1), "Population", INDEX('Coop GFs_CFs'!E:F, MATCH(B17,'Coop GFs_CFs'!B:B,0),1), "Household", INDEX('Coop GFs_CFs'!G:H, MATCH(B17,'Coop GFs_CFs'!B:B,0),1), "VMT", INDEX('Coop GFs_CFs'!I:J, MATCH(B17,'Coop GFs_CFs'!B:B,0),1), "Lane Mile", INDEX('Coop GFs_CFs'!K:L, MATCH(B17,'Coop GFs_CFs'!B:B,0),1), "Gas Sales", INDEX('Coop GFs_CFs'!M:N, MATCH(B17,'Coop GFs_CFs'!B:B,0),1), "No Growth", INDEX('Coop GFs_CFs'!O:P, MATCH(B17,'Coop GFs_CFs'!B:B,0),1) )} -> #N/A | N17: {=_xlfn.SWITCH(L17, "Employment", INDEX('Coop GFs_CFs'!C:D, MATCH(B17,'Coop GFs_CFs'!B:B,0),2), "Population", INDEX('Coop GFs_CFs'!E:F, MATCH(B17,'Coop GFs_CFs'!B:B,0),2), "Household", INDEX('Coop GFs_CFs'!G:H, MATCH(B17,'Coop GFs_CFs'!B:B,0),2), "VMT", INDEX('Coop GFs_CFs'!I:J, MATCH(B17,'Coop GFs_CFs'!B:B,0),2), "Lane Mile", INDEX('Coop GFs_CFs'!K:L, MATCH(B17,'Coop GFs_CFs'!B:B,0),2), "Gas Sales", INDEX('Coop GFs_CFs'!M:N, MATCH(B17,'Coop GFs_CFs'!B:B,0),2), "No Growth", INDEX('Coop GFs_CFs'!O:P, MATCH(B17,'Coop GFs_CFs'!B:B,0),2) )} -> #N/A | P17: =I17 -> 3.571246e-06 | Q17: =K17 -> 3.571246e-06 | R17: 2275020000 | S17: Mobile - Aircraft | T17: Mobile Sources | U17: Aircraft | V17: Commercial Aircraft | W17: Total: All Types | X17: Airport | Z17: 2275020000-24021-VOC
A18: Virginia | B18: 51013 | C18: VOC | D18: 125.97171 | E18: =SUMIFS('Ratios_MARAMA-VA'!T:T, 'Ratios_MARAMA-VA'!AA:AA, Z18) -> 0 | F18: =SUMIFS('Ratios_MARAMA-VA'!J:J, 'Ratios_MARAMA-VA'!AA:AA, Z18) -> 0 | G18: =F18/E18 -> #DIV/0! | H18: 128.37777 | I18: 0.37189212 | J18: 128.37777 | K18: 0.37189212 | L18: {=_xlfn.SWITCH(A18, "District of Columbia", _xlfn.XLOOKUP(R18, '2015 O3 Growth Surrogates'!A:A, '2015 O3 Growth Surrogates'!H:H), "Maryland", _xlfn.XLOOKUP(R18, '2015 O3 Growth Surrogates'!A:A, '2015 O3 Growth Surrogates'!I:I), "Virginia", _xlfn.XLOOKUP(R18, '2015 O3 Growth Surrogates'!A:A, '2015 O3 Growth Surrogates'!J:J) )} -> Population | M18: {=_xlfn.SWITCH(L18, "Employment", INDEX('Coop GFs_CFs'!C:D, MATCH(B18,'Coop GFs_CFs'!B:B,0),1), "Population", INDEX('Coop GFs_CFs'!E:F, MATCH(B18,'Coop GFs_CFs'!B:B,0),1), "Household", INDEX('Coop GFs_CFs'!G:H, MATCH(B18,'Coop GFs_CFs'!B:B,0),1), "VMT", INDEX('Coop GFs_CFs'!I:J, MATCH(B18,'Coop GFs_CFs'!B:B,0),1), "Lane Mile", INDEX('Coop GFs_CFs'!K:L, MATCH(B18,'Coop GFs_CFs'!B:B,0),1), "Gas Sales", INDEX('Coop GFs_CFs'!M:N, MATCH(B18,'Coop GFs_CFs'!B:B,0),1), "No Growth", INDEX('Coop GFs_CFs'!O:P, MATCH(B18,'Coop GFs_CFs'!B:B,0),1) )} -> 1.098465 | N18: {=_xlfn.SWITCH(L18, "Employment", INDEX('Coop GFs_CFs'!C:D, MATCH(B18,'Coop GFs_CFs'!B:B,0),2), "Population", INDEX('Coop GFs_CFs'!E:F, MATCH(B18,'Coop GFs_CFs'!B:B,0),2), "Household", INDEX('Coop GFs_CFs'!G:H, MATCH(B18,'Coop GFs_CFs'!B:B,0),2), "VMT", INDEX('Coop GFs_CFs'!I:J, MATCH(B18,'Coop GFs_CFs'!B:B,0),2), "Lane Mile", INDEX('Coop GFs_CFs'!K:L, MATCH(B18,'Coop GFs_CFs'!B:B,0),2), "Gas Sales", INDEX('Coop GFs_CFs'!M:N, MATCH(B18,'Coop GFs_CFs'!B:B,0),2), "No Growth", INDEX('Coop GFs_CFs'!O:P, MATCH(B18,'Coop GFs_CFs'!B:B,0),2) )} -> 1.150447 | P18: =F18*M18 -> 0 | Q18: =F18*N18 -> 0 | R18: 2275020000 | S18: Mobile - Aircraft | T18: Mobile Sources | U18: Aircraft | V18: Commercial Aircraft | W18: Total: All Types | X18: Airport | Z18: 2275020000-51013-VOC
A19: Virginia | B19: 51107 | C19: VOC | D19: 149.40513 | E19: =SUMIFS('Ratios_MARAMA-VA'!T:T, 'Ratios_MARAMA-VA'!AA:AA, Z19) -> 0 | F19: =SUMIFS('Ratios_MARAMA-VA'!J:J, 'Ratios_MARAMA-VA'!AA:AA, Z19) -> 0 | G19: =F19/E19 -> #DIV/0! | H19: 247.93781 | I19: 0.71824053 | J19: 275.45824 | K19: 0.79796328 | L19: {=_xlfn.SWITCH(A19, "District of Columbia", _xlfn.XLOOKUP(R19, '2015 O3 Growth Surrogates'!A:A, '2015 O3 Growth Surrogates'!H:H), "Maryland", _xlfn.XLOOKUP(R19, '2015 O3 Growth Surrogates'!A:A, '2015 O3 Growth Surrogates'!I:I), "Virginia", _xlfn.XLOOKUP(R19, '2015 O3 Growth Surrogates'!A:A, '2015 O3 Growth Surrogates'!J:J) )} -> Population | M19: {=_xlfn.SWITCH(L19, "Employment", INDEX('Coop GFs_CFs'!C:D, MATCH(B19,'Coop GFs_CFs'!B:B,0),1), "Population", INDEX('Coop GFs_CFs'!E:F, MATCH(B19,'Coop GFs_CFs'!B:B,0),1), "Household", INDEX('Coop GFs_CFs'!G:H, MATCH(B19,'Coop GFs_CFs'!B:B,0),1), "VMT", INDEX('Coop GFs_CFs'!I:J, MATCH(B19,'Coop GFs_CFs'!B:B,0),1), "Lane Mile", INDEX('Coop GFs_CFs'!K:L, MATCH(B19,'Coop GFs_CFs'!B:B,0),1), "Gas Sales", INDEX('Coop GFs_CFs'!M:N, MATCH(B19,'Coop GFs_CFs'!B:B,0),1), "No Growth", INDEX('Coop GFs_CFs'!O:P, MATCH(B19,'Coop GFs_CFs'!B:B,0),1) )} -> 1.1551128 | N19: {=_xlfn.SWITCH(L19, "Employment", INDEX('Coop GFs_CFs'!C:D, MATCH(B19,'Coop GFs_CFs'!B:B,0),2), "Population", INDEX('Coop GFs_CFs'!E:F, MATCH(B19,'Coop GFs_CFs'!B:B,0),2), "Household", INDEX('Coop GFs_CFs'!G:H, MATCH(B19,'Coop GFs_CFs'!B:B,0),2), "VMT", INDEX('Coop GFs_CFs'!I:J, MATCH(B19,'Coop GFs_CFs'!B:B,0),2), "Lane Mile", INDEX('Coop GFs_CFs'!K:L, MATCH(B19,'Coop GFs_CFs'!B:B,0),2), "Gas Sales", INDEX('Coop GFs_CFs'!M:N, MATCH(B19,'Coop GFs_CFs'!B:B,0),2), "No Growth", INDEX('Coop GFs_CFs'!O:P, MATCH(B19,'Coop GFs_CFs'!B:B,0),2) )} -> 1.1978534 | P19: =F19*M19 -> 0 | Q19: =F19*N19 -> 0 | R19: 2275020000 | S19: Mobile - Aircraft | T19: Mobile Sources | U19: Aircraft | V19: Commercial Aircraft | W19: Total: All Types | X19: Airport | Z19: 2275020000-51107-VOC
A20: Maryland | B20: 24033 | C20: NOx | D20: 0.42122659 | E20: =SUMIFS('Ratios_MARAMA-VA'!T:T, 'Ratios_MARAMA-VA'!AA:AA, Z20) -> 0 | F20: =SUMIFS('Ratios_MARAMA-VA'!J:J, 'Ratios_MARAMA-VA'!AA:AA, Z20) -> 0 | G20: =F20/E20 -> #DIV/0! | H20: 0.56621279 | I20: =NP_Data[[#This Row],[2022 MARAMA-VA OSD Emissions (tpd)]]*NP_Data[[#This Row],[Coop 2032 Growth Factor]] -> 0 | J20: 0.56621279 | K20: =NP_Data[[#This Row],[2022 MARAMA-VA OSD Emissions (tpd)]]*NP_Data[[#This Row],[Coop 2038 Growth Factor]] -> 0 | L20: {=_xlfn.SWITCH(A20, "District of Columbia", _xlfn.XLOOKUP(R20, '2015 O3 Growth Surrogates'!A:A, '2015 O3 Growth Surrogates'!H:H), "Maryland", _xlfn.XLOOKUP(R20, '2015 O3 Growth Surrogates'!A:A, '2015 O3 Growth Surrogates'!I:I), "Virginia", _xlfn.XLOOKUP(R20, '2015 O3 Growth Surrogates'!A:A, '2015 O3 Growth Surrogates'!J:J) )} -> EPA EMP | M20: =NP_Data[[#This Row],[2032 Annual Emissions (Tons)]]/NP_Data[[#This Row],[2022 Annual Emiss Data Tool v1 Emissions (Tons)]] -> 1.3442 | N20: =NP_Data[[#This Row],[2038 Annual Emissions (Tons)]]/NP_Data[[#This Row],[2022 Annual Emiss Data Tool v1 Emissions (Tons)]] -> 1.3442 | P20: =I20 -> 0 | Q20: =K20 -> 0 | R20: 2275020000 | S20: Mobile - Aircraft | T20: Mobile Sources | U20: Aircraft | V20: Commercial Aircraft | W20: Total: All Types | X20: Airport | Z20: 2275020000-24033-NOx
A21: Maryland | B21: 24033 | C21: VOC | D21: 1.0976974 | E21: =SUMIFS('Ratios_MARAMA-VA'!T:T, 'Ratios_MARAMA-VA'!AA:AA, Z21) -> 0 | F21: =SUMIFS('Ratios_MARAMA-VA'!J:J, 'Ratios_MARAMA-VA'!AA:AA, Z21) -> 0 | G21: =F21/E21 -> #DIV/0! | H21: 1.4755248 | I21: =NP_Data[[#This Row],[2022 MARAMA-VA OSD Emissions (tpd)]]*NP_Data[[#This Row],[Coop 2032 Growth Factor]] -> 0 | J21: 1.4755248 | K21: =NP_Data[[#This Row],[2022 MARAMA-VA OSD Emissions (tpd)]]*NP_Data[[#This Row],[Coop 2038 Growth Factor]] -> 0 | L21: {=_xlfn.SWITCH(A21, "District of Columbia", _xlfn.XLOOKUP(R21, '2015 O3 Growth Surrogates'!A:A, '2015 O3 Growth Surrogates'!H:H), "Maryland", _xlfn.XLOOKUP(R21, '2015 O3 Growth Surrogates'!A:A, '2015 O3 Growth Surrogates'!I:I), "Virginia", _xlfn.XLOOKUP(R21, '2015 O3 Growth Surrogates'!A:A, '2015 O3 Growth Surrogates'!J:J) )} -> EPA EMP | M21: =NP_Data[[#This Row],[2032 Annual Emissions (Tons)]]/NP_Data[[#This Row],[2022 Annual Emiss Data Tool v1 Emissions (Tons)]] -> 1.3442 | N21: =NP_Data[[#This Row],[2038 Annual Emissions (Tons)]]/NP_Data[[#This Row],[2022 Annual Emiss Data Tool v1 Emissions (Tons)]] -> 1.3442 | P21: =I21 -> 0 | Q21: =K21 -> 0 | R21: 2275020000 | S21: Mobile - Aircraft | T21: Mobile Sources | U21: Aircraft | V21: Commercial Aircraft | W21: Total: All Types | X21: Airport | Z21: 2275020000-24033-VOC
A22: District of Columbia | B22: 11001 | C22: NOx | D22: 0.003835 | E22: =SUMIFS('Ratios_MARAMA-VA'!T:T, 'Ratios_MARAMA-VA'!AA:AA, Z22) -> 0.0038341011 | F22: =SUMIFS('Ratios_MARAMA-VA'!J:J, 'Ratios_MARAMA-VA'!AA:AA, Z22) -> 1.1106845e-05 | G22: =F22/E22 -> 0.0028968576 | H22: 0.003835 | I22: 1.1109449e-05 | J22: 0.003835 | K22: 1.1109449e-05 | L22: {=_xlfn.SWITCH(A22, "District of Columbia", _xlfn.XLOOKUP(R22, '2015 O3 Growth Surrogates'!A:A, '2015 O3 Growth Surrogates'!H:H), "Maryland", _xlfn.XLOOKUP(R22, '2015 O3 Growth Surrogates'!A:A, '2015 O3 Growth Surrogates'!I:I), "Virginia", _xlfn.XLOOKUP(R22, '2015 O3 Growth Surrogates'!A:A, '2015 O3 Growth Surrogates'!J:J) )} -> Population | M22: {=_xlfn.SWITCH(L22, "Employment", INDEX('Coop GFs_CFs'!C:D, MATCH(B22,'Coop GFs_CFs'!B:B,0),1), "Population", INDEX('Coop GFs_CFs'!E:F, MATCH(B22,'Coop GFs_CFs'!B:B,0),1), "Household", INDEX('Coop GFs_CFs'!G:H, MATCH(B22,'Coop GFs_CFs'!B:B,0),1), "VMT", INDEX('Coop GFs_CFs'!I:J, MATCH(B22,'Coop GFs_CFs'!B:B,0),1), "Lane Mile", INDEX('Coop GFs_CFs'!K:L, MATCH(B22,'Coop GFs_CFs'!B:B,0),1), "Gas Sales", INDEX('Coop GFs_CFs'!M:N, MATCH(B22,'Coop GFs_CFs'!B:B,0),1), "No Growth", INDEX('Coop GFs_CFs'!O:P, MATCH(B22,'Coop GFs_CFs'!B:B,0),1) )} -> 1.0682042 | N22: {=_xlfn.SWITCH(L22, "Employment", INDEX('Coop GFs_CFs'!C:D, MATCH(B22,'Coop GFs_CFs'!B:B,0),2), "Population", INDEX('Coop GFs_CFs'!E:F, MATCH(B22,'Coop GFs_CFs'!B:B,0),2), "Household", INDEX('Coop GFs_CFs'!G:H, MATCH(B22,'Coop GFs_CFs'!B:B,0),2), "VMT", INDEX('Coop GFs_CFs'!I:J, MATCH(B22,'Coop GFs_CFs'!B:B,0),2), "Lane Mile", INDEX('Coop GFs_CFs'!K:L, MATCH(B22,'Coop GFs_CFs'!B:B,0),2), "Gas Sales", INDEX('Coop GFs_CFs'!M:N, MATCH(B22,'Coop GFs_CFs'!B:B,0),2), "No Growth", INDEX('Coop GFs_CFs'!O:P, MATCH(B22,'Coop GFs_CFs'!B:B,0),2) )} -> 1.1102535 | P22: =F22*M22 -> 1.1864378e-05 | Q22: =F22*N22 -> 1.2331413e-05 | R22: 2275050011 | S22: Mobile - Aircraft | T22: Mobile Sources | U22: Aircraft | V22: General Aviation | W22: Piston | X22: Airport | Z22: 2275050011-11001-NOx
A23: Maryland | B23: 24009 | C23: NOx | D23: 0.010725 | E23: =SUMIFS('Ratios_MARAMA-VA'!T:T, 'Ratios_MARAMA-VA'!AA:AA, Z23) -> 0.010722486 | F23: =SUMIFS('Ratios_MARAMA-VA'!J:J, 'Ratios_MARAMA-VA'!AA:AA, Z23) -> 3.1061515e-05 | G23: =F23/E23 -> 0.0028968576 | H23: 0.010725 | I23: 3.1068797e-05 | J23: 0.010725 | K23: 3.1068797e-05 | L23: {=_xlfn.SWITCH(A23, "District of Columbia", _xlfn.XLOOKUP(R23, '2015 O3 Growth Surrogates'!A:A, '2015 O3 Growth Surrogates'!H:H), "Maryland", _xlfn.XLOOKUP(R23, '2015 O3 Growth Surrogates'!A:A, '2015 O3 Growth Surrogates'!I:I), "Virginia", _xlfn.XLOOKUP(R23, '2015 O3 Growth Surrogates'!A:A, '2015 O3 Growth Surrogates'!J:J) )} -> EPA EMP | M23: {=_xlfn.SWITCH(L23, "Employment", INDEX('Coop GFs_CFs'!C:D, MATCH(B23,'Coop GFs_CFs'!B:B,0),1), "Population", INDEX('Coop GFs_CFs'!E:F, MATCH(B23,'Coop GFs_CFs'!B:B,0),1), "Household", INDEX('Coop GFs_CFs'!G:H, MATCH(B23,'Coop GFs_CFs'!B:B,0),1), "VMT", INDEX('Coop GFs_CFs'!I:J, MATCH(B23,'Coop GFs_CFs'!B:B,0),1), "Lane Mile", INDEX('Coop GFs_CFs'!K:L, MATCH(B23,'Coop GFs_CFs'!B:B,0),1), "Gas Sales", INDEX('Coop GFs_CFs'!M:N, MATCH(B23,'Coop GFs_CFs'!B:B,0),1), "No Growth", INDEX('Coop GFs_CFs'!O:P, MATCH(B23,'Coop GFs_CFs'!B:B,0),1) )} -> #N/A | N23: {=_xlfn.SWITCH(L23, "Employment", INDEX('Coop GFs_CFs'!C:D, MATCH(B23,'Coop GFs_CFs'!B:B,0),2), "Population", INDEX('Coop GFs_CFs'!E:F, MATCH(B23,'Coop GFs_CFs'!B:B,0),2), "Household", INDEX('Coop GFs_CFs'!G:H, MATCH(B23,'Coop GFs_CFs'!B:B,0),2), "VMT", INDEX('Coop GFs_CFs'!I:J, MATCH(B23,'Coop GFs_CFs'!B:B,0),2), "Lane Mile", INDEX('Coop GFs_CFs'!K:L, MATCH(B23,'Coop GFs_CFs'!B:B,0),2), "Gas Sales", INDEX('Coop GFs_CFs'!M:N, MATCH(B23,'Coop GFs_CFs'!B:B,0),2), "No Growth", INDEX('Coop GFs_CFs'!O:P, MATCH(B23,'Coop GFs_CFs'!B:B,0),2) )} -> #N/A | P23: =I23 -> 3.1068797e-05 | Q23: =K23 -> 3.1068797e-05 | R23: 2275050011 | S23: Mobile - Aircraft | T23: Mobile Sources | U23: Aircraft | V23: General Aviation | W23: Piston | X23: Airport | Z23: 2275050011-24009-NOx
A24: Maryland | B24: 24017 | C24: NOx | D24: 0.2054325 | E24: =SUMIFS('Ratios_MARAMA-VA'!T:T, 'Ratios_MARAMA-VA'!AA:AA, Z24) -> 0.20538435 | F24: =SUMIFS('Ratios_MARAMA-VA'!J:J, 'Ratios_MARAMA-VA'!AA:AA, Z24) -> 0.0005949692 | G24: =F24/E24 -> 0.0028968576 | H24: 0.2054325 | I24: 0.00059510869 | J24: 0.2054325 | K24: 0.00059510869 | L24: {=_xlfn.SWITCH(A24, "District of Columbia", _xlfn.XLOOKUP(R24, '2015 O3 Growth Surrogates'!A:A, '2015 O3 Growth Surrogates'!H:H), "Maryland", _xlfn.XLOOKUP(R24, '2015 O3 Growth Surrogates'!A:A, '2015 O3 Growth Surrogates'!I:I), "Virginia", _xlfn.XLOOKUP(R24, '2015 O3 Growth Surrogates'!A:A, '2015 O3 Growth Surrogates'!J:J) )} -> EPA EMP | M24: {=_xlfn.SWITCH(L24, "Employment", INDEX('Coop GFs_CFs'!C:D, MATCH(B24,'Coop GFs_CFs'!B:B,0),1), "Population", INDEX('Coop GFs_CFs'!E:F, MATCH(B24,'Coop GFs_CFs'!B:B,0),1), "Household", INDEX('Coop GFs_CFs'!G:H, MATCH(B24,'Coop GFs_CFs'!B:B,0),1), "VMT", INDEX('Coop GFs_CFs'!I:J, MATCH(B24,'Coop GFs_CFs'!B:B,0),1), "Lane Mile", INDEX('Coop GFs_CFs'!K:L, MATCH(B24,'Coop GFs_CFs'!B:B,0),1), "Gas Sales", INDEX('Coop GFs_CFs'!M:N, MATCH(B24,'Coop GFs_CFs'!B:B,0),1), "No Growth", INDEX('Coop GFs_CFs'!O:P, MATCH(B24,'Coop GFs_CFs'!B:B,0),1) )} -> #N/A | N24: {=_xlfn.SWITCH(L24, "Employment", INDEX('Coop GFs_CFs'!C:D, MATCH(B24,'Coop GFs_CFs'!B:B,0),2), "Population", INDEX('Coop GFs_CFs'!E:F, MATCH(B24,'Coop GFs_CFs'!B:B,0),2), "Household", INDEX('Coop GFs_CFs'!G:H, MATCH(B24,'Coop GFs_CFs'!B:B,0),2), "VMT", INDEX('Coop GFs_CFs'!I:J, MATCH(B24,'Coop GFs_CFs'!B:B,0),2), "Lane Mile", INDEX('Coop GFs_CFs'!K:L, MATCH(B24,'Coop GFs_CFs'!B:B,0),2), "Gas Sales", INDEX('Coop GFs_CFs'!M:N, MATCH(B24,'Coop GFs_CFs'!B:B,0),2), "No Growth", INDEX('Coop GFs_CFs'!O:P, MATCH(B24,'Coop GFs_CFs'!B:B,0),2) )} -> #N/A | P24: =I24 -> 0.00059510869 | Q24: =K24 -> 0.00059510869 | R24: 2275050011 | S24: Mobile - Aircraft | T24: Mobile Sources | U24: Aircraft | V24: General Aviation | W24: Piston | X24: Airport | Z24: 2275050011-24017-NOx
A25: Maryland | B25: 24021 | C25: NOx | D25: 0.79236622 | E25: =SUMIFS('Ratios_MARAMA-VA'!T:T, 'Ratios_MARAMA-VA'!AA:AA, Z25) -> 0.79218049 | F25: =SUMIFS('Ratios_MARAMA-VA'!J:J, 'Ratios_MARAMA-VA'!AA:AA, Z25) -> 0.002294834 | G25: =F25/E25 -> 0.0028968576 | H25: 0.95448435 | I25: 0.0027650052 | J25: 0.95448435 | K25: 0.0027650052 | L25: {=_xlfn.SWITCH(A25, "District of Columbia", _xlfn.XLOOKUP(R25, '2015 O3 Growth Surrogates'!A:A, '2015 O3 Growth Surrogates'!H:H), "Maryland", _xlfn.XLOOKUP(R25, '2015 O3 Growth Surrogates'!A:A, '2015 O3 Growth Surrogates'!I:I), "Virginia", _xlfn.XLOOKUP(R25, '2015 O3 Growth Surrogates'!A:A, '2015 O3 Growth Surrogates'!J:J) )} -> EPA EMP | M25: {=_xlfn.SWITCH(L25, "Employment", INDEX('Coop GFs_CFs'!C:D, MATCH(B25,'Coop GFs_CFs'!B:B,0),1), "Population", INDEX('Coop GFs_CFs'!E:F, MATCH(B25,'Coop GFs_CFs'!B:B,0),1), "Household", INDEX('Coop GFs_CFs'!G:H, MATCH(B25,'Coop GFs_CFs'!B:B,0),1), "VMT", INDEX('Coop GFs_CFs'!I:J, MATCH(B25,'Coop GFs_CFs'!B:B,0),1), "Lane Mile", INDEX('Coop GFs_CFs'!K:L, MATCH(B25,'Coop GFs_CFs'!B:B,0),1), "Gas Sales", INDEX('Coop GFs_CFs'!M:N, MATCH(B25,'Coop GFs_CFs'!B:B,0),1), "No Growth", INDEX('Coop GFs_CFs'!O:P, MATCH(B25,'Coop GFs_CFs'!B:B,0),1) )} -> #N/A | N25: {=_xlfn.SWITCH(L25, "Employment", INDEX('Coop GFs_CFs'!C:D, MATCH(B25,'Coop GFs_CFs'!B:B,0),2), "Population", INDEX('Coop GFs_CFs'!E:F, MATCH(B25,'Coop GFs_CFs'!B:B,0),2), "Household", INDEX('Coop GFs_CFs'!G:H, MATCH(B25,'Coop GFs_CFs'!B:B,0),2), "VMT", INDEX('Coop GFs_CFs'!I:J, MATCH(B25,'Coop GFs_CFs'!B:B,0),2), "Lane Mile", INDEX('Coop GFs_CFs'!K:L, MATCH(B25,'Coop GFs_CFs'!B:B,0),2), "Gas Sales", INDEX('Coop GFs_CFs'!M:N, MATCH(B25,'Coop GFs_CFs'!B:B,0),2), "No Growth", INDEX('Coop GFs_CFs'!O:P, MATCH(B25,'Coop GFs_CFs'!B:B,0),2) )} -> #N/A | P25: =I25 -> 0.0027650052 | Q25: =K25 -> 0.0027650052 | R25: 2275050011 | S25: Mobile - Aircraft | T25: Mobile Sources | U25: Aircraft | V25: General Aviation | W25: Piston | X25: Airport | Z25: 2275050011-24021-NOx
A26: Maryland | B26: 24031 | C26: NOx | D26: 0.50011 | E26: =SUMIFS('Ratios_MARAMA-VA'!T:T, 'Ratios_MARAMA-VA'!AA:AA, Z26) -> 0.49999277 | F26: =SUMIFS('Ratios_MARAMA-VA'!J:J, 'Ratios_MARAMA-VA'!AA:AA, Z26) -> 0.0014484078 | G26: =F26/E26 -> 0.0028968576 | H26: 0.51865422 | I26: 0.0015024674 | J26: 0.51865422 | K26: 0.0015024674 | L26: {=_xlfn.SWITCH(A26, "District of Columbia", _xlfn.XLOOKUP(R26, '2015 O3 Growth Surrogates'!A:A, '2015 O3 Growth Surrogates'!H:H), "Maryland", _xlfn.XLOOKUP(R26, '2015 O3 Growth Surrogates'!A:A, '2015 O3 Growth Surrogates'!I:I), "Virginia", _xlfn.XLOOKUP(R26, '2015 O3 Growth Surrogates'!A:A, '2015 O3 Growth Surrogates'!J:J) )} -> EPA EMP | M26: {=_xlfn.SWITCH(L26, "Employment", INDEX('Coop GFs_CFs'!C:D, MATCH(B26,'Coop GFs_CFs'!B:B,0),1), "Population", INDEX('Coop GFs_CFs'!E:F, MATCH(B26,'Coop GFs_CFs'!B:B,0),1), "Household", INDEX('Coop GFs_CFs'!G:H, MATCH(B26,'Coop GFs_CFs'!B:B,0),1), "VMT", INDEX('Coop GFs_CFs'!I:J, MATCH(B26,'Coop GFs_CFs'!B:B,0),1), "Lane Mile", INDEX('Coop GFs_CFs'!K:L, MATCH(B26,'Coop GFs_CFs'!B:B,0),1), "Gas Sales", INDEX('Coop GFs_CFs'!M:N, MATCH(B26,'Coop GFs_CFs'!B:B,0),1), "No Growth", INDEX('Coop GFs_CFs'!O:P, MATCH(B26,'Coop GFs_CFs'!B:B,0),1) )} -> #N/A | N26: {=_xlfn.SWITCH(L26, "Employment", INDEX('Coop GFs_CFs'!C:D, MATCH(B26,'Coop GFs_CFs'!B:B,0),2), "Population", INDEX('Coop GFs_CFs'!E:F, MATCH(B26,'Coop GFs_CFs'!B:B,0),2), "Household", INDEX('Coop GFs_CFs'!G:H, MATCH(B26,'Coop GFs_CFs'!B:B,0),2), "VMT", INDEX('Coop GFs_CFs'!I:J, MATCH(B26,'Coop GFs_CFs'!B:B,0),2), "Lane Mile", INDEX('Coop GFs_CFs'!K:L, MATCH(B26,'Coop GFs_CFs'!B:B,0),2), "Gas Sales", INDEX('Coop GFs_CFs'!M:N, MATCH(B26,'Coop GFs_CFs'!B:B,0),2), "No Growth", INDEX('Coop GFs_CFs'!O:P, MATCH(B26,'Coop GFs_CFs'!B:B,0),2) )} -> #N/A | P26: =I26 -> 0.0015024674 | Q26: =K26 -> 0.0015024674 | R26: 2275050011 | S26: Mobile - Aircraft | T26: Mobile Sources | U26: Aircraft | V26: General Aviation | W26: Piston | X26: Airport | Z26: 2275050011-24031-NOx
A27: Maryland | B27: 24033 | C27: NOx | D27: 0.5513922 | E27: =SUMIFS('Ratios_MARAMA-VA'!T:T, 'Ratios_MARAMA-VA'!AA:AA, Z27) -> 0.51877694 | F27: =SUMIFS('Ratios_MARAMA-VA'!J:J, 'Ratios_MARAMA-VA'!AA:AA, Z27) -> 0.0015028229 | G27: =F27/E27 -> 0.0028968576 | H27: 0.56948859 | I27: =NP_Data[[#This Row],[2022 MARAMA-VA OSD Emissions (tpd)]]*NP_Data[[#This Row],[Coop 2032 Growth Factor]] -> 0.0015521447 | J27: 0.5701677 | K27: =NP_Data[[#This Row],[2022 MARAMA-VA OSD Emissions (tpd)]]*NP_Data[[#This Row],[Coop 2038 Growth Factor]] -> 0.0015539957 | L27: {=_xlfn.SWITCH(A27, "District of Columbia", _xlfn.XLOOKUP(R27, '2015 O3 Growth Surrogates'!A:A, '2015 O3 Growth Surrogates'!H:H), "Maryland", _xlfn.XLOOKUP(R27, '2015 O3 Growth Surrogates'!A:A, '2015 O3 Growth Surrogates'!I:I), "Virginia", _xlfn.XLOOKUP(R27, '2015 O3 Growth Surrogates'!A:A, '2015 O3 Growth Surrogates'!J:J) )} -> EPA EMP | M27: =NP_Data[[#This Row],[2032 Annual Emissions (Tons)]]/NP_Data[[#This Row],[2022 Annual Emiss Data Tool v1 Emissions (Tons)]] -> 1.0328194 | N27: =NP_Data[[#This Row],[2038 Annual Emissions (Tons)]]/NP_Data[[#This Row],[2022 Annual Emiss Data Tool v1 Emissions (Tons)]] -> 1.0340511 | P27: =I27 -> 0.0015521447 | Q27: =K27 -> 0.0015539957 | R27: 2275050011 | S27: Mobile - Aircraft | T27: Mobile Sources | U27: Aircraft | V27: General Aviation | W27: Piston | X27: Airport | Z27: 2275050011-24033-NOx
A28: Virginia | B28: 51013 | C28: NOx | D28: 0.02574 | E28: =SUMIFS('Ratios_MARAMA-VA'!T:T, 'Ratios_MARAMA-VA'!AA:AA, Z28) -> 0 | F28: =SUMIFS('Ratios_MARAMA-VA'!J:J, 'Ratios_MARAMA-VA'!AA:AA, Z28) -> 0 | G28: =F28/E28 -> #DIV/0! | H28: 0.035840376 | I28: =NP_Data[[#This Row],[2022 MARAMA-VA OSD Emissions (tpd)]]*NP_Data[[#This Row],[2032 Annual Emissions (Tons)]]/NP_Data[[#This Row],[2022 Annual Emiss Data Tool v1 Emissions (Tons)]] -> 0 | J28: 0.038066886 | K28: =NP_Data[[#This Row],[2022 MARAMA-VA OSD Emissions (tpd)]]*NP_Data[[#This Row],[2038 Annual Emissions (Tons)]]/NP_Data[[#This Row],[2022 Annual Emiss Data Tool v1 Emissions (Tons)]] -> 0 | L28: {=_xlfn.SWITCH(A28, "District of Columbia", _xlfn.XLOOKUP(R28, '2015 O3 Growth Surrogates'!A:A, '2015 O3 Growth Surrogates'!H:H), "Maryland", _xlfn.XLOOKUP(R28, '2015 O3 Growth Surrogates'!A:A, '2015 O3 Growth Surrogates'!I:I), "Virginia", _xlfn.XLOOKUP(R28, '2015 O3 Growth Surrogates'!A:A, '2015 O3 Growth Surrogates'!J:J) )} -> Population | M28: {=_xlfn.SWITCH(L28, "Employment", INDEX('Coop GFs_CFs'!C:D, MATCH(B28,'Coop GFs_CFs'!B:B,0),1), "Population", INDEX('Coop GFs_CFs'!E:F, MATCH(B28,'Coop GFs_CFs'!B:B,0),1), "Household", INDEX('Coop GFs_CFs'!G:H, MATCH(B28,'Coop GFs_CFs'!B:B,0),1), "VMT", INDEX('Coop GFs_CFs'!I:J, MATCH(B28,'Coop GFs_CFs'!B:B,0),1), "Lane Mile", INDEX('Coop GFs_CFs'!K:L, MATCH(B28,'Coop GFs_CFs'!B:B,0),1), "Gas Sales", INDEX('Coop GFs_CFs'!M:N, MATCH(B28,'Coop GFs_CFs'!B:B,0),1), "No Growth", INDEX('Coop GFs_CFs'!O:P, MATCH(B28,'Coop GFs_CFs'!B:B,0),1) )} -> 1.098465 | N28: {=_xlfn.SWITCH(L28, "Employment", INDEX('Coop GFs_CFs'!C:D, MATCH(B28,'Coop GFs_CFs'!B:B,0),2), "Population", INDEX('Coop GFs_CFs'!E:F, MATCH(B28,'Coop GFs_CFs'!B:B,0),2), "Household", INDEX('Coop GFs_CFs'!G:H, MATCH(B28,'Coop GFs_CFs'!B:B,0),2), "VMT", INDEX('Coop GFs_CFs'!I:J, MATCH(B28,'Coop GFs_CFs'!B:B,0),2), "Lane Mile", INDEX('Coop GFs_CFs'!K:L, MATCH(B28,'Coop GFs_CFs'!B:B,0),2), "Gas Sales", INDEX('Coop GFs_CFs'!M:N, MATCH(B28,'Coop GFs_CFs'!B:B,0),2), "No Growth", INDEX('Coop GFs_CFs'!O:P, MATCH(B28,'Coop GFs_CFs'!B:B,0),2) )} -> 1.150447 | P28: =F28*M28 -> 0 | Q28: =F28*N28 -> 0 | R28: 2275050011 | S28: Mobile - Aircraft | T28: Mobile Sources | U28: Aircraft | V28: General Aviation | W28: Piston | X28: Airport | Z28: 2275050011-51013-NOx
A29: Virginia | B29: 51107 | C29: NOx | D29: 1.4027001 | E29: =SUMIFS('Ratios_MARAMA-VA'!T:T, 'Ratios_MARAMA-VA'!AA:AA, Z29) -> 1.0329979 | F29: =SUMIFS('Ratios_MARAMA-VA'!J:J, 'Ratios_MARAMA-VA'!AA:AA, Z29) -> 0.0029924478 | G29: =F29/E29 -> 0.0028968576 | H29: 1.6554795 | I29: =NP_Data[[#This Row],[2022 MARAMA-VA OSD Emissions (tpd)]]*NP_Data[[#This Row],[2032 Annual Emissions (Tons)]]/NP_Data[[#This Row],[2022 Annual Emiss Data Tool v1 Emissions (Tons)]] -> 0.0035317144 | J29: 1.8272387 | K29: =NP_Data[[#This Row],[2022 MARAMA-VA OSD Emissions (tpd)]]*NP_Data[[#This Row],[2038 Annual Emissions (Tons)]]/NP_Data[[#This Row],[2022 Annual Emiss Data Tool v1 Emissions (Tons)]] -> 0.0038981365 | L29: {=_xlfn.SWITCH(A29, "District of Columbia", _xlfn.XLOOKUP(R29, '2015 O3 Growth Surrogates'!A:A, '2015 O3 Growth Surrogates'!H:H), "Maryland", _xlfn.XLOOKUP(R29, '2015 O3 Growth Surrogates'!A:A, '2015 O3 Growth Surrogates'!I:I), "Virginia", _xlfn.XLOOKUP(R29, '2015 O3 Growth Surrogates'!A:A, '2015 O3 Growth Surrogates'!J:J) )} -> Population | M29: {=_xlfn.SWITCH(L29, "Employment", INDEX('Coop GFs_CFs'!C:D, MATCH(B29,'Coop GFs_CFs'!B:B,0),1), "Population", INDEX('Coop GFs_CFs'!E:F, MATCH(B29,'Coop GFs_CFs'!B:B,0),1), "Household", INDEX('Coop GFs_CFs'!G:H, MATCH(B29,'Coop GFs_CFs'!B:B,0),1), "VMT", INDEX('Coop GFs_CFs'!I:J, MATCH(B29,'Coop GFs_CFs'!B:B,0),1), "Lane Mile", INDEX('Coop GFs_CFs'!K:L, MATCH(B29,'Coop GFs_CFs'!B:B,0),1), "Gas Sales", INDEX('Coop GFs_CFs'!M:N, MATCH(B29,'Coop GFs_CFs'!B:B,0),1), "No Growth", INDEX('Coop GFs_CFs'!O:P, MATCH(B29,'Coop GFs_CFs'!B:B,0),1) )} -> 1.1551128 | N29: {=_xlfn.SWITCH(L29, "Employment", INDEX('Coop GFs_CFs'!C:D, MATCH(B29,'Coop GFs_CFs'!B:B,0),2), "Population", INDEX('Coop GFs_CFs'!E:F, MATCH(B29,'Coop GFs_CFs'!B:B,0),2), "Household", INDEX('Coop GFs_CFs'!G:H, MATCH(B29,'Coop GFs_CFs'!B:B,0),2), "VMT", INDEX('Coop GFs_CFs'!I:J, MATCH(B29,'Coop GFs_CFs'!B:B,0),2), "Lane Mile", INDEX('Coop GFs_CFs'!K:L, MATCH(B29,'Coop GFs_CFs'!B:B,0),2), "Gas Sales", INDEX('Coop GFs_CFs'!M:N, MATCH(B29,'Coop GFs_CFs'!B:B,0),2), "No Growth", INDEX('Coop GFs_CFs'!O:P, MATCH(B29,'Coop GFs_CFs'!B:B,0),2) )} -> 1.1978534 | P29: =F29*M29 -> 0.0034566146 | Q29: =F29*N29 -> 0.0035845138 | R29: 2275050011 | S29: Mobile - Aircraft | T29: Mobile Sources | U29: Aircraft | V29: General Aviation | W29: Piston | X29: Airport | Z29: 2275050011-51107-NOx
A30: Virginia | B30: 51683 | C30: NOx | D30: 0.80787081 | E30: =SUMIFS('Ratios_MARAMA-VA'!T:T, 'Ratios_MARAMA-VA'!AA:AA, Z30) -> 0.80768145 | F30: =SUMIFS('Ratios_MARAMA-VA'!J:J, 'Ratios_MARAMA-VA'!AA:AA, Z30) -> 0.0023397381 | G30: =F30/E30 -> 0.0028968576 | H30: 0.70397863 | I30: 0.0020393258 | J30: 0.70397863 | K30: 0.0020393258 | L30: {=_xlfn.SWITCH(A30, "District of Columbia", _xlfn.XLOOKUP(R30, '2015 O3 Growth Surrogates'!A:A, '2015 O3 Growth Surrogates'!H:H), "Maryland", _xlfn.XLOOKUP(R30, '2015 O3 Growth Surrogates'!A:A, '2015 O3 Growth Surrogates'!I:I), "Virginia", _xlfn.XLOOKUP(R30, '2015 O3 Growth Surrogates'!A:A, '2015 O3 Growth Surrogates'!J:J) )} -> Population | M30: {=_xlfn.SWITCH(L30, "Employment", INDEX('Coop GFs_CFs'!C:D, MATCH(B30,'Coop GFs_CFs'!B:B,0),1), "Population", INDEX('Coop GFs_CFs'!E:F, MATCH(B30,'Coop GFs_CFs'!B:B,0),1), "Household", INDEX('Coop GFs_CFs'!G:H, MATCH(B30,'Coop GFs_CFs'!B:B,0),1), "VMT", INDEX('Coop GFs_CFs'!I:J, MATCH(B30,'Coop GFs_CFs'!B:B,0),1), "Lane Mile", INDEX('Coop GFs_CFs'!K:L, MATCH(B30,'Coop GFs_CFs'!B:B,0),1), "Gas Sales", INDEX('Coop GFs_CFs'!M:N, MATCH(B30,'Coop GFs_CFs'!B:B,0),1), "No Growth", INDEX('Coop GFs_CFs'!O:P, MATCH(B30,'Coop GFs_CFs'!B:B,0),1) )} -> 1.0847467 | N30: {=_xlfn.SWITCH(L30, "Employment", INDEX('Coop GFs_CFs'!C:D, MATCH(B30,'Coop GFs_CFs'!B:B,0),2), "Population", INDEX('Coop GFs_CFs'!E:F, MATCH(B30,'Coop GFs_CFs'!B:B,0),2), "Household", INDEX('Coop GFs_CFs'!G:H, MATCH(B30,'Coop GFs_CFs'!B:B,0),2), "VMT", INDEX('Coop GFs_CFs'!I:J, MATCH(B30,'Coop GFs_CFs'!B:B,0),2), "Lane Mile", INDEX('Coop GFs_CFs'!K:L, MATCH(B30,'Coop GFs_CFs'!B:B,0),2), "Gas Sales", INDEX('Coop GFs_CFs'!M:N, MATCH(B30,'Coop GFs_CFs'!B:B,0),2), "No Growth", INDEX('Coop GFs_CFs'!O:P, MATCH(B30,'Coop GFs_CFs'!B:B,0),2) )} -> 1.1113922 | P30: =F30*M30 -> 0.0025380232 | Q30: =F30*N30 -> 0.0026003668 | R30: 2275050011 | S30: Mobile - Aircraft | T30: Mobile Sources | U30: Aircraft | V30: General Aviation | W30: Piston | X30: Airport | Z30: 2275050011-51683-NOx
A31: District of Columbia | B31: 11001 | C31: VOC | D31: 0.008877966 | E31: =SUMIFS('Ratios_MARAMA-VA'!T:T, 'Ratios_MARAMA-VA'!AA:AA, Z31) -> 0.008875885 | F31: =SUMIFS('Ratios_MARAMA-VA'!J:J, 'Ratios_MARAMA-VA'!AA:AA, Z31) -> 2.5712175e-05 | G31: =F31/E31 -> 0.0028968576 | H31: 0.008877966 | I31: 2.5718203e-05 | J31: 0.008877966 | K31: 2.5718203e-05 | L31: {=_xlfn.SWITCH(A31, "District of Columbia", _xlfn.XLOOKUP(R31, '2015 O3 Growth Surrogates'!A:A, '2015 O3 Growth Surrogates'!H:H), "Maryland", _xlfn.XLOOKUP(R31, '2015 O3 Growth Surrogates'!A:A, '2015 O3 Growth Surrogates'!I:I), "Virginia", _xlfn.XLOOKUP(R31, '2015 O3 Growth Surrogates'!A:A, '2015 O3 Growth Surrogates'!J:J) )} -> Population | M31: {=_xlfn.SWITCH(L31, "Employment", INDEX('Coop GFs_CFs'!C:D, MATCH(B31,'Coop GFs_CFs'!B:B,0),1), "Population", INDEX('Coop GFs_CFs'!E:F, MATCH(B31,'Coop GFs_CFs'!B:B,0),1), "Household", INDEX('Coop GFs_CFs'!G:H, MATCH(B31,'Coop GFs_CFs'!B:B,0),1), "VMT", INDEX('Coop GFs_CFs'!I:J, MATCH(B31,'Coop GFs_CFs'!B:B,0),1), "Lane Mile", INDEX('Coop GFs_CFs'!K:L, MATCH(B31,'Coop GFs_CFs'!B:B,0),1), "Gas Sales", INDEX('Coop GFs_CFs'!M:N, MATCH(B31,'Coop GFs_CFs'!B:B,0),1), "No Growth", INDEX('Coop GFs_CFs'!O:P, MATCH(B31,'Coop GFs_CFs'!B:B,0),1) )} -> 1.0682042 | N31: {=_xlfn.SWITCH(L31, "Employment", INDEX('Coop GFs_CFs'!C:D, MATCH(B31,'Coop GFs_CFs'!B:B,0),2), "Population", INDEX('Coop GFs_CFs'!E:F, MATCH(B31,'Coop GFs_CFs'!B:B,0),2), "Household", INDEX('Coop GFs_CFs'!G:H, MATCH(B31,'Coop GFs_CFs'!B:B,0),2), "VMT", INDEX('Coop GFs_CFs'!I:J, MATCH(B31,'Coop GFs_CFs'!B:B,0),2), "Lane Mile", INDEX('Coop GFs_CFs'!K:L, MATCH(B31,'Coop GFs_CFs'!B:B,0),2), "Gas Sales", INDEX('Coop GFs_CFs'!M:N, MATCH(B31,'Coop GFs_CFs'!B:B,0),2), "No Growth", INDEX('Coop GFs_CFs'!O:P, MATCH(B31,'Coop GFs_CFs'!B:B,0),2) )} -> 1.1102535 | P31: =F31*M31 -> 2.7465854e-05 | Q31: =F31*N31 -> 2.8547032e-05 | R31: 2275050011 | S31: Mobile - Aircraft | T31: Mobile Sources | U31: Aircraft | V31: General Aviation | W31: Piston | X31: Airport | Z31: 2275050011-11001-VOC
A32: Maryland | B32: 24009 | C32: VOC | D32: 0.02482821 | E32: =SUMIFS('Ratios_MARAMA-VA'!T:T, 'Ratios_MARAMA-VA'!AA:AA, Z32) -> 0.02482239 | F32: =SUMIFS('Ratios_MARAMA-VA'!J:J, 'Ratios_MARAMA-VA'!AA:AA, Z32) -> 7.1906929e-05 | G32: =F32/E32 -> 0.0028968576 | H32: 0.02482821 | I32: 7.1923788e-05 | J32: 0.02482821 | K32: 7.1923788e-05 | L32: {=_xlfn.SWITCH(A32, "District of Columbia", _xlfn.XLOOKUP(R32, '2015 O3 Growth Surrogates'!A:A, '2015 O3 Growth Surrogates'!H:H), "Maryland", _xlfn.XLOOKUP(R32, '2015 O3 Growth Surrogates'!A:A, '2015 O3 Growth Surrogates'!I:I), "Virginia", _xlfn.XLOOKUP(R32, '2015 O3 Growth Surrogates'!A:A, '2015 O3 Growth Surrogates'!J:J) )} -> EPA EMP | M32: {=_xlfn.SWITCH(L32, "Employment", INDEX('Coop GFs_CFs'!C:D, MATCH(B32,'Coop GFs_CFs'!B:B,0),1), "Population", INDEX('Coop GFs_CFs'!E:F, MATCH(B32,'Coop GFs_CFs'!B:B,0),1), "Household", INDEX('Coop GFs_CFs'!G:H, MATCH(B32,'Coop GFs_CFs'!B:B,0),1), "VMT", INDEX('Coop GFs_CFs'!I:J, MATCH(B32,'Coop GFs_CFs'!B:B,0),1), "Lane Mile", INDEX('Coop GFs_CFs'!K:L, MATCH(B32,'Coop GFs_CFs'!B:B,0),1), "Gas Sales", INDEX('Coop GFs_CFs'!M:N, MATCH(B32,'Coop GFs_CFs'!B:B,0),1), "No Growth", INDEX('Coop GFs_CFs'!O:P, MATCH(B32,'Coop GFs_CFs'!B:B,0),1) )} -> #N/A | N32: {=_xlfn.SWITCH(L32, "Employment", INDEX('Coop GFs_CFs'!C:D, MATCH(B32,'Coop GFs_CFs'!B:B,0),2), "Population", INDEX('Coop GFs_CFs'!E:F, MATCH(B32,'Coop GFs_CFs'!B:B,0),2), "Household", INDEX('Coop GFs_CFs'!G:H, MATCH(B32,'Coop GFs_CFs'!B:B,0),2), "VMT", INDEX('Coop GFs_CFs'!I:J, MATCH(B32,'Coop GFs_CFs'!B:B,0),2), "Lane Mile", INDEX('Coop GFs_CFs'!K:L, MATCH(B32,'Coop GFs_CFs'!B:B,0),2), "Gas Sales", INDEX('Coop GFs_CFs'!M:N, MATCH(B32,'Coop GFs_CFs'!B:B,0),2), "No Growth", INDEX('Coop GFs_CFs'!O:P, MATCH(B32,'Coop GFs_CFs'!B:B,0),2) )} -> #N/A | P32: =I32 -> 7.1923788e-05 | Q32: =K32 -> 7.1923788e-05 | R32: 2275050011 | S32: Mobile - Aircraft | T32: Mobile Sources | U32: Aircraft | V32: General Aviation | W32: Piston | X32: Airport | Z32: 2275050011-24009-VOC
A33: Maryland | B33: 24017 | C33: VOC | D33: 0.4755731 | E33: =SUMIFS('Ratios_MARAMA-VA'!T:T, 'Ratios_MARAMA-VA'!AA:AA, Z33) -> 0.47546163 | F33: =SUMIFS('Ratios_MARAMA-VA'!J:J, 'Ratios_MARAMA-VA'!AA:AA, Z33) -> 0.0013773446 | G33: =F33/E33 -> 0.0028968576 | H33: 0.4755731 | I33: 0.0013776675 | J33: 0.4755731 | K33: 0.0013776675 | L33: {=_xlfn.SWITCH(A33, "District of Columbia", _xlfn.XLOOKUP(R33, '2015 O3 Growth Surrogates'!A:A, '2015 O3 Growth Surrogates'!H:H), "Maryland", _xlfn.XLOOKUP(R33, '2015 O3 Growth Surrogates'!A:A, '2015 O3 Growth Surrogates'!I:I), "Virginia", _xlfn.XLOOKUP(R33, '2015 O3 Growth Surrogates'!A:A, '2015 O3 Growth Surrogates'!J:J) )} -> EPA EMP | M33: {=_xlfn.SWITCH(L33, "Employment", INDEX('Coop GFs_CFs'!C:D, MATCH(B33,'Coop GFs_CFs'!B:B,0),1), "Population", INDEX('Coop GFs_CFs'!E:F, MATCH(B33,'Coop GFs_CFs'!B:B,0),1), "Household", INDEX('Coop GFs_CFs'!G:H, MATCH(B33,'Coop GFs_CFs'!B:B,0),1), "VMT", INDEX('Coop GFs_CFs'!I:J, MATCH(B33,'Coop GFs_CFs'!B:B,0),1), "Lane Mile", INDEX('Coop GFs_CFs'!K:L, MATCH(B33,'Coop GFs_CFs'!B:B,0),1), "Gas Sales", INDEX('Coop GFs_CFs'!M:N, MATCH(B33,'Coop GFs_CFs'!B:B,0),1), "No Growth", INDEX('Coop GFs_CFs'!O:P, MATCH(B33,'Coop GFs_CFs'!B:B,0),1) )} -> #N/A | N33: {=_xlfn.SWITCH(L33, "Employment", INDEX('Coop GFs_CFs'!C:D, MATCH(B33,'Coop GFs_CFs'!B:B,0),2), "Population", INDEX('Coop GFs_CFs'!E:F, MATCH(B33,'Coop GFs_CFs'!B:B,0),2), "Household", INDEX('Coop GFs_CFs'!G:H, MATCH(B33,'Coop GFs_CFs'!B:B,0),2), "VMT", INDEX('Coop GFs_CFs'!I:J, MATCH(B33,'Coop GFs_CFs'!B:B,0),2), "Lane Mile", INDEX('Coop GFs_CFs'!K:L, MATCH(B33,'Coop GFs_CFs'!B:B,0),2), "Gas Sales", INDEX('Coop GFs_CFs'!M:N, MATCH(B33,'Coop GFs_CFs'!B:B,0),2), "No Growth", INDEX('Coop GFs_CFs'!O:P, MATCH(B33,'Coop GFs_CFs'!B:B,0),2) )} -> #N/A | P33: =I33 -> 0.0013776675 | Q33: =K33 -> 0.0013776675 | R33: 2275050011 | S33: Mobile - Aircraft | T33: Mobile Sources | U33: Aircraft | V33: General Aviation | W33: Piston | X33: Airport | Z33: 2275050011-24017-VOC
A34: Maryland | B34: 24021 | C34: VOC | D34: 1.8343151 | E34: =SUMIFS('Ratios_MARAMA-VA'!T:T, 'Ratios_MARAMA-VA'!AA:AA, Z34) -> 1.8338852 | F34: =SUMIFS('Ratios_MARAMA-VA'!J:J, 'Ratios_MARAMA-VA'!AA:AA, Z34) -> 0.0053125041 | G34: =F34/E34 -> 0.0028968576 | H34: 2.209616 | I34: 0.0064009428 | J34: 2.209616 | K34: 0.0064009428 | L34: {=_xlfn.SWITCH(A34, "District of Columbia", _xlfn.XLOOKUP(R34, '2015 O3 Growth Surrogates'!A:A, '2015 O3 Growth Surrogates'!H:H), "Maryland", _xlfn.XLOOKUP(R34, '2015 O3 Growth Surrogates'!A:A, '2015 O3 Growth Surrogates'!I:I), "Virginia", _xlfn.XLOOKUP(R34, '2015 O3 Growth Surrogates'!A:A, '2015 O3 Growth Surrogates'!J:J) )} -> EPA EMP | M34: {=_xlfn.SWITCH(L34, "Employment", INDEX('Coop GFs_CFs'!C:D, MATCH(B34,'Coop GFs_CFs'!B:B,0),1), "Population", INDEX('Coop GFs_CFs'!E:F, MATCH(B34,'Coop GFs_CFs'!B:B,0),1), "Household", INDEX('Coop GFs_CFs'!G:H, MATCH(B34,'Coop GFs_CFs'!B:B,0),1), "VMT", INDEX('Coop GFs_CFs'!I:J, MATCH(B34,'Coop GFs_CFs'!B:B,0),1), "Lane Mile", INDEX('Coop GFs_CFs'!K:L, MATCH(B34,'Coop GFs_CFs'!B:B,0),1), "Gas Sales", INDEX('Coop GFs_CFs'!M:N, MATCH(B34,'Coop GFs_CFs'!B:B,0),1), "No Growth", INDEX('Coop GFs_CFs'!O:P, MATCH(B34,'Coop GFs_CFs'!B:B,0),1) )} -> #N/A | N34: {=_xlfn.SWITCH(L34, "Employment", INDEX('Coop GFs_CFs'!C:D, MATCH(B34,'Coop GFs_CFs'!B:B,0),2), "Population", INDEX('Coop GFs_CFs'!E:F, MATCH(B34,'Coop GFs_CFs'!B:B,0),2), "Household", INDEX('Coop GFs_CFs'!G:H, MATCH(B34,'Coop GFs_CFs'!B:B,0),2), "VMT", INDEX('Coop GFs_CFs'!I:J, MATCH(B34,'Coop GFs_CFs'!B:B,0),2), "Lane Mile", INDEX('Coop GFs_CFs'!K:L, MATCH(B34,'Coop GFs_CFs'!B:B,0),2), "Gas Sales", INDEX('Coop GFs_CFs'!M:N, MATCH(B34,'Coop GFs_CFs'!B:B,0),2), "No Growth", INDEX('Coop GFs_CFs'!O:P, MATCH(B34,'Coop GFs_CFs'!B:B,0),2) )} -> #N/A | P34: =I34 -> 0.0064009428 | Q34: =K34 -> 0.0064009428 | R34: 2275050011 | S34: Mobile - Aircraft | T34: Mobile Sources | U34: Aircraft | V34: General Aviation | W34: Piston | X34: Airport | Z34: 2275050011-24021-VOC
A35: Maryland | B35: 24031 | C35: VOC | D35: 1.1577467 | E35: =SUMIFS('Ratios_MARAMA-VA'!T:T, 'Ratios_MARAMA-VA'!AA:AA, Z35) -> 1.1574753 | F35: =SUMIFS('Ratios_MARAMA-VA'!J:J, 'Ratios_MARAMA-VA'!AA:AA, Z35) -> 0.0033530411 | G35: =F35/E35 -> 0.0028968576 | H35: 1.2006763 | I35: 0.0034781881 | J35: 1.2006763 | K35: 0.0034781881 | L35: {=_xlfn.SWITCH(A35, "District of Columbia", _xlfn.XLOOKUP(R35, '2015 O3 Growth Surrogates'!A:A, '2015 O3 Growth Surrogates'!H:H), "Maryland", _xlfn.XLOOKUP(R35, '2015 O3 Growth Surrogates'!A:A, '2015 O3 Growth Surrogates'!I:I), "Virginia", _xlfn.XLOOKUP(R35, '2015 O3 Growth Surrogates'!A:A, '2015 O3 Growth Surrogates'!J:J) )} -> EPA EMP | M35: {=_xlfn.SWITCH(L35, "Employment", INDEX('Coop GFs_CFs'!C:D, MATCH(B35,'Coop GFs_CFs'!B:B,0),1), "Population", INDEX('Coop GFs_CFs'!E:F, MATCH(B35,'Coop GFs_CFs'!B:B,0),1), "Household", INDEX('Coop GFs_CFs'!G:H, MATCH(B35,'Coop GFs_CFs'!B:B,0),1), "VMT", INDEX('Coop GFs_CFs'!I:J, MATCH(B35,'Coop GFs_CFs'!B:B,0),1), "Lane Mile", INDEX('Coop GFs_CFs'!K:L, MATCH(B35,'Coop GFs_CFs'!B:B,0),1), "Gas Sales", INDEX('Coop GFs_CFs'!M:N, MATCH(B35,'Coop GFs_CFs'!B:B,0),1), "No Growth", INDEX('Coop GFs_CFs'!O:P, MATCH(B35,'Coop GFs_CFs'!B:B,0),1) )} -> #N/A | N35: {=_xlfn.SWITCH(L35, "Employment", INDEX('Coop GFs_CFs'!C:D, MATCH(B35,'Coop GFs_CFs'!B:B,0),2), "Population", INDEX('Coop GFs_CFs'!E:F, MATCH(B35,'Coop GFs_CFs'!B:B,0),2), "Household", INDEX('Coop GFs_CFs'!G:H, MATCH(B35,'Coop GFs_CFs'!B:B,0),2), "VMT", INDEX('Coop GFs_CFs'!I:J, MATCH(B35,'Coop GFs_CFs'!B:B,0),2), "Lane Mile", INDEX('Coop GFs_CFs'!K:L, MATCH(B35,'Coop GFs_CFs'!B:B,0),2), "Gas Sales", INDEX('Coop GFs_CFs'!M:N, MATCH(B35,'Coop GFs_CFs'!B:B,0),2), "No Growth", INDEX('Coop GFs_CFs'!O:P, MATCH(B35,'Coop GFs_CFs'!B:B,0),2) )} -> #N/A | P35: =I35 -> 0.0034781881 | Q35: =K35 -> 0.0034781881 | R35: 2275050011 | S35: Mobile - Aircraft | T35: Mobile Sources | U35: Aircraft | V35: General Aviation | W35: Piston | X35: Airport | Z35: 2275050011-24031-VOC
A36: Maryland | B36: 24033 | C36: VOC | D36: 1.2764644 | E36: =SUMIFS('Ratios_MARAMA-VA'!T:T, 'Ratios_MARAMA-VA'!AA:AA, Z36) -> 1.2009606 | F36: =SUMIFS('Ratios_MARAMA-VA'!J:J, 'Ratios_MARAMA-VA'!AA:AA, Z36) -> 0.0034790117 | G36: =F36/E36 -> 0.0028968576 | H36: 1.3183573 | I36: =NP_Data[[#This Row],[2022 MARAMA-VA OSD Emissions (tpd)]]*NP_Data[[#This Row],[Coop 2032 Growth Factor]] -> 0.003593191 | J36: 1.3199294 | K36: =NP_Data[[#This Row],[2022 MARAMA-VA OSD Emissions (tpd)]]*NP_Data[[#This Row],[Coop 2038 Growth Factor]] -> 0.0035974759 | L36: {=_xlfn.SWITCH(A36, "District of Columbia", _xlfn.XLOOKUP(R36, '2015 O3 Growth Surrogates'!A:A, '2015 O3 Growth Surrogates'!H:H), "Maryland", _xlfn.XLOOKUP(R36, '2015 O3 Growth Surrogates'!A:A, '2015 O3 Growth Surrogates'!I:I), "Virginia", _xlfn.XLOOKUP(R36, '2015 O3 Growth Surrogates'!A:A, '2015 O3 Growth Surrogates'!J:J) )} -> EPA EMP | M36: =NP_Data[[#This Row],[2032 Annual Emissions (Tons)]]/NP_Data[[#This Row],[2022 Annual Emiss Data Tool v1 Emissions (Tons)]] -> 1.0328194 | N36: =NP_Data[[#This Row],[2038 Annual Emissions (Tons)]]/NP_Data[[#This Row],[2022 Annual Emiss Data Tool v1 Emissions (Tons)]] -> 1.0340511 | P36: =I36 -> 0.003593191 | Q36: =K36 -> 0.0035974759 | R36: 2275050011 | S36: Mobile - Aircraft | T36: Mobile Sources | U36: Aircraft | V36: General Aviation | W36: Piston | X36: Airport | Z36: 2275050011-24033-VOC
A37: Virginia | B37: 51013 | C37: VOC | D37: 0.059587704 | E37: =SUMIFS('Ratios_MARAMA-VA'!T:T, 'Ratios_MARAMA-VA'!AA:AA, Z37) -> 0 | F37: =SUMIFS('Ratios_MARAMA-VA'!J:J, 'Ratios_MARAMA-VA'!AA:AA, Z37) -> 0 | G37: =F37/E37 -> #DIV/0! | H37: 0.082969919 | I37: 0.00024035204 | J37: 0.088124255 | K37: 0.00025528342 | L37: {=_xlfn.SWITCH(A37, "District of Columbia", _xlfn.XLOOKUP(R37, '2015 O3 Growth Surrogates'!A:A, '2015 O3 Growth Surrogates'!H:H), "Maryland", _xlfn.XLOOKUP(R37, '2015 O3 Growth Surrogates'!A:A, '2015 O3 Growth Surrogates'!I:I), "Virginia", _xlfn.XLOOKUP(R37, '2015 O3 Growth Surrogates'!A:A, '2015 O3 Growth Surrogates'!J:J) )} -> Population | M37: {=_xlfn.SWITCH(L37, "Employment", INDEX('Coop GFs_CFs'!C:D, MATCH(B37,'Coop GFs_CFs'!B:B,0),1), "Population", INDEX('Coop GFs_CFs'!E:F, MATCH(B37,'Coop GFs_CFs'!B:B,0),1), "Household", INDEX('Coop GFs_CFs'!G:H, MATCH(B37,'Coop GFs_CFs'!B:B,0),1), "VMT", INDEX('Coop GFs_CFs'!I:J, MATCH(B37,'Coop GFs_CFs'!B:B,0),1), "Lane Mile", INDEX('Coop GFs_CFs'!K:L, MATCH(B37,'Coop GFs_CFs'!B:B,0),1), "Gas Sales", INDEX('Coop GFs_CFs'!M:N, MATCH(B37,'Coop GFs_CFs'!B:B,0),1), "No Growth", INDEX('Coop GFs_CFs'!O:P, MATCH(B37,'Coop GFs_CFs'!B:B,0),1) )} -> 1.098465 | N37: {=_xlfn.SWITCH(L37, "Employment", INDEX('Coop GFs_CFs'!C:D, MATCH(B37,'Coop GFs_CFs'!B:B,0),2), "Population", INDEX('Coop GFs_CFs'!E:F, MATCH(B37,'Coop GFs_CFs'!B:B,0),2), "Household", INDEX('Coop GFs_CFs'!G:H, MATCH(B37,'Coop GFs_CFs'!B:B,0),2), "VMT", INDEX('Coop GFs_CFs'!I:J, MATCH(B37,'Coop GFs_CFs'!B:B,0),2), "Lane Mile", INDEX('Coop GFs_CFs'!K:L, MATCH(B37,'Coop GFs_CFs'!B:B,0),2), "Gas Sales", INDEX('Coop GFs_CFs'!M:N, MATCH(B37,'Coop GFs_CFs'!B:B,0),2), "No Growth", INDEX('Coop GFs_CFs'!O:P, MATCH(B37,'Coop GFs_CFs'!B:B,0),2) )} -> 1.150447 | P37: =F37*M37 -> 0 | Q37: =F37*N37 -> 0 | R37: 2275050011 | S37: Mobile - Aircraft | T37: Mobile Sources | U37: Aircraft | V37: General Aviation | W37: Piston | X37: Airport | Z37: 2275050011-51013-VOC
A38: Virginia | B38: 51107 | C38: VOC | D38: 3.2472295 | E38: =SUMIFS('Ratios_MARAMA-VA'!T:T, 'Ratios_MARAMA-VA'!AA:AA, Z38) -> 2.3913746 | F38: =SUMIFS('Ratios_MARAMA-VA'!J:J, 'Ratios_MARAMA-VA'!AA:AA, Z38) -> 0.0069274715 | G38: =F38/E38 -> 0.0028968576 | H38: 3.8324101 | I38: 0.011101946 | J38: 4.2300299 | K38: 0.012253794 | L38: {=_xlfn.SWITCH(A38, "District of Columbia", _xlfn.XLOOKUP(R38, '2015 O3 Growth Surrogates'!A:A, '2015 O3 Growth Surrogates'!H:H), "Maryland", _xlfn.XLOOKUP(R38, '2015 O3 Growth Surrogates'!A:A, '2015 O3 Growth Surrogates'!I:I), "Virginia", _xlfn.XLOOKUP(R38, '2015 O3 Growth Surrogates'!A:A, '2015 O3 Growth Surrogates'!J:J) )} -> Population | M38: {=_xlfn.SWITCH(L38, "Employment", INDEX('Coop GFs_CFs'!C:D, MATCH(B38,'Coop GFs_CFs'!B:B,0),1), "Population", INDEX('Coop GFs_CFs'!E:F, MATCH(B38,'Coop GFs_CFs'!B:B,0),1), "Household", INDEX('Coop GFs_CFs'!G:H, MATCH(B38,'Coop GFs_CFs'!B:B,0),1), "VMT", INDEX('Coop GFs_CFs'!I:J, MATCH(B38,'Coop GFs_CFs'!B:B,0),1), "Lane Mile", INDEX('Coop GFs_CFs'!K:L, MATCH(B38,'Coop GFs_CFs'!B:B,0),1), "Gas Sales", INDEX('Coop GFs_CFs'!M:N, MATCH(B38,'Coop GFs_CFs'!B:B,0),1), "No Growth", INDEX('Coop GFs_CFs'!O:P, MATCH(B38,'Coop GFs_CFs'!B:B,0),1) )} -> 1.1551128 | N38: {=_xlfn.SWITCH(L38, "Employment", INDEX('Coop GFs_CFs'!C:D, MATCH(B38,'Coop GFs_CFs'!B:B,0),2), "Population", INDEX('Coop GFs_CFs'!E:F, MATCH(B38,'Coop GFs_CFs'!B:B,0),2), "Household", INDEX('Coop GFs_CFs'!G:H, MATCH(B38,'Coop GFs_CFs'!B:B,0),2), "VMT", INDEX('Coop GFs_CFs'!I:J, MATCH(B38,'Coop GFs_CFs'!B:B,0),2), "Lane Mile", INDEX('Coop GFs_CFs'!K:L, MATCH(B38,'Coop GFs_CFs'!B:B,0),2), "Gas Sales", INDEX('Coop GFs_CFs'!M:N, MATCH(B38,'Coop GFs_CFs'!B:B,0),2), "No Growth", INDEX('Coop GFs_CFs'!O:P, MATCH(B38,'Coop GFs_CFs'!B:B,0),2) )} -> 1.1978534 | P38: =F38*M38 -> 0.0080020107 | Q38: =F38*N38 -> 0.0082980954 | R38: 2275050011 | S38: Mobile - Aircraft | T38: Mobile Sources | U38: Aircraft | V38: General Aviation | W38: Piston | X38: Airport | Z38: 2275050011-51107-VOC
A39: Virginia | B39: 51683 | C39: VOC | D39: 1.8702086 | E39: =SUMIFS('Ratios_MARAMA-VA'!T:T, 'Ratios_MARAMA-VA'!AA:AA, Z39) -> 1.8697702 | F39: =SUMIFS('Ratios_MARAMA-VA'!J:J, 'Ratios_MARAMA-VA'!AA:AA, Z39) -> 0.0054164579 | G39: =F39/E39 -> 0.0028968576 | H39: 1.6296997 | I39: 0.004721008 | J39: 1.6296997 | K39: 0.004721008 | L39: {=_xlfn.SWITCH(A39, "District of Columbia", _xlfn.XLOOKUP(R39, '2015 O3 Growth Surrogates'!A:A, '2015 O3 Growth Surrogates'!H:H), "Maryland", _xlfn.XLOOKUP(R39, '2015 O3 Growth Surrogates'!A:A, '2015 O3 Growth Surrogates'!I:I), "Virginia", _xlfn.XLOOKUP(R39, '2015 O3 Growth Surrogates'!A:A, '2015 O3 Growth Surrogates'!J:J) )} -> Population | M39: {=_xlfn.SWITCH(L39, "Employment", INDEX('Coop GFs_CFs'!C:D, MATCH(B39,'Coop GFs_CFs'!B:B,0),1), "Population", INDEX('Coop GFs_CFs'!E:F, MATCH(B39,'Coop GFs_CFs'!B:B,0),1), "Household", INDEX('Coop GFs_CFs'!G:H, MATCH(B39,'Coop GFs_CFs'!B:B,0),1), "VMT", INDEX('Coop GFs_CFs'!I:J, MATCH(B39,'Coop GFs_CFs'!B:B,0),1), "Lane Mile", INDEX('Coop GFs_CFs'!K:L, MATCH(B39,'Coop GFs_CFs'!B:B,0),1), "Gas Sales", INDEX('Coop GFs_CFs'!M:N, MATCH(B39,'Coop GFs_CFs'!B:B,0),1), "No Growth", INDEX('Coop GFs_CFs'!O:P, MATCH(B39,'Coop GFs_CFs'!B:B,0),1) )} -> 1.0847467 | N39: {=_xlfn.SWITCH(L39, "Employment", INDEX('Coop GFs_CFs'!C:D, MATCH(B39,'Coop GFs_CFs'!B:B,0),2), "Population", INDEX('Coop GFs_CFs'!E:F, MATCH(B39,'Coop GFs_CFs'!B:B,0),2), "Household", INDEX('Coop GFs_CFs'!G:H, MATCH(B39,'Coop GFs_CFs'!B:B,0),2), "VMT", INDEX('Coop GFs_CFs'!I:J, MATCH(B39,'Coop GFs_CFs'!B:B,0),2), "Lane Mile", INDEX('Coop GFs_CFs'!K:L, MATCH(B39,'Coop GFs_CFs'!B:B,0),2), "Gas Sales", INDEX('Coop GFs_CFs'!M:N, MATCH(B39,'Coop GFs_CFs'!B:B,0),2), "No Growth", INDEX('Coop GFs_CFs'!O:P, MATCH(B39,'Coop GFs_CFs'!B:B,0),2) )} -> 1.1113922 | P39: =F39*M39 -> 0.0058754848 | Q39: =F39*N39 -> 0.0060198093 | R39: 2275050011 | S39: Mobile - Aircraft | T39: Mobile Sources | U39: Aircraft | V39: General Aviation | W39: Piston | X39: Airport | Z39: 2275050011-51683-VOC
A40: District of Columbia | B40: 11001 | C40: NOx | D40: 0.01327355 | E40: =SUMIFS('Ratios_MARAMA-VA'!T:T, 'Ratios_MARAMA-VA'!AA:AA, Z40) -> 0.013270439 | F40: =SUMIFS('Ratios_MARAMA-VA'!J:J, 'Ratios_MARAMA-VA'!AA:AA, Z40) -> 3.8442571e-05 | G40: =F40/E40 -> 0.0028968576 | H40: 0.01327355 | I40: 3.8451584e-05 | J40: 0.01327355 | K40: 3.8451584e-05 | L40: {=_xlfn.SWITCH(A40, "District of Columbia", _xlfn.XLOOKUP(R40, '2015 O3 Growth Surrogates'!A:A, '2015 O3 Growth Surrogates'!H:H), "Maryland", _xlfn.XLOOKUP(R40, '2015 O3 Growth Surrogates'!A:A, '2015 O3 Growth Surrogates'!I:I), "Virginia", _xlfn.XLOOKUP(R40, '2015 O3 Growth Surrogates'!A:A, '2015 O3 Growth Surrogates'!J:J) )} -> Population | M40: {=_xlfn.SWITCH(L40, "Employment", INDEX('Coop GFs_CFs'!C:D, MATCH(B40,'Coop GFs_CFs'!B:B,0),1), "Population", INDEX('Coop GFs_CFs'!E:F, MATCH(B40,'Coop GFs_CFs'!B:B,0),1), "Household", INDEX('Coop GFs_CFs'!G:H, MATCH(B40,'Coop GFs_CFs'!B:B,0),1), "VMT", INDEX('Coop GFs_CFs'!I:J, MATCH(B40,'Coop GFs_CFs'!B:B,0),1), "Lane Mile", INDEX('Coop GFs_CFs'!K:L, MATCH(B40,'Coop GFs_CFs'!B:B,0),1), "Gas Sales", INDEX('Coop GFs_CFs'!M:N, MATCH(B40,'Coop GFs_CFs'!B:B,0),1), "No Growth", INDEX('Coop GFs_CFs'!O:P, MATCH(B40,'Coop GFs_CFs'!B:B,0),1) )} -> 1.0682042 | N40: {=_xlfn.SWITCH(L40, "Employment", INDEX('Coop GFs_CFs'!C:D, MATCH(B40,'Coop GFs_CFs'!B:B,0),2), "Population", INDEX('Coop GFs_CFs'!E:F, MATCH(B40,'Coop GFs_CFs'!B:B,0),2), "Household", INDEX('Coop GFs_CFs'!G:H, MATCH(B40,'Coop GFs_CFs'!B:B,0),2), "VMT", INDEX('Coop GFs_CFs'!I:J, MATCH(B40,'Coop GFs_CFs'!B:B,0),2), "Lane Mile", INDEX('Coop GFs_CFs'!K:L, MATCH(B40,'Coop GFs_CFs'!B:B,0),2), "Gas Sales", INDEX('Coop GFs_CFs'!M:N, MATCH(B40,'Coop GFs_CFs'!B:B,0),2), "No Growth", INDEX('Coop GFs_CFs'!O:P, MATCH(B40,'Coop GFs_CFs'!B:B,0),2) )} -> 1.1102535 | P40: =F40*M40 -> 4.1064516e-05 | Q40: =F40*N40 -> 4.2680999e-05 | R40: 2275050012 | S40: Mobile - Aircraft | T40: Mobile Sources | U40: Aircraft | V40: General Aviation | W40: Turbine | X40: Airport | Z40: 2275050012-11001-NOx
A41: Maryland | B41: 24017 | C41: NOx | D41: 0.7169338 | E41: =SUMIFS('Ratios_MARAMA-VA'!T:T, 'Ratios_MARAMA-VA'!AA:AA, Z41) -> 0.71676575 | F41: =SUMIFS('Ratios_MARAMA-VA'!J:J, 'Ratios_MARAMA-VA'!AA:AA, Z41) -> 0.0020763683 | G41: =F41/E41 -> 0.0028968576 | H41: 0.7169338 | I41: 0.0020768551 | J41: 0.7169338 | K41: 0.0020768551 | L41: {=_xlfn.SWITCH(A41, "District of Columbia", _xlfn.XLOOKUP(R41, '2015 O3 Growth Surrogates'!A:A, '2015 O3 Growth Surrogates'!H:H), "Maryland", _xlfn.XLOOKUP(R41, '2015 O3 Growth Surrogates'!A:A, '2015 O3 Growth Surrogates'!I:I), "Virginia", _xlfn.XLOOKUP(R41, '2015 O3 Growth Surrogates'!A:A, '2015 O3 Growth Surrogates'!J:J) )} -> EPA EMP | M41: {=_xlfn.SWITCH(L41, "Employment", INDEX('Coop GFs_CFs'!C:D, MATCH(B41,'Coop GFs_CFs'!B:B,0),1), "Population", INDEX('Coop GFs_CFs'!E:F, MATCH(B41,'Coop GFs_CFs'!B:B,0),1), "Household", INDEX('Coop GFs_CFs'!G:H, MATCH(B41,'Coop GFs_CFs'!B:B,0),1), "VMT", INDEX('Coop GFs_CFs'!I:J, MATCH(B41,'Coop GFs_CFs'!B:B,0),1), "Lane Mile", INDEX('Coop GFs_CFs'!K:L, MATCH(B41,'Coop GFs_CFs'!B:B,0),1), "Gas Sales", INDEX('Coop GFs_CFs'!M:N, MATCH(B41,'Coop GFs_CFs'!B:B,0),1), "No Growth", INDEX('Coop GFs_CFs'!O:P, MATCH(B41,'Coop GFs_CFs'!B:B,0),1) )} -> #N/A | N41: {=_xlfn.SWITCH(L41, "Employment", INDEX('Coop GFs_CFs'!C:D, MATCH(B41,'Coop GFs_CFs'!B:B,0),2), "Population", INDEX('Coop GFs_CFs'!E:F, MATCH(B41,'Coop GFs_CFs'!B:B,0),2), "Household", INDEX('Coop GFs_CFs'!G:H, MATCH(B41,'Coop GFs_CFs'!B:B,0),2), "VMT", INDEX('Coop GFs_CFs'!I:J, MATCH(B41,'Coop GFs_CFs'!B:B,0),2), "Lane Mile", INDEX('Coop GFs_CFs'!K:L, MATCH(B41,'Coop GFs_CFs'!B:B,0),2), "Gas Sales", INDEX('Coop GFs_CFs'!M:N, MATCH(B41,'Coop GFs_CFs'!B:B,0),2), "No Growth", INDEX('Coop GFs_CFs'!O:P, MATCH(B41,'Coop GFs_CFs'!B:B,0),2) )} -> #N/A | P41: =I41 -> 0.0020768551 | Q41: =K41 -> 0.0020768551 | R41: 2275050012 | S41: Mobile - Aircraft | T41: Mobile Sources | U41: Aircraft | V41: General Aviation | W41: Turbine | X41: Airport | Z41: 2275050012-24017-NOx
A42: Maryland | B42: 24021 | C42: NOx | D42: 2.7654968 | E42: =SUMIFS('Ratios_MARAMA-VA'!T:T, 'Ratios_MARAMA-VA'!AA:AA, Z42) -> 2.7648485 | F42: =SUMIFS('Ratios_MARAMA-VA'!J:J, 'Ratios_MARAMA-VA'!AA:AA, Z42) -> 0.0080093723 | G42: =F42/E42 -> 0.0028968576 | H42: 3.3313174 | I42: 0.0096503519 | J42: 3.3313174 | K42: 0.0096503519 | L42: {=_xlfn.SWITCH(A42, "District of Columbia", _xlfn.XLOOKUP(R42, '2015 O3 Growth Surrogates'!A:A, '2015 O3 Growth Surrogates'!H:H), "Maryland", _xlfn.XLOOKUP(R42, '2015 O3 Growth Surrogates'!A:A, '2015 O3 Growth Surrogates'!I:I), "Virginia", _xlfn.XLOOKUP(R42, '2015 O3 Growth Surrogates'!A:A, '2015 O3 Growth Surrogates'!J:J) )} -> EPA EMP | M42: {=_xlfn.SWITCH(L42, "Employment", INDEX('Coop GFs_CFs'!C:D, MATCH(B42,'Coop GFs_CFs'!B:B,0),1), "Population", INDEX('Coop GFs_CFs'!E:F, MATCH(B42,'Coop GFs_CFs'!B:B,0),1), "Household", INDEX('Coop GFs_CFs'!G:H, MATCH(B42,'Coop GFs_CFs'!B:B,0),1), "VMT", INDEX('Coop GFs_CFs'!I:J, MATCH(B42,'Coop GFs_CFs'!B:B,0),1), "Lane Mile", INDEX('Coop GFs_CFs'!K:L, MATCH(B42,'Coop GFs_CFs'!B:B,0),1), "Gas Sales", INDEX('Coop GFs_CFs'!M:N, MATCH(B42,'Coop GFs_CFs'!B:B,0),1), "No Growth", INDEX('Coop GFs_CFs'!O:P, MATCH(B42,'Coop GFs_CFs'!B:B,0),1) )} -> #N/A | N42: {=_xlfn.SWITCH(L42, "Employment", INDEX('Coop GFs_CFs'!C:D, MATCH(B42,'Coop GFs_CFs'!B:B,0),2), "Population", INDEX('Coop GFs_CFs'!E:F, MATCH(B42,'Coop GFs_CFs'!B:B,0),2), "Household", INDEX('Coop GFs_CFs'!G:H, MATCH(B42,'Coop GFs_CFs'!B:B,0),2), "VMT", INDEX('Coop GFs_CFs'!I:J, MATCH(B42,'Coop GFs_CFs'!B:B,0),2), "Lane Mile", INDEX('Coop GFs_CFs'!K:L, MATCH(B42,'Coop GFs_CFs'!B:B,0),2), "Gas Sales", INDEX('Coop GFs_CFs'!M:N, MATCH(B42,'Coop GFs_CFs'!B:B,0),2), "No Growth", INDEX('Coop GFs_CFs'!O:P, MATCH(B42,'Coop GFs_CFs'!B:B,0),2) )} -> #N/A | P42: =I42 -> 0.0096503519 | Q42: =K42 -> 0.0096503519 | R42: 2275050012 | S42: Mobile - Aircraft | T42: Mobile Sources | U42: Aircraft | V42: General Aviation | W42: Turbine | X42: Airport | Z42: 2275050012-24021-NOx
A43: Maryland | B43: 24031 | C43: NOx | D43: 1.574697 | E43: =SUMIFS('Ratios_MARAMA-VA'!T:T, 'Ratios_MARAMA-VA'!AA:AA, Z43) -> 1.5743279 | F43: =SUMIFS('Ratios_MARAMA-VA'!J:J, 'Ratios_MARAMA-VA'!AA:AA, Z43) -> 0.0045606037 | G43: =F43/E43 -> 0.0028968576 | H43: 1.639417 | I43: =G43*H43 -> 0.0047491577 | J43: 1.639417 | K43: =G43*J43 -> 0.0047491577 | L43: {=_xlfn.SWITCH(A43, "District of Columbia", _xlfn.XLOOKUP(R43, '2015 O3 Growth Surrogates'!A:A, '2015 O3 Growth Surrogates'!H:H), "Maryland", _xlfn.XLOOKUP(R43, '2015 O3 Growth Surrogates'!A:A, '2015 O3 Growth Surrogates'!I:I), "Virginia", _xlfn.XLOOKUP(R43, '2015 O3 Growth Surrogates'!A:A, '2015 O3 Growth Surrogates'!J:J) )} -> EPA EMP | M43: {=_xlfn.SWITCH(L43, "Employment", INDEX('Coop GFs_CFs'!C:D, MATCH(B43,'Coop GFs_CFs'!B:B,0),1), "Population", INDEX('Coop GFs_CFs'!E:F, MATCH(B43,'Coop GFs_CFs'!B:B,0),1), "Household", INDEX('Coop GFs_CFs'!G:H, MATCH(B43,'Coop GFs_CFs'!B:B,0),1), "VMT", INDEX('Coop GFs_CFs'!I:J, MATCH(B43,'Coop GFs_CFs'!B:B,0),1), "Lane Mile", INDEX('Coop GFs_CFs'!K:L, MATCH(B43,'Coop GFs_CFs'!B:B,0),1), "Gas Sales", INDEX('Coop GFs_CFs'!M:N, MATCH(B43,'Coop GFs_CFs'!B:B,0),1), "No Growth", INDEX('Coop GFs_CFs'!O:P, MATCH(B43,'Coop GFs_CFs'!B:B,0),1) )} -> #N/A | N43: {=_xlfn.SWITCH(L43, "Employment", INDEX('Coop GFs_CFs'!C:D, MATCH(B43,'Coop GFs_CFs'!B:B,0),2), "Population", INDEX('Coop GFs_CFs'!E:F, MATCH(B43,'Coop GFs_CFs'!B:B,0),2), "Household", INDEX('Coop GFs_CFs'!G:H, MATCH(B43,'Coop GFs_CFs'!B:B,0),2), "VMT", INDEX('Coop GFs_CFs'!I:J, MATCH(B43,'Coop GFs_CFs'!B:B,0),2), "Lane Mile", INDEX('Coop GFs_CFs'!K:L, MATCH(B43,'Coop GFs_CFs'!B:B,0),2), "Gas Sales", INDEX('Coop GFs_CFs'!M:N, MATCH(B43,'Coop GFs_CFs'!B:B,0),2), "No Growth", INDEX('Coop GFs_CFs'!O:P, MATCH(B43,'Coop GFs_CFs'!B:B,0),2) )} -> #N/A | P43: =I43 -> 0.0047491577 | Q43: =K43 -> 0.0047491577 | R43: 2275050012 | S43: Mobile - Aircraft | T43: Mobile Sources | U43: Aircraft | V43: General Aviation | W43: Turbine | X43: Airport | Z43: 2275050012-24031-NOx
A44: Maryland | B44: 24033 | C44: NOx | D44: 0.78819404 | E44: =SUMIFS('Ratios_MARAMA-VA'!T:T, 'Ratios_MARAMA-VA'!AA:AA, Z44) -> 0.67460777 | F44: =SUMIFS('Ratios_MARAMA-VA'!J:J, 'Ratios_MARAMA-VA'!AA:AA, Z44) -> 0.0019542426 | G44: =F44/E44 -> 0.0028968576 | H44: 0.85131783 | I44: =NP_Data[[#This Row],[2022 MARAMA-VA OSD Emissions (tpd)]]*NP_Data[[#This Row],[Coop 2032 Growth Factor]] -> 0.0021107513 | J44: 0.85368848 | K44: =NP_Data[[#This Row],[2022 MARAMA-VA OSD Emissions (tpd)]]*NP_Data[[#This Row],[Coop 2038 Growth Factor]] -> 0.002116629 | L44: {=_xlfn.SWITCH(A44, "District of Columbia", _xlfn.XLOOKUP(R44, '2015 O3 Growth Surrogates'!A:A, '2015 O3 Growth Surrogates'!H:H), "Maryland", _xlfn.XLOOKUP(R44, '2015 O3 Growth Surrogates'!A:A, '2015 O3 Growth Surrogates'!I:I), "Virginia", _xlfn.XLOOKUP(R44, '2015 O3 Growth Surrogates'!A:A, '2015 O3 Growth Surrogates'!J:J) )} -> EPA EMP | M44: =NP_Data[[#This Row],[2032 Annual Emissions (Tons)]]/NP_Data[[#This Row],[2022 Annual Emiss Data Tool v1 Emissions (Tons)]] -> 1.0800866 | N44: =NP_Data[[#This Row],[2038 Annual Emissions (Tons)]]/NP_Data[[#This Row],[2022 Annual Emiss Data Tool v1 Emissions (Tons)]] -> 1.0830943 | P44: =I44 -> 0.0021107513 | Q44: =K44 -> 0.002116629 | R44: 2275050012 | S44: Mobile - Aircraft | T44: Mobile Sources | U44: Aircraft | V44: General Aviation | W44: Turbine | X44: Airport | Z44: 2275050012-24033-NOx
A45: Virginia | B45: 51013 | C45: NOx | D45: 0.073327422 | E45: =SUMIFS('Ratios_MARAMA-VA'!T:T, 'Ratios_MARAMA-VA'!AA:AA, Z45) -> 0 | F45: =SUMIFS('Ratios_MARAMA-VA'!J:J, 'Ratios_MARAMA-VA'!AA:AA, Z45) -> 0 | G45: =F45/E45 -> #DIV/0! | H45: 0.1021011 | I45: =NP_Data[[#This Row],[2022 MARAMA-VA OSD Emissions (tpd)]]*NP_Data[[#This Row],[2032 Annual Emissions (Tons)]]/NP_Data[[#This Row],[2022 Annual Emiss Data Tool v1 Emissions (Tons)]] -> 0 | J45: 0.10844392 | K45: =NP_Data[[#This Row],[2022 MARAMA-VA OSD Emissions (tpd)]]*NP_Data[[#This Row],[2038 Annual Emissions (Tons)]]/NP_Data[[#This Row],[2022 Annual Emiss Data Tool v1 Emissions (Tons)]] -> 0 | L45: {=_xlfn.SWITCH(A45, "District of Columbia", _xlfn.XLOOKUP(R45, '2015 O3 Growth Surrogates'!A:A, '2015 O3 Growth Surrogates'!H:H), "Maryland", _xlfn.XLOOKUP(R45, '2015 O3 Growth Surrogates'!A:A, '2015 O3 Growth Surrogates'!I:I), "Virginia", _xlfn.XLOOKUP(R45, '2015 O3 Growth Surrogates'!A:A, '2015 O3 Growth Surrogates'!J:J) )} -> Population | M45: {=_xlfn.SWITCH(L45, "Employment", INDEX('Coop GFs_CFs'!C:D, MATCH(B45,'Coop GFs_CFs'!B:B,0),1), "Population", INDEX('Coop GFs_CFs'!E:F, MATCH(B45,'Coop GFs_CFs'!B:B,0),1), "Household", INDEX('Coop GFs_CFs'!G:H, MATCH(B45,'Coop GFs_CFs'!B:B,0),1), "VMT", INDEX('Coop GFs_CFs'!I:J, MATCH(B45,'Coop GFs_CFs'!B:B,0),1), "Lane Mile", INDEX('Coop GFs_CFs'!K:L, MATCH(B45,'Coop GFs_CFs'!B:B,0),1), "Gas Sales", INDEX('Coop GFs_CFs'!M:N, MATCH(B45,'Coop GFs_CFs'!B:B,0),1), "No Growth", INDEX('Coop GFs_CFs'!O:P, MATCH(B45,'Coop GFs_CFs'!B:B,0),1) )} -> 1.098465 | N45: {=_xlfn.SWITCH(L45, "Employment", INDEX('Coop GFs_CFs'!C:D, MATCH(B45,'Coop GFs_CFs'!B:B,0),2), "Population", INDEX('Coop GFs_CFs'!E:F, MATCH(B45,'Coop GFs_CFs'!B:B,0),2), "Household", INDEX('Coop GFs_CFs'!G:H, MATCH(B45,'Coop GFs_CFs'!B:B,0),2), "VMT", INDEX('Coop GFs_CFs'!I:J, MATCH(B45,'Coop GFs_CFs'!B:B,0),2), "Lane Mile", INDEX('Coop GFs_CFs'!K:L, MATCH(B45,'Coop GFs_CFs'!B:B,0),2), "Gas Sales", INDEX('Coop GFs_CFs'!M:N, MATCH(B45,'Coop GFs_CFs'!B:B,0),2), "No Growth", INDEX('Coop GFs_CFs'!O:P, MATCH(B45,'Coop GFs_CFs'!B:B,0),2) )} -> 1.150447 | P45: =F45*M45 -> 0 | Q45: =F45*N45 -> 0 | R45: 2275050012 | S45: Mobile - Aircraft | T45: Mobile Sources | U45: Aircraft | V45: General Aviation | W45: Turbine | X45: Airport | Z45: 2275050012-51013-NOx
A46: Virginia | B46: 51107 | C46: NOx | D46: 5.5333179 | E46: =SUMIFS('Ratios_MARAMA-VA'!T:T, 'Ratios_MARAMA-VA'!AA:AA, Z46) -> 3.6055877 | F46: =SUMIFS('Ratios_MARAMA-VA'!J:J, 'Ratios_MARAMA-VA'!AA:AA, Z46) -> 0.010444874 | G46: =F46/E46 -> 0.0028968576 | H46: 6.4782016 | I46: =NP_Data[[#This Row],[2022 MARAMA-VA OSD Emissions (tpd)]]*NP_Data[[#This Row],[2032 Annual Emissions (Tons)]]/NP_Data[[#This Row],[2022 Annual Emiss Data Tool v1 Emissions (Tons)]] -> 0.012228468 | J46: 7.0818504 | K46: =NP_Data[[#This Row],[2022 MARAMA-VA OSD Emissions (tpd)]]*NP_Data[[#This Row],[2038 Annual Emissions (Tons)]]/NP_Data[[#This Row],[2022 Annual Emiss Data Tool v1 Emissions (Tons)]] -> 0.013367935 | L46: {=_xlfn.SWITCH(A46, "District of Columbia", _xlfn.XLOOKUP(R46, '2015 O3 Growth Surrogates'!A:A, '2015 O3 Growth Surrogates'!H:H), "Maryland", _xlfn.XLOOKUP(R46, '2015 O3 Growth Surrogates'!A:A, '2015 O3 Growth Surrogates'!I:I), "Virginia", _xlfn.XLOOKUP(R46, '2015 O3 Growth Surrogates'!A:A, '2015 O3 Growth Surrogates'!J:J) )} -> Population | M46: {=_xlfn.SWITCH(L46, "Employment", INDEX('Coop GFs_CFs'!C:D, MATCH(B46,'Coop GFs_CFs'!B:B,0),1), "Population", INDEX('Coop GFs_CFs'!E:F, MATCH(B46,'Coop GFs_CFs'!B:B,0),1), "Household", INDEX('Coop GFs_CFs'!G:H, MATCH(B46,'Coop GFs_CFs'!B:B,0),1), "VMT", INDEX('Coop GFs_CFs'!I:J, MATCH(B46,'Coop GFs_CFs'!B:B,0),1), "Lane Mile", INDEX('Coop GFs_CFs'!K:L, MATCH(B46,'Coop GFs_CFs'!B:B,0),1), "Gas Sales", INDEX('Coop GFs_CFs'!M:N, MATCH(B46,'Coop GFs_CFs'!B:B,0),1), "No Growth", INDEX('Coop GFs_CFs'!O:P, MATCH(B46,'Coop GFs_CFs'!B:B,0),1) )} -> 1.1551128 | N46: {=_xlfn.SWITCH(L46, "Employment", INDEX('Coop GFs_CFs'!C:D, MATCH(B46,'Coop GFs_CFs'!B:B,0),2), "Population", INDEX('Coop GFs_CFs'!E:F, MATCH(B46,'Coop GFs_CFs'!B:B,0),2), "Household", INDEX('Coop GFs_CFs'!G:H, MATCH(B46,'Coop GFs_CFs'!B:B,0),2), "VMT", INDEX('Coop GFs_CFs'!I:J, MATCH(B46,'Coop GFs_CFs'!B:B,0),2), "Lane Mile", INDEX('Coop GFs_CFs'!K:L, MATCH(B46,'Coop GFs_CFs'!B:B,0),2), "Gas Sales", INDEX('Coop GFs_CFs'!M:N, MATCH(B46,'Coop GFs_CFs'!B:B,0),2), "No Growth", INDEX('Coop GFs_CFs'!O:P, MATCH(B46,'Coop GFs_CFs'!B:B,0),2) )} -> 1.1978534 | P46: =F46*M46 -> 0.012065007 | Q46: =F46*N46 -> 0.012511428 | R46: 2275050012 | S46: Mobile - Aircraft | T46: Mobile Sources | U46: Aircraft | V46: General Aviation | W46: Turbine | X46: Airport | Z46: 2275050012-51107-NOx
A47: Virginia | B47: 51683 | C47: NOx | D47: 2.8195953 | E47: =SUMIFS('Ratios_MARAMA-VA'!T:T, 'Ratios_MARAMA-VA'!AA:AA, Z47) -> 2.8189344 | F47: =SUMIFS('Ratios_MARAMA-VA'!J:J, 'Ratios_MARAMA-VA'!AA:AA, Z47) -> 0.0081660515 | G47: =F47/E47 -> 0.0028968576 | H47: 2.4569954 | I47: 0.0071175656 | J47: 2.4569954 | K47: 0.0071175656 | L47: {=_xlfn.SWITCH(A47, "District of Columbia", _xlfn.XLOOKUP(R47, '2015 O3 Growth Surrogates'!A:A, '2015 O3 Growth Surrogates'!H:H), "Maryland", _xlfn.XLOOKUP(R47, '2015 O3 Growth Surrogates'!A:A, '2015 O3 Growth Surrogates'!I:I), "Virginia", _xlfn.XLOOKUP(R47, '2015 O3 Growth Surrogates'!A:A, '2015 O3 Growth Surrogates'!J:J) )} -> Population | M47: {=_xlfn.SWITCH(L47, "Employment", INDEX('Coop GFs_CFs'!C:D, MATCH(B47,'Coop GFs_CFs'!B:B,0),1), "Population", INDEX('Coop GFs_CFs'!E:F, MATCH(B47,'Coop GFs_CFs'!B:B,0),1), "Household", INDEX('Coop GFs_CFs'!G:H, MATCH(B47,'Coop GFs_CFs'!B:B,0),1), "VMT", INDEX('Coop GFs_CFs'!I:J, MATCH(B47,'Coop GFs_CFs'!B:B,0),1), "Lane Mile", INDEX('Coop GFs_CFs'!K:L, MATCH(B47,'Coop GFs_CFs'!B:B,0),1), "Gas Sales", INDEX('Coop GFs_CFs'!M:N, MATCH(B47,'Coop GFs_CFs'!B:B,0),1), "No Growth", INDEX('Coop GFs_CFs'!O:P, MATCH(B47,'Coop GFs_CFs'!B:B,0),1) )} -> 1.0847467 | N47: {=_xlfn.SWITCH(L47, "Employment", INDEX('Coop GFs_CFs'!C:D, MATCH(B47,'Coop GFs_CFs'!B:B,0),2), "Population", INDEX('Coop GFs_CFs'!E:F, MATCH(B47,'Coop GFs_CFs'!B:B,0),2), "Household", INDEX('Coop GFs_CFs'!G:H, MATCH(B47,'Coop GFs_CFs'!B:B,0),2), "VMT", INDEX('Coop GFs_CFs'!I:J, MATCH(B47,'Coop GFs_CFs'!B:B,0),2), "Lane Mile", INDEX('Coop GFs_CFs'!K:L, MATCH(B47,'Coop GFs_CFs'!B:B,0),2), "Gas Sales", INDEX('Coop GFs_CFs'!M:N, MATCH(B47,'Coop GFs_CFs'!B:B,0),2), "No Growth", INDEX('Coop GFs_CFs'!O:P, MATCH(B47,'Coop GFs_CFs'!B:B,0),2) )} -> 1.1113922 | P47: =F47*M47 -> 0.0088580975 | Q47: =F47*N47 -> 0.0090756863 | R47: 2275050012 | S47: Mobile - Aircraft | T47: Mobile Sources | U47: Aircraft | V47: General Aviation | W47: Turbine | X47: Airport | Z47: 2275050012-51683-NOx
A48: District of Columbia | B48: 11001 | C48: VOC | D48: 0.02826899 | E48: =SUMIFS('Ratios_MARAMA-VA'!T:T, 'Ratios_MARAMA-VA'!AA:AA, Z48) -> 0.028262364 | F48: =SUMIFS('Ratios_MARAMA-VA'!J:J, 'Ratios_MARAMA-VA'!AA:AA, Z48) -> 8.1872042e-05 | G48: =F48/E48 -> 0.0028968576 | H48: 0.02826899 | I48: 8.1891237e-05 | J48: 0.02826899 | K48: 8.1891237e-05 | L48: {=_xlfn.SWITCH(A48, "District of Columbia", _xlfn.XLOOKUP(R48, '2015 O3 Growth Surrogates'!A:A, '2015 O3 Growth Surrogates'!H:H), "Maryland", _xlfn.XLOOKUP(R48, '2015 O3 Growth Surrogates'!A:A, '2015 O3 Growth Surrogates'!I:I), "Virginia", _xlfn.XLOOKUP(R48, '2015 O3 Growth Surrogates'!A:A, '2015 O3 Growth Surrogates'!J:J) )} -> Population | M48: {=_xlfn.SWITCH(L48, "Employment", INDEX('Coop GFs_CFs'!C:D, MATCH(B48,'Coop GFs_CFs'!B:B,0),1), "Population", INDEX('Coop GFs_CFs'!E:F, MATCH(B48,'Coop GFs_CFs'!B:B,0),1), "Household", INDEX('Coop GFs_CFs'!G:H, MATCH(B48,'Coop GFs_CFs'!B:B,0),1), "VMT", INDEX('Coop GFs_CFs'!I:J, MATCH(B48,'Coop GFs_CFs'!B:B,0),1), "Lane Mile", INDEX('Coop GFs_CFs'!K:L, MATCH(B48,'Coop GFs_CFs'!B:B,0),1), "Gas Sales", INDEX('Coop GFs_CFs'!M:N, MATCH(B48,'Coop GFs_CFs'!B:B,0),1), "No Growth", INDEX('Coop GFs_CFs'!O:P, MATCH(B48,'Coop GFs_CFs'!B:B,0),1) )} -> 1.0682042 | N48: {=_xlfn.SWITCH(L48, "Employment", INDEX('Coop GFs_CFs'!C:D, MATCH(B48,'Coop GFs_CFs'!B:B,0),2), "Population", INDEX('Coop GFs_CFs'!E:F, MATCH(B48,'Coop GFs_CFs'!B:B,0),2), "Household", INDEX('Coop GFs_CFs'!G:H, MATCH(B48,'Coop GFs_CFs'!B:B,0),2), "VMT", INDEX('Coop GFs_CFs'!I:J, MATCH(B48,'Coop GFs_CFs'!B:B,0),2), "Lane Mile", INDEX('Coop GFs_CFs'!K:L, MATCH(B48,'Coop GFs_CFs'!B:B,0),2), "Gas Sales", INDEX('Coop GFs_CFs'!M:N, MATCH(B48,'Coop GFs_CFs'!B:B,0),2), "No Growth", INDEX('Coop GFs_CFs'!O:P, MATCH(B48,'Coop GFs_CFs'!B:B,0),2) )} -> 1.1102535 | P48: =F48*M48 -> 8.7456061e-05 | Q48: =F48*N48 -> 9.0898722e-05 | R48: 2275050012 | S48: Mobile - Aircraft | T48: Mobile Sources | U48: Aircraft | V48: General Aviation | W48: Turbine | X48: Airport | Z48: 2275050012-11001-VOC
A49: Maryland | B49: 24017 | C49: VOC | D49: 1.52687 | E49: =SUMIFS('Ratios_MARAMA-VA'!T:T, 'Ratios_MARAMA-VA'!AA:AA, Z49) -> 1.5265121 | F49: =SUMIFS('Ratios_MARAMA-VA'!J:J, 'Ratios_MARAMA-VA'!AA:AA, Z49) -> 0.0044220881 | G49: =F49/E49 -> 0.0028968576 | H49: 1.52687 | I49: 0.0044231249 | J49: 1.52687 | K49: 0.0044231249 | L49: {=_xlfn.SWITCH(A49, "District of Columbia", _xlfn.XLOOKUP(R49, '2015 O3 Growth Surrogates'!A:A, '2015 O3 Growth Surrogates'!H:H), "Maryland", _xlfn.XLOOKUP(R49, '2015 O3 Growth Surrogates'!A:A, '2015 O3 Growth Surrogates'!I:I), "Virginia", _xlfn.XLOOKUP(R49, '2015 O3 Growth Surrogates'!A:A, '2015 O3 Growth Surrogates'!J:J) )} -> EPA EMP | M49: {=_xlfn.SWITCH(L49, "Employment", INDEX('Coop GFs_CFs'!C:D, MATCH(B49,'Coop GFs_CFs'!B:B,0),1), "Population", INDEX('Coop GFs_CFs'!E:F, MATCH(B49,'Coop GFs_CFs'!B:B,0),1), "Household", INDEX('Coop GFs_CFs'!G:H, MATCH(B49,'Coop GFs_CFs'!B:B,0),1), "VMT", INDEX('Coop GFs_CFs'!I:J, MATCH(B49,'Coop GFs_CFs'!B:B,0),1), "Lane Mile", INDEX('Coop GFs_CFs'!K:L, MATCH(B49,'Coop GFs_CFs'!B:B,0),1), "Gas Sales", INDEX('Coop GFs_CFs'!M:N, MATCH(B49,'Coop GFs_CFs'!B:B,0),1), "No Growth", INDEX('Coop GFs_CFs'!O:P, MATCH(B49,'Coop GFs_CFs'!B:B,0),1) )} -> #N/A | N49: {=_xlfn.SWITCH(L49, "Employment", INDEX('Coop GFs_CFs'!C:D, MATCH(B49,'Coop GFs_CFs'!B:B,0),2), "Population", INDEX('Coop GFs_CFs'!E:F, MATCH(B49,'Coop GFs_CFs'!B:B,0),2), "Household", INDEX('Coop GFs_CFs'!G:H, MATCH(B49,'Coop GFs_CFs'!B:B,0),2), "VMT", INDEX('Coop GFs_CFs'!I:J, MATCH(B49,'Coop GFs_CFs'!B:B,0),2), "Lane Mile", INDEX('Coop GFs_CFs'!K:L, MATCH(B49,'Coop GFs_CFs'!B:B,0),2), "Gas Sales", INDEX('Coop GFs_CFs'!M:N, MATCH(B49,'Coop GFs_CFs'!B:B,0),2), "No Growth", INDEX('Coop GFs_CFs'!O:P, MATCH(B49,'Coop GFs_CFs'!B:B,0),2) )} -> #N/A | P49: =I49 -> 0.0044231249 | Q49: =K49 -> 0.0044231249 | R49: 2275050012 | S49: Mobile - Aircraft | T49: Mobile Sources | U49: Aircraft | V49: General Aviation | W49: Turbine | X49: Airport | Z49: 2275050012-24017-VOC
A50: Maryland | B50: 24021 | C50: VOC | D50: 5.8897409 | E50: =SUMIFS('Ratios_MARAMA-VA'!T:T, 'Ratios_MARAMA-VA'!AA:AA, Z50) -> 5.8883603 | F50: =SUMIFS('Ratios_MARAMA-VA'!J:J, 'Ratios_MARAMA-VA'!AA:AA, Z50) -> 0.017057741 | G50: =F50/E50 -> 0.0028968576 | H50: 7.0947818 | I50: 0.020552572 | J50: 7.0947818 | K50: 0.020552572 | L50: {=_xlfn.SWITCH(A50, "District of Columbia", _xlfn.XLOOKUP(R50, '2015 O3 Growth Surrogates'!A:A, '2015 O3 Growth Surrogates'!H:H), "Maryland", _xlfn.XLOOKUP(R50, '2015 O3 Growth Surrogates'!A:A, '2015 O3 Growth Surrogates'!I:I), "Virginia", _xlfn.XLOOKUP(R50, '2015 O3 Growth Surrogates'!A:A, '2015 O3 Growth Surrogates'!J:J) )} -> EPA EMP | M50: {=_xlfn.SWITCH(L50, "Employment", INDEX('Coop GFs_CFs'!C:D, MATCH(B50,'Coop GFs_CFs'!B:B,0),1), "Population", INDEX('Coop GFs_CFs'!E:F, MATCH(B50,'Coop GFs_CFs'!B:B,0),1), "Household", INDEX('Coop GFs_CFs'!G:H, MATCH(B50,'Coop GFs_CFs'!B:B,0),1), "VMT", INDEX('Coop GFs_CFs'!I:J, MATCH(B50,'Coop GFs_CFs'!B:B,0),1), "Lane Mile", INDEX('Coop GFs_CFs'!K:L, MATCH(B50,'Coop GFs_CFs'!B:B,0),1), "Gas Sales", INDEX('Coop GFs_CFs'!M:N, MATCH(B50,'Coop GFs_CFs'!B:B,0),1), "No Growth", INDEX('Coop GFs_CFs'!O:P, MATCH(B50,'Coop GFs_CFs'!B:B,0),1) )} -> #N/A | N50: {=_xlfn.SWITCH(L50, "Employment", INDEX('Coop GFs_CFs'!C:D, MATCH(B50,'Coop GFs_CFs'!B:B,0),2), "Population", INDEX('Coop GFs_CFs'!E:F, MATCH(B50,'Coop GFs_CFs'!B:B,0),2), "Household", INDEX('Coop GFs_CFs'!G:H, MATCH(B50,'Coop GFs_CFs'!B:B,0),2), "VMT", INDEX('Coop GFs_CFs'!I:J, MATCH(B50,'Coop GFs_CFs'!B:B,0),2), "Lane Mile", INDEX('Coop GFs_CFs'!K:L, MATCH(B50,'Coop GFs_CFs'!B:B,0),2), "Gas Sales", INDEX('Coop GFs_CFs'!M:N, MATCH(B50,'Coop GFs_CFs'!B:B,0),2), "No Growth", INDEX('Coop GFs_CFs'!O:P, MATCH(B50,'Coop GFs_CFs'!B:B,0),2) )} -> #N/A | P50: =I50 -> 0.020552572 | Q50: =K50 -> 0.020552572 | R50: 2275050012 | S50: Mobile - Aircraft | T50: Mobile Sources | U50: Aircraft | V50: General Aviation | W50: Turbine | X50: Airport | Z50: 2275050012-24021-VOC
A51: Maryland | B51: 24031 | C51: VOC | D51: 3.353667 | E51: =SUMIFS('Ratios_MARAMA-VA'!T:T, 'Ratios_MARAMA-VA'!AA:AA, Z51) -> 3.3528809 | F51: =SUMIFS('Ratios_MARAMA-VA'!J:J, 'Ratios_MARAMA-VA'!AA:AA, Z51) -> 0.0097128184 | G51: =F51/E51 -> 0.0028968576 | H51: 3.4915027 | I51: =G51*H51 -> 0.010114386 | J51: 3.4915027 | K51: =G51*J51 -> 0.010114386 | L51: {=_xlfn.SWITCH(A51, "District of Columbia", _xlfn.XLOOKUP(R51, '2015 O3 Growth Surrogates'!A:A, '2015 O3 Growth Surrogates'!H:H), "Maryland", _xlfn.XLOOKUP(R51, '2015 O3 Growth Surrogates'!A:A, '2015 O3 Growth Surrogates'!I:I), "Virginia", _xlfn.XLOOKUP(R51, '2015 O3 Growth Surrogates'!A:A, '2015 O3 Growth Surrogates'!J:J) )} -> EPA EMP | M51: {=_xlfn.SWITCH(L51, "Employment", INDEX('Coop GFs_CFs'!C:D, MATCH(B51,'Coop GFs_CFs'!B:B,0),1), "Population", INDEX('Coop GFs_CFs'!E:F, MATCH(B51,'Coop GFs_CFs'!B:B,0),1), "Household", INDEX('Coop GFs_CFs'!G:H, MATCH(B51,'Coop GFs_CFs'!B:B,0),1), "VMT", INDEX('Coop GFs_CFs'!I:J, MATCH(B51,'Coop GFs_CFs'!B:B,0),1), "Lane Mile", INDEX('Coop GFs_CFs'!K:L, MATCH(B51,'Coop GFs_CFs'!B:B,0),1), "Gas Sales", INDEX('Coop GFs_CFs'!M:N, MATCH(B51,'Coop GFs_CFs'!B:B,0),1), "No Growth", INDEX('Coop GFs_CFs'!O:P, MATCH(B51,'Coop GFs_CFs'!B:B,0),1) )} -> #N/A | N51: {=_xlfn.SWITCH(L51, "Employment", INDEX('Coop GFs_CFs'!C:D, MATCH(B51,'Coop GFs_CFs'!B:B,0),2), "Population", INDEX('Coop GFs_CFs'!E:F, MATCH(B51,'Coop GFs_CFs'!B:B,0),2), "Household", INDEX('Coop GFs_CFs'!G:H, MATCH(B51,'Coop GFs_CFs'!B:B,0),2), "VMT", INDEX('Coop GFs_CFs'!I:J, MATCH(B51,'Coop GFs_CFs'!B:B,0),2), "Lane Mile", INDEX('Coop GFs_CFs'!K:L, MATCH(B51,'Coop GFs_CFs'!B:B,0),2), "Gas Sales", INDEX('Coop GFs_CFs'!M:N, MATCH(B51,'Coop GFs_CFs'!B:B,0),2), "No Growth", INDEX('Coop GFs_CFs'!O:P, MATCH(B51,'Coop GFs_CFs'!B:B,0),2) )} -> #N/A | P51: =I51 -> 0.010114386 | Q51: =K51 -> 0.010114386 | R51: 2275050012 | S51: Mobile - Aircraft | T51: Mobile Sources | U51: Aircraft | V51: General Aviation | W51: Turbine | X51: Airport | Z51: 2275050012-24031-VOC
A52: Maryland | B52: 24033 | C52: VOC | D52: 1.6786347 | E52: =SUMIFS('Ratios_MARAMA-VA'!T:T, 'Ratios_MARAMA-VA'!AA:AA, Z52) -> 1.4367274 | F52: =SUMIFS('Ratios_MARAMA-VA'!J:J, 'Ratios_MARAMA-VA'!AA:AA, Z52) -> 0.0041619947 | G52: =F52/E52 -> 0.0028968576 | H52: 1.8130709 | I52: =NP_Data[[#This Row],[2022 MARAMA-VA OSD Emissions (tpd)]]*NP_Data[[#This Row],[Coop 2032 Growth Factor]] -> 0.0044953148 | J52: 1.8181198 | K52: =NP_Data[[#This Row],[2022 MARAMA-VA OSD Emissions (tpd)]]*NP_Data[[#This Row],[Coop 2038 Growth Factor]] -> 0.0045078328 | L52: {=_xlfn.SWITCH(A52, "District of Columbia", _xlfn.XLOOKUP(R52, '2015 O3 Growth Surrogates'!A:A, '2015 O3 Growth Surrogates'!H:H), "Maryland", _xlfn.XLOOKUP(R52, '2015 O3 Growth Surrogates'!A:A, '2015 O3 Growth Surrogates'!I:I), "Virginia", _xlfn.XLOOKUP(R52, '2015 O3 Growth Surrogates'!A:A, '2015 O3 Growth Surrogates'!J:J) )} -> EPA EMP | M52: =NP_Data[[#This Row],[2032 Annual Emissions (Tons)]]/NP_Data[[#This Row],[2022 Annual Emiss Data Tool v1 Emissions (Tons)]] -> 1.0800866 | N52: =NP_Data[[#This Row],[2038 Annual Emissions (Tons)]]/NP_Data[[#This Row],[2022 Annual Emiss Data Tool v1 Emissions (Tons)]] -> 1.0830943 | P52: =I52 -> 0.0044953148 | Q52: =K52 -> 0.0045078328 | R52: 2275050012 | S52: Mobile - Aircraft | T52: Mobile Sources | U52: Aircraft | V52: General Aviation | W52: Turbine | X52: Airport | Z52: 2275050012-24033-VOC
A53: Virginia | B53: 51013 | C53: VOC | D53: 0.11698179 | E53: =SUMIFS('Ratios_MARAMA-VA'!T:T, 'Ratios_MARAMA-VA'!AA:AA, Z53) -> 0 | F53: =SUMIFS('Ratios_MARAMA-VA'!J:J, 'Ratios_MARAMA-VA'!AA:AA, Z53) -> 0 | G53: =F53/E53 -> #DIV/0! | H53: 0.16288545 | I53: 0.00047185594 | J53: 0.17300437 | K53: 0.00050116903 | L53: {=_xlfn.SWITCH(A53, "District of Columbia", _xlfn.XLOOKUP(R53, '2015 O3 Growth Surrogates'!A:A, '2015 O3 Growth Surrogates'!H:H), "Maryland", _xlfn.XLOOKUP(R53, '2015 O3 Growth Surrogates'!A:A, '2015 O3 Growth Surrogates'!I:I), "Virginia", _xlfn.XLOOKUP(R53, '2015 O3 Growth Surrogates'!A:A, '2015 O3 Growth Surrogates'!J:J) )} -> Population | M53: {=_xlfn.SWITCH(L53, "Employment", INDEX('Coop GFs_CFs'!C:D, MATCH(B53,'Coop GFs_CFs'!B:B,0),1), "Population", INDEX('Coop GFs_CFs'!E:F, MATCH(B53,'Coop GFs_CFs'!B:B,0),1), "Household", INDEX('Coop GFs_CFs'!G:H, MATCH(B53,'Coop GFs_CFs'!B:B,0),1), "VMT", INDEX('Coop GFs_CFs'!I:J, MATCH(B53,'Coop GFs_CFs'!B:B,0),1), "Lane Mile", INDEX('Coop GFs_CFs'!K:L, MATCH(B53,'Coop GFs_CFs'!B:B,0),1), "Gas Sales", INDEX('Coop GFs_CFs'!M:N, MATCH(B53,'Coop GFs_CFs'!B:B,0),1), "No Growth", INDEX('Coop GFs_CFs'!O:P, MATCH(B53,'Coop GFs_CFs'!B:B,0),1) )} -> 1.098465 | N53: {=_xlfn.SWITCH(L53, "Employment", INDEX('Coop GFs_CFs'!C:D, MATCH(B53,'Coop GFs_CFs'!B:B,0),2), "Population", INDEX('Coop GFs_CFs'!E:F, MATCH(B53,'Coop GFs_CFs'!B:B,0),2), "Household", INDEX('Coop GFs_CFs'!G:H, MATCH(B53,'Coop GFs_CFs'!B:B,0),2), "VMT", INDEX('Coop GFs_CFs'!I:J, MATCH(B53,'Coop GFs_CFs'!B:B,0),2), "Lane Mile", INDEX('Coop GFs_CFs'!K:L, MATCH(B53,'Coop GFs_CFs'!B:B,0),2), "Gas Sales", INDEX('Coop GFs_CFs'!M:N, MATCH(B53,'Coop GFs_CFs'!B:B,0),2), "No Growth", INDEX('Coop GFs_CFs'!O:P, MATCH(B53,'Coop GFs_CFs'!B:B,0),2) )} -> 1.150447 | P53: =F53*M53 -> 0 | Q53: =F53*N53 -> 0 | R53: 2275050012 | S53: Mobile - Aircraft | T53: Mobile Sources | U53: Aircraft | V53: General Aviation | W53: Turbine | X53: Airport | Z53: 2275050012-51013-VOC
A54: Virginia | B54: 51107 | C54: VOC | D54: 9.0635699 | E54: =SUMIFS('Ratios_MARAMA-VA'!T:T, 'Ratios_MARAMA-VA'!AA:AA, Z54) -> 7.7022283 | F54: =SUMIFS('Ratios_MARAMA-VA'!J:J, 'Ratios_MARAMA-VA'!AA:AA, Z54) -> 0.022312258 | G54: =F54/E54 -> 0.0028968576 | H54: 10.811349 | I54: 0.031318937 | J54: 12.082963 | K54: 0.035002623 | L54: {=_xlfn.SWITCH(A54, "District of Columbia", _xlfn.XLOOKUP(R54, '2015 O3 Growth Surrogates'!A:A, '2015 O3 Growth Surrogates'!H:H), "Maryland", _xlfn.XLOOKUP(R54, '2015 O3 Growth Surrogates'!A:A, '2015 O3 Growth Surrogates'!I:I), "Virginia", _xlfn.XLOOKUP(R54, '2015 O3 Growth Surrogates'!A:A, '2015 O3 Growth Surrogates'!J:J) )} -> Population | M54: {=_xlfn.SWITCH(L54, "Employment", INDEX('Coop GFs_CFs'!C:D, MATCH(B54,'Coop GFs_CFs'!B:B,0),1), "Population", INDEX('Coop GFs_CFs'!E:F, MATCH(B54,'Coop GFs_CFs'!B:B,0),1), "Household", INDEX('Coop GFs_CFs'!G:H, MATCH(B54,'Coop GFs_CFs'!B:B,0),1), "VMT", INDEX('Coop GFs_CFs'!I:J, MATCH(B54,'Coop GFs_CFs'!B:B,0),1), "Lane Mile", INDEX('Coop GFs_CFs'!K:L, MATCH(B54,'Coop GFs_CFs'!B:B,0),1), "Gas Sales", INDEX('Coop GFs_CFs'!M:N, MATCH(B54,'Coop GFs_CFs'!B:B,0),1), "No Growth", INDEX('Coop GFs_CFs'!O:P, MATCH(B54,'Coop GFs_CFs'!B:B,0),1) )} -> 1.1551128 | N54: {=_xlfn.SWITCH(L54, "Employment", INDEX('Coop GFs_CFs'!C:D, MATCH(B54,'Coop GFs_CFs'!B:B,0),2), "Population", INDEX('Coop GFs_CFs'!E:F, MATCH(B54,'Coop GFs_CFs'!B:B,0),2), "Household", INDEX('Coop GFs_CFs'!G:H, MATCH(B54,'Coop GFs_CFs'!B:B,0),2), "VMT", INDEX('Coop GFs_CFs'!I:J, MATCH(B54,'Coop GFs_CFs'!B:B,0),2), "Lane Mile", INDEX('Coop GFs_CFs'!K:L, MATCH(B54,'Coop GFs_CFs'!B:B,0),2), "Gas Sales", INDEX('Coop GFs_CFs'!M:N, MATCH(B54,'Coop GFs_CFs'!B:B,0),2), "No Growth", INDEX('Coop GFs_CFs'!O:P, MATCH(B54,'Coop GFs_CFs'!B:B,0),2) )} -> 1.1978534 | P54: =F54*M54 -> 0.025773174 | Q54: =F54*N54 -> 0.026726815 | R54: 2275050012 | S54: Mobile - Aircraft | T54: Mobile Sources | U54: Aircraft | V54: General Aviation | W54: Turbine | X54: Airport | Z54: 2275050012-51107-VOC
A55: Virginia | B55: 51683 | C55: VOC | D55: 6.0049546 | E55: =SUMIFS('Ratios_MARAMA-VA'!T:T, 'Ratios_MARAMA-VA'!AA:AA, Z55) -> 6.0035471 | F55: =SUMIFS('Ratios_MARAMA-VA'!J:J, 'Ratios_MARAMA-VA'!AA:AA, Z55) -> 0.017391421 | G55: =F55/E55 -> 0.0028968576 | H55: 5.2327175 | I55: 0.015158437 | J55: 5.2327175 | K55: 0.015158437 | L55: {=_xlfn.SWITCH(A55, "District of Columbia", _xlfn.XLOOKUP(R55, '2015 O3 Growth Surrogates'!A:A, '2015 O3 Growth Surrogates'!H:H), "Maryland", _xlfn.XLOOKUP(R55, '2015 O3 Growth Surrogates'!A:A, '2015 O3 Growth Surrogates'!I:I), "Virginia", _xlfn.XLOOKUP(R55, '2015 O3 Growth Surrogates'!A:A, '2015 O3 Growth Surrogates'!J:J) )} -> Population | M55: {=_xlfn.SWITCH(L55, "Employment", INDEX('Coop GFs_CFs'!C:D, MATCH(B55,'Coop GFs_CFs'!B:B,0),1), "Population", INDEX('Coop GFs_CFs'!E:F, MATCH(B55,'Coop GFs_CFs'!B:B,0),1), "Household", INDEX('Coop GFs_CFs'!G:H, MATCH(B55,'Coop GFs_CFs'!B:B,0),1), "VMT", INDEX('Coop GFs_CFs'!I:J, MATCH(B55,'Coop GFs_CFs'!B:B,0),1), "Lane Mile", INDEX('Coop GFs_CFs'!K:L, MATCH(B55,'Coop GFs_CFs'!B:B,0),1), "Gas Sales", INDEX('Coop GFs_CFs'!M:N, MATCH(B55,'Coop GFs_CFs'!B:B,0),1), "No Growth", INDEX('Coop GFs_CFs'!O:P, MATCH(B55,'Coop GFs_CFs'!B:B,0),1) )} -> 1.0847467 | N55: {=_xlfn.SWITCH(L55, "Employment", INDEX('Coop GFs_CFs'!C:D, MATCH(B55,'Coop GFs_CFs'!B:B,0),2), "Population", INDEX('Coop GFs_CFs'!E:F, MATCH(B55,'Coop GFs_CFs'!B:B,0),2), "Household", INDEX('Coop GFs_CFs'!G:H, MATCH(B55,'Coop GFs_CFs'!B:B,0),2), "VMT", INDEX('Coop GFs_CFs'!I:J, MATCH(B55,'Coop GFs_CFs'!B:B,0),2), "Lane Mile", INDEX('Coop GFs_CFs'!K:L, MATCH(B55,'Coop GFs_CFs'!B:B,0),2), "Gas Sales", INDEX('Coop GFs_CFs'!M:N, MATCH(B55,'Coop GFs_CFs'!B:B,0),2), "No Growth", INDEX('Coop GFs_CFs'!O:P, MATCH(B55,'Coop GFs_CFs'!B:B,0),2) )} -> 1.1113922 | P55: =F55*M55 -> 0.018865286 | Q55: =F55*N55 -> 0.01932869 | R55: 2275050012 | S55: Mobile - Aircraft | T55: Mobile Sources | U55: Aircraft | V55: General Aviation | W55: Turbine | X55: Airport | Z55: 2275050012-51683-VOC
A56: Maryland | B56: 24021 | C56: NOx | D56: 0.0089869689 | E56: =SUMIFS('Ratios_MARAMA-VA'!T:T, 'Ratios_MARAMA-VA'!AA:AA, Z56) -> 0.0089848624 | F56: =SUMIFS('Ratios_MARAMA-VA'!J:J, 'Ratios_MARAMA-VA'!AA:AA, Z56) -> 2.6027866e-05 | G56: =F56/E56 -> 0.0028968576 | H56: 0.0061578711 | I56: 1.7838475e-05 | J56: 0.0061578711 | K56: 1.7838475e-05 | L56: {=_xlfn.SWITCH(A56, "District of Columbia", _xlfn.XLOOKUP(R56, '2015 O3 Growth Surrogates'!A:A, '2015 O3 Growth Surrogates'!H:H), "Maryland", _xlfn.XLOOKUP(R56, '2015 O3 Growth Surrogates'!A:A, '2015 O3 Growth Surrogates'!I:I), "Virginia", _xlfn.XLOOKUP(R56, '2015 O3 Growth Surrogates'!A:A, '2015 O3 Growth Surrogates'!J:J) )} -> EPA EMP | M56: {=_xlfn.SWITCH(L56, "Employment", INDEX('Coop GFs_CFs'!C:D, MATCH(B56,'Coop GFs_CFs'!B:B,0),1), "Population", INDEX('Coop GFs_CFs'!E:F, MATCH(B56,'Coop GFs_CFs'!B:B,0),1), "Household", INDEX('Coop GFs_CFs'!G:H, MATCH(B56,'Coop GFs_CFs'!B:B,0),1), "VMT", INDEX('Coop GFs_CFs'!I:J, MATCH(B56,'Coop GFs_CFs'!B:B,0),1), "Lane Mile", INDEX('Coop GFs_CFs'!K:L, MATCH(B56,'Coop GFs_CFs'!B:B,0),1), "Gas Sales", INDEX('Coop GFs_CFs'!M:N, MATCH(B56,'Coop GFs_CFs'!B:B,0),1), "No Growth", INDEX('Coop GFs_CFs'!O:P, MATCH(B56,'Coop GFs_CFs'!B:B,0),1) )} -> #N/A | N56: {=_xlfn.SWITCH(L56, "Employment", INDEX('Coop GFs_CFs'!C:D, MATCH(B56,'Coop GFs_CFs'!B:B,0),2), "Population", INDEX('Coop GFs_CFs'!E:F, MATCH(B56,'Coop GFs_CFs'!B:B,0),2), "Household", INDEX('Coop GFs_CFs'!G:H, MATCH(B56,'Coop GFs_CFs'!B:B,0),2), "VMT", INDEX('Coop GFs_CFs'!I:J, MATCH(B56,'Coop GFs_CFs'!B:B,0),2), "Lane Mile", INDEX('Coop GFs_CFs'!K:L, MATCH(B56,'Coop GFs_CFs'!B:B,0),2), "Gas Sales", INDEX('Coop GFs_CFs'!M:N, MATCH(B56,'Coop GFs_CFs'!B:B,0),2), "No Growth", INDEX('Coop GFs_CFs'!O:P, MATCH(B56,'Coop GFs_CFs'!B:B,0),2) )} -> #N/A | P56: =I56 -> 1.7838475e-05 | Q56: =K56 -> 1.7838475e-05 | R56: 2275060011 | S56: Mobile - Aircraft | T56: Mobile Sources | U56: Aircraft | V56: Air Taxi | W56: Piston | X56: Airport | Z56: 2275060011-24021-NOx
A57: Maryland | B57: 24031 | C57: NOx | D57: 0.00395 | E57: =SUMIFS('Ratios_MARAMA-VA'!T:T, 'Ratios_MARAMA-VA'!AA:AA, Z57) -> 0.0039490741 | F57: =SUMIFS('Ratios_MARAMA-VA'!J:J, 'Ratios_MARAMA-VA'!AA:AA, Z57) -> 1.1439905e-05 | G57: =F57/E57 -> 0.0028968576 | H57: 0.004146315 | I57: 1.2011284e-05 | J57: 0.004146315 | K57: 1.2011284e-05 | L57: {=_xlfn.SWITCH(A57, "District of Columbia", _xlfn.XLOOKUP(R57, '2015 O3 Growth Surrogates'!A:A, '2015 O3 Growth Surrogates'!H:H), "Maryland", _xlfn.XLOOKUP(R57, '2015 O3 Growth Surrogates'!A:A, '2015 O3 Growth Surrogates'!I:I), "Virginia", _xlfn.XLOOKUP(R57, '2015 O3 Growth Surrogates'!A:A, '2015 O3 Growth Surrogates'!J:J) )} -> EPA EMP | M57: {=_xlfn.SWITCH(L57, "Employment", INDEX('Coop GFs_CFs'!C:D, MATCH(B57,'Coop GFs_CFs'!B:B,0),1), "Population", INDEX('Coop GFs_CFs'!E:F, MATCH(B57,'Coop GFs_CFs'!B:B,0),1), "Household", INDEX('Coop GFs_CFs'!G:H, MATCH(B57,'Coop GFs_CFs'!B:B,0),1), "VMT", INDEX('Coop GFs_CFs'!I:J, MATCH(B57,'Coop GFs_CFs'!B:B,0),1), "Lane Mile", INDEX('Coop GFs_CFs'!K:L, MATCH(B57,'Coop GFs_CFs'!B:B,0),1), "Gas Sales", INDEX('Coop GFs_CFs'!M:N, MATCH(B57,'Coop GFs_CFs'!B:B,0),1), "No Growth", INDEX('Coop GFs_CFs'!O:P, MATCH(B57,'Coop GFs_CFs'!B:B,0),1) )} -> #N/A | N57: {=_xlfn.SWITCH(L57, "Employment", INDEX('Coop GFs_CFs'!C:D, MATCH(B57,'Coop GFs_CFs'!B:B,0),2), "Population", INDEX('Coop GFs_CFs'!E:F, MATCH(B57,'Coop GFs_CFs'!B:B,0),2), "Household", INDEX('Coop GFs_CFs'!G:H, MATCH(B57,'Coop GFs_CFs'!B:B,0),2), "VMT", INDEX('Coop GFs_CFs'!I:J, MATCH(B57,'Coop GFs_CFs'!B:B,0),2), "Lane Mile", INDEX('Coop GFs_CFs'!K:L, MATCH(B57,'Coop GFs_CFs'!B:B,0),2), "Gas Sales", INDEX('Coop GFs_CFs'!M:N, MATCH(B57,'Coop GFs_CFs'!B:B,0),2), "No Growth", INDEX('Coop GFs_CFs'!O:P, MATCH(B57,'Coop GFs_CFs'!B:B,0),2) )} -> #N/A | P57: =I57 -> 1.2011284e-05 | Q57: =K57 -> 1.2011284e-05 | R57: 2275060011 | S57: Mobile - Aircraft | T57: Mobile Sources | U57: Aircraft | V57: Air Taxi | W57: Piston | X57: Airport | Z57: 2275060011-24031-NOx
A58: Maryland | B58: 24033 | C58: NOx | D58: 0.0020734024 | E58: =SUMIFS('Ratios_MARAMA-VA'!T:T, 'Ratios_MARAMA-VA'!AA:AA, Z58) -> 0.00013202545 | F58: =SUMIFS('Ratios_MARAMA-VA'!J:J, 'Ratios_MARAMA-VA'!AA:AA, Z58) -> 3.8245891e-07 | G58: =F58/E58 -> 0.0028968576 | H58: 0.0019723645 | I58: =NP_Data[[#This Row],[2022 MARAMA-VA OSD Emissions (tpd)]]*NP_Data[[#This Row],[Coop 2032 Growth Factor]] -> 3.638215e-07 | J58: 0.0019723645 | K58: =NP_Data[[#This Row],[2022 MARAMA-VA OSD Emissions (tpd)]]*NP_Data[[#This Row],[Coop 2038 Growth Factor]] -> 3.638215e-07 | L58: {=_xlfn.SWITCH(A58, "District of Columbia", _xlfn.XLOOKUP(R58, '2015 O3 Growth Surrogates'!A:A, '2015 O3 Growth Surrogates'!H:H), "Maryland", _xlfn.XLOOKUP(R58, '2015 O3 Growth Surrogates'!A:A, '2015 O3 Growth Surrogates'!I:I), "Virginia", _xlfn.XLOOKUP(R58, '2015 O3 Growth Surrogates'!A:A, '2015 O3 Growth Surrogates'!J:J) )} -> EPA EMP | M58: =NP_Data[[#This Row],[2032 Annual Emissions (Tons)]]/NP_Data[[#This Row],[2022 Annual Emiss Data Tool v1 Emissions (Tons)]] -> 0.95126951 | N58: =NP_Data[[#This Row],[2038 Annual Emissions (Tons)]]/NP_Data[[#This Row],[2022 Annual Emiss Data Tool v1 Emissions (Tons)]] -> 0.95126951 | P58: =I58 -> 3.638215e-07 | Q58: =K58 -> 3.638215e-07 | R58: 2275060011 | S58: Mobile - Aircraft | T58: Mobile Sources | U58: Aircraft | V58: Air Taxi | W58: Piston | X58: Airport | Z58: 2275060011-24033-NOx
A59: Virginia | B59: 51013 | C59: NOx | D59: 0.015168 | E59: =SUMIFS('Ratios_MARAMA-VA'!T:T, 'Ratios_MARAMA-VA'!AA:AA, Z59) -> 0 | F59: =SUMIFS('Ratios_MARAMA-VA'!J:J, 'Ratios_MARAMA-VA'!AA:AA, Z59) -> 0 | G59: =F59/E59 -> #DIV/0! | H59: 0.054436435 | I59: =NP_Data[[#This Row],[2022 MARAMA-VA OSD Emissions (tpd)]]*NP_Data[[#This Row],[2032 Annual Emissions (Tons)]]/NP_Data[[#This Row],[2022 Annual Emiss Data Tool v1 Emissions (Tons)]] -> 0 | J59: 0.054436435 | K59: =NP_Data[[#This Row],[2022 MARAMA-VA OSD Emissions (tpd)]]*NP_Data[[#This Row],[2038 Annual Emissions (Tons)]]/NP_Data[[#This Row],[2022 Annual Emiss Data Tool v1 Emissions (Tons)]] -> 0 | L59: {=_xlfn.SWITCH(A59, "District of Columbia", _xlfn.XLOOKUP(R59, '2015 O3 Growth Surrogates'!A:A, '2015 O3 Growth Surrogates'!H:H), "Maryland", _xlfn.XLOOKUP(R59, '2015 O3 Growth Surrogates'!A:A, '2015 O3 Growth Surrogates'!I:I), "Virginia", _xlfn.XLOOKUP(R59, '2015 O3 Growth Surrogates'!A:A, '2015 O3 Growth Surrogates'!J:J) )} -> Population | M59: {=_xlfn.SWITCH(L59, "Employment", INDEX('Coop GFs_CFs'!C:D, MATCH(B59,'Coop GFs_CFs'!B:B,0),1), "Population", INDEX('Coop GFs_CFs'!E:F, MATCH(B59,'Coop GFs_CFs'!B:B,0),1), "Household", INDEX('Coop GFs_CFs'!G:H, MATCH(B59,'Coop GFs_CFs'!B:B,0),1), "VMT", INDEX('Coop GFs_CFs'!I:J, MATCH(B59,'Coop GFs_CFs'!B:B,0),1), "Lane Mile", INDEX('Coop GFs_CFs'!K:L, MATCH(B59,'Coop GFs_CFs'!B:B,0),1), "Gas Sales", INDEX('Coop GFs_CFs'!M:N, MATCH(B59,'Coop GFs_CFs'!B:B,0),1), "No Growth", INDEX('Coop GFs_CFs'!O:P, MATCH(B59,'Coop GFs_CFs'!B:B,0),1) )} -> 1.098465 | N59: {=_xlfn.SWITCH(L59, "Employment", INDEX('Coop GFs_CFs'!C:D, MATCH(B59,'Coop GFs_CFs'!B:B,0),2), "Population", INDEX('Coop GFs_CFs'!E:F, MATCH(B59,'Coop GFs_CFs'!B:B,0),2), "Household", INDEX('Coop GFs_CFs'!G:H, MATCH(B59,'Coop GFs_CFs'!B:B,0),2), "VMT", INDEX('Coop GFs_CFs'!I:J, MATCH(B59,'Coop GFs_CFs'!B:B,0),2), "Lane Mile", INDEX('Coop GFs_CFs'!K:L, MATCH(B59,'Coop GFs_CFs'!B:B,0),2), "Gas Sales", INDEX('Coop GFs_CFs'!M:N, MATCH(B59,'Coop GFs_CFs'!B:B,0),2), "No Growth", INDEX('Coop GFs_CFs'!O:P, MATCH(B59,'Coop GFs_CFs'!B:B,0),2) )} -> 1.150447 | P59: =F59*M59 -> 0 | Q59: =F59*N59 -> 0 | R59: 2275060011 | S59: Mobile - Aircraft | T59: Mobile Sources | U59: Aircraft | V59: Air Taxi | W59: Piston | X59: Airport | Z59: 2275060011-51013-NOx
A60: Virginia | B60: 51107 | C60: NOx | D60: 0.667234 | E60: =SUMIFS('Ratios_MARAMA-VA'!T:T, 'Ratios_MARAMA-VA'!AA:AA, Z60) -> 0.013426852 | F60: =SUMIFS('Ratios_MARAMA-VA'!J:J, 'Ratios_MARAMA-VA'!AA:AA, Z60) -> 3.8895678e-05 | G60: =F60/E60 -> 0.0028968576 | H60: 0.39106719 | I60: =NP_Data[[#This Row],[2022 MARAMA-VA OSD Emissions (tpd)]]*NP_Data[[#This Row],[2032 Annual Emissions (Tons)]]/NP_Data[[#This Row],[2022 Annual Emiss Data Tool v1 Emissions (Tons)]] -> 2.2796835e-05 | J60: 0.41898462 | K60: =NP_Data[[#This Row],[2022 MARAMA-VA OSD Emissions (tpd)]]*NP_Data[[#This Row],[2038 Annual Emissions (Tons)]]/NP_Data[[#This Row],[2022 Annual Emiss Data Tool v1 Emissions (Tons)]] -> 2.4424251e-05 | L60: {=_xlfn.SWITCH(A60, "District of Columbia", _xlfn.XLOOKUP(R60, '2015 O3 Growth Surrogates'!A:A, '2015 O3 Growth Surrogates'!H:H), "Maryland", _xlfn.XLOOKUP(R60, '2015 O3 Growth Surrogates'!A:A, '2015 O3 Growth Surrogates'!I:I), "Virginia", _xlfn.XLOOKUP(R60, '2015 O3 Growth Surrogates'!A:A, '2015 O3 Growth Surrogates'!J:J) )} -> Population | M60: {=_xlfn.SWITCH(L60, "Employment", INDEX('Coop GFs_CFs'!C:D, MATCH(B60,'Coop GFs_CFs'!B:B,0),1), "Population", INDEX('Coop GFs_CFs'!E:F, MATCH(B60,'Coop GFs_CFs'!B:B,0),1), "Household", INDEX('Coop GFs_CFs'!G:H, MATCH(B60,'Coop GFs_CFs'!B:B,0),1), "VMT", INDEX('Coop GFs_CFs'!I:J, MATCH(B60,'Coop GFs_CFs'!B:B,0),1), "Lane Mile", INDEX('Coop GFs_CFs'!K:L, MATCH(B60,'Coop GFs_CFs'!B:B,0),1), "Gas Sales", INDEX('Coop GFs_CFs'!M:N, MATCH(B60,'Coop GFs_CFs'!B:B,0),1), "No Growth", INDEX('Coop GFs_CFs'!O:P, MATCH(B60,'Coop GFs_CFs'!B:B,0),1) )} -> 1.1551128 | N60: {=_xlfn.SWITCH(L60, "Employment", INDEX('Coop GFs_CFs'!C:D, MATCH(B60,'Coop GFs_CFs'!B:B,0),2), "Population", INDEX('Coop GFs_CFs'!E:F, MATCH(B60,'Coop GFs_CFs'!B:B,0),2), "Household", INDEX('Coop GFs_CFs'!G:H, MATCH(B60,'Coop GFs_CFs'!B:B,0),2), "VMT", INDEX('Coop GFs_CFs'!I:J, MATCH(B60,'Coop GFs_CFs'!B:B,0),2), "Lane Mile", INDEX('Coop GFs_CFs'!K:L, MATCH(B60,'Coop GFs_CFs'!B:B,0),2), "Gas Sales", INDEX('Coop GFs_CFs'!M:N, MATCH(B60,'Coop GFs_CFs'!B:B,0),2), "No Growth", INDEX('Coop GFs_CFs'!O:P, MATCH(B60,'Coop GFs_CFs'!B:B,0),2) )} -> 1.1978534 | P60: =F60*M60 -> 4.4928894e-05 | Q60: =F60*N60 -> 4.659132e-05 | R60: 2275060011 | S60: Mobile - Aircraft | T60: Mobile Sources | U60: Aircraft | V60: Air Taxi | W60: Piston | X60: Airport | Z60: 2275060011-51107-NOx
A61: Virginia | B61: 51683 | C61: NOx | D61: 0.0707252 | E61: =SUMIFS('Ratios_MARAMA-VA'!T:T, 'Ratios_MARAMA-VA'!AA:AA, Z61) -> 0.070708622 | F61: =SUMIFS('Ratios_MARAMA-VA'!J:J, 'Ratios_MARAMA-VA'!AA:AA, Z61) -> 0.00020483281 | G61: =F61/E61 -> 0.0028968576 | H61: 0.11002719 | I61: 0.00031873311 | J61: 0.12313965 | K61: 0.00035671802 | L61: {=_xlfn.SWITCH(A61, "District of Columbia", _xlfn.XLOOKUP(R61, '2015 O3 Growth Surrogates'!A:A, '2015 O3 Growth Surrogates'!H:H), "Maryland", _xlfn.XLOOKUP(R61, '2015 O3 Growth Surrogates'!A:A, '2015 O3 Growth Surrogates'!I:I), "Virginia", _xlfn.XLOOKUP(R61, '2015 O3 Growth Surrogates'!A:A, '2015 O3 Growth Surrogates'!J:J) )} -> Population | M61: {=_xlfn.SWITCH(L61, "Employment", INDEX('Coop GFs_CFs'!C:D, MATCH(B61,'Coop GFs_CFs'!B:B,0),1), "Population", INDEX('Coop GFs_CFs'!E:F, MATCH(B61,'Coop GFs_CFs'!B:B,0),1), "Household", INDEX('Coop GFs_CFs'!G:H, MATCH(B61,'Coop GFs_CFs'!B:B,0),1), "VMT", INDEX('Coop GFs_CFs'!I:J, MATCH(B61,'Coop GFs_CFs'!B:B,0),1), "Lane Mile", INDEX('Coop GFs_CFs'!K:L, MATCH(B61,'Coop GFs_CFs'!B:B,0),1), "Gas Sales", INDEX('Coop GFs_CFs'!M:N, MATCH(B61,'Coop GFs_CFs'!B:B,0),1), "No Growth", INDEX('Coop GFs_CFs'!O:P, MATCH(B61,'Coop GFs_CFs'!B:B,0),1) )} -> 1.0847467 | N61: {=_xlfn.SWITCH(L61, "Employment", INDEX('Coop GFs_CFs'!C:D, MATCH(B61,'Coop GFs_CFs'!B:B,0),2), "Population", INDEX('Coop GFs_CFs'!E:F, MATCH(B61,'Coop GFs_CFs'!B:B,0),2), "Household", INDEX('Coop GFs_CFs'!G:H, MATCH(B61,'Coop GFs_CFs'!B:B,0),2), "VMT", INDEX('Coop GFs_CFs'!I:J, MATCH(B61,'Coop GFs_CFs'!B:B,0),2), "Lane Mile", INDEX('Coop GFs_CFs'!K:L, MATCH(B61,'Coop GFs_CFs'!B:B,0),2), "Gas Sales", INDEX('Coop GFs_CFs'!M:N, MATCH(B61,'Coop GFs_CFs'!B:B,0),2), "No Growth", INDEX('Coop GFs_CFs'!O:P, MATCH(B61,'Coop GFs_CFs'!B:B,0),2) )} -> 1.1113922 | P61: =F61*M61 -> 0.00022219171 | Q61: =F61*N61 -> 0.00022764959 | R61: 2275060011 | S61: Mobile - Aircraft | T61: Mobile Sources | U61: Aircraft | V61: Air Taxi | W61: Piston | X61: Airport | Z61: 2275060011-51683-NOx
A62: Maryland | B62: 24017 | C62: VOC | D62: 0.0002545178 | E62: =SUMIFS('Ratios_MARAMA-VA'!T:T, 'Ratios_MARAMA-VA'!AA:AA, Z62) -> 0.00025445814 | F62: =SUMIFS('Ratios_MARAMA-VA'!J:J, 'Ratios_MARAMA-VA'!AA:AA, Z62) -> 7.3712899e-07 | G62: =F62/E62 -> 0.0028968576 | H62: 0.0002545178 | I62: 7.3730181e-07 | J62: 0.0002545178 | K62: 7.3730181e-07 | L62: {=_xlfn.SWITCH(A62, "District of Columbia", _xlfn.XLOOKUP(R62, '2015 O3 Growth Surrogates'!A:A, '2015 O3 Growth Surrogates'!H:H), "Maryland", _xlfn.XLOOKUP(R62, '2015 O3 Growth Surrogates'!A:A, '2015 O3 Growth Surrogates'!I:I), "Virginia", _xlfn.XLOOKUP(R62, '2015 O3 Growth Surrogates'!A:A, '2015 O3 Growth Surrogates'!J:J) )} -> EPA EMP | M62: {=_xlfn.SWITCH(L62, "Employment", INDEX('Coop GFs_CFs'!C:D, MATCH(B62,'Coop GFs_CFs'!B:B,0),1), "Population", INDEX('Coop GFs_CFs'!E:F, MATCH(B62,'Coop GFs_CFs'!B:B,0),1), "Household", INDEX('Coop GFs_CFs'!G:H, MATCH(B62,'Coop GFs_CFs'!B:B,0),1), "VMT", INDEX('Coop GFs_CFs'!I:J, MATCH(B62,'Coop GFs_CFs'!B:B,0),1), "Lane Mile", INDEX('Coop GFs_CFs'!K:L, MATCH(B62,'Coop GFs_CFs'!B:B,0),1), "Gas Sales", INDEX('Coop GFs_CFs'!M:N, MATCH(B62,'Coop GFs_CFs'!B:B,0),1), "No Growth", INDEX('Coop GFs_CFs'!O:P, MATCH(B62,'Coop GFs_CFs'!B:B,0),1) )} -> #N/A | N62: {=_xlfn.SWITCH(L62, "Employment", INDEX('Coop GFs_CFs'!C:D, MATCH(B62,'Coop GFs_CFs'!B:B,0),2), "Population", INDEX('Coop GFs_CFs'!E:F, MATCH(B62,'Coop GFs_CFs'!B:B,0),2), "Household", INDEX('Coop GFs_CFs'!G:H, MATCH(B62,'Coop GFs_CFs'!B:B,0),2), "VMT", INDEX('Coop GFs_CFs'!I:J, MATCH(B62,'Coop GFs_CFs'!B:B,0),2), "Lane Mile", INDEX('Coop GFs_CFs'!K:L, MATCH(B62,'Coop GFs_CFs'!B:B,0),2), "Gas Sales", INDEX('Coop GFs_CFs'!M:N, MATCH(B62,'Coop GFs_CFs'!B:B,0),2), "No Growth", INDEX('Coop GFs_CFs'!O:P, MATCH(B62,'Coop GFs_CFs'!B:B,0),2) )} -> #N/A | P62: =I62 -> 7.3730181e-07 | Q62: =K62 -> 7.3730181e-07 | R62: 2275060011 | S62: Mobile - Aircraft | T62: Mobile Sources | U62: Aircraft | V62: Air Taxi | W62: Piston | X62: Airport | Z62: 2275060011-24017-VOC
A63: Maryland | B63: 24021 | C63: VOC | D63: 0.0096512365 | E63: =SUMIFS('Ratios_MARAMA-VA'!T:T, 'Ratios_MARAMA-VA'!AA:AA, Z63) -> 0.0096489742 | F63: =SUMIFS('Ratios_MARAMA-VA'!J:J, 'Ratios_MARAMA-VA'!AA:AA, Z63) -> 2.7951704e-05 | G63: =F63/E63 -> 0.0028968576 | H63: 0.0066130272 | I63: 1.9156998e-05 | J63: 0.0066130272 | K63: 1.9156998e-05 | L63: {=_xlfn.SWITCH(A63, "District of Columbia", _xlfn.XLOOKUP(R63, '2015 O3 Growth Surrogates'!A:A, '2015 O3 Growth Surrogates'!H:H), "Maryland", _xlfn.XLOOKUP(R63, '2015 O3 Growth Surrogates'!A:A, '2015 O3 Growth Surrogates'!I:I), "Virginia", _xlfn.XLOOKUP(R63, '2015 O3 Growth Surrogates'!A:A, '2015 O3 Growth Surrogates'!J:J) )} -> EPA EMP | M63: {=_xlfn.SWITCH(L63, "Employment", INDEX('Coop GFs_CFs'!C:D, MATCH(B63,'Coop GFs_CFs'!B:B,0),1), "Population", INDEX('Coop GFs_CFs'!E:F, MATCH(B63,'Coop GFs_CFs'!B:B,0),1), "Household", INDEX('Coop GFs_CFs'!G:H, MATCH(B63,'Coop GFs_CFs'!B:B,0),1), "VMT", INDEX('Coop GFs_CFs'!I:J, MATCH(B63,'Coop GFs_CFs'!B:B,0),1), "Lane Mile", INDEX('Coop GFs_CFs'!K:L, MATCH(B63,'Coop GFs_CFs'!B:B,0),1), "Gas Sales", INDEX('Coop GFs_CFs'!M:N, MATCH(B63,'Coop GFs_CFs'!B:B,0),1), "No Growth", INDEX('Coop GFs_CFs'!O:P, MATCH(B63,'Coop GFs_CFs'!B:B,0),1) )} -> #N/A | N63: {=_xlfn.SWITCH(L63, "Employment", INDEX('Coop GFs_CFs'!C:D, MATCH(B63,'Coop GFs_CFs'!B:B,0),2), "Population", INDEX('Coop GFs_CFs'!E:F, MATCH(B63,'Coop GFs_CFs'!B:B,0),2), "Household", INDEX('Coop GFs_CFs'!G:H, MATCH(B63,'Coop GFs_CFs'!B:B,0),2), "VMT", INDEX('Coop GFs_CFs'!I:J, MATCH(B63,'Coop GFs_CFs'!B:B,0),2), "Lane Mile", INDEX('Coop GFs_CFs'!K:L, MATCH(B63,'Coop GFs_CFs'!B:B,0),2), "Gas Sales", INDEX('Coop GFs_CFs'!M:N, MATCH(B63,'Coop GFs_CFs'!B:B,0),2), "No Growth", INDEX('Coop GFs_CFs'!O:P, MATCH(B63,'Coop GFs_CFs'!B:B,0),2) )} -> #N/A | P63: =I63 -> 1.9156998e-05 | Q63: =K63 -> 1.9156998e-05 | R63: 2275060011 | S63: Mobile - Aircraft | T63: Mobile Sources | U63: Aircraft | V63: Air Taxi | W63: Piston | X63: Airport | Z63: 2275060011-24021-VOC
A64: Maryland | B64: 24031 | C64: VOC | D64: 0.004241962 | E64: =SUMIFS('Ratios_MARAMA-VA'!T:T, 'Ratios_MARAMA-VA'!AA:AA, Z64) -> 0.0042409677 | F64: =SUMIFS('Ratios_MARAMA-VA'!J:J, 'Ratios_MARAMA-VA'!AA:AA, Z64) -> 1.2285479e-05 | G64: =F64/E64 -> 0.0028968576 | H64: 0.0044527875 | I64: 1.2899091e-05 | J64: 0.0044527875 | K64: 1.2899091e-05 | L64: {=_xlfn.SWITCH(A64, "District of Columbia", _xlfn.XLOOKUP(R64, '2015 O3 Growth Surrogates'!A:A, '2015 O3 Growth Surrogates'!H:H), "Maryland", _xlfn.XLOOKUP(R64, '2015 O3 Growth Surrogates'!A:A, '2015 O3 Growth Surrogates'!I:I), "Virginia", _xlfn.XLOOKUP(R64, '2015 O3 Growth Surrogates'!A:A, '2015 O3 Growth Surrogates'!J:J) )} -> EPA EMP | M64: {=_xlfn.SWITCH(L64, "Employment", INDEX('Coop GFs_CFs'!C:D, MATCH(B64,'Coop GFs_CFs'!B:B,0),1), "Population", INDEX('Coop GFs_CFs'!E:F, MATCH(B64,'Coop GFs_CFs'!B:B,0),1), "Household", INDEX('Coop GFs_CFs'!G:H, MATCH(B64,'Coop GFs_CFs'!B:B,0),1), "VMT", INDEX('Coop GFs_CFs'!I:J, MATCH(B64,'Coop GFs_CFs'!B:B,0),1), "Lane Mile", INDEX('Coop GFs_CFs'!K:L, MATCH(B64,'Coop GFs_CFs'!B:B,0),1), "Gas Sales", INDEX('Coop GFs_CFs'!M:N, MATCH(B64,'Coop GFs_CFs'!B:B,0),1), "No Growth", INDEX('Coop GFs_CFs'!O:P, MATCH(B64,'Coop GFs_CFs'!B:B,0),1) )} -> #N/A | N64: {=_xlfn.SWITCH(L64, "Employment", INDEX('Coop GFs_CFs'!C:D, MATCH(B64,'Coop GFs_CFs'!B:B,0),2), "Population", INDEX('Coop GFs_CFs'!E:F, MATCH(B64,'Coop GFs_CFs'!B:B,0),2), "Household", INDEX('Coop GFs_CFs'!G:H, MATCH(B64,'Coop GFs_CFs'!B:B,0),2), "VMT", INDEX('Coop GFs_CFs'!I:J, MATCH(B64,'Coop GFs_CFs'!B:B,0),2), "Lane Mile", INDEX('Coop GFs_CFs'!K:L, MATCH(B64,'Coop GFs_CFs'!B:B,0),2), "Gas Sales", INDEX('Coop GFs_CFs'!M:N, MATCH(B64,'Coop GFs_CFs'!B:B,0),2), "No Growth", INDEX('Coop GFs_CFs'!O:P, MATCH(B64,'Coop GFs_CFs'!B:B,0),2) )} -> #N/A | P64: =I64 -> 1.2899091e-05 | Q64: =K64 -> 1.2899091e-05 | R64: 2275060011 | S64: Mobile - Aircraft | T64: Mobile Sources | U64: Aircraft | V64: Air Taxi | W64: Piston | X64: Airport | Z64: 2275060011-24031-VOC
A65: Maryland | B65: 24033 | C65: VOC | D65: 0.0022266576 | E65: =SUMIFS('Ratios_MARAMA-VA'!T:T, 'Ratios_MARAMA-VA'!AA:AA, Z65) -> 0.00014178405 | F65: =SUMIFS('Ratios_MARAMA-VA'!J:J, 'Ratios_MARAMA-VA'!AA:AA, Z65) -> 4.1072819e-07 | G65: =F65/E65 -> 0.0028968576 | H65: 0.0021181514 | I65: =NP_Data[[#This Row],[2022 MARAMA-VA OSD Emissions (tpd)]]*NP_Data[[#This Row],[Coop 2032 Growth Factor]] -> 3.907132e-07 | J65: 0.0021181514 | K65: =NP_Data[[#This Row],[2022 MARAMA-VA OSD Emissions (tpd)]]*NP_Data[[#This Row],[Coop 2038 Growth Factor]] -> 3.907132e-07 | L65: {=_xlfn.SWITCH(A65, "District of Columbia", _xlfn.XLOOKUP(R65, '2015 O3 Growth Surrogates'!A:A, '2015 O3 Growth Surrogates'!H:H), "Maryland", _xlfn.XLOOKUP(R65, '2015 O3 Growth Surrogates'!A:A, '2015 O3 Growth Surrogates'!I:I), "Virginia", _xlfn.XLOOKUP(R65, '2015 O3 Growth Surrogates'!A:A, '2015 O3 Growth Surrogates'!J:J) )} -> EPA EMP | M65: =NP_Data[[#This Row],[2032 Annual Emissions (Tons)]]/NP_Data[[#This Row],[2022 Annual Emiss Data Tool v1 Emissions (Tons)]] -> 0.9512695 | N65: =NP_Data[[#This Row],[2038 Annual Emissions (Tons)]]/NP_Data[[#This Row],[2022 Annual Emiss Data Tool v1 Emissions (Tons)]] -> 0.9512695 | P65: =I65 -> 3.907132e-07 | Q65: =K65 -> 3.907132e-07 | R65: 2275060011 | S65: Mobile - Aircraft | T65: Mobile Sources | U65: Aircraft | V65: Air Taxi | W65: Piston | X65: Airport | Z65: 2275060011-24033-VOC
A66: Virginia | B66: 51013 | C66: VOC | D66: 0.016289136 | E66: =SUMIFS('Ratios_MARAMA-VA'!T:T, 'Ratios_MARAMA-VA'!AA:AA, Z66) -> 0 | F66: =SUMIFS('Ratios_MARAMA-VA'!J:J, 'Ratios_MARAMA-VA'!AA:AA, Z66) -> 0 | G66: =F66/E66 -> #DIV/0! | H66: 0.05846008 | I66: 0.00016935053 | J66: 0.05846008 | K66: 0.00016935053 | L66: {=_xlfn.SWITCH(A66, "District of Columbia", _xlfn.XLOOKUP(R66, '2015 O3 Growth Surrogates'!A:A, '2015 O3 Growth Surrogates'!H:H), "Maryland", _xlfn.XLOOKUP(R66, '2015 O3 Growth Surrogates'!A:A, '2015 O3 Growth Surrogates'!I:I), "Virginia", _xlfn.XLOOKUP(R66, '2015 O3 Growth Surrogates'!A:A, '2015 O3 Growth Surrogates'!J:J) )} -> Population | M66: {=_xlfn.SWITCH(L66, "Employment", INDEX('Coop GFs_CFs'!C:D, MATCH(B66,'Coop GFs_CFs'!B:B,0),1), "Population", INDEX('Coop GFs_CFs'!E:F, MATCH(B66,'Coop GFs_CFs'!B:B,0),1), "Household", INDEX('Coop GFs_CFs'!G:H, MATCH(B66,'Coop GFs_CFs'!B:B,0),1), "VMT", INDEX('Coop GFs_CFs'!I:J, MATCH(B66,'Coop GFs_CFs'!B:B,0),1), "Lane Mile", INDEX('Coop GFs_CFs'!K:L, MATCH(B66,'Coop GFs_CFs'!B:B,0),1), "Gas Sales", INDEX('Coop GFs_CFs'!M:N, MATCH(B66,'Coop GFs_CFs'!B:B,0),1), "No Growth", INDEX('Coop GFs_CFs'!O:P, MATCH(B66,'Coop GFs_CFs'!B:B,0),1) )} -> 1.098465 | N66: {=_xlfn.SWITCH(L66, "Employment", INDEX('Coop GFs_CFs'!C:D, MATCH(B66,'Coop GFs_CFs'!B:B,0),2), "Population", INDEX('Coop GFs_CFs'!E:F, MATCH(B66,'Coop GFs_CFs'!B:B,0),2), "Household", INDEX('Coop GFs_CFs'!G:H, MATCH(B66,'Coop GFs_CFs'!B:B,0),2), "VMT", INDEX('Coop GFs_CFs'!I:J, MATCH(B66,'Coop GFs_CFs'!B:B,0),2), "Lane Mile", INDEX('Coop GFs_CFs'!K:L, MATCH(B66,'Coop GFs_CFs'!B:B,0),2), "Gas Sales", INDEX('Coop GFs_CFs'!M:N, MATCH(B66,'Coop GFs_CFs'!B:B,0),2), "No Growth", INDEX('Coop GFs_CFs'!O:P, MATCH(B66,'Coop GFs_CFs'!B:B,0),2) )} -> 1.150447 | P66: =F66*M66 -> 0 | Q66: =F66*N66 -> 0 | R66: 2275060011 | S66: Mobile - Aircraft | T66: Mobile Sources | U66: Aircraft | V66: Air Taxi | W66: Piston | X66: Airport | Z66: 2275060011-51013-VOC
A67: Virginia | B67: 51107 | C67: VOC | D67: 0.7165523 | E67: =SUMIFS('Ratios_MARAMA-VA'!T:T, 'Ratios_MARAMA-VA'!AA:AA, Z67) -> 0.014419289 | F67: =SUMIFS('Ratios_MARAMA-VA'!J:J, 'Ratios_MARAMA-VA'!AA:AA, Z67) -> 4.1770627e-05 | G67: =F67/E67 -> 0.0028968576 | H67: 0.41997275 | I67: 0.0012166012 | J67: 0.44995368 | K67: 0.0013034517 | L67: {=_xlfn.SWITCH(A67, "District of Columbia", _xlfn.XLOOKUP(R67, '2015 O3 Growth Surrogates'!A:A, '2015 O3 Growth Surrogates'!H:H), "Maryland", _xlfn.XLOOKUP(R67, '2015 O3 Growth Surrogates'!A:A, '2015 O3 Growth Surrogates'!I:I), "Virginia", _xlfn.XLOOKUP(R67, '2015 O3 Growth Surrogates'!A:A, '2015 O3 Growth Surrogates'!J:J) )} -> Population | M67: {=_xlfn.SWITCH(L67, "Employment", INDEX('Coop GFs_CFs'!C:D, MATCH(B67,'Coop GFs_CFs'!B:B,0),1), "Population", INDEX('Coop GFs_CFs'!E:F, MATCH(B67,'Coop GFs_CFs'!B:B,0),1), "Household", INDEX('Coop GFs_CFs'!G:H, MATCH(B67,'Coop GFs_CFs'!B:B,0),1), "VMT", INDEX('Coop GFs_CFs'!I:J, MATCH(B67,'Coop GFs_CFs'!B:B,0),1), "Lane Mile", INDEX('Coop GFs_CFs'!K:L, MATCH(B67,'Coop GFs_CFs'!B:B,0),1), "Gas Sales", INDEX('Coop GFs_CFs'!M:N, MATCH(B67,'Coop GFs_CFs'!B:B,0),1), "No Growth", INDEX('Coop GFs_CFs'!O:P, MATCH(B67,'Coop GFs_CFs'!B:B,0),1) )} -> 1.1551128 | N67: {=_xlfn.SWITCH(L67, "Employment", INDEX('Coop GFs_CFs'!C:D, MATCH(B67,'Coop GFs_CFs'!B:B,0),2), "Population", INDEX('Coop GFs_CFs'!E:F, MATCH(B67,'Coop GFs_CFs'!B:B,0),2), "Household", INDEX('Coop GFs_CFs'!G:H, MATCH(B67,'Coop GFs_CFs'!B:B,0),2), "VMT", INDEX('Coop GFs_CFs'!I:J, MATCH(B67,'Coop GFs_CFs'!B:B,0),2), "Lane Mile", INDEX('Coop GFs_CFs'!K:L, MATCH(B67,'Coop GFs_CFs'!B:B,0),2), "Gas Sales", INDEX('Coop GFs_CFs'!M:N, MATCH(B67,'Coop GFs_CFs'!B:B,0),2), "No Growth", INDEX('Coop GFs_CFs'!O:P, MATCH(B67,'Coop GFs_CFs'!B:B,0),2) )} -> 1.1978534 | P67: =F67*M67 -> 4.8249784e-05 | Q67: =F67*N67 -> 5.0035088e-05 | R67: 2275060011 | S67: Mobile - Aircraft | T67: Mobile Sources | U67: Aircraft | V67: Air Taxi | W67: Piston | X67: Airport | Z67: 2275060011-51107-VOC
A68: Virginia | B68: 51683 | C68: VOC | D68: 0.075952825 | E68: =SUMIFS('Ratios_MARAMA-VA'!T:T, 'Ratios_MARAMA-VA'!AA:AA, Z68) -> 0.075935021 | F68: =SUMIFS('Ratios_MARAMA-VA'!J:J, 'Ratios_MARAMA-VA'!AA:AA, Z68) -> 0.00021997294 | G68: =F68/E68 -> 0.0028968576 | H68: 0.11815981 | I68: 0.00034229214 | J68: 0.13224146 | K68: 0.00038308468 | L68: {=_xlfn.SWITCH(A68, "District of Columbia", _xlfn.XLOOKUP(R68, '2015 O3 Growth Surrogates'!A:A, '2015 O3 Growth Surrogates'!H:H), "Maryland", _xlfn.XLOOKUP(R68, '2015 O3 Growth Surrogates'!A:A, '2015 O3 Growth Surrogates'!I:I), "Virginia", _xlfn.XLOOKUP(R68, '2015 O3 Growth Surrogates'!A:A, '2015 O3 Growth Surrogates'!J:J) )} -> Population | M68: {=_xlfn.SWITCH(L68, "Employment", INDEX('Coop GFs_CFs'!C:D, MATCH(B68,'Coop GFs_CFs'!B:B,0),1), "Population", INDEX('Coop GFs_CFs'!E:F, MATCH(B68,'Coop GFs_CFs'!B:B,0),1), "Household", INDEX('Coop GFs_CFs'!G:H, MATCH(B68,'Coop GFs_CFs'!B:B,0),1), "VMT", INDEX('Coop GFs_CFs'!I:J, MATCH(B68,'Coop GFs_CFs'!B:B,0),1), "Lane Mile", INDEX('Coop GFs_CFs'!K:L, MATCH(B68,'Coop GFs_CFs'!B:B,0),1), "Gas Sales", INDEX('Coop GFs_CFs'!M:N, MATCH(B68,'Coop GFs_CFs'!B:B,0),1), "No Growth", INDEX('Coop GFs_CFs'!O:P, MATCH(B68,'Coop GFs_CFs'!B:B,0),1) )} -> 1.0847467 | N68: {=_xlfn.SWITCH(L68, "Employment", INDEX('Coop GFs_CFs'!C:D, MATCH(B68,'Coop GFs_CFs'!B:B,0),2), "Population", INDEX('Coop GFs_CFs'!E:F, MATCH(B68,'Coop GFs_CFs'!B:B,0),2), "Household", INDEX('Coop GFs_CFs'!G:H, MATCH(B68,'Coop GFs_CFs'!B:B,0),2), "VMT", INDEX('Coop GFs_CFs'!I:J, MATCH(B68,'Coop GFs_CFs'!B:B,0),2), "Lane Mile", INDEX('Coop GFs_CFs'!K:L, MATCH(B68,'Coop GFs_CFs'!B:B,0),2), "Gas Sales", INDEX('Coop GFs_CFs'!M:N, MATCH(B68,'Coop GFs_CFs'!B:B,0),2), "No Growth", INDEX('Coop GFs_CFs'!O:P, MATCH(B68,'Coop GFs_CFs'!B:B,0),2) )} -> 1.1113922 | P68: =F68*M68 -> 0.00023861492 | Q68: =F68*N68 -> 0.00024447622 | R68: 2275060011 | S68: Mobile - Aircraft | T68: Mobile Sources | U68: Aircraft | V68: Air Taxi | W68: Piston | X68: Airport | Z68: 2275060011-51683-VOC
A69: Maryland | B69: 24009 | C69: NOx | D69: 0.092267872 | E69: =SUMIFS('Ratios_MARAMA-VA'!T:T, 'Ratios_MARAMA-VA'!AA:AA, Z69) -> 0.092246245 | F69: =SUMIFS('Ratios_MARAMA-VA'!J:J, 'Ratios_MARAMA-VA'!AA:AA, Z69) -> 0.00026722423 | G69: =F69/E69 -> 0.0028968576 | H69: 0.092267872 | I69: 0.00026728688 | J69: 0.092267872 | K69: 0.00026728688 | L69: {=_xlfn.SWITCH(A69, "District of Columbia", _xlfn.XLOOKUP(R69, '2015 O3 Growth Surrogates'!A:A, '2015 O3 Growth Surrogates'!H:H), "Maryland", _xlfn.XLOOKUP(R69, '2015 O3 Growth Surrogates'!A:A, '2015 O3 Growth Surrogates'!I:I), "Virginia", _xlfn.XLOOKUP(R69, '2015 O3 Growth Surrogates'!A:A, '2015 O3 Growth Surrogates'!J:J) )} -> EPA EMP | M69: {=_xlfn.SWITCH(L69, "Employment", INDEX('Coop GFs_CFs'!C:D, MATCH(B69,'Coop GFs_CFs'!B:B,0),1), "Population", INDEX('Coop GFs_CFs'!E:F, MATCH(B69,'Coop GFs_CFs'!B:B,0),1), "Household", INDEX('Coop GFs_CFs'!G:H, MATCH(B69,'Coop GFs_CFs'!B:B,0),1), "VMT", INDEX('Coop GFs_CFs'!I:J, MATCH(B69,'Coop GFs_CFs'!B:B,0),1), "Lane Mile", INDEX('Coop GFs_CFs'!K:L, MATCH(B69,'Coop GFs_CFs'!B:B,0),1), "Gas Sales", INDEX('Coop GFs_CFs'!M:N, MATCH(B69,'Coop GFs_CFs'!B:B,0),1), "No Growth", INDEX('Coop GFs_CFs'!O:P, MATCH(B69,'Coop GFs_CFs'!B:B,0),1) )} -> #N/A | N69: {=_xlfn.SWITCH(L69, "Employment", INDEX('Coop GFs_CFs'!C:D, MATCH(B69,'Coop GFs_CFs'!B:B,0),2), "Population", INDEX('Coop GFs_CFs'!E:F, MATCH(B69,'Coop GFs_CFs'!B:B,0),2), "Household", INDEX('Coop GFs_CFs'!G:H, MATCH(B69,'Coop GFs_CFs'!B:B,0),2), "VMT", INDEX('Coop GFs_CFs'!I:J, MATCH(B69,'Coop GFs_CFs'!B:B,0),2), "Lane Mile", INDEX('Coop GFs_CFs'!K:L, MATCH(B69,'Coop GFs_CFs'!B:B,0),2), "Gas Sales", INDEX('Coop GFs_CFs'!M:N, MATCH(B69,'Coop GFs_CFs'!B:B,0),2), "No Growth", INDEX('Coop GFs_CFs'!O:P, MATCH(B69,'Coop GFs_CFs'!B:B,0),2) )} -> #N/A | P69: =I69 -> 0.00026728688 | Q69: =K69 -> 0.00026728688 | R69: 2275060012 | S69: Mobile - Aircraft | T69: Mobile Sources | U69: Aircraft | V69: Air Taxi | W69: Turbine | X69: Airport | Z69: 2275060012-24009-NOx
A70: Maryland | B70: 24017 | C70: NOx | D70: 0.008528963 | E70: =SUMIFS('Ratios_MARAMA-VA'!T:T, 'Ratios_MARAMA-VA'!AA:AA, Z70) -> 0.0085269638 | F70: =SUMIFS('Ratios_MARAMA-VA'!J:J, 'Ratios_MARAMA-VA'!AA:AA, Z70) -> 2.47014e-05 | G70: =F70/E70 -> 0.0028968576 | H70: 0.008528963 | I70: 2.4707191e-05 | J70: 0.008528963 | K70: 2.4707191e-05 | L70: {=_xlfn.SWITCH(A70, "District of Columbia", _xlfn.XLOOKUP(R70, '2015 O3 Growth Surrogates'!A:A, '2015 O3 Growth Surrogates'!H:H), "Maryland", _xlfn.XLOOKUP(R70, '2015 O3 Growth Surrogates'!A:A, '2015 O3 Growth Surrogates'!I:I), "Virginia", _xlfn.XLOOKUP(R70, '2015 O3 Growth Surrogates'!A:A, '2015 O3 Growth Surrogates'!J:J) )} -> EPA EMP | M70: {=_xlfn.SWITCH(L70, "Employment", INDEX('Coop GFs_CFs'!C:D, MATCH(B70,'Coop GFs_CFs'!B:B,0),1), "Population", INDEX('Coop GFs_CFs'!E:F, MATCH(B70,'Coop GFs_CFs'!B:B,0),1), "Household", INDEX('Coop GFs_CFs'!G:H, MATCH(B70,'Coop GFs_CFs'!B:B,0),1), "VMT", INDEX('Coop GFs_CFs'!I:J, MATCH(B70,'Coop GFs_CFs'!B:B,0),1), "Lane Mile", INDEX('Coop GFs_CFs'!K:L, MATCH(B70,'Coop GFs_CFs'!B:B,0),1), "Gas Sales", INDEX('Coop GFs_CFs'!M:N, MATCH(B70,'Coop GFs_CFs'!B:B,0),1), "No Growth", INDEX('Coop GFs_CFs'!O:P, MATCH(B70,'Coop GFs_CFs'!B:B,0),1) )} -> #N/A | N70: {=_xlfn.SWITCH(L70, "Employment", INDEX('Coop GFs_CFs'!C:D, MATCH(B70,'Coop GFs_CFs'!B:B,0),2), "Population", INDEX('Coop GFs_CFs'!E:F, MATCH(B70,'Coop GFs_CFs'!B:B,0),2), "Household", INDEX('Coop GFs_CFs'!G:H, MATCH(B70,'Coop GFs_CFs'!B:B,0),2), "VMT", INDEX('Coop GFs_CFs'!I:J, MATCH(B70,'Coop GFs_CFs'!B:B,0),2), "Lane Mile", INDEX('Coop GFs_CFs'!K:L, MATCH(B70,'Coop GFs_CFs'!B:B,0),2), "Gas Sales", INDEX('Coop GFs_CFs'!M:N, MATCH(B70,'Coop GFs_CFs'!B:B,0),2), "No Growth", INDEX('Coop GFs_CFs'!O:P, MATCH(B70,'Coop GFs_CFs'!B:B,0),2) )} -> #N/A | P70: =I70 -> 2.4707191e-05 | Q70: =K70 -> 2.4707191e-05 | R70: 2275060012 | S70: Mobile - Aircraft | T70: Mobile Sources | U70: Aircraft | V70: Air Taxi | W70: Turbine | X70: Airport | Z70: 2275060012-24017-NOx
A71: Maryland | B71: 24021 | C71: NOx | D71: 0.28883379 | E71: =SUMIFS('Ratios_MARAMA-VA'!T:T, 'Ratios_MARAMA-VA'!AA:AA, Z71) -> 0.28876609 | F71: =SUMIFS('Ratios_MARAMA-VA'!J:J, 'Ratios_MARAMA-VA'!AA:AA, Z71) -> 0.00083651424 | G71: =F71/E71 -> 0.0028968576 | H71: 0.19900729 | I71: 0.00057649578 | J71: 0.19900729 | K71: 0.00057649578 | L71: {=_xlfn.SWITCH(A71, "District of Columbia", _xlfn.XLOOKUP(R71, '2015 O3 Growth Surrogates'!A:A, '2015 O3 Growth Surrogates'!H:H), "Maryland", _xlfn.XLOOKUP(R71, '2015 O3 Growth Surrogates'!A:A, '2015 O3 Growth Surrogates'!I:I), "Virginia", _xlfn.XLOOKUP(R71, '2015 O3 Growth Surrogates'!A:A, '2015 O3 Growth Surrogates'!J:J) )} -> EPA EMP | M71: {=_xlfn.SWITCH(L71, "Employment", INDEX('Coop GFs_CFs'!C:D, MATCH(B71,'Coop GFs_CFs'!B:B,0),1), "Population", INDEX('Coop GFs_CFs'!E:F, MATCH(B71,'Coop GFs_CFs'!B:B,0),1), "Household", INDEX('Coop GFs_CFs'!G:H, MATCH(B71,'Coop GFs_CFs'!B:B,0),1), "VMT", INDEX('Coop GFs_CFs'!I:J, MATCH(B71,'Coop GFs_CFs'!B:B,0),1), "Lane Mile", INDEX('Coop GFs_CFs'!K:L, MATCH(B71,'Coop GFs_CFs'!B:B,0),1), "Gas Sales", INDEX('Coop GFs_CFs'!M:N, MATCH(B71,'Coop GFs_CFs'!B:B,0),1), "No Growth", INDEX('Coop GFs_CFs'!O:P, MATCH(B71,'Coop GFs_CFs'!B:B,0),1) )} -> #N/A | N71: {=_xlfn.SWITCH(L71, "Employment", INDEX('Coop GFs_CFs'!C:D, MATCH(B71,'Coop GFs_CFs'!B:B,0),2), "Population", INDEX('Coop GFs_CFs'!E:F, MATCH(B71,'Coop GFs_CFs'!B:B,0),2), "Household", INDEX('Coop GFs_CFs'!G:H, MATCH(B71,'Coop GFs_CFs'!B:B,0),2), "VMT", INDEX('Coop GFs_CFs'!I:J, MATCH(B71,'Coop GFs_CFs'!B:B,0),2), "Lane Mile", INDEX('Coop GFs_CFs'!K:L, MATCH(B71,'Coop GFs_CFs'!B:B,0),2), "Gas Sales", INDEX('Coop GFs_CFs'!M:N, MATCH(B71,'Coop GFs_CFs'!B:B,0),2), "No Growth", INDEX('Coop GFs_CFs'!O:P, MATCH(B71,'Coop GFs_CFs'!B:B,0),2) )} -> #N/A | P71: =I71 -> 0.00057649578 | Q71: =K71 -> 0.00057649578 | R71: 2275060012 | S71: Mobile - Aircraft | T71: Mobile Sources | U71: Aircraft | V71: Air Taxi | W71: Turbine | X71: Airport | Z71: 2275060012-24021-NOx
A72: Maryland | B72: 24031 | C72: NOx | D72: 0.1372388 | E72: =SUMIFS('Ratios_MARAMA-VA'!T:T, 'Ratios_MARAMA-VA'!AA:AA, Z72) -> 0.13720664 | F72: =SUMIFS('Ratios_MARAMA-VA'!J:J, 'Ratios_MARAMA-VA'!AA:AA, Z72) -> 0.00039746808 | G72: =F72/E72 -> 0.0028968576 | H72: 0.14348154 | I72: 0.00041564559 | J72: 0.14348154 | K72: 0.00041564559 | L72: {=_xlfn.SWITCH(A72, "District of Columbia", _xlfn.XLOOKUP(R72, '2015 O3 Growth Surrogates'!A:A, '2015 O3 Growth Surrogates'!H:H), "Maryland", _xlfn.XLOOKUP(R72, '2015 O3 Growth Surrogates'!A:A, '2015 O3 Growth Surrogates'!I:I), "Virginia", _xlfn.XLOOKUP(R72, '2015 O3 Growth Surrogates'!A:A, '2015 O3 Growth Surrogates'!J:J) )} -> EPA EMP | M72: {=_xlfn.SWITCH(L72, "Employment", INDEX('Coop GFs_CFs'!C:D, MATCH(B72,'Coop GFs_CFs'!B:B,0),1), "Population", INDEX('Coop GFs_CFs'!E:F, MATCH(B72,'Coop GFs_CFs'!B:B,0),1), "Household", INDEX('Coop GFs_CFs'!G:H, MATCH(B72,'Coop GFs_CFs'!B:B,0),1), "VMT", INDEX('Coop GFs_CFs'!I:J, MATCH(B72,'Coop GFs_CFs'!B:B,0),1), "Lane Mile", INDEX('Coop GFs_CFs'!K:L, MATCH(B72,'Coop GFs_CFs'!B:B,0),1), "Gas Sales", INDEX('Coop GFs_CFs'!M:N, MATCH(B72,'Coop GFs_CFs'!B:B,0),1), "No Growth", INDEX('Coop GFs_CFs'!O:P, MATCH(B72,'Coop GFs_CFs'!B:B,0),1) )} -> #N/A | N72: {=_xlfn.SWITCH(L72, "Employment", INDEX('Coop GFs_CFs'!C:D, MATCH(B72,'Coop GFs_CFs'!B:B,0),2), "Population", INDEX('Coop GFs_CFs'!E:F, MATCH(B72,'Coop GFs_CFs'!B:B,0),2), "Household", INDEX('Coop GFs_CFs'!G:H, MATCH(B72,'Coop GFs_CFs'!B:B,0),2), "VMT", INDEX('Coop GFs_CFs'!I:J, MATCH(B72,'Coop GFs_CFs'!B:B,0),2), "Lane Mile", INDEX('Coop GFs_CFs'!K:L, MATCH(B72,'Coop GFs_CFs'!B:B,0),2), "Gas Sales", INDEX('Coop GFs_CFs'!M:N, MATCH(B72,'Coop GFs_CFs'!B:B,0),2), "No Growth", INDEX('Coop GFs_CFs'!O:P, MATCH(B72,'Coop GFs_CFs'!B:B,0),2) )} -> #N/A | P72: =I72 -> 0.00041564559 | Q72: =K72 -> 0.00041564559 | R72: 2275060012 | S72: Mobile - Aircraft | T72: Mobile Sources | U72: Aircraft | V72: Air Taxi | W72: Turbine | X72: Airport | Z72: 2275060012-24031-NOx
A73: Maryland | B73: 24033 | C73: NOx | D73: 0.066622869 | E73: =SUMIFS('Ratios_MARAMA-VA'!T:T, 'Ratios_MARAMA-VA'!AA:AA, Z73) -> 0.0046972314 | F73: =SUMIFS('Ratios_MARAMA-VA'!J:J, 'Ratios_MARAMA-VA'!AA:AA, Z73) -> 1.360721e-05 | G73: =F73/E73 -> 0.0028968576 | H73: 0.063608302 | I73: =NP_Data[[#This Row],[2022 MARAMA-VA OSD Emissions (tpd)]]*NP_Data[[#This Row],[Coop 2032 Growth Factor]] -> 1.2991508e-05 | J73: 0.063608302 | K73: =NP_Data[[#This Row],[2022 MARAMA-VA OSD Emissions (tpd)]]*NP_Data[[#This Row],[Coop 2038 Growth Factor]] -> 1.2991508e-05 | L73: {=_xlfn.SWITCH(A73, "District of Columbia", _xlfn.XLOOKUP(R73, '2015 O3 Growth Surrogates'!A:A, '2015 O3 Growth Surrogates'!H:H), "Maryland", _xlfn.XLOOKUP(R73, '2015 O3 Growth Surrogates'!A:A, '2015 O3 Growth Surrogates'!I:I), "Virginia", _xlfn.XLOOKUP(R73, '2015 O3 Growth Surrogates'!A:A, '2015 O3 Growth Surrogates'!J:J) )} -> EPA EMP | M73: =NP_Data[[#This Row],[2032 Annual Emissions (Tons)]]/NP_Data[[#This Row],[2022 Annual Emiss Data Tool v1 Emissions (Tons)]] -> 0.95475177 | N73: =NP_Data[[#This Row],[2038 Annual Emissions (Tons)]]/NP_Data[[#This Row],[2022 Annual Emiss Data Tool v1 Emissions (Tons)]] -> 0.95475177 | P73: =I73 -> 1.2991508e-05 | Q73: =K73 -> 1.2991508e-05 | R73: 2275060012 | S73: Mobile - Aircraft | T73: Mobile Sources | U73: Aircraft | V73: Air Taxi | W73: Turbine | X73: Airport | Z73: 2275060012-24033-NOx
A74: Virginia | B74: 51013 | C74: NOx | D74: 1.3799436 | E74: =SUMIFS('Ratios_MARAMA-VA'!T:T, 'Ratios_MARAMA-VA'!AA:AA, Z74) -> 0 | F74: =SUMIFS('Ratios_MARAMA-VA'!J:J, 'Ratios_MARAMA-VA'!AA:AA, Z74) -> 0 | G74: =F74/E74 -> #DIV/0! | H74: 4.9524798 | I74: =NP_Data[[#This Row],[2022 MARAMA-VA OSD Emissions (tpd)]]*NP_Data[[#This Row],[2032 Annual Emissions (Tons)]]/NP_Data[[#This Row],[2022 Annual Emiss Data Tool v1 Emissions (Tons)]] -> 0 | J74: 4.9524798 | K74: =NP_Data[[#This Row],[2022 MARAMA-VA OSD Emissions (tpd)]]*NP_Data[[#This Row],[2038 Annual Emissions (Tons)]]/NP_Data[[#This Row],[2022 Annual Emiss Data Tool v1 Emissions (Tons)]] -> 0 | L74: {=_xlfn.SWITCH(A74, "District of Columbia", _xlfn.XLOOKUP(R74, '2015 O3 Growth Surrogates'!A:A, '2015 O3 Growth Surrogates'!H:H), "Maryland", _xlfn.XLOOKUP(R74, '2015 O3 Growth Surrogates'!A:A, '2015 O3 Growth Surrogates'!I:I), "Virginia", _xlfn.XLOOKUP(R74, '2015 O3 Growth Surrogates'!A:A, '2015 O3 Growth Surrogates'!J:J) )} -> Population | M74: {=_xlfn.SWITCH(L74, "Employment", INDEX('Coop GFs_CFs'!C:D, MATCH(B74,'Coop GFs_CFs'!B:B,0),1), "Population", INDEX('Coop GFs_CFs'!E:F, MATCH(B74,'Coop GFs_CFs'!B:B,0),1), "Household", INDEX('Coop GFs_CFs'!G:H, MATCH(B74,'Coop GFs_CFs'!B:B,0),1), "VMT", INDEX('Coop GFs_CFs'!I:J, MATCH(B74,'Coop GFs_CFs'!B:B,0),1), "Lane Mile", INDEX('Coop GFs_CFs'!K:L, MATCH(B74,'Coop GFs_CFs'!B:B,0),1), "Gas Sales", INDEX('Coop GFs_CFs'!M:N, MATCH(B74,'Coop GFs_CFs'!B:B,0),1), "No Growth", INDEX('Coop GFs_CFs'!O:P, MATCH(B74,'Coop GFs_CFs'!B:B,0),1) )} -> 1.098465 | N74: {=_xlfn.SWITCH(L74, "Employment", INDEX('Coop GFs_CFs'!C:D, MATCH(B74,'Coop GFs_CFs'!B:B,0),2), "Population", INDEX('Coop GFs_CFs'!E:F, MATCH(B74,'Coop GFs_CFs'!B:B,0),2), "Household", INDEX('Coop GFs_CFs'!G:H, MATCH(B74,'Coop GFs_CFs'!B:B,0),2), "VMT", INDEX('Coop GFs_CFs'!I:J, MATCH(B74,'Coop GFs_CFs'!B:B,0),2), "Lane Mile", INDEX('Coop GFs_CFs'!K:L, MATCH(B74,'Coop GFs_CFs'!B:B,0),2), "Gas Sales", INDEX('Coop GFs_CFs'!M:N, MATCH(B74,'Coop GFs_CFs'!B:B,0),2), "No Growth", INDEX('Coop GFs_CFs'!O:P, MATCH(B74,'Coop GFs_CFs'!B:B,0),2) )} -> 1.150447 | P74: =F74*M74 -> 0 | Q74: =F74*N74 -> 0 | R74: 2275060012 | S74: Mobile - Aircraft | T74: Mobile Sources | U74: Aircraft | V74: Air Taxi | W74: Turbine | X74: Airport | Z74: 2275060012-51013-NOx
A75: Virginia | B75: 51107 | C75: NOx | D75: 65.182734 | E75: =SUMIFS('Ratios_MARAMA-VA'!T:T, 'Ratios_MARAMA-VA'!AA:AA, Z75) -> 0.42634824 | F75: =SUMIFS('Ratios_MARAMA-VA'!J:J, 'Ratios_MARAMA-VA'!AA:AA, Z75) -> 0.0012350701 | G75: =F75/E75 -> 0.0028968576 | H75: 37.829679 | I75: =NP_Data[[#This Row],[2022 MARAMA-VA OSD Emissions (tpd)]]*NP_Data[[#This Row],[2032 Annual Emissions (Tons)]]/NP_Data[[#This Row],[2022 Annual Emiss Data Tool v1 Emissions (Tons)]] -> 0.00071678961 | J75: 40.594773 | K75: =NP_Data[[#This Row],[2022 MARAMA-VA OSD Emissions (tpd)]]*NP_Data[[#This Row],[2038 Annual Emissions (Tons)]]/NP_Data[[#This Row],[2022 Annual Emiss Data Tool v1 Emissions (Tons)]] -> 0.00076918207 | L75: {=_xlfn.SWITCH(A75, "District of Columbia", _xlfn.XLOOKUP(R75, '2015 O3 Growth Surrogates'!A:A, '2015 O3 Growth Surrogates'!H:H), "Maryland", _xlfn.XLOOKUP(R75, '2015 O3 Growth Surrogates'!A:A, '2015 O3 Growth Surrogates'!I:I), "Virginia", _xlfn.XLOOKUP(R75, '2015 O3 Growth Surrogates'!A:A, '2015 O3 Growth Surrogates'!J:J) )} -> Population | M75: {=_xlfn.SWITCH(L75, "Employment", INDEX('Coop GFs_CFs'!C:D, MATCH(B75,'Coop GFs_CFs'!B:B,0),1), "Population", INDEX('Coop GFs_CFs'!E:F, MATCH(B75,'Coop GFs_CFs'!B:B,0),1), "Household", INDEX('Coop GFs_CFs'!G:H, MATCH(B75,'Coop GFs_CFs'!B:B,0),1), "VMT", INDEX('Coop GFs_CFs'!I:J, MATCH(B75,'Coop GFs_CFs'!B:B,0),1), "Lane Mile", INDEX('Coop GFs_CFs'!K:L, MATCH(B75,'Coop GFs_CFs'!B:B,0),1), "Gas Sales", INDEX('Coop GFs_CFs'!M:N, MATCH(B75,'Coop GFs_CFs'!B:B,0),1), "No Growth", INDEX('Coop GFs_CFs'!O:P, MATCH(B75,'Coop GFs_CFs'!B:B,0),1) )} -> 1.1551128 | N75: {=_xlfn.SWITCH(L75, "Employment", INDEX('Coop GFs_CFs'!C:D, MATCH(B75,'Coop GFs_CFs'!B:B,0),2), "Population", INDEX('Coop GFs_CFs'!E:F, MATCH(B75,'Coop GFs_CFs'!B:B,0),2), "Household", INDEX('Coop GFs_CFs'!G:H, MATCH(B75,'Coop GFs_CFs'!B:B,0),2), "VMT", INDEX('Coop GFs_CFs'!I:J, MATCH(B75,'Coop GFs_CFs'!B:B,0),2), "Lane Mile", INDEX('Coop GFs_CFs'!K:L, MATCH(B75,'Coop GFs_CFs'!B:B,0),2), "Gas Sales", INDEX('Coop GFs_CFs'!M:N, MATCH(B75,'Coop GFs_CFs'!B:B,0),2), "No Growth", INDEX('Coop GFs_CFs'!O:P, MATCH(B75,'Coop GFs_CFs'!B:B,0),2) )} -> 1.1978534 | P75: =F75*M75 -> 0.0014266453 | Q75: =F75*N75 -> 0.001479433 | R75: 2275060012 | S75: Mobile - Aircraft | T75: Mobile Sources | U75: Aircraft | V75: Air Taxi | W75: Turbine | X75: Airport | Z75: 2275060012-51107-NOx
A76: Virginia | B76: 51683 | C76: NOx | D76: 2.2523865 | E76: =SUMIFS('Ratios_MARAMA-VA'!T:T, 'Ratios_MARAMA-VA'!AA:AA, Z76) -> 2.2518585 | F76: =SUMIFS('Ratios_MARAMA-VA'!J:J, 'Ratios_MARAMA-VA'!AA:AA, Z76) -> 0.0065233134 | G76: =F76/E76 -> 0.0028968576 | H76: 3.5040377 | I76: 0.010150698 | J76: 3.9216301 | K76: 0.011360404 | L76: {=_xlfn.SWITCH(A76, "District of Columbia", _xlfn.XLOOKUP(R76, '2015 O3 Growth Surrogates'!A:A, '2015 O3 Growth Surrogates'!H:H), "Maryland", _xlfn.XLOOKUP(R76, '2015 O3 Growth Surrogates'!A:A, '2015 O3 Growth Surrogates'!I:I), "Virginia", _xlfn.XLOOKUP(R76, '2015 O3 Growth Surrogates'!A:A, '2015 O3 Growth Surrogates'!J:J) )} -> Population | M76: {=_xlfn.SWITCH(L76, "Employment", INDEX('Coop GFs_CFs'!C:D, MATCH(B76,'Coop GFs_CFs'!B:B,0),1), "Population", INDEX('Coop GFs_CFs'!E:F, MATCH(B76,'Coop GFs_CFs'!B:B,0),1), "Household", INDEX('Coop GFs_CFs'!G:H, MATCH(B76,'Coop GFs_CFs'!B:B,0),1), "VMT", INDEX('Coop GFs_CFs'!I:J, MATCH(B76,'Coop GFs_CFs'!B:B,0),1), "Lane Mile", INDEX('Coop GFs_CFs'!K:L, MATCH(B76,'Coop GFs_CFs'!B:B,0),1), "Gas Sales", INDEX('Coop GFs_CFs'!M:N, MATCH(B76,'Coop GFs_CFs'!B:B,0),1), "No Growth", INDEX('Coop GFs_CFs'!O:P, MATCH(B76,'Coop GFs_CFs'!B:B,0),1) )} -> 1.0847467 | N76: {=_xlfn.SWITCH(L76, "Employment", INDEX('Coop GFs_CFs'!C:D, MATCH(B76,'Coop GFs_CFs'!B:B,0),2), "Population", INDEX('Coop GFs_CFs'!E:F, MATCH(B76,'Coop GFs_CFs'!B:B,0),2), "Household", INDEX('Coop GFs_CFs'!G:H, MATCH(B76,'Coop GFs_CFs'!B:B,0),2), "VMT", INDEX('Coop GFs_CFs'!I:J, MATCH(B76,'Coop GFs_CFs'!B:B,0),2), "Lane Mile", INDEX('Coop GFs_CFs'!K:L, MATCH(B76,'Coop GFs_CFs'!B:B,0),2), "Gas Sales", INDEX('Coop GFs_CFs'!M:N, MATCH(B76,'Coop GFs_CFs'!B:B,0),2), "No Growth", INDEX('Coop GFs_CFs'!O:P, MATCH(B76,'Coop GFs_CFs'!B:B,0),2) )} -> 1.1113922 | P76: =F76*M76 -> 0.0070761427 | Q76: =F76*N76 -> 0.0072499599 | R76: 2275060012 | S76: Mobile - Aircraft | T76: Mobile Sources | U76: Aircraft | V76: Air Taxi | W76: Turbine | X76: Airport | Z76: 2275060012-51683-NOx
A77: Maryland | B77: 24009 | C77: VOC | D77: 0.11970021 | E77: =SUMIFS('Ratios_MARAMA-VA'!T:T, 'Ratios_MARAMA-VA'!AA:AA, Z77) -> 0.11967215 | F77: =SUMIFS('Ratios_MARAMA-VA'!J:J, 'Ratios_MARAMA-VA'!AA:AA, Z77) -> 0.00034667316 | G77: =F77/E77 -> 0.0028968576 | H77: 0.11970021 | I77: 0.00034675444 | J77: 0.11970021 | K77: 0.00034675444 | L77: {=_xlfn.SWITCH(A77, "District of Columbia", _xlfn.XLOOKUP(R77, '2015 O3 Growth Surrogates'!A:A, '2015 O3 Growth Surrogates'!H:H), "Maryland", _xlfn.XLOOKUP(R77, '2015 O3 Growth Surrogates'!A:A, '2015 O3 Growth Surrogates'!I:I), "Virginia", _xlfn.XLOOKUP(R77, '2015 O3 Growth Surrogates'!A:A, '2015 O3 Growth Surrogates'!J:J) )} -> EPA EMP | M77: {=_xlfn.SWITCH(L77, "Employment", INDEX('Coop GFs_CFs'!C:D, MATCH(B77,'Coop GFs_CFs'!B:B,0),1), "Population", INDEX('Coop GFs_CFs'!E:F, MATCH(B77,'Coop GFs_CFs'!B:B,0),1), "Household", INDEX('Coop GFs_CFs'!G:H, MATCH(B77,'Coop GFs_CFs'!B:B,0),1), "VMT", INDEX('Coop GFs_CFs'!I:J, MATCH(B77,'Coop GFs_CFs'!B:B,0),1), "Lane Mile", INDEX('Coop GFs_CFs'!K:L, MATCH(B77,'Coop GFs_CFs'!B:B,0),1), "Gas Sales", INDEX('Coop GFs_CFs'!M:N, MATCH(B77,'Coop GFs_CFs'!B:B,0),1), "No Growth", INDEX('Coop GFs_CFs'!O:P, MATCH(B77,'Coop GFs_CFs'!B:B,0),1) )} -> #N/A | N77: {=_xlfn.SWITCH(L77, "Employment", INDEX('Coop GFs_CFs'!C:D, MATCH(B77,'Coop GFs_CFs'!B:B,0),2), "Population", INDEX('Coop GFs_CFs'!E:F, MATCH(B77,'Coop GFs_CFs'!B:B,0),2), "Household", INDEX('Coop GFs_CFs'!G:H, MATCH(B77,'Coop GFs_CFs'!B:B,0),2), "VMT", INDEX('Coop GFs_CFs'!I:J, MATCH(B77,'Coop GFs_CFs'!B:B,0),2), "Lane Mile", INDEX('Coop GFs_CFs'!K:L, MATCH(B77,'Coop GFs_CFs'!B:B,0),2), "Gas Sales", INDEX('Coop GFs_CFs'!M:N, MATCH(B77,'Coop GFs_CFs'!B:B,0),2), "No Growth", INDEX('Coop GFs_CFs'!O:P, MATCH(B77,'Coop GFs_CFs'!B:B,0),2) )} -> #N/A | P77: =I77 -> 0.00034675444 | Q77: =K77 -> 0.00034675444 | R77: 2275060012 | S77: Mobile - Aircraft | T77: Mobile Sources | U77: Aircraft | V77: Air Taxi | W77: Turbine | X77: Airport | Z77: 2275060012-24009-VOC
A78: Maryland | B78: 24017 | C78: VOC | D78: 0.01106473 | E78: =SUMIFS('Ratios_MARAMA-VA'!T:T, 'Ratios_MARAMA-VA'!AA:AA, Z78) -> 0.011062136 | F78: =SUMIFS('Ratios_MARAMA-VA'!J:J, 'Ratios_MARAMA-VA'!AA:AA, Z78) -> 3.2045434e-05 | G78: =F78/E78 -> 0.0028968576 | H78: 0.01106473 | I78: 3.2052947e-05 | J78: 0.01106473 | K78: 3.2052947e-05 | L78: {=_xlfn.SWITCH(A78, "District of Columbia", _xlfn.XLOOKUP(R78, '2015 O3 Growth Surrogates'!A:A, '2015 O3 Growth Surrogates'!H:H), "Maryland", _xlfn.XLOOKUP(R78, '2015 O3 Growth Surrogates'!A:A, '2015 O3 Growth Surrogates'!I:I), "Virginia", _xlfn.XLOOKUP(R78, '2015 O3 Growth Surrogates'!A:A, '2015 O3 Growth Surrogates'!J:J) )} -> EPA EMP | M78: {=_xlfn.SWITCH(L78, "Employment", INDEX('Coop GFs_CFs'!C:D, MATCH(B78,'Coop GFs_CFs'!B:B,0),1), "Population", INDEX('Coop GFs_CFs'!E:F, MATCH(B78,'Coop GFs_CFs'!B:B,0),1), "Household", INDEX('Coop GFs_CFs'!G:H, MATCH(B78,'Coop GFs_CFs'!B:B,0),1), "VMT", INDEX('Coop GFs_CFs'!I:J, MATCH(B78,'Coop GFs_CFs'!B:B,0),1), "Lane Mile", INDEX('Coop GFs_CFs'!K:L, MATCH(B78,'Coop GFs_CFs'!B:B,0),1), "Gas Sales", INDEX('Coop GFs_CFs'!M:N, MATCH(B78,'Coop GFs_CFs'!B:B,0),1), "No Growth", INDEX('Coop GFs_CFs'!O:P, MATCH(B78,'Coop GFs_CFs'!B:B,0),1) )} -> #N/A | N78: {=_xlfn.SWITCH(L78, "Employment", INDEX('Coop GFs_CFs'!C:D, MATCH(B78,'Coop GFs_CFs'!B:B,0),2), "Population", INDEX('Coop GFs_CFs'!E:F, MATCH(B78,'Coop GFs_CFs'!B:B,0),2), "Household", INDEX('Coop GFs_CFs'!G:H, MATCH(B78,'Coop GFs_CFs'!B:B,0),2), "VMT", INDEX('Coop GFs_CFs'!I:J, MATCH(B78,'Coop GFs_CFs'!B:B,0),2), "Lane Mile", INDEX('Coop GFs_CFs'!K:L, MATCH(B78,'Coop GFs_CFs'!B:B,0),2), "Gas Sales", INDEX('Coop GFs_CFs'!M:N, MATCH(B78,'Coop GFs_CFs'!B:B,0),2), "No Growth", INDEX('Coop GFs_CFs'!O:P, MATCH(B78,'Coop GFs_CFs'!B:B,0),2) )} -> #N/A | P78: =I78 -> 3.2052947e-05 | Q78: =K78 -> 3.2052947e-05 | R78: 2275060012 | S78: Mobile - Aircraft | T78: Mobile Sources | U78: Aircraft | V78: Air Taxi | W78: Turbine | X78: Airport | Z78: 2275060012-24017-VOC
A79: Maryland | B79: 24021 | C79: VOC | D79: 0.37470754 | E79: =SUMIFS('Ratios_MARAMA-VA'!T:T, 'Ratios_MARAMA-VA'!AA:AA, Z79) -> 0.3746197 | F79: =SUMIFS('Ratios_MARAMA-VA'!J:J, 'Ratios_MARAMA-VA'!AA:AA, Z79) -> 0.0010852199 | G79: =F79/E79 -> 0.0028968576 | H79: 0.25817454 | I79: 0.00074789486 | J79: 0.25817454 | K79: 0.00074789486 | L79: {=_xlfn.SWITCH(A79, "District of Columbia", _xlfn.XLOOKUP(R79, '2015 O3 Growth Surrogates'!A:A, '2015 O3 Growth Surrogates'!H:H), "Maryland", _xlfn.XLOOKUP(R79, '2015 O3 Growth Surrogates'!A:A, '2015 O3 Growth Surrogates'!I:I), "Virginia", _xlfn.XLOOKUP(R79, '2015 O3 Growth Surrogates'!A:A, '2015 O3 Growth Surrogates'!J:J) )} -> EPA EMP | M79: {=_xlfn.SWITCH(L79, "Employment", INDEX('Coop GFs_CFs'!C:D, MATCH(B79,'Coop GFs_CFs'!B:B,0),1), "Population", INDEX('Coop GFs_CFs'!E:F, MATCH(B79,'Coop GFs_CFs'!B:B,0),1), "Household", INDEX('Coop GFs_CFs'!G:H, MATCH(B79,'Coop GFs_CFs'!B:B,0),1), "VMT", INDEX('Coop GFs_CFs'!I:J, MATCH(B79,'Coop GFs_CFs'!B:B,0),1), "Lane Mile", INDEX('Coop GFs_CFs'!K:L, MATCH(B79,'Coop GFs_CFs'!B:B,0),1), "Gas Sales", INDEX('Coop GFs_CFs'!M:N, MATCH(B79,'Coop GFs_CFs'!B:B,0),1), "No Growth", INDEX('Coop GFs_CFs'!O:P, MATCH(B79,'Coop GFs_CFs'!B:B,0),1) )} -> #N/A | N79: {=_xlfn.SWITCH(L79, "Employment", INDEX('Coop GFs_CFs'!C:D, MATCH(B79,'Coop GFs_CFs'!B:B,0),2), "Population", INDEX('Coop GFs_CFs'!E:F, MATCH(B79,'Coop GFs_CFs'!B:B,0),2), "Household", INDEX('Coop GFs_CFs'!G:H, MATCH(B79,'Coop GFs_CFs'!B:B,0),2), "VMT", INDEX('Coop GFs_CFs'!I:J, MATCH(B79,'Coop GFs_CFs'!B:B,0),2), "Lane Mile", INDEX('Coop GFs_CFs'!K:L, MATCH(B79,'Coop GFs_CFs'!B:B,0),2), "Gas Sales", INDEX('Coop GFs_CFs'!M:N, MATCH(B79,'Coop GFs_CFs'!B:B,0),2), "No Growth", INDEX('Coop GFs_CFs'!O:P, MATCH(B79,'Coop GFs_CFs'!B:B,0),2) )} -> #N/A | P79: =I79 -> 0.00074789486 | Q79: =K79 -> 0.00074789486 | R79: 2275060012 | S79: Mobile - Aircraft | T79: Mobile Sources | U79: Aircraft | V79: Air Taxi | W79: Turbine | X79: Airport | Z79: 2275060012-24021-VOC
A80: Maryland | B80: 24031 | C80: VOC | D80: 0.17804146 | E80: =SUMIFS('Ratios_MARAMA-VA'!T:T, 'Ratios_MARAMA-VA'!AA:AA, Z80) -> 0.17799973 | F80: =SUMIFS('Ratios_MARAMA-VA'!J:J, 'Ratios_MARAMA-VA'!AA:AA, Z80) -> 0.00051563987 | G80: =F80/E80 -> 0.0028968576 | H80: 0.18614024 | I80: 0.00053922176 | J80: 0.18614024 | K80: 0.00053922176 | L80: {=_xlfn.SWITCH(A80, "District of Columbia", _xlfn.XLOOKUP(R80, '2015 O3 Growth Surrogates'!A:A, '2015 O3 Growth Surrogates'!H:H), "Maryland", _xlfn.XLOOKUP(R80, '2015 O3 Growth Surrogates'!A:A, '2015 O3 Growth Surrogates'!I:I), "Virginia", _xlfn.XLOOKUP(R80, '2015 O3 Growth Surrogates'!A:A, '2015 O3 Growth Surrogates'!J:J) )} -> EPA EMP | M80: {=_xlfn.SWITCH(L80, "Employment", INDEX('Coop GFs_CFs'!C:D, MATCH(B80,'Coop GFs_CFs'!B:B,0),1), "Population", INDEX('Coop GFs_CFs'!E:F, MATCH(B80,'Coop GFs_CFs'!B:B,0),1), "Household", INDEX('Coop GFs_CFs'!G:H, MATCH(B80,'Coop GFs_CFs'!B:B,0),1), "VMT", INDEX('Coop GFs_CFs'!I:J, MATCH(B80,'Coop GFs_CFs'!B:B,0),1), "Lane Mile", INDEX('Coop GFs_CFs'!K:L, MATCH(B80,'Coop GFs_CFs'!B:B,0),1), "Gas Sales", INDEX('Coop GFs_CFs'!M:N, MATCH(B80,'Coop GFs_CFs'!B:B,0),1), "No Growth", INDEX('Coop GFs_CFs'!O:P, MATCH(B80,'Coop GFs_CFs'!B:B,0),1) )} -> #N/A | N80: {=_xlfn.SWITCH(L80, "Employment", INDEX('Coop GFs_CFs'!C:D, MATCH(B80,'Coop GFs_CFs'!B:B,0),2), "Population", INDEX('Coop GFs_CFs'!E:F, MATCH(B80,'Coop GFs_CFs'!B:B,0),2), "Household", INDEX('Coop GFs_CFs'!G:H, MATCH(B80,'Coop GFs_CFs'!B:B,0),2), "VMT", INDEX('Coop GFs_CFs'!I:J, MATCH(B80,'Coop GFs_CFs'!B:B,0),2), "Lane Mile", INDEX('Coop GFs_CFs'!K:L, MATCH(B80,'Coop GFs_CFs'!B:B,0),2), "Gas Sales", INDEX('Coop GFs_CFs'!M:N, MATCH(B80,'Coop GFs_CFs'!B:B,0),2), "No Growth", INDEX('Coop GFs_CFs'!O:P, MATCH(B80,'Coop GFs_CFs'!B:B,0),2) )} -> #N/A | P80: =I80 -> 0.00053922176 | Q80: =K80 -> 0.00053922176 | R80: 2275060012 | S80: Mobile - Aircraft | T80: Mobile Sources | U80: Aircraft | V80: Air Taxi | W80: Turbine | X80: Airport | Z80: 2275060012-24031-VOC
A81: Maryland | B81: 24033 | C81: VOC | D81: 0.086430649 | E81: =SUMIFS('Ratios_MARAMA-VA'!T:T, 'Ratios_MARAMA-VA'!AA:AA, Z81) -> 0.0060937765 | F81: =SUMIFS('Ratios_MARAMA-VA'!J:J, 'Ratios_MARAMA-VA'!AA:AA, Z81) -> 1.7652803e-05 | G81: =F81/E81 -> 0.0028968576 | H81: 0.082519816 | I81: =NP_Data[[#This Row],[2022 MARAMA-VA OSD Emissions (tpd)]]*NP_Data[[#This Row],[Coop 2032 Growth Factor]] -> 1.6854045e-05 | J81: 0.082519816 | K81: =NP_Data[[#This Row],[2022 MARAMA-VA OSD Emissions (tpd)]]*NP_Data[[#This Row],[Coop 2038 Growth Factor]] -> 1.6854045e-05 | L81: {=_xlfn.SWITCH(A81, "District of Columbia", _xlfn.XLOOKUP(R81, '2015 O3 Growth Surrogates'!A:A, '2015 O3 Growth Surrogates'!H:H), "Maryland", _xlfn.XLOOKUP(R81, '2015 O3 Growth Surrogates'!A:A, '2015 O3 Growth Surrogates'!I:I), "Virginia", _xlfn.XLOOKUP(R81, '2015 O3 Growth Surrogates'!A:A, '2015 O3 Growth Surrogates'!J:J) )} -> EPA EMP | M81: =NP_Data[[#This Row],[2032 Annual Emissions (Tons)]]/NP_Data[[#This Row],[2022 Annual Emiss Data Tool v1 Emissions (Tons)]] -> 0.95475178 | N81: =NP_Data[[#This Row],[2038 Annual Emissions (Tons)]]/NP_Data[[#This Row],[2022 Annual Emiss Data Tool v1 Emissions (Tons)]] -> 0.95475178 | P81: =I81 -> 1.6854045e-05 | Q81: =K81 -> 1.6854045e-05 | R81: 2275060012 | S81: Mobile - Aircraft | T81: Mobile Sources | U81: Aircraft | V81: Air Taxi | W81: Turbine | X81: Airport | Z81: 2275060012-24033-VOC
A82: Virginia | B82: 51013 | C82: VOC | D82: 0.51674886 | E82: =SUMIFS('Ratios_MARAMA-VA'!T:T, 'Ratios_MARAMA-VA'!AA:AA, Z82) -> 0 | F82: =SUMIFS('Ratios_MARAMA-VA'!J:J, 'Ratios_MARAMA-VA'!AA:AA, Z82) -> 0 | G82: =F82/E82 -> #DIV/0! | H82: 1.85456 | I82: 0.0053723961 | J82: 1.85456 | K82: 0.0053723961 | L82: {=_xlfn.SWITCH(A82, "District of Columbia", _xlfn.XLOOKUP(R82, '2015 O3 Growth Surrogates'!A:A, '2015 O3 Growth Surrogates'!H:H), "Maryland", _xlfn.XLOOKUP(R82, '2015 O3 Growth Surrogates'!A:A, '2015 O3 Growth Surrogates'!I:I), "Virginia", _xlfn.XLOOKUP(R82, '2015 O3 Growth Surrogates'!A:A, '2015 O3 Growth Surrogates'!J:J) )} -> Population | M82: {=_xlfn.SWITCH(L82, "Employment", INDEX('Coop GFs_CFs'!C:D, MATCH(B82,'Coop GFs_CFs'!B:B,0),1), "Population", INDEX('Coop GFs_CFs'!E:F, MATCH(B82,'Coop GFs_CFs'!B:B,0),1), "Household", INDEX('Coop GFs_CFs'!G:H, MATCH(B82,'Coop GFs_CFs'!B:B,0),1), "VMT", INDEX('Coop GFs_CFs'!I:J, MATCH(B82,'Coop GFs_CFs'!B:B,0),1), "Lane Mile", INDEX('Coop GFs_CFs'!K:L, MATCH(B82,'Coop GFs_CFs'!B:B,0),1), "Gas Sales", INDEX('Coop GFs_CFs'!M:N, MATCH(B82,'Coop GFs_CFs'!B:B,0),1), "No Growth", INDEX('Coop GFs_CFs'!O:P, MATCH(B82,'Coop GFs_CFs'!B:B,0),1) )} -> 1.098465 | N82: {=_xlfn.SWITCH(L82, "Employment", INDEX('Coop GFs_CFs'!C:D, MATCH(B82,'Coop GFs_CFs'!B:B,0),2), "Population", INDEX('Coop GFs_CFs'!E:F, MATCH(B82,'Coop GFs_CFs'!B:B,0),2), "Household", INDEX('Coop GFs_CFs'!G:H, MATCH(B82,'Coop GFs_CFs'!B:B,0),2), "VMT", INDEX('Coop GFs_CFs'!I:J, MATCH(B82,'Coop GFs_CFs'!B:B,0),2), "Lane Mile", INDEX('Coop GFs_CFs'!K:L, MATCH(B82,'Coop GFs_CFs'!B:B,0),2), "Gas Sales", INDEX('Coop GFs_CFs'!M:N, MATCH(B82,'Coop GFs_CFs'!B:B,0),2), "No Growth", INDEX('Coop GFs_CFs'!O:P, MATCH(B82,'Coop GFs_CFs'!B:B,0),2) )} -> 1.150447 | P82: =F82*M82 -> 0 | Q82: =F82*N82 -> 0 | R82: 2275060012 | S82: Mobile - Aircraft | T82: Mobile Sources | U82: Aircraft | V82: Air Taxi | W82: Turbine | X82: Airport | Z82: 2275060012-51013-VOC
A83: Virginia | B83: 51107 | C83: VOC | D83: 23.793955 | E83: =SUMIFS('Ratios_MARAMA-VA'!T:T, 'Ratios_MARAMA-VA'!AA:AA, Z83) -> 0.55310662 | F83: =SUMIFS('Ratios_MARAMA-VA'!J:J, 'Ratios_MARAMA-VA'!AA:AA, Z83) -> 0.0016022711 | G83: =F83/E83 -> 0.0028968576 | H83: 13.977075 | I83: 0.040489596 | J83: 14.969454 | K83: 0.043364376 | L83: {=_xlfn.SWITCH(A83, "District of Columbia", _xlfn.XLOOKUP(R83, '2015 O3 Growth Surrogates'!A:A, '2015 O3 Growth Surrogates'!H:H), "Maryland", _xlfn.XLOOKUP(R83, '2015 O3 Growth Surrogates'!A:A, '2015 O3 Growth Surrogates'!I:I), "Virginia", _xlfn.XLOOKUP(R83, '2015 O3 Growth Surrogates'!A:A, '2015 O3 Growth Surrogates'!J:J) )} -> Population | M83: {=_xlfn.SWITCH(L83, "Employment", INDEX('Coop GFs_CFs'!C:D, MATCH(B83,'Coop GFs_CFs'!B:B,0),1), "Population", INDEX('Coop GFs_CFs'!E:F, MATCH(B83,'Coop GFs_CFs'!B:B,0),1), "Household", INDEX('Coop GFs_CFs'!G:H, MATCH(B83,'Coop GFs_CFs'!B:B,0),1), "VMT", INDEX('Coop GFs_CFs'!I:J, MATCH(B83,'Coop GFs_CFs'!B:B,0),1), "Lane Mile", INDEX('Coop GFs_CFs'!K:L, MATCH(B83,'Coop GFs_CFs'!B:B,0),1), "Gas Sales", INDEX('Coop GFs_CFs'!M:N, MATCH(B83,'Coop GFs_CFs'!B:B,0),1), "No Growth", INDEX('Coop GFs_CFs'!O:P, MATCH(B83,'Coop GFs_CFs'!B:B,0),1) )} -> 1.1551128 | N83: {=_xlfn.SWITCH(L83, "Employment", INDEX('Coop GFs_CFs'!C:D, MATCH(B83,'Coop GFs_CFs'!B:B,0),2), "Population", INDEX('Coop GFs_CFs'!E:F, MATCH(B83,'Coop GFs_CFs'!B:B,0),2), "Household", INDEX('Coop GFs_CFs'!G:H, MATCH(B83,'Coop GFs_CFs'!B:B,0),2), "VMT", INDEX('Coop GFs_CFs'!I:J, MATCH(B83,'Coop GFs_CFs'!B:B,0),2), "Lane Mile", INDEX('Coop GFs_CFs'!K:L, MATCH(B83,'Coop GFs_CFs'!B:B,0),2), "Gas Sales", INDEX('Coop GFs_CFs'!M:N, MATCH(B83,'Coop GFs_CFs'!B:B,0),2), "No Growth", INDEX('Coop GFs_CFs'!O:P, MATCH(B83,'Coop GFs_CFs'!B:B,0),2) )} -> 1.1978534 | P83: =F83*M83 -> 0.0018508038 | Q83: =F83*N83 -> 0.0019192859 | R83: 2275060012 | S83: Mobile - Aircraft | T83: Mobile Sources | U83: Aircraft | V83: Air Taxi | W83: Turbine | X83: Airport | Z83: 2275060012-51107-VOC
A84: Virginia | B84: 51683 | C84: VOC | D84: 2.9220491 | E84: =SUMIFS('Ratios_MARAMA-VA'!T:T, 'Ratios_MARAMA-VA'!AA:AA, Z84) -> 2.9213642 | F84: =SUMIFS('Ratios_MARAMA-VA'!J:J, 'Ratios_MARAMA-VA'!AA:AA, Z84) -> 0.008462776 | G84: =F84/E84 -> 0.0028968576 | H84: 4.5458318 | I84: 0.013168627 | J84: 5.0875797 | K84: 0.014737994 | L84: {=_xlfn.SWITCH(A84, "District of Columbia", _xlfn.XLOOKUP(R84, '2015 O3 Growth Surrogates'!A:A, '2015 O3 Growth Surrogates'!H:H), "Maryland", _xlfn.XLOOKUP(R84, '2015 O3 Growth Surrogates'!A:A, '2015 O3 Growth Surrogates'!I:I), "Virginia", _xlfn.XLOOKUP(R84, '2015 O3 Growth Surrogates'!A:A, '2015 O3 Growth Surrogates'!J:J) )} -> Population | M84: {=_xlfn.SWITCH(L84, "Employment", INDEX('Coop GFs_CFs'!C:D, MATCH(B84,'Coop GFs_CFs'!B:B,0),1), "Population", INDEX('Coop GFs_CFs'!E:F, MATCH(B84,'Coop GFs_CFs'!B:B,0),1), "Household", INDEX('Coop GFs_CFs'!G:H, MATCH(B84,'Coop GFs_CFs'!B:B,0),1), "VMT", INDEX('Coop GFs_CFs'!I:J, MATCH(B84,'Coop GFs_CFs'!B:B,0),1), "Lane Mile", INDEX('Coop GFs_CFs'!K:L, MATCH(B84,'Coop GFs_CFs'!B:B,0),1), "Gas Sales", INDEX('Coop GFs_CFs'!M:N, MATCH(B84,'Coop GFs_CFs'!B:B,0),1), "No Growth", INDEX('Coop GFs_CFs'!O:P, MATCH(B84,'Coop GFs_CFs'!B:B,0),1) )} -> 1.0847467 | N84: {=_xlfn.SWITCH(L84, "Employment", INDEX('Coop GFs_CFs'!C:D, MATCH(B84,'Coop GFs_CFs'!B:B,0),2), "Population", INDEX('Coop GFs_CFs'!E:F, MATCH(B84,'Coop GFs_CFs'!B:B,0),2), "Household", INDEX('Coop GFs_CFs'!G:H, MATCH(B84,'Coop GFs_CFs'!B:B,0),2), "VMT", INDEX('Coop GFs_CFs'!I:J, MATCH(B84,'Coop GFs_CFs'!B:B,0),2), "Lane Mile", INDEX('Coop GFs_CFs'!K:L, MATCH(B84,'Coop GFs_CFs'!B:B,0),2), "Gas Sales", INDEX('Coop GFs_CFs'!M:N, MATCH(B84,'Coop GFs_CFs'!B:B,0),2), "No Growth", INDEX('Coop GFs_CFs'!O:P, MATCH(B84,'Coop GFs_CFs'!B:B,0),2) )} -> 1.1113922 | P84: =F84*M84 -> 0.0091799684 | Q84: =F84*N84 -> 0.0094054636 | R84: 2275060012 | S84: Mobile - Aircraft | T84: Mobile Sources | U84: Aircraft | V84: Air Taxi | W84: Turbine | X84: Airport | Z84: 2275060012-51683-VOC
A85: Virginia | B85: 51013 | C85: NOx | D85: 39.613296 | E85: =SUMIFS('Ratios_MARAMA-VA'!T:T, 'Ratios_MARAMA-VA'!AA:AA, Z85) -> 0 | F85: =SUMIFS('Ratios_MARAMA-VA'!J:J, 'Ratios_MARAMA-VA'!AA:AA, Z85) -> 0 | G85: =F85/E85 -> #DIV/0! | H85: 40.36991 | I85: =NP_Data[[#This Row],[2022 MARAMA-VA OSD Emissions (tpd)]]*NP_Data[[#This Row],[2032 Annual Emissions (Tons)]]/NP_Data[[#This Row],[2022 Annual Emiss Data Tool v1 Emissions (Tons)]] -> 0 | J85: 40.36991 | K85: =NP_Data[[#This Row],[2022 MARAMA-VA OSD Emissions (tpd)]]*NP_Data[[#This Row],[2038 Annual Emissions (Tons)]]/NP_Data[[#This Row],[2022 Annual Emiss Data Tool v1 Emissions (Tons)]] -> 0 | L85: {=_xlfn.SWITCH(A85, "District of Columbia", _xlfn.XLOOKUP(R85, '2015 O3 Growth Surrogates'!A:A, '2015 O3 Growth Surrogates'!H:H), "Maryland", _xlfn.XLOOKUP(R85, '2015 O3 Growth Surrogates'!A:A, '2015 O3 Growth Surrogates'!I:I), "Virginia", _xlfn.XLOOKUP(R85, '2015 O3 Growth Surrogates'!A:A, '2015 O3 Growth Surrogates'!J:J) )} -> Population | M85: {=_xlfn.SWITCH(L85, "Employment", INDEX('Coop GFs_CFs'!C:D, MATCH(B85,'Coop GFs_CFs'!B:B,0),1), "Population", INDEX('Coop GFs_CFs'!E:F, MATCH(B85,'Coop GFs_CFs'!B:B,0),1), "Household", INDEX('Coop GFs_CFs'!G:H, MATCH(B85,'Coop GFs_CFs'!B:B,0),1), "VMT", INDEX('Coop GFs_CFs'!I:J, MATCH(B85,'Coop GFs_CFs'!B:B,0),1), "Lane Mile", INDEX('Coop GFs_CFs'!K:L, MATCH(B85,'Coop GFs_CFs'!B:B,0),1), "Gas Sales", INDEX('Coop GFs_CFs'!M:N, MATCH(B85,'Coop GFs_CFs'!B:B,0),1), "No Growth", INDEX('Coop GFs_CFs'!O:P, MATCH(B85,'Coop GFs_CFs'!B:B,0),1) )} -> 1.098465 | N85: {=_xlfn.SWITCH(L85, "Employment", INDEX('Coop GFs_CFs'!C:D, MATCH(B85,'Coop GFs_CFs'!B:B,0),2), "Population", INDEX('Coop GFs_CFs'!E:F, MATCH(B85,'Coop GFs_CFs'!B:B,0),2), "Household", INDEX('Coop GFs_CFs'!G:H, MATCH(B85,'Coop GFs_CFs'!B:B,0),2), "VMT", INDEX('Coop GFs_CFs'!I:J, MATCH(B85,'Coop GFs_CFs'!B:B,0),2), "Lane Mile", INDEX('Coop GFs_CFs'!K:L, MATCH(B85,'Coop GFs_CFs'!B:B,0),2), "Gas Sales", INDEX('Coop GFs_CFs'!M:N, MATCH(B85,'Coop GFs_CFs'!B:B,0),2), "No Growth", INDEX('Coop GFs_CFs'!O:P, MATCH(B85,'Coop GFs_CFs'!B:B,0),2) )} -> 1.150447 | P85: =F85*M85 -> 0 | Q85: =F85*N85 -> 0 | R85: 2275070000 | S85: Mobile - Non-Road Equipment - Other | T85: Mobile Sources | U85: Aircraft | V85: Aircraft Auxiliary Power Units | W85: Total | X85: Airport | Z85: 2275070000-51013-NOx
A86: Virginia | B86: 51107 | C86: NOx | D86: 34.150912 | E86: =SUMIFS('Ratios_MARAMA-VA'!T:T, 'Ratios_MARAMA-VA'!AA:AA, Z86) -> 0 | F86: =SUMIFS('Ratios_MARAMA-VA'!J:J, 'Ratios_MARAMA-VA'!AA:AA, Z86) -> 0 | G86: =F86/E86 -> #DIV/0! | H86: 56.673439 | I86: =NP_Data[[#This Row],[2022 MARAMA-VA OSD Emissions (tpd)]]*NP_Data[[#This Row],[2032 Annual Emissions (Tons)]]/NP_Data[[#This Row],[2022 Annual Emiss Data Tool v1 Emissions (Tons)]] -> 0 | J86: 62.964037 | K86: =NP_Data[[#This Row],[2022 MARAMA-VA OSD Emissions (tpd)]]*NP_Data[[#This Row],[2038 Annual Emissions (Tons)]]/NP_Data[[#This Row],[2022 Annual Emiss Data Tool v1 Emissions (Tons)]] -> 0 | L86: {=_xlfn.SWITCH(A86, "District of Columbia", _xlfn.XLOOKUP(R86, '2015 O3 Growth Surrogates'!A:A, '2015 O3 Growth Surrogates'!H:H), "Maryland", _xlfn.XLOOKUP(R86, '2015 O3 Growth Surrogates'!A:A, '2015 O3 Growth Surrogates'!I:I), "Virginia", _xlfn.XLOOKUP(R86, '2015 O3 Growth Surrogates'!A:A, '2015 O3 Growth Surrogates'!J:J) )} -> Population | M86: {=_xlfn.SWITCH(L86, "Employment", INDEX('Coop GFs_CFs'!C:D, MATCH(B86,'Coop GFs_CFs'!B:B,0),1), "Population", INDEX('Coop GFs_CFs'!E:F, MATCH(B86,'Coop GFs_CFs'!B:B,0),1), "Household", INDEX('Coop GFs_CFs'!G:H, MATCH(B86,'Coop GFs_CFs'!B:B,0),1), "VMT", INDEX('Coop GFs_CFs'!I:J, MATCH(B86,'Coop GFs_CFs'!B:B,0),1), "Lane Mile", INDEX('Coop GFs_CFs'!K:L, MATCH(B86,'Coop GFs_CFs'!B:B,0),1), "Gas Sales", INDEX('Coop GFs_CFs'!M:N, MATCH(B86,'Coop GFs_CFs'!B:B,0),1), "No Growth", INDEX('Coop GFs_CFs'!O:P, MATCH(B86,'Coop GFs_CFs'!B:B,0),1) )} -> 1.1551128 | N86: {=_xlfn.SWITCH(L86, "Employment", INDEX('Coop GFs_CFs'!C:D, MATCH(B86,'Coop GFs_CFs'!B:B,0),2), "Population", INDEX('Coop GFs_CFs'!E:F, MATCH(B86,'Coop GFs_CFs'!B:B,0),2), "Household", INDEX('Coop GFs_CFs'!G:H, MATCH(B86,'Coop GFs_CFs'!B:B,0),2), "VMT", INDEX('Coop GFs_CFs'!I:J, MATCH(B86,'Coop GFs_CFs'!B:B,0),2), "Lane Mile", INDEX('Coop GFs_CFs'!K:L, MATCH(B86,'Coop GFs_CFs'!B:B,0),2), "Gas Sales", INDEX('Coop GFs_CFs'!M:N, MATCH(B86,'Coop GFs_CFs'!B:B,0),2), "No Growth", INDEX('Coop GFs_CFs'!O:P, MATCH(B86,'Coop GFs_CFs'!B:B,0),2) )} -> 1.1978534 | P86: =F86*M86 -> 0 | Q86: =F86*N86 -> 0 | R86: 2275070000 | S86: Mobile - Non-Road Equipment - Other | T86: Mobile Sources | U86: Aircraft | V86: Aircraft Auxiliary Power Units | W86: Total | X86: Airport | Z86: 2275070000-51107-NOx
A87: Virginia | B87: 51013 | C87: VOC | D87: 10.507484 | E87: =SUMIFS('Ratios_MARAMA-VA'!T:T, 'Ratios_MARAMA-VA'!AA:AA, Z87) -> 0 | F87: =SUMIFS('Ratios_MARAMA-VA'!J:J, 'Ratios_MARAMA-VA'!AA:AA, Z87) -> 0 | G87: =F87/E87 -> #DIV/0! | H87: 10.708177 | I87: 0.031020063 | J87: 10.708177 | K87: 0.031020063 | L87: {=_xlfn.SWITCH(A87, "District of Columbia", _xlfn.XLOOKUP(R87, '2015 O3 Growth Surrogates'!A:A, '2015 O3 Growth Surrogates'!H:H), "Maryland", _xlfn.XLOOKUP(R87, '2015 O3 Growth Surrogates'!A:A, '2015 O3 Growth Surrogates'!I:I), "Virginia", _xlfn.XLOOKUP(R87, '2015 O3 Growth Surrogates'!A:A, '2015 O3 Growth Surrogates'!J:J) )} -> Population | M87: {=_xlfn.SWITCH(L87, "Employment", INDEX('Coop GFs_CFs'!C:D, MATCH(B87,'Coop GFs_CFs'!B:B,0),1), "Population", INDEX('Coop GFs_CFs'!E:F, MATCH(B87,'Coop GFs_CFs'!B:B,0),1), "Household", INDEX('Coop GFs_CFs'!G:H, MATCH(B87,'Coop GFs_CFs'!B:B,0),1), "VMT", INDEX('Coop GFs_CFs'!I:J, MATCH(B87,'Coop GFs_CFs'!B:B,0),1), "Lane Mile", INDEX('Coop GFs_CFs'!K:L, MATCH(B87,'Coop GFs_CFs'!B:B,0),1), "Gas Sales", INDEX('Coop GFs_CFs'!M:N, MATCH(B87,'Coop GFs_CFs'!B:B,0),1), "No Growth", INDEX('Coop GFs_CFs'!O:P, MATCH(B87,'Coop GFs_CFs'!B:B,0),1) )} -> 1.098465 | N87: {=_xlfn.SWITCH(L87, "Employment", INDEX('Coop GFs_CFs'!C:D, MATCH(B87,'Coop GFs_CFs'!B:B,0),2), "Population", INDEX('Coop GFs_CFs'!E:F, MATCH(B87,'Coop GFs_CFs'!B:B,0),2), "Household", INDEX('Coop GFs_CFs'!G:H, MATCH(B87,'Coop GFs_CFs'!B:B,0),2), "VMT", INDEX('Coop GFs_CFs'!I:J, MATCH(B87,'Coop GFs_CFs'!B:B,0),2), "Lane Mile", INDEX('Coop GFs_CFs'!K:L, MATCH(B87,'Coop GFs_CFs'!B:B,0),2), "Gas Sales", INDEX('Coop GFs_CFs'!M:N, MATCH(B87,'Coop GFs_CFs'!B:B,0),2), "No Growth", INDEX('Coop GFs_CFs'!O:P, MATCH(B87,'Coop GFs_CFs'!B:B,0),2) )} -> 1.150447 | P87: =F87*M87 -> 0 | Q87: =F87*N87 -> 0 | R87: 2275070000 | S87: Mobile - Non-Road Equipment - Other | T87: Mobile Sources | U87: Aircraft | V87: Aircraft Auxiliary Power Units | W87: Total | X87: Airport | Z87: 2275070000-51013-VOC
A88: Virginia | B88: 51107 | C88: VOC | D88: 5.829441 | E88: =SUMIFS('Ratios_MARAMA-VA'!T:T, 'Ratios_MARAMA-VA'!AA:AA, Z88) -> 0 | F88: =SUMIFS('Ratios_MARAMA-VA'!J:J, 'Ratios_MARAMA-VA'!AA:AA, Z88) -> 0 | G88: =F88/E88 -> #DIV/0! | H88: 9.6739573 | I88: 0.028024076 | J88: 10.74774 | K88: 0.031134673 | L88: {=_xlfn.SWITCH(A88, "District of Columbia", _xlfn.XLOOKUP(R88, '2015 O3 Growth Surrogates'!A:A, '2015 O3 Growth Surrogates'!H:H), "Maryland", _xlfn.XLOOKUP(R88, '2015 O3 Growth Surrogates'!A:A, '2015 O3 Growth Surrogates'!I:I), "Virginia", _xlfn.XLOOKUP(R88, '2015 O3 Growth Surrogates'!A:A, '2015 O3 Growth Surrogates'!J:J) )} -> Population | M88: {=_xlfn.SWITCH(L88, "Employment", INDEX('Coop GFs_CFs'!C:D, MATCH(B88,'Coop GFs_CFs'!B:B,0),1), "Population", INDEX('Coop GFs_CFs'!E:F, MATCH(B88,'Coop GFs_CFs'!B:B,0),1), "Household", INDEX('Coop GFs_CFs'!G:H, MATCH(B88,'Coop GFs_CFs'!B:B,0),1), "VMT", INDEX('Coop GFs_CFs'!I:J, MATCH(B88,'Coop GFs_CFs'!B:B,0),1), "Lane Mile", INDEX('Coop GFs_CFs'!K:L, MATCH(B88,'Coop GFs_CFs'!B:B,0),1), "Gas Sales", INDEX('Coop GFs_CFs'!M:N, MATCH(B88,'Coop GFs_CFs'!B:B,0),1), "No Growth", INDEX('Coop GFs_CFs'!O:P, MATCH(B88,'Coop GFs_CFs'!B:B,0),1) )} -> 1.1551128 | N88: {=_xlfn.SWITCH(L88, "Employment", INDEX('Coop GFs_CFs'!C:D, MATCH(B88,'Coop GFs_CFs'!B:B,0),2), "Population", INDEX('Coop GFs_CFs'!E:F, MATCH(B88,'Coop GFs_CFs'!B:B,0),2), "Household", INDEX('Coop GFs_CFs'!G:H, MATCH(B88,'Coop GFs_CFs'!B:B,0),2), "VMT", INDEX('Coop GFs_CFs'!I:J, MATCH(B88,'Coop GFs_CFs'!B:B,0),2), "Lane Mile", INDEX('Coop GFs_CFs'!K:L, MATCH(B88,'Coop GFs_CFs'!B:B,0),2), "Gas Sales", INDEX('Coop GFs_CFs'!M:N, MATCH(B88,'Coop GFs_CFs'!B:B,0),2), "No Growth", INDEX('Coop GFs_CFs'!O:P, MATCH(B88,'Coop GFs_CFs'!B:B,0),2) )} -> 1.1978534 | P88: =F88*M88 -> 0 | Q88: =F88*N88 -> 0 | R88: 2275070000 | S88: Mobile - Non-Road Equipment - Other | T88: Mobile Sources | U88: Aircraft | V88: Aircraft Auxiliary Power Units | W88: Total | X88: Airport | Z88: 2275070000-51107-VOC
A89: Maryland | B89: 24009 | C89: NOx | D89: 0.84779087 | E89: =SUMIFS('Ratios_MARAMA-VA'!T:T, 'Ratios_MARAMA-VA'!AA:AA, Z89) -> 0.84767954 | F89: =SUMIFS('Ratios_MARAMA-VA'!J:J, 'Ratios_MARAMA-VA'!AA:AA, Z89) -> 0.0023096635 | G89: =F89/E89 -> 0.0027246894 | H89: 0.63834186 | I89: 0.0017392833 | J89: 0.5322573 | K89: 0.0014502358 | L89: {=_xlfn.SWITCH(A89, "District of Columbia", _xlfn.XLOOKUP(R89, '2015 O3 Growth Surrogates'!A:A, '2015 O3 Growth Surrogates'!H:H), "Maryland", _xlfn.XLOOKUP(R89, '2015 O3 Growth Surrogates'!A:A, '2015 O3 Growth Surrogates'!I:I), "Virginia", _xlfn.XLOOKUP(R89, '2015 O3 Growth Surrogates'!A:A, '2015 O3 Growth Surrogates'!J:J) )} -> No Growth | M89: {=_xlfn.SWITCH(L89, "Employment", INDEX('Coop GFs_CFs'!C:D, MATCH(B89,'Coop GFs_CFs'!B:B,0),1), "Population", INDEX('Coop GFs_CFs'!E:F, MATCH(B89,'Coop GFs_CFs'!B:B,0),1), "Household", INDEX('Coop GFs_CFs'!G:H, MATCH(B89,'Coop GFs_CFs'!B:B,0),1), "VMT", INDEX('Coop GFs_CFs'!I:J, MATCH(B89,'Coop GFs_CFs'!B:B,0),1), "Lane Mile", INDEX('Coop GFs_CFs'!K:L, MATCH(B89,'Coop GFs_CFs'!B:B,0),1), "Gas Sales", INDEX('Coop GFs_CFs'!M:N, MATCH(B89,'Coop GFs_CFs'!B:B,0),1), "No Growth", INDEX('Coop GFs_CFs'!O:P, MATCH(B89,'Coop GFs_CFs'!B:B,0),1) )} -> 1 | N89: {=_xlfn.SWITCH(L89, "Employment", INDEX('Coop GFs_CFs'!C:D, MATCH(B89,'Coop GFs_CFs'!B:B,0),2), "Population", INDEX('Coop GFs_CFs'!E:F, MATCH(B89,'Coop GFs_CFs'!B:B,0),2), "Household", INDEX('Coop GFs_CFs'!G:H, MATCH(B89,'Coop GFs_CFs'!B:B,0),2), "VMT", INDEX('Coop GFs_CFs'!I:J, MATCH(B89,'Coop GFs_CFs'!B:B,0),2), "Lane Mile", INDEX('Coop GFs_CFs'!K:L, MATCH(B89,'Coop GFs_CFs'!B:B,0),2), "Gas Sales", INDEX('Coop GFs_CFs'!M:N, MATCH(B89,'Coop GFs_CFs'!B:B,0),2), "No Growth", INDEX('Coop GFs_CFs'!O:P, MATCH(B89,'Coop GFs_CFs'!B:B,0),2) )} -> 1 | P89: =F89*M89 -> 0.0023096635 | Q89: =F89*N89 -> 0.0023096635 | R89: 2102001000 | S89: Fuel Comb - Industrial Boilers, ICEs - Coal | T89: Stationary Source Fuel Combustion | U89: Industrial | V89: Anthracite Coal | W89: Total: All Boiler Types | X89: Nonpoint | Z89: 2102001000-24009-NOx
A90: Maryland | B90: 24009 | C90: VOC | D90: 0.028259699 | E90: =SUMIFS('Ratios_MARAMA-VA'!T:T, 'Ratios_MARAMA-VA'!AA:AA, Z90) -> 0.028255988 | F90: =SUMIFS('Ratios_MARAMA-VA'!J:J, 'Ratios_MARAMA-VA'!AA:AA, Z90) -> 7.6988792e-05 | G90: =F90/E90 -> 0.0027246894 | H90: 0.021278065 | I90: 5.7976118e-05 | J90: 0.017741912 | K90: 4.83412e-05 | L90: {=_xlfn.SWITCH(A90, "District of Columbia", _xlfn.XLOOKUP(R90, '2015 O3 Growth Surrogates'!A:A, '2015 O3 Growth Surrogates'!H:H), "Maryland", _xlfn.XLOOKUP(R90, '2015 O3 Growth Surrogates'!A:A, '2015 O3 Growth Surrogates'!I:I), "Virginia", _xlfn.XLOOKUP(R90, '2015 O3 Growth Surrogates'!A:A, '2015 O3 Growth Surrogates'!J:J) )} -> No Growth | M90: {=_xlfn.SWITCH(L90, "Employment", INDEX('Coop GFs_CFs'!C:D, MATCH(B90,'Coop GFs_CFs'!B:B,0),1), "Population", INDEX('Coop GFs_CFs'!E:F, MATCH(B90,'Coop GFs_CFs'!B:B,0),1), "Household", INDEX('Coop GFs_CFs'!G:H, MATCH(B90,'Coop GFs_CFs'!B:B,0),1), "VMT", INDEX('Coop GFs_CFs'!I:J, MATCH(B90,'Coop GFs_CFs'!B:B,0),1), "Lane Mile", INDEX('Coop GFs_CFs'!K:L, MATCH(B90,'Coop GFs_CFs'!B:B,0),1), "Gas Sales", INDEX('Coop GFs_CFs'!M:N, MATCH(B90,'Coop GFs_CFs'!B:B,0),1), "No Growth", INDEX('Coop GFs_CFs'!O:P, MATCH(B90,'Coop GFs_CFs'!B:B,0),1) )} -> 1 | N90: {=_xlfn.SWITCH(L90, "Employment", INDEX('Coop GFs_CFs'!C:D, MATCH(B90,'Coop GFs_CFs'!B:B,0),2), "Population", INDEX('Coop GFs_CFs'!E:F, MATCH(B90,'Coop GFs_CFs'!B:B,0),2), "Household", INDEX('Coop GFs_CFs'!G:H, MATCH(B90,'Coop GFs_CFs'!B:B,0),2), "VMT", INDEX('Coop GFs_CFs'!I:J, MATCH(B90,'Coop GFs_CFs'!B:B,0),2), "Lane Mile", INDEX('Coop GFs_CFs'!K:L, MATCH(B90,'Coop GFs_CFs'!B:B,0),2), "Gas Sales", INDEX('Coop GFs_CFs'!M:N, MATCH(B90,'Coop GFs_CFs'!B:B,0),2), "No Growth", INDEX('Coop GFs_CFs'!O:P, MATCH(B90,'Coop GFs_CFs'!B:B,0),2) )} -> 1 | P90: =F90*M90 -> 7.6988792e-05 | Q90: =F90*N90 -> 7.6988792e-05 | R90: 2102001000 | S90: Fuel Comb - Industrial Boilers, ICEs - Coal | T90: Stationary Source Fuel Combustion | U90: Industrial | V90: Anthracite Coal | W90: Total: All Boiler Types | X90: Nonpoint | Z90: 2102001000-24009-VOC
A91: Maryland | B91: 24017 | C91: NOx | D91: 1.2353971 | E91: =SUMIFS('Ratios_MARAMA-VA'!T:T, 'Ratios_MARAMA-VA'!AA:AA, Z91) -> 1.2352349 | F91: =SUMIFS('Ratios_MARAMA-VA'!J:J, 'Ratios_MARAMA-VA'!AA:AA, Z91) -> 0.0033656315 | G91: =F91/E91 -> 0.0027246894 | H91: 0.93018897 | I91: 0.002534476 | J91: 0.77560301 | K91: 0.0021132773 | L91: {=_xlfn.SWITCH(A91, "District of Columbia", _xlfn.XLOOKUP(R91, '2015 O3 Growth Surrogates'!A:A, '2015 O3 Growth Surrogates'!H:H), "Maryland", _xlfn.XLOOKUP(R91, '2015 O3 Growth Surrogates'!A:A, '2015 O3 Growth Surrogates'!I:I), "Virginia", _xlfn.XLOOKUP(R91, '2015 O3 Growth Surrogates'!A:A, '2015 O3 Growth Surrogates'!J:J) )} -> No Growth | M91: {=_xlfn.SWITCH(L91, "Employment", INDEX('Coop GFs_CFs'!C:D, MATCH(B91,'Coop GFs_CFs'!B:B,0),1), "Population", INDEX('Coop GFs_CFs'!E:F, MATCH(B91,'Coop GFs_CFs'!B:B,0),1), "Household", INDEX('Coop GFs_CFs'!G:H, MATCH(B91,'Coop GFs_CFs'!B:B,0),1), "VMT", INDEX('Coop GFs_CFs'!I:J, MATCH(B91,'Coop GFs_CFs'!B:B,0),1), "Lane Mile", INDEX('Coop GFs_CFs'!K:L, MATCH(B91,'Coop GFs_CFs'!B:B,0),1), "Gas Sales", INDEX('Coop GFs_CFs'!M:N, MATCH(B91,'Coop GFs_CFs'!B:B,0),1), "No Growth", INDEX('Coop GFs_CFs'!O:P, MATCH(B91,'Coop GFs_CFs'!B:B,0),1) )} -> 1 | N91: {=_xlfn.SWITCH(L91, "Employment", INDEX('Coop GFs_CFs'!C:D, MATCH(B91,'Coop GFs_CFs'!B:B,0),2), "Population", INDEX('Coop GFs_CFs'!E:F, MATCH(B91,'Coop GFs_CFs'!B:B,0),2), "Household", INDEX('Coop GFs_CFs'!G:H, MATCH(B91,'Coop GFs_CFs'!B:B,0),2), "VMT", INDEX('Coop GFs_CFs'!I:J, MATCH(B91,'Coop GFs_CFs'!B:B,0),2), "Lane Mile", INDEX('Coop GFs_CFs'!K:L, MATCH(B91,'Coop GFs_CFs'!B:B,0),2), "Gas Sales", INDEX('Coop GFs_CFs'!M:N, MATCH(B91,'Coop GFs_CFs'!B:B,0),2), "No Growth", INDEX('Coop GFs_CFs'!O:P, MATCH(B91,'Coop GFs_CFs'!B:B,0),2) )} -> 1 | P91: =F91*M91 -> 0.0033656315 | Q91: =F91*N91 -> 0.0033656315 | R91: 2102001000 | S91: Fuel Comb - Industrial Boilers, ICEs - Coal | T91: Stationary Source Fuel Combustion | U91: Industrial | V91: Anthracite Coal | W91: Total: All Boiler Types | X91: Nonpoint | Z91: 2102001000-24017-NOx
A92: Maryland | B92: 24017 | C92: VOC | D92: 0.041179905 | E92: =SUMIFS('Ratios_MARAMA-VA'!T:T, 'Ratios_MARAMA-VA'!AA:AA, Z92) -> 0.041174497 | F92: =SUMIFS('Ratios_MARAMA-VA'!J:J, 'Ratios_MARAMA-VA'!AA:AA, Z92) -> 0.00011218772 | G92: =F92/E92 -> 0.0027246894 | H92: 0.031006299 | I92: 8.4482534e-05 | J92: 0.025853434 | K92: 7.0442577e-05 | L92: {=_xlfn.SWITCH(A92, "District of Columbia", _xlfn.XLOOKUP(R92, '2015 O3 Growth Surrogates'!A:A, '2015 O3 Growth Surrogates'!H:H), "Maryland", _xlfn.XLOOKUP(R92, '2015 O3 Growth Surrogates'!A:A, '2015 O3 Growth Surrogates'!I:I), "Virginia", _xlfn.XLOOKUP(R92, '2015 O3 Growth Surrogates'!A:A, '2015 O3 Growth Surrogates'!J:J) )} -> No Growth | M92: {=_xlfn.SWITCH(L92, "Employment", INDEX('Coop GFs_CFs'!C:D, MATCH(B92,'Coop GFs_CFs'!B:B,0),1), "Population", INDEX('Coop GFs_CFs'!E:F, MATCH(B92,'Coop GFs_CFs'!B:B,0),1), "Household", INDEX('Coop GFs_CFs'!G:H, MATCH(B92,'Coop GFs_CFs'!B:B,0),1), "VMT", INDEX('Coop GFs_CFs'!I:J, MATCH(B92,'Coop GFs_CFs'!B:B,0),1), "Lane Mile", INDEX('Coop GFs_CFs'!K:L, MATCH(B92,'Coop GFs_CFs'!B:B,0),1), "Gas Sales", INDEX('Coop GFs_CFs'!M:N, MATCH(B92,'Coop GFs_CFs'!B:B,0),1), "No Growth", INDEX('Coop GFs_CFs'!O:P, MATCH(B92,'Coop GFs_CFs'!B:B,0),1) )} -> 1 | N92: {=_xlfn.SWITCH(L92, "Employment", INDEX('Coop GFs_CFs'!C:D, MATCH(B92,'Coop GFs_CFs'!B:B,0),2), "Population", INDEX('Coop GFs_CFs'!E:F, MATCH(B92,'Coop GFs_CFs'!B:B,0),2), "Household", INDEX('Coop GFs_CFs'!G:H, MATCH(B92,'Coop GFs_CFs'!B:B,0),2), "VMT", INDEX('Coop GFs_CFs'!I:J, MATCH(B92,'Coop GFs_CFs'!B:B,0),2), "Lane Mile", INDEX('Coop GFs_CFs'!K:L, MATCH(B92,'Coop GFs_CFs'!B:B,0),2), "Gas Sales", INDEX('Coop GFs_CFs'!M:N, MATCH(B92,'Coop GFs_CFs'!B:B,0),2), "No Growth", INDEX('Coop GFs_CFs'!O:P, MATCH(B92,'Coop GFs_CFs'!B:B,0),2) )} -> 1 | P92: =F92*M92 -> 0.00011218772 | Q92: =F92*N92 -> 0.00011218772 | R92: 2102001000 | S92: Fuel Comb - Industrial Boilers, ICEs - Coal | T92: Stationary Source Fuel Combustion | U92: Industrial | V92: Anthracite Coal | W92: Total: All Boiler Types | X92: Nonpoint | Z92: 2102001000-24017-VOC
A93: Maryland | B93: 24021 | C93: NOx | D93: 5.1192807 | E93: =SUMIFS('Ratios_MARAMA-VA'!T:T, 'Ratios_MARAMA-VA'!AA:AA, Z93) -> 5.1186085 | F93: =SUMIFS('Ratios_MARAMA-VA'!J:J, 'Ratios_MARAMA-VA'!AA:AA, Z93) -> 0.013946618 | G93: =F93/E93 -> 0.0027246894 | H93: 3.8545487 | I93: 0.010502448 | J93: 3.2139702 | K93: 0.0087570704 | L93: {=_xlfn.SWITCH(A93, "District of Columbia", _xlfn.XLOOKUP(R93, '2015 O3 Growth Surrogates'!A:A, '2015 O3 Growth Surrogates'!H:H), "Maryland", _xlfn.XLOOKUP(R93, '2015 O3 Growth Surrogates'!A:A, '2015 O3 Growth Surrogates'!I:I), "Virginia", _xlfn.XLOOKUP(R93, '2015 O3 Growth Surrogates'!A:A, '2015 O3 Growth Surrogates'!J:J) )} -> No Growth | M93: {=_xlfn.SWITCH(L93, "Employment", INDEX('Coop GFs_CFs'!C:D, MATCH(B93,'Coop GFs_CFs'!B:B,0),1), "Population", INDEX('Coop GFs_CFs'!E:F, MATCH(B93,'Coop GFs_CFs'!B:B,0),1), "Household", INDEX('Coop GFs_CFs'!G:H, MATCH(B93,'Coop GFs_CFs'!B:B,0),1), "VMT", INDEX('Coop GFs_CFs'!I:J, MATCH(B93,'Coop GFs_CFs'!B:B,0),1), "Lane Mile", INDEX('Coop GFs_CFs'!K:L, MATCH(B93,'Coop GFs_CFs'!B:B,0),1), "Gas Sales", INDEX('Coop GFs_CFs'!M:N, MATCH(B93,'Coop GFs_CFs'!B:B,0),1), "No Growth", INDEX('Coop GFs_CFs'!O:P, MATCH(B93,'Coop GFs_CFs'!B:B,0),1) )} -> 1 | N93: {=_xlfn.SWITCH(L93, "Employment", INDEX('Coop GFs_CFs'!C:D, MATCH(B93,'Coop GFs_CFs'!B:B,0),2), "Population", INDEX('Coop GFs_CFs'!E:F, MATCH(B93,'Coop GFs_CFs'!B:B,0),2), "Household", INDEX('Coop GFs_CFs'!G:H, MATCH(B93,'Coop GFs_CFs'!B:B,0),2), "VMT", INDEX('Coop GFs_CFs'!I:J, MATCH(B93,'Coop GFs_CFs'!B:B,0),2), "Lane Mile", INDEX('Coop GFs_CFs'!K:L, MATCH(B93,'Coop GFs_CFs'!B:B,0),2), "Gas Sales", INDEX('Coop GFs_CFs'!M:N, MATCH(B93,'Coop GFs_CFs'!B:B,0),2), "No Growth", INDEX('Coop GFs_CFs'!O:P, MATCH(B93,'Coop GFs_CFs'!B:B,0),2) )} -> 1 | P93: =F93*M93 -> 0.013946618 | Q93: =F93*N93 -> 0.013946618 | R93: 2102001000 | S93: Fuel Comb - Industrial Boilers, ICEs - Coal | T93: Stationary Source Fuel Combustion | U93: Industrial | V93: Anthracite Coal | W93: Total: All Boiler Types | X93: Nonpoint | Z93: 2102001000-24021-NOx
A94: Maryland | B94: 24021 | C94: VOC | D94: 0.17064269 | E94: =SUMIFS('Ratios_MARAMA-VA'!T:T, 'Ratios_MARAMA-VA'!AA:AA, Z94) -> 0.17062028 | F94: =SUMIFS('Ratios_MARAMA-VA'!J:J, 'Ratios_MARAMA-VA'!AA:AA, Z94) -> 0.00046488728 | G94: =F94/E94 -> 0.0027246894 | H94: 0.12848496 | I94: 0.0003500816 | J94: 0.10713234 | K94: 0.00029190235 | L94: {=_xlfn.SWITCH(A94, "District of Columbia", _xlfn.XLOOKUP(R94, '2015 O3 Growth Surrogates'!A:A, '2015 O3 Growth Surrogates'!H:H), "Maryland", _xlfn.XLOOKUP(R94, '2015 O3 Growth Surrogates'!A:A, '2015 O3 Growth Surrogates'!I:I), "Virginia", _xlfn.XLOOKUP(R94, '2015 O3 Growth Surrogates'!A:A, '2015 O3 Growth Surrogates'!J:J) )} -> No Growth | M94: {=_xlfn.SWITCH(L94, "Employment", INDEX('Coop GFs_CFs'!C:D, MATCH(B94,'Coop GFs_CFs'!B:B,0),1), "Population", INDEX('Coop GFs_CFs'!E:F, MATCH(B94,'Coop GFs_CFs'!B:B,0),1), "Household", INDEX('Coop GFs_CFs'!G:H, MATCH(B94,'Coop GFs_CFs'!B:B,0),1), "VMT", INDEX('Coop GFs_CFs'!I:J, MATCH(B94,'Coop GFs_CFs'!B:B,0),1), "Lane Mile", INDEX('Coop GFs_CFs'!K:L, MATCH(B94,'Coop GFs_CFs'!B:B,0),1), "Gas Sales", INDEX('Coop GFs_CFs'!M:N, MATCH(B94,'Coop GFs_CFs'!B:B,0),1), "No Growth", INDEX('Coop GFs_CFs'!O:P, MATCH(B94,'Coop GFs_CFs'!B:B,0),1) )} -> 1 | N94: {=_xlfn.SWITCH(L94, "Employment", INDEX('Coop GFs_CFs'!C:D, MATCH(B94,'Coop GFs_CFs'!B:B,0),2), "Population", INDEX('Coop GFs_CFs'!E:F, MATCH(B94,'Coop GFs_CFs'!B:B,0),2), "Household", INDEX('Coop GFs_CFs'!G:H, MATCH(B94,'Coop GFs_CFs'!B:B,0),2), "VMT", INDEX('Coop GFs_CFs'!I:J, MATCH(B94,'Coop GFs_CFs'!B:B,0),2), "Lane Mile", INDEX('Coop GFs_CFs'!K:L, MATCH(B94,'Coop GFs_CFs'!B:B,0),2), "Gas Sales", INDEX('Coop GFs_CFs'!M:N, MATCH(B94,'Coop GFs_CFs'!B:B,0),2), "No Growth", INDEX('Coop GFs_CFs'!O:P, MATCH(B94,'Coop GFs_CFs'!B:B,0),2) )} -> 1 | P94: =F94*M94 -> 0.00046488728 | Q94: =F94*N94 -> 0.00046488728 | R94: 2102001000 | S94: Fuel Comb - Industrial Boilers, ICEs - Coal | T94: Stationary Source Fuel Combustion | U94: Industrial | V94: Anthracite Coal | W94: Total: All Boiler Types | X94: Nonpoint | Z94: 2102001000-24021-VOC
