Workbook
Name Annual_Rail_Temp_Alloc_Episodic_212817728_01aug2025_v0: 'Ratios_MARAMA-VA'!$M$1781:$X$1864
Name Annual_Rail_Temp_Alloc_Episodic_212817728_01aug2025_v0: 'Ratios_MARAMA-VA+3 Airports QP'!$O$1781:$Z$1864
Name OS_Rail_Temp_Alloc_Episodic_212546932_01aug2025_v0: 'Ratios_MARAMA-VA'!$A$1781:$L$1864
Name OS_Rail_Temp_Alloc_Episodic_212546932_01aug2025_v0: 'Ratios_MARAMA-VA+3 Airports QP'!$A$1781:$N$1864

Sheet Emissions Summary-EMP
B1: Ozone Season Day Emissions (Tons per day)
B2: (2015 Ozone NAAAQS Redesignation Request & Maintenance Plan)
B4: Row Labels | C4: 2022 | D4: 2032 | E4: 2038
B5: NOx | C5: 27.21912 | D5: 26.392752 | E5: 26.22293
B6: Airport | C6: 0.12860678 | D6: 0.13509917 | E6: 0.1379145
B7: 11001 | C7: 4.9549415e-05 | D7: 4.9561032e-05 | E7: 4.9561032e-05
B8: 24009 | C8: 0.00029828575 | D8: 0.00029835568 | E8: 0.00029835568
B9: 24017 | C9: 0.010781854 | D9: 0.010784381 | E9: 0.010784381
B10: 24021 | C10: 0.0209551 | D10: 0.022789576 | E10: 0.022789576
B11: 24031 | C11: 0.0064179195 | D11: 0.0066792819 | E11: 0.0066792819
B12: 24033 | C12: 0.0044412704 | D12: 0.0046464665 | E12: 0.0046541952
B13: 51013 | C13: 0 | D13: 0 | E13: 0
B14: 51107 | C14: 0.034827084 | D14: 0.036615565 | E14: 0.038175474
B15: 51683 | C15: 0.050835718 | D15: 0.053235983 | E15: 0.054483673
B16: Marine | C16: 1.1827119 | D16: 1.1832264 | E16: 1.1986486
B17: 11001 | C17: 0.28227805 | D17: 0.29637848 | E17: 0.30738623
B18: 24009 | C18: 0.60465335 | D18: 0.57904386 | E18: 0.57368955
B19: 24017 | C19: 0.14192494 | D19: 0.14413269 | E19: 0.14653458
B20: 24033 | C20: 0.021318178 | D20: 0.022622272 | E20: 0.023607095
B21: 51013 | C21: 0 | D21: 0 | E21: 0
B22: 51059 | C22: 0.025865682 | D22: 0.025821179 | E22: 0.025972167
B23: 51153 | C23: 0.0072539976 | D23: 0.0072415169 | E23: 0.0072838613
B24: 51510 | C24: 0.099417671 | D24: 0.10798639 | E24: 0.11417509
B25: Nonpoint | C25: 21.414498 | D25: 20.339897 | E25: 19.870613
B26: 11001 | C26: 1.5050962 | D26: 1.3551527 | E26: 1.2881208
B27: 24009 | C27: 0.21111197 | D27: 0.18726826 | E27: 0.17763399
B28: 24017 | C28: 0.83152538 | D28: 0.78776603 | E28: 0.77070025
B29: 24021 | C29: 1.2595662 | D29: 1.1503067 | E29: 1.1015673
B30: 24031 | C30: 3.3525127 | D30: 3.056624 | E30: 2.916531
B31: 24033 | C31: 3.0351237 | D31: 2.7636826 | E31: 2.6390002
B32: 51013 | C32: 0.88168345 | D32: 0.84689334 | E32: 0.82785378
B33: 51059 | C33: 5.1702294 | D33: 5.0674802 | E33: 5.0207824
B34: 51107 | C34: 2.1483552 | D34: 2.1373196 | E34: 2.1457323
B35: 51153 | C35: 1.8042205 | D35: 1.7960884 | E35: 1.8021333
B36: 51510 | C36: 0.61967879 | D36: 0.60210358 | E36: 0.59353449
B37: 51600 | C37: 0.18115926 | D37: 0.17560719 | E37: 0.17272764
... B40: 51685 | C40: 0.090491568 | D40: 0.091393296 | E40: 0.09232882
B41: Rail | C41: 4.2180036 | D41: 4.4592297 | E41: 4.7404536
B42: 11001 | C42: 0.74552445 | D42: 0.75249512 | E42: 0.79022828
B43: 24017 | C43: 0.0046888784 | D43: 0.004702945 | E43: 0.0050311665
...

Sheet Emissions Summary-Coop Forecast
B1: Ozone Season Day Emissions (Tons per day)
B2: (2015 Ozone NAAAQS Redesignation Request & Maintenance Plan)
B4: Row Labels | C4: 2022 | D4: 2032 | E4: 2038
B5: NOx | C5: 27.21912 | D5: 27.8596 | E5: 28.61126
B6: Airport | C6: 0.12860678 | D6: 0.13465622 | E6: 0.13575401
B7: 11001 | C7: 4.9549415e-05 | D7: 5.2928895e-05 | E7: 5.5012412e-05
B8: 24009 | C8: 0.00029828575 | D8: 0.00029835568 | E8: 0.00029835568
B9: 24017 | C9: 0.010781854 | D9: 0.010784381 | E9: 0.010784381
B10: 24021 | C10: 0.0209551 | D10: 0.022789576 | E10: 0.022789576
B11: 24031 | C11: 0.0064179195 | D11: 0.0066792819 | E11: 0.0066792819
B12: 24033 | C12: 0.0044412704 | D12: 0.0046464665 | E12: 0.0046541952
B13: 51013 | C13: 0 | D13: 0 | E13: 0
B14: 51107 | C14: 0.034827084 | D14: 0.037108992 | E14: 0.037737762
B15: 51683 | C15: 0.050835718 | D15: 0.052296237 | E15: 0.052755445
B16: Marine | C16: 1.1827119 | D16: 1.2072326 | E16: 1.2294874
B17: 11001 | C17: 0.28227805 | D17: 0.30153061 | E17: 0.3134002
B18: 24009 | C18: 0.60465335 | D18: 0.57904386 | E18: 0.57368955
B19: 24017 | C19: 0.14192494 | D19: 0.14413269 | E19: 0.14653458
B20: 24033 | C20: 0.021318178 | D20: 0.022622272 | E20: 0.023607095
B21: 51013 | C21: 0 | D21: 0 | E21: 0
B22: 51059 | C22: 0.025865682 | D22: 0.027566943 | E22: 0.028350077
B23: 51153 | C23: 0.0072539976 | D23: 0.0079381703 | E23: 0.0081520102
B24: 51510 | C24: 0.099417671 | D24: 0.12439807 | E24: 0.13575394
B25: Nonpoint | C25: 21.414498 | D25: 21.636769 | E25: 22.099379
B26: 11001 | C26: 1.5050962 | D26: 1.3502531 | E26: 1.3508784
B27: 24009 | C27: 0.21111197 | D27: 0.20944278 | E27: 0.21160761
B28: 24017 | C28: 0.83152538 | D28: 0.85814841 | E28: 0.87622346
B29: 24021 | C29: 1.2595662 | D29: 1.3374108 | E29: 1.3808745
B30: 24031 | C30: 3.3525127 | D30: 3.3621009 | E30: 3.46314
B31: 24033 | C31: 3.0351237 | D31: 3.044722 | E31: 3.1180728
B32: 51013 | C32: 0.88168345 | D32: 0.93560432 | E32: 0.97486747
B33: 51059 | C33: 5.1702294 | D33: 5.4293007 | E33: 5.5371927
B34: 51107 | C34: 2.1483552 | D34: 2.1389968 | E34: 2.1688357
B35: 51153 | C35: 1.8042205 | D35: 1.7901846 | E35: 1.8151182
B36: 51510 | C36: 0.61967879 | D36: 0.58872986 | E36: 0.60540734
B37: 51600 | C37: 0.18115926 | D37: 0.1752442 | E37: 0.17643402
... B40: 51685 | C40: 0.090491568 | D40: 0.088917284 | E40: 0.089056299
B41: Rail | C41: 4.2180036 | D41: 4.605642 | E41: 4.8713395
B42: 11001 | C42: 0.74552445 | D42: 0.82945253 | E42: 0.86138205
B43: 24017 | C43: 0.0046888784 | D43: 0.004702945 | E43: 0.0050311665
...

Sheet NP-NRModel-MAR-WILDFIRES Mo (2)
A1: State | B1: FIPS | C1: Pollutant | D1: 2022 Annual Emiss Data Tool v1 Emissions (Tons) | E1: 2022 Annual MARAMA-VA Emissions (Tons) | F1: 2022 MARAMA-VA OSD Emissions (tpd) | G1: 2022 OSD/Annual Ratio | H1: 2032 Annual Emissions (Tons) | I1: 2032 OSD Emissions (tpd) | J1: 2038 Annual Emissions (Tons) | K1: 2038 OSD Emissions (tpd) | L1: Coop Growth Surrogate | M1: Coop 2032 Growth Factor | N1: Coop 2038 Growth Factor | O1: 2032/38 Control Factor | P1: 2032 Coop OSD Emissions (tpd) | Q1: 2038 Coop OSD Emissions (tpd) | R1: SCC Code | S1: Sector | T1: SCC Level 1 | U1: SCC Level 2 | V1: SCC Level 3 | W1: SCC Level 4 | X1: Source Description | Y1: SCC-Fips-Pollutant combos missing in EMP, but present in tab "Ratios_MARAMA-VA" | Z1: Helper column for unique key | AA1: Column1
A2: Maryland | B2: 24017 | C2: NOx | D2: 2.791654 | E2: =SUMIFS('Ratios_MARAMA-VA'!T:T, 'Ratios_MARAMA-VA'!AA:AA, Z2) -> 2.7909996 | F2: =SUMIFS('Ratios_MARAMA-VA'!J:J, 'Ratios_MARAMA-VA'!AA:AA, Z2) -> 0.0080851284 | G2: =F2/E2 -> 0.0028968576 | H2: 2.791654 | I2: 0.008087024 | J2: 2.791654 | K2: 0.008087024 | L2: {=_xlfn.SWITCH(A2, "District of Columbia", _xlfn.XLOOKUP(R2, '2015 O3 Growth Surrogates'!A:A, '2015 O3 Growth Surrogates'!H:H), "Maryland", _xlfn.XLOOKUP(R2, '2015 O3 Growth Surrogates'!A:A, '2015 O3 Growth Surrogates'!I:I), "Virginia", _xlfn.XLOOKUP(R2, '2015 O3 Growth Surrogates'!A:A, '2015 O3 Growth Surrogates'!J:J) )} -> EPA EMP | M2: {=_xlfn.SWITCH(L2, "Employment", INDEX('Coop GFs_CFs'!C:D, MATCH(B2,'Coop GFs_CFs'!B:B,0),1), "Population", INDEX('Coop GFs_CFs'!E:F, MATCH(B2,'Coop GFs_CFs'!B:B,0),1), "Household", INDEX('Coop GFs_CFs'!G:H, MATCH(B2,'Coop GFs_CFs'!B:B,0),1), "VMT", INDEX('Coop GFs_CFs'!I:J, MATCH(B2,'Coop GFs_CFs'!B:B,0),1), "Lane Mile", INDEX('Coop GFs_CFs'!K:L, MATCH(B2,'Coop GFs_CFs'!B:B,0),1), "Gas Sales", INDEX('Coop GFs_CFs'!M:N, MATCH(B2,'Coop GFs_CFs'!B:B,0),1), "No Growth", INDEX('Coop GFs_CFs'!O:P, MATCH(B2,'Coop GFs_CFs'!B:B,0),1) )} -> #N/A | N2: {=_xlfn.SWITCH(L2, "Employment", INDEX('Coop GFs_CFs'!C:D, MATCH(B2,'Coop GFs_CFs'!B:B,0),2), "Population", INDEX('Coop GFs_CFs'!E:F, MATCH(B2,'Coop GFs_CFs'!B:B,0),2), "Household", INDEX('Coop GFs_CFs'!G:H, MATCH(B2,'Coop GFs_CFs'!B:B,0),2), "VMT", INDEX('Coop GFs_CFs'!I:J, MATCH(B2,'Coop GFs_CFs'!B:B,0),2), "Lane Mile", INDEX('Coop GFs_CFs'!K:L, MATCH(B2,'Coop GFs_CFs'!B:B,0),2), "Gas Sales", INDEX('Coop GFs_CFs'!M:N, MATCH(B2,'Coop GFs_CFs'!B:B,0),2), "No Growth", INDEX('Coop GFs_CFs'!O:P, MATCH(B2,'Coop GFs_CFs'!B:B,0),2) )} -> #N/A | P2: =I2 -> 0.008087024 | Q2: =K2 -> 0.008087024 | R2: 2275001000 | S2: Mobile - Aircraft | T2: Mobile Sources | U2: Aircraft | V2: Military Aircraft | W2: Total | X2: Airport | Z2: 2275001000-24017-NOx
A3: Maryland | B3: 24021 | C3: NOx | D3: 3.372317 | E3: =SUMIFS('Ratios_MARAMA-VA'!T:T, 'Ratios_MARAMA-VA'!AA:AA, Z3) -> 3.3715265 | F3: =SUMIFS('Ratios_MARAMA-VA'!J:J, 'Ratios_MARAMA-VA'!AA:AA, Z3) -> 0.0097668321 | G3: =F3/E3 -> 0.0028968576 | H3: 3.372317 | I3: 0.009769122 | J3: 3.372317 | K3: 0.009769122 | L3: {=_xlfn.SWITCH(A3, "District of Columbia", _xlfn.XLOOKUP(R3, '2015 O3 Growth Surrogates'!A:A, '2015 O3 Growth Surrogates'!H:H), "Maryland", _xlfn.XLOOKUP(R3, '2015 O3 Growth Surrogates'!A:A, '2015 O3 Growth Surrogates'!I:I), "Virginia", _xlfn.XLOOKUP(R3, '2015 O3 Growth Surrogates'!A:A, '2015 O3 Growth Surrogates'!J:J) )} -> EPA EMP | M3: {=_xlfn.SWITCH(L3, "Employment", INDEX('Coop GFs_CFs'!C:D, MATCH(B3,'Coop GFs_CFs'!B:B,0),1), "Population", INDEX('Coop GFs_CFs'!E:F, MATCH(B3,'Coop GFs_CFs'!B:B,0),1), "Household", INDEX('Coop GFs_CFs'!G:H, MATCH(B3,'Coop GFs_CFs'!B:B,0),1), "VMT", INDEX('Coop GFs_CFs'!I:J, MATCH(B3,'Coop GFs_CFs'!B:B,0),1), "Lane Mile", INDEX('Coop GFs_CFs'!K:L, MATCH(B3,'Coop GFs_CFs'!B:B,0),1), "Gas Sales", INDEX('Coop GFs_CFs'!M:N, MATCH(B3,'Coop GFs_CFs'!B:B,0),1), "No Growth", INDEX('Coop GFs_CFs'!O:P, MATCH(B3,'Coop GFs_CFs'!B:B,0),1) )} -> #N/A | N3: {=_xlfn.SWITCH(L3, "Employment", INDEX('Coop GFs_CFs'!C:D, MATCH(B3,'Coop GFs_CFs'!B:B,0),2), "Population", INDEX('Coop GFs_CFs'!E:F, MATCH(B3,'Coop GFs_CFs'!B:B,0),2), "Household", INDEX('Coop GFs_CFs'!G:H, MATCH(B3,'Coop GFs_CFs'!B:B,0),2), "VMT", INDEX('Coop GFs_CFs'!I:J, MATCH(B3,'Coop GFs_CFs'!B:B,0),2), "Lane Mile", INDEX('Coop GFs_CFs'!K:L, MATCH(B3,'Coop GFs_CFs'!B:B,0),2), "Gas Sales", INDEX('Coop GFs_CFs'!M:N, MATCH(B3,'Coop GFs_CFs'!B:B,0),2), "No Growth", INDEX('Coop GFs_CFs'!O:P, MATCH(B3,'Coop GFs_CFs'!B:B,0),2) )} -> #N/A | P3: =I3 -> 0.009769122 | Q3: =K3 -> 0.009769122 | R3: 2275001000 | S3: Mobile - Aircraft | T3: Mobile Sources | U3: Aircraft | V3: Military Aircraft | W3: Total | X3: Airport | Z3: 2275001000-24021-NOx
A4: Maryland | B4: 24033 | C4: NOx | D4: 283.1295 | E4: =SUMIFS('Ratios_MARAMA-VA'!T:T, 'Ratios_MARAMA-VA'!AA:AA, Z4) -> 0.33491988 | F4: =SUMIFS('Ratios_MARAMA-VA'!J:J, 'Ratios_MARAMA-VA'!AA:AA, Z4) -> 0.00097021518 | G4: =F4/E4 -> 0.0028968576 | H4: 283.1295 | I4: =NP_Data[[#This Row],[2022 MARAMA-VA OSD Emissions (tpd)]]*NP_Data[[#This Row],[Coop 2032 Growth Factor]] -> 0.00097021518 | J4: 283.1295 | K4: =NP_Data[[#This Row],[2022 MARAMA-VA OSD Emissions (tpd)]]*NP_Data[[#This Row],[Coop 2038 Growth Factor]] -> 0.00097021518 | L4: {=_xlfn.SWITCH(A4, "District of Columbia", _xlfn.XLOOKUP(R4, '2015 O3 Growth Surrogates'!A:A, '2015 O3 Growth Surrogates'!H:H), "Maryland", _xlfn.XLOOKUP(R4, '2015 O3 Growth Surrogates'!A:A, '2015 O3 Growth Surrogates'!I:I), "Virginia", _xlfn.XLOOKUP(R4, '2015 O3 Growth Surrogates'!A:A, '2015 O3 Growth Surrogates'!J:J) )} -> EPA EMP | M4: =NP_Data[[#This Row],[2032 Annual Emissions (Tons)]]/NP_Data[[#This Row],[2022 Annual Emiss Data Tool v1 Emissions (Tons)]] -> 1 | N4: =NP_Data[[#This Row],[2038 Annual Emissions (Tons)]]/NP_Data[[#This Row],[2022 Annual Emiss Data Tool v1 Emissions (Tons)]] -> 1 | P4: =I4 -> 0.00097021518 | Q4: =K4 -> 0.00097021518 | R4: 2275001000 | S4: Mobile - Aircraft | T4: Mobile Sources | U4: Aircraft | V4: Military Aircraft | W4: Total | X4: Airport | Z4: 2275001000-24033-NOx
A5: Virginia | B5: 51013 | C5: NOx | D5: 8.5759597 | E5: =SUMIFS('Ratios_MARAMA-VA'!T:T, 'Ratios_MARAMA-VA'!AA:AA, Z5) -> 0 | F5: =SUMIFS('Ratios_MARAMA-VA'!J:J, 'Ratios_MARAMA-VA'!AA:AA, Z5) -> 0 | G5: =F5/E5 -> #DIV/0! | H5: 8.5759597 | I5: =NP_Data[[#This Row],[2022 MARAMA-VA OSD Emissions (tpd)]]*NP_Data[[#This Row],[2032 Annual Emissions (Tons)]]/NP_Data[[#This Row],[2022 Annual Emiss Data Tool v1 Emissions (Tons)]] -> 0 | J5: 8.5759597 | K5: =NP_Data[[#This Row],[2022 MARAMA-VA OSD Emissions (tpd)]]*NP_Data[[#This Row],[2038 Annual Emissions (Tons)]]/NP_Data[[#This Row],[2022 Annual Emiss Data Tool v1 Emissions (Tons)]] -> 0 | L5: {=_xlfn.SWITCH(A5, "District of Columbia", _xlfn.XLOOKUP(R5, '2015 O3 Growth Surrogates'!A:A, '2015 O3 Growth Surrogates'!H:H), "Maryland", _xlfn.XLOOKUP(R5, '2015 O3 Growth Surrogates'!A:A, '2015 O3 Growth Surrogates'!I:I), "Virginia", _xlfn.XLOOKUP(R5, '2015 O3 Growth Surrogates'!A:A, '2015 O3 Growth Surrogates'!J:J) )} -> No Growth | M5: {=_xlfn.SWITCH(L5, "Employment", INDEX('Coop GFs_CFs'!C:D, MATCH(B5,'Coop GFs_CFs'!B:B,0),1), "Population", INDEX('Coop GFs_CFs'!E:F, MATCH(B5,'Coop GFs_CFs'!B:B,0),1), "Household", INDEX('Coop GFs_CFs'!G:H, MATCH(B5,'Coop GFs_CFs'!B:B,0),1), "VMT", INDEX('Coop GFs_CFs'!I:J, MATCH(B5,'Coop GFs_CFs'!B:B,0),1), "Lane Mile", INDEX('Coop GFs_CFs'!K:L, MATCH(B5,'Coop GFs_CFs'!B:B,0),1), "Gas Sales", INDEX('Coop GFs_CFs'!M:N, MATCH(B5,'Coop GFs_CFs'!B:B,0),1), "No Growth", INDEX('Coop GFs_CFs'!O:P, MATCH(B5,'Coop GFs_CFs'!B:B,0),1) )} -> 1 | N5: {=_xlfn.SWITCH(L5, "Employment", INDEX('Coop GFs_CFs'!C:D, MATCH(B5,'Coop GFs_CFs'!B:B,0),2), "Population", INDEX('Coop GFs_CFs'!E:F, MATCH(B5,'Coop GFs_CFs'!B:B,0),2), "Household", INDEX('Coop GFs_CFs'!G:H, MATCH(B5,'Coop GFs_CFs'!B:B,0),2), "VMT", INDEX('Coop GFs_CFs'!I:J, MATCH(B5,'Coop GFs_CFs'!B:B,0),2), "Lane Mile", INDEX('Coop GFs_CFs'!K:L, MATCH(B5,'Coop GFs_CFs'!B:B,0),2), "Gas Sales", INDEX('Coop GFs_CFs'!M:N, MATCH(B5,'Coop GFs_CFs'!B:B,0),2), "No Growth", INDEX('Coop GFs_CFs'!O:P, MATCH(B5,'Coop GFs_CFs'!B:B,0),2) )} -> 1 | P5: =F5*M5 -> 0 | Q5: =F5*N5 -> 0 | R5: 2275001000 | S5: Mobile - Aircraft | T5: Mobile Sources | U5: Aircraft | V5: Military Aircraft | W5: Total | X5: Airport | Z5: 2275001000-51013-NOx
A6: Virginia | B6: 51107 | C6: NOx | D6: 9.9166087 | E6: =SUMIFS('Ratios_MARAMA-VA'!T:T, 'Ratios_MARAMA-VA'!AA:AA, Z6) -> 6.944006 | F6: =SUMIFS('Ratios_MARAMA-VA'!J:J, 'Ratios_MARAMA-VA'!AA:AA, Z6) -> 0.020115796 | G6: =F6/E6 -> 0.0028968576 | H6: 9.9166087 | I6: =NP_Data[[#This Row],[2022 MARAMA-VA OSD Emissions (tpd)]]*NP_Data[[#This Row],[2032 Annual Emissions (Tons)]]/NP_Data[[#This Row],[2022 Annual Emiss Data Tool v1 Emissions (Tons)]] -> 0.020115796 | J6: 9.9166087 | K6: =NP_Data[[#This Row],[2022 MARAMA-VA OSD Emissions (tpd)]]*NP_Data[[#This Row],[2038 Annual Emissions (Tons)]]/NP_Data[[#This Row],[2022 Annual Emiss Data Tool v1 Emissions (Tons)]] -> 0.020115796 | L6: {=_xlfn.SWITCH(A6, "District of Columbia", _xlfn.XLOOKUP(R6, '2015 O3 Growth Surrogates'!A:A, '2015 O3 Growth Surrogates'!H:H), "Maryland", _xlfn.XLOOKUP(R6, '2015 O3 Growth Surrogates'!A:A, '2015 O3 Growth Surrogates'!I:I), "Virginia", _xlfn.XLOOKUP(R6, '2015 O3 Growth Surrogates'!A:A, '2015 O3 Growth Surrogates'!J:J) )} -> No Growth | M6: {=_xlfn.SWITCH(L6, "Employment", INDEX('Coop GFs_CFs'!C:D, MATCH(B6,'Coop GFs_CFs'!B:B,0),1), "Population", INDEX('Coop GFs_CFs'!E:F, MATCH(B6,'Coop GFs_CFs'!B:B,0),1), "Household", INDEX('Coop GFs_CFs'!G:H, MATCH(B6,'Coop GFs_CFs'!B:B,0),1), "VMT", INDEX('Coop GFs_CFs'!I:J, MATCH(B6,'Coop GFs_CFs'!B:B,0),1), "Lane Mile", INDEX('Coop GFs_CFs'!K:L, MATCH(B6,'Coop GFs_CFs'!B:B,0),1), "Gas Sales", INDEX('Coop GFs_CFs'!M:N, MATCH(B6,'Coop GFs_CFs'!B:B,0),1), "No Growth", INDEX('Coop GFs_CFs'!O:P, MATCH(B6,'Coop GFs_CFs'!B:B,0),1) )} -> 1 | N6: {=_xlfn.SWITCH(L6, "Employment", INDEX('Coop GFs_CFs'!C:D, MATCH(B6,'Coop GFs_CFs'!B:B,0),2), "Population", INDEX('Coop GFs_CFs'!E:F, MATCH(B6,'Coop GFs_CFs'!B:B,0),2), "Household", INDEX('Coop GFs_CFs'!G:H, MATCH(B6,'Coop GFs_CFs'!B:B,0),2), "VMT", INDEX('Coop GFs_CFs'!I:J, MATCH(B6,'Coop GFs_CFs'!B:B,0),2), "Lane Mile", INDEX('Coop GFs_CFs'!K:L, MATCH(B6,'Coop GFs_CFs'!B:B,0),2), "Gas Sales", INDEX('Coop GFs_CFs'!M:N, MATCH(B6,'Coop GFs_CFs'!B:B,0),2), "No Growth", INDEX('Coop GFs_CFs'!O:P, MATCH(B6,'Coop GFs_CFs'!B:B,0),2) )} -> 1 | P6: =F6*M6 -> 0.020115796 | Q6: =F6*N6 -> 0.020115796 | R6: 2275001000 | S6: Mobile - Aircraft | T6: Mobile Sources | U6: Aircraft | V6: Military Aircraft | W6: Total | X6: Airport | Z6: 2275001000-51107-NOx
A7: Virginia | B7: 51683 | C7: NOx | D7: 11.60211 | E7: =SUMIFS('Ratios_MARAMA-VA'!T:T, 'Ratios_MARAMA-VA'!AA:AA, Z7) -> 11.59939 | F7: =SUMIFS('Ratios_MARAMA-VA'!J:J, 'Ratios_MARAMA-VA'!AA:AA, Z7) -> 0.033601782 | G7: =F7/E7 -> 0.0028968576 | H7: 11.60211 | I7: 0.03360966 | J7: 11.60211 | K7: 0.03360966 | L7: {=_xlfn.SWITCH(A7, "District of Columbia", _xlfn.XLOOKUP(R7, '2015 O3 Growth Surrogates'!A:A, '2015 O3 Growth Surrogates'!H:H), "Maryland", _xlfn.XLOOKUP(R7, '2015 O3 Growth Surrogates'!A:A, '2015 O3 Growth Surrogates'!I:I), "Virginia", _xlfn.XLOOKUP(R7, '2015 O3 Growth Surrogates'!A:A, '2015 O3 Growth Surrogates'!J:J) )} -> No Growth | M7: {=_xlfn.SWITCH(L7, "Employment", INDEX('Coop GFs_CFs'!C:D, MATCH(B7,'Coop GFs_CFs'!B:B,0),1), "Population", INDEX('Coop GFs_CFs'!E:F, MATCH(B7,'Coop GFs_CFs'!B:B,0),1), "Household", INDEX('Coop GFs_CFs'!G:H, MATCH(B7,'Coop GFs_CFs'!B:B,0),1), "VMT", INDEX('Coop GFs_CFs'!I:J, MATCH(B7,'Coop GFs_CFs'!B:B,0),1), "Lane Mile", INDEX('Coop GFs_CFs'!K:L, MATCH(B7,'Coop GFs_CFs'!B:B,0),1), "Gas Sales", INDEX('Coop GFs_CFs'!M:N, MATCH(B7,'Coop GFs_CFs'!B:B,0),1), "No Growth", INDEX('Coop GFs_CFs'!O:P, MATCH(B7,'Coop GFs_CFs'!B:B,0),1) )} -> 1 | N7: {=_xlfn.SWITCH(L7, "Employment", INDEX('Coop GFs_CFs'!C:D, MATCH(B7,'Coop GFs_CFs'!B:B,0),2), "Population", INDEX('Coop GFs_CFs'!E:F, MATCH(B7,'Coop GFs_CFs'!B:B,0),2), "Household", INDEX('Coop GFs_CFs'!G:H, MATCH(B7,'Coop GFs_CFs'!B:B,0),2), "VMT", INDEX('Coop GFs_CFs'!I:J, MATCH(B7,'Coop GFs_CFs'!B:B,0),2), "Lane Mile", INDEX('Coop GFs_CFs'!K:L, MATCH(B7,'Coop GFs_CFs'!B:B,0),2), "Gas Sales", INDEX('Coop GFs_CFs'!M:N, MATCH(B7,'Coop GFs_CFs'!B:B,0),2), "No Growth", INDEX('Coop GFs_CFs'!O:P, MATCH(B7,'Coop GFs_CFs'!B:B,0),2) )} -> 1 | P7: =F7*M7 -> 0.033601782 | Q7: =F7*N7 -> 0.033601782 | R7: 2275001000 | S7: Mobile - Aircraft | T7: Mobile Sources | U7: Aircraft | V7: Military Aircraft | W7: Total | X7: Airport | Z7: 2275001000-51683-NOx
A8: Maryland | B8: 24017 | C8: VOC | D8: 1.358193 | E8: =SUMIFS('Ratios_MARAMA-VA'!T:T, 'Ratios_MARAMA-VA'!AA:AA, Z8) -> 1.3578746 | F8: =SUMIFS('Ratios_MARAMA-VA'!J:J, 'Ratios_MARAMA-VA'!AA:AA, Z8) -> 0.0039335694 | G8: =F8/E8 -> 0.0028968576 | H8: 1.358193 | I8: 0.0039344917 | J8: 1.358193 | K8: 0.0039344917 | L8: {=_xlfn.SWITCH(A8, "District of Columbia", _xlfn.XLOOKUP(R8, '2015 O3 Growth Surrogates'!A:A, '2015 O3 Growth Surrogates'!H:H), "Maryland", _xlfn.XLOOKUP(R8, '2015 O3 Growth Surrogates'!A:A, '2015 O3 Growth Surrogates'!I:I), "Virginia", _xlfn.XLOOKUP(R8, '2015 O3 Growth Surrogates'!A:A, '2015 O3 Growth Surrogates'!J:J) )} -> EPA EMP | M8: {=_xlfn.SWITCH(L8, "Employment", INDEX('Coop GFs_CFs'!C:D, MATCH(B8,'Coop GFs_CFs'!B:B,0),1), "Population", INDEX('Coop GFs_CFs'!E:F, MATCH(B8,'Coop GFs_CFs'!B:B,0),1), "Household", INDEX('Coop GFs_CFs'!G:H, MATCH(B8,'Coop GFs_CFs'!B:B,0),1), "VMT", INDEX('Coop GFs_CFs'!I:J, MATCH(B8,'Coop GFs_CFs'!B:B,0),1), "Lane Mile", INDEX('Coop GFs_CFs'!K:L, MATCH(B8,'Coop GFs_CFs'!B:B,0),1), "Gas Sales", INDEX('Coop GFs_CFs'!M:N, MATCH(B8,'Coop GFs_CFs'!B:B,0),1), "No Growth", INDEX('Coop GFs_CFs'!O:P, MATCH(B8,'Coop GFs_CFs'!B:B,0),1) )} -> #N/A | N8: {=_xlfn.SWITCH(L8, "Employment", INDEX('Coop GFs_CFs'!C:D, MATCH(B8,'Coop GFs_CFs'!B:B,0),2), "Population", INDEX('Coop GFs_CFs'!E:F, MATCH(B8,'Coop GFs_CFs'!B:B,0),2), "Household", INDEX('Coop GFs_CFs'!G:H, MATCH(B8,'Coop GFs_CFs'!B:B,0),2), "VMT", INDEX('Coop GFs_CFs'!I:J, MATCH(B8,'Coop GFs_CFs'!B:B,0),2), "Lane Mile", INDEX('Coop GFs_CFs'!K:L, MATCH(B8,'Coop GFs_CFs'!B:B,0),2), "Gas Sales", INDEX('Coop GFs_CFs'!M:N, MATCH(B8,'Coop GFs_CFs'!B:B,0),2), "No Growth", INDEX('Coop GFs_CFs'!O:P, MATCH(B8,'Coop GFs_CFs'!B:B,0),2) )} -> #N/A | P8: =I8 -> 0.0039344917 | Q8: =K8 -> 0.0039344917 | R8: 2275001000 | S8: Mobile - Aircraft | T8: Mobile Sources | U8: Aircraft | V8: Military Aircraft | W8: Total | X8: Airport | Z8: 2275001000-24017-VOC
A9: Maryland | B9: 24021 | C9: VOC | D9: 1.640697 | E9: =SUMIFS('Ratios_MARAMA-VA'!T:T, 'Ratios_MARAMA-VA'!AA:AA, Z9) -> 1.6403124 | F9: =SUMIFS('Ratios_MARAMA-VA'!J:J, 'Ratios_MARAMA-VA'!AA:AA, Z9) -> 0.0047517514 | G9: =F9/E9 -> 0.0028968576 | H9: 1.640697 | I9: 0.0047528655 | J9: 1.640697 | K9: 0.0047528655 | L9: {=_xlfn.SWITCH(A9, "District of Columbia", _xlfn.XLOOKUP(R9, '2015 O3 Growth Surrogates'!A:A, '2015 O3 Growth Surrogates'!H:H), "Maryland", _xlfn.XLOOKUP(R9, '2015 O3 Growth Surrogates'!A:A, '2015 O3 Growth Surrogates'!I:I), "Virginia", _xlfn.XLOOKUP(R9, '2015 O3 Growth Surrogates'!A:A, '2015 O3 Growth Surrogates'!J:J) )} -> EPA EMP | M9: {=_xlfn.SWITCH(L9, "Employment", INDEX('Coop GFs_CFs'!C:D, MATCH(B9,'Coop GFs_CFs'!B:B,0),1), "Population", INDEX('Coop GFs_CFs'!E:F, MATCH(B9,'Coop GFs_CFs'!B:B,0),1), "Household", INDEX('Coop GFs_CFs'!G:H, MATCH(B9,'Coop GFs_CFs'!B:B,0),1), "VMT", INDEX('Coop GFs_CFs'!I:J, MATCH(B9,'Coop GFs_CFs'!B:B,0),1), "Lane Mile", INDEX('Coop GFs_CFs'!K:L, MATCH(B9,'Coop GFs_CFs'!B:B,0),1), "Gas Sales", INDEX('Coop GFs_CFs'!M:N, MATCH(B9,'Coop GFs_CFs'!B:B,0),1), "No Growth", INDEX('Coop GFs_CFs'!O:P, MATCH(B9,'Coop GFs_CFs'!B:B,0),1) )} -> #N/A | N9: {=_xlfn.SWITCH(L9, "Employment", INDEX('Coop GFs_CFs'!C:D, MATCH(B9,'Coop GFs_CFs'!B:B,0),2), "Population", INDEX('Coop GFs_CFs'!E:F, MATCH(B9,'Coop GFs_CFs'!B:B,0),2), "Household", INDEX('Coop GFs_CFs'!G:H, MATCH(B9,'Coop GFs_CFs'!B:B,0),2), "VMT", INDEX('Coop GFs_CFs'!I:J, MATCH(B9,'Coop GFs_CFs'!B:B,0),2), "Lane Mile", INDEX('Coop GFs_CFs'!K:L, MATCH(B9,'Coop GFs_CFs'!B:B,0),2), "Gas Sales", INDEX('Coop GFs_CFs'!M:N, MATCH(B9,'Coop GFs_CFs'!B:B,0),2), "No Growth", INDEX('Coop GFs_CFs'!O:P, MATCH(B9,'Coop GFs_CFs'!B:B,0),2) )} -> #N/A | P9: =I9 -> 0.0047528655 | Q9: =K9 -> 0.0047528655 | R9: 2275001000 | S9: Mobile - Aircraft | T9: Mobile Sources | U9: Aircraft | V9: Military Aircraft | W9: Total | X9: Airport | Z9: 2275001000-24021-VOC
A10: Maryland | B10: 24033 | C10: VOC | D10: 137.74798 | E10: =SUMIFS('Ratios_MARAMA-VA'!T:T, 'Ratios_MARAMA-VA'!AA:AA, Z10) -> 0.162945 | F10: =SUMIFS('Ratios_MARAMA-VA'!J:J, 'Ratios_MARAMA-VA'!AA:AA, Z10) -> 0.00047202845 | G10: =F10/E10 -> 0.0028968576 | H10: 137.74798 | I10: =NP_Data[[#This Row],[2022 MARAMA-VA OSD Emissions (tpd)]]*NP_Data[[#This Row],[Coop 2032 Growth Factor]] -> 0.00047202845 | J10: 137.74798 | K10: =NP_Data[[#This Row],[2022 MARAMA-VA OSD Emissions (tpd)]]*NP_Data[[#This Row],[Coop 2038 Growth Factor]] -> 0.00047202845 | L10: {=_xlfn.SWITCH(A10, "District of Columbia", _xlfn.XLOOKUP(R10, '2015 O3 Growth Surrogates'!A:A, '2015 O3 Growth Surrogates'!H:H), "Maryland", _xlfn.XLOOKUP(R10, '2015 O3 Growth Surrogates'!A:A, '2015 O3 Growth Surrogates'!I:I), "Virginia", _xlfn.XLOOKUP(R10, '2015 O3 Growth Surrogates'!A:A, '2015 O3 Growth Surrogates'!J:J) )} -> EPA EMP | M10: =NP_Data[[#This Row],[2032 Annual Emissions (Tons)]]/NP_Data[[#This Row],[2022 Annual Emiss Data Tool v1 Emissions (Tons)]] -> 1 | N10: =NP_Data[[#This Row],[2038 Annual Emissions (Tons)]]/NP_Data[[#This Row],[2022 Annual Emiss Data Tool v1 Emissions (Tons)]] -> 1 | P10: =I10 -> 0.00047202845 | Q10: =K10 -> 0.00047202845 | R10: 2275001000 | S10: Mobile - Aircraft | T10: Mobile Sources | U10: Aircraft | V10: Military Aircraft | W10: Total | X10: Airport | Z10: 2275001000-24033-VOC
A11: Virginia | B11: 51013 | C11: VOC | D11: 4.1723698 | E11: =SUMIFS('Ratios_MARAMA-VA'!T:T, 'Ratios_MARAMA-VA'!AA:AA, Z11) -> 0 | F11: =SUMIFS('Ratios_MARAMA-VA'!J:J, 'Ratios_MARAMA-VA'!AA:AA, Z11) -> 0 | G11: =F11/E11 -> #DIV/0! | H11: 4.1723698 | I11: 0.012086761 | J11: 4.1723698 | K11: 0.012086761 | L11: {=_xlfn.SWITCH(A11, "District of Columbia", _xlfn.XLOOKUP(R11, '2015 O3 Growth Surrogates'!A:A, '2015 O3 Growth Surrogates'!H:H), "Maryland", _xlfn.XLOOKUP(R11, '2015 O3 Growth Surrogates'!A:A, '2015 O3 Growth Surrogates'!I:I), "Virginia", _xlfn.XLOOKUP(R11, '2015 O3 Growth Surrogates'!A:A, '2015 O3 Growth Surrogates'!J:J) )} -> No Growth | M11: {=_xlfn.SWITCH(L11, "Employment", INDEX('Coop GFs_CFs'!C:D, MATCH(B11,'Coop GFs_CFs'!B:B,0),1), "Population", INDEX('Coop GFs_CFs'!E:F, MATCH(B11,'Coop GFs_CFs'!B:B,0),1), "Household", INDEX('Coop GFs_CFs'!G:H, MATCH(B11,'Coop GFs_CFs'!B:B,0),1), "VMT", INDEX('Coop GFs_CFs'!I:J, MATCH(B11,'Coop GFs_CFs'!B:B,0),1), "Lane Mile", INDEX('Coop GFs_CFs'!K:L, MATCH(B11,'Coop GFs_CFs'!B:B,0),1), "Gas Sales", INDEX('Coop GFs_CFs'!M:N, MATCH(B11,'Coop GFs_CFs'!B:B,0),1), "No Growth", INDEX('Coop GFs_CFs'!O:P, MATCH(B11,'Coop GFs_CFs'!B:B,0),1) )} -> 1 | N11: {=_xlfn.SWITCH(L11, "Employment", INDEX('Coop GFs_CFs'!C:D, MATCH(B11,'Coop GFs_CFs'!B:B,0),2), "Population", INDEX('Coop GFs_CFs'!E:F, MATCH(B11,'Coop GFs_CFs'!B:B,0),2), "Household", INDEX('Coop GFs_CFs'!G:H, MATCH(B11,'Coop GFs_CFs'!B:B,0),2), "VMT", INDEX('Coop GFs_CFs'!I:J, MATCH(B11,'Coop GFs_CFs'!B:B,0),2), "Lane Mile", INDEX('Coop GFs_CFs'!K:L, MATCH(B11,'Coop GFs_CFs'!B:B,0),2), "Gas Sales", INDEX('Coop GFs_CFs'!M:N, MATCH(B11,'Coop GFs_CFs'!B:B,0),2), "No Growth", INDEX('Coop GFs_CFs'!O:P, MATCH(B11,'Coop GFs_CFs'!B:B,0),2) )} -> 1 | P11: =F11*M11 -> 0 | Q11: =F11*N11 -> 0 | R11: 2275001000 | S11: Mobile - Aircraft | T11: Mobile Sources | U11: Aircraft | V11: Military Aircraft | W11: Total | X11: Airport | Z11: 2275001000-51013-VOC
A12: Virginia | B12: 51107 | C12: VOC | D12: 4.9051946 | E12: =SUMIFS('Ratios_MARAMA-VA'!T:T, 'Ratios_MARAMA-VA'!AA:AA, Z12) -> 3.3783929 | F12: =SUMIFS('Ratios_MARAMA-VA'!J:J, 'Ratios_MARAMA-VA'!AA:AA, Z12) -> 0.0097867231 | G12: =F12/E12 -> 0.0028968576 | H12: 4.9051946 | I12: 0.01420965 | J12: 4.9051946 | K12: 0.01420965 | L12: {=_xlfn.SWITCH(A12, "District of Columbia", _xlfn.XLOOKUP(R12, '2015 O3 Growth Surrogates'!A:A, '2015 O3 Growth Surrogates'!H:H), "Maryland", _xlfn.XLOOKUP(R12, '2015 O3 Growth Surrogates'!A:A, '2015 O3 Growth Surrogates'!I:I), "Virginia", _xlfn.XLOOKUP(R12, '2015 O3 Growth Surrogates'!A:A, '2015 O3 Growth Surrogates'!J:J) )} -> No Growth | M12: {=_xlfn.SWITCH(L12, "Employment", INDEX('Coop GFs_CFs'!C:D, MATCH(B12,'Coop GFs_CFs'!B:B,0),1), "Population", INDEX('Coop GFs_CFs'!E:F, MATCH(B12,'Coop GFs_CFs'!B:B,0),1), "Household", INDEX('Coop GFs_CFs'!G:H, MATCH(B12,'Coop GFs_CFs'!B:B,0),1), "VMT", INDEX('Coop GFs_CFs'!I:J, MATCH(B12,'Coop GFs_CFs'!B:B,0),1), "Lane Mile", INDEX('Coop GFs_CFs'!K:L, MATCH(B12,'Coop GFs_CFs'!B:B,0),1), "Gas Sales", INDEX('Coop GFs_CFs'!M:N, MATCH(B12,'Coop GFs_CFs'!B:B,0),1), "No Growth", INDEX('Coop GFs_CFs'!O:P, MATCH(B12,'Coop GFs_CFs'!B:B,0),1) )} -> 1 | N12: {=_xlfn.SWITCH(L12, "Employment", INDEX('Coop GFs_CFs'!C:D, MATCH(B12,'Coop GFs_CFs'!B:B,0),2), "Population", INDEX('Coop GFs_CFs'!E:F, MATCH(B12,'Coop GFs_CFs'!B:B,0),2), "Household", INDEX('Coop GFs_CFs'!G:H, MATCH(B12,'Coop GFs_CFs'!B:B,0),2), "VMT", INDEX('Coop GFs_CFs'!I:J, MATCH(B12,'Coop GFs_CFs'!B:B,0),2), "Lane Mile", INDEX('Coop GFs_CFs'!K:L, MATCH(B12,'Coop GFs_CFs'!B:B,0),2), "Gas Sales", INDEX('Coop GFs_CFs'!M:N, MATCH(B12,'Coop GFs_CFs'!B:B,0),2), "No Growth", INDEX('Coop GFs_CFs'!O:P, MATCH(B12,'Coop GFs_CFs'!B:B,0),2) )} -> 1 | P12: =F12*M12 -> 0.0097867231 | Q12: =F12*N12 -> 0.0097867231 | R12: 2275001000 | S12: Mobile - Aircraft | T12: Mobile Sources | U12: Aircraft | V12: Military Aircraft | W12: Total | X12: Airport | Z12: 2275001000-51107-VOC
A13: Virginia | B13: 51683 | C13: VOC | D13: 5.644651 | E13: =SUMIFS('Ratios_MARAMA-VA'!T:T, 'Ratios_MARAMA-VA'!AA:AA, Z13) -> 5.6433279 | F13: =SUMIFS('Ratios_MARAMA-VA'!J:J, 'Ratios_MARAMA-VA'!AA:AA, Z13) -> 0.016347917 | G13: =F13/E13 -> 0.0028968576 | H13: 5.644651 | I13: 0.01635175 | J13: 5.644651 | K13: 0.01635175 | L13: {=_xlfn.SWITCH(A13, "District of Columbia", _xlfn.XLOOKUP(R13, '2015 O3 Growth Surrogates'!A:A, '2015 O3 Growth Surrogates'!H:H), "Maryland", _xlfn.XLOOKUP(R13, '2015 O3 Growth Surrogates'!A:A, '2015 O3 Growth Surrogates'!I:I), "Virginia", _xlfn.XLOOKUP(R13, '2015 O3 Growth Surrogates'!A:A, '2015 O3 Growth Surrogates'!J:J) )} -> No Growth | M13: {=_xlfn.SWITCH(L13, "Employment", INDEX('Coop GFs_CFs'!C:D, MATCH(B13,'Coop GFs_CFs'!B:B,0),1), "Population", INDEX('Coop GFs_CFs'!E:F, MATCH(B13,'Coop GFs_CFs'!B:B,0),1), "Household", INDEX('Coop GFs_CFs'!G:H, MATCH(B13,'Coop GFs_CFs'!B:B,0),1), "VMT", INDEX('Coop GFs_CFs'!I:J, MATCH(B13,'Coop GFs_CFs'!B:B,0),1), "Lane Mile", INDEX('Coop GFs_CFs'!K:L, MATCH(B13,'Coop GFs_CFs'!B:B,0),1), "Gas Sales", INDEX('Coop GFs_CFs'!M:N, MATCH(B13,'Coop GFs_CFs'!B:B,0),1), "No Growth", INDEX('Coop GFs_CFs'!O:P, MATCH(B13,'Coop GFs_CFs'!B:B,0),1) )} -> 1 | N13: {=_xlfn.SWITCH(L13, "Employment", INDEX('Coop GFs_CFs'!C:D, MATCH(B13,'Coop GFs_CFs'!B:B,0),2), "Population", INDEX('Coop GFs_CFs'!E:F, MATCH(B13,'Coop GFs_CFs'!B:B,0),2), "Household", INDEX('Coop GFs_CFs'!G:H, MATCH(B13,'Coop GFs_CFs'!B:B,0),2), "VMT", INDEX('Coop GFs_CFs'!I:J, MATCH(B13,'Coop GFs_CFs'!B:B,0),2), "Lane Mile", INDEX('Coop GFs_CFs'!K:L, MATCH(B13,'Coop GFs_CFs'!B:B,0),2), "Gas Sales", INDEX('Coop GFs_CFs'!M:N, MATCH(B13,'Coop GFs_CFs'!B:B,0),2), "No Growth", INDEX('Coop GFs_CFs'!O:P, MATCH(B13,'Coop GFs_CFs'!B:B,0),2) )} -> 1 | P13: =F13*M13 -> 0.016347917 | Q13: =F13*N13 -> 0.016347917 | R13: 2275001000 | S13: Mobile - Aircraft | T13: Mobile Sources | U13: Aircraft | V13: Military Aircraft | W13: Total | X13: Airport | Z13: 2275001000-51683-VOC
A14: Maryland | B14: 24021 | C14: NOx | D14: 0.0074304 | E14: =SUMIFS('Ratios_MARAMA-VA'!T:T, 'Ratios_MARAMA-VA'!AA:AA, Z14) -> 0.0074286583 | F14: =SUMIFS('Ratios_MARAMA-VA'!J:J, 'Ratios_MARAMA-VA'!AA:AA, Z14) -> 2.1519765e-05 | G14: =F14/E14 -> 0.0028968576 | H14: 0.0037152 | I14: 1.0762405e-05 | J14: 0.0037152 | K14: 1.0762405e-05 | L14: {=_xlfn.SWITCH(A14, "District of Columbia", _xlfn.XLOOKUP(R14, '2015 O3 Growth Surrogates'!A:A, '2015 O3 Growth Surrogates'!H:H), "Maryland", _xlfn.XLOOKUP(R14, '2015 O3 Growth Surrogates'!A:A, '2015 O3 Growth Surrogates'!I:I), "Virginia", _xlfn.XLOOKUP(R14, '2015 O3 Growth Surrogates'!A:A, '2015 O3 Growth Surrogates'!J:J) )} -> EPA EMP | M14: {=_xlfn.SWITCH(L14, "Employment", INDEX('Coop GFs_CFs'!C:D, MATCH(B14,'Coop GFs_CFs'!B:B,0),1), "Population", INDEX('Coop GFs_CFs'!E:F, MATCH(B14,'Coop GFs_CFs'!B:B,0),1), "Household", INDEX('Coop GFs_CFs'!G:H, MATCH(B14,'Coop GFs_CFs'!B:B,0),1), "VMT", INDEX('Coop GFs_CFs'!I:J, MATCH(B14,'Coop GFs_CFs'!B:B,0),1), "Lane Mile", INDEX('Coop GFs_CFs'!K:L, MATCH(B14,'Coop GFs_CFs'!B:B,0),1), "Gas Sales", INDEX('Coop GFs_CFs'!M:N, MATCH(B14,'Coop GFs_CFs'!B:B,0),1), "No Growth", INDEX('Coop GFs_CFs'!O:P, MATCH(B14,'Coop GFs_CFs'!B:B,0),1) )} -> #N/A | N14: {=_xlfn.SWITCH(L14, "Employment", INDEX('Coop GFs_CFs'!C:D, MATCH(B14,'Coop GFs_CFs'!B:B,0),2), "Population", INDEX('Coop GFs_CFs'!E:F, MATCH(B14,'Coop GFs_CFs'!B:B,0),2), "Household", INDEX('Coop GFs_CFs'!G:H, MATCH(B14,'Coop GFs_CFs'!B:B,0),2), "VMT", INDEX('Coop GFs_CFs'!I:J, MATCH(B14,'Coop GFs_CFs'!B:B,0),2), "Lane Mile", INDEX('Coop GFs_CFs'!K:L, MATCH(B14,'Coop GFs_CFs'!B:B,0),2), "Gas Sales", INDEX('Coop GFs_CFs'!M:N, MATCH(B14,'Coop GFs_CFs'!B:B,0),2), "No Growth", INDEX('Coop GFs_CFs'!O:P, MATCH(B14,'Coop GFs_CFs'!B:B,0),2) )} -> #N/A | P14: =I14 -> 1.0762405e-05 | Q14: =K14 -> 1.0762405e-05 | R14: 2275020000 | S14: Mobile - Aircraft | T14: Mobile Sources | U14: Aircraft | V14: Commercial Aircraft | W14: Total: All Types | X14: Airport | Z14: 2275020000-24021-NOx
A15: Virginia | B15: 51013 | C15: NOx | D15: 836.04003 | E15: =SUMIFS('Ratios_MARAMA-VA'!T:T, 'Ratios_MARAMA-VA'!AA:AA, Z15) -> 0 | F15: =SUMIFS('Ratios_MARAMA-VA'!J:J, 'Ratios_MARAMA-VA'!AA:AA, Z15) -> 0 | G15: =F15/E15 -> #DIV/0! | H15: 852.0084 | I15: =NP_Data[[#This Row],[2022 MARAMA-VA OSD Emissions (tpd)]]*NP_Data[[#This Row],[2032 Annual Emissions (Tons)]]/NP_Data[[#This Row],[2022 Annual Emiss Data Tool v1 Emissions (Tons)]] -> 0 | J15: 852.0084 | K15: =NP_Data[[#This Row],[2022 MARAMA-VA OSD Emissions (tpd)]]*NP_Data[[#This Row],[2038 Annual Emissions (Tons)]]/NP_Data[[#This Row],[2022 Annual Emiss Data Tool v1 Emissions (Tons)]] -> 0 | L15: {=_xlfn.SWITCH(A15, "District of Columbia", _xlfn.XLOOKUP(R15, '2015 O3 Growth Surrogates'!A:A, '2015 O3 Growth Surrogates'!H:H), "Maryland", _xlfn.XLOOKUP(R15, '2015 O3 Growth Surrogates'!A:A, '2015 O3 Growth Surrogates'!I:I), "Virginia", _xlfn.XLOOKUP(R15, '2015 O3 Growth Surrogates'!A:A, '2015 O3 Growth Surrogates'!J:J) )} -> Population | M15: {=_xlfn.SWITCH(L15, "Employment", INDEX('Coop GFs_CFs'!C:D, MATCH(B15,'Coop GFs_CFs'!B:B,0),1), "Population", INDEX('Coop GFs_CFs'!E:F, MATCH(B15,'Coop GFs_CFs'!B:B,0),1), "Household", INDEX('Coop GFs_CFs'!G:H, MATCH(B15,'Coop GFs_CFs'!B:B,0),1), "VMT", INDEX('Coop GFs_CFs'!I:J, MATCH(B15,'Coop GFs_CFs'!B:B,0),1), "Lane Mile", INDEX('Coop GFs_CFs'!K:L, MATCH(B15,'Coop GFs_CFs'!B:B,0),1), "Gas Sales", INDEX('Coop GFs_CFs'!M:N, MATCH(B15,'Coop GFs_CFs'!B:B,0),1), "No Growth", INDEX('Coop GFs_CFs'!O:P, MATCH(B15,'Coop GFs_CFs'!B:B,0),1) )} -> 1.098465 | N15: {=_xlfn.SWITCH(L15, "Employment", INDEX('Coop GFs_CFs'!C:D, MATCH(B15,'Coop GFs_CFs'!B:B,0),2), "Population", INDEX('Coop GFs_CFs'!E:F, MATCH(B15,'Coop GFs_CFs'!B:B,0),2), "Household", INDEX('Coop GFs_CFs'!G:H, MATCH(B15,'Coop GFs_CFs'!B:B,0),2), "VMT", INDEX('Coop GFs_CFs'!I:J, MATCH(B15,'Coop GFs_CFs'!B:B,0),2), "Lane Mile", INDEX('Coop GFs_CFs'!K:L, MATCH(B15,'Coop GFs_CFs'!B:B,0),2), "Gas Sales", INDEX('Coop GFs_CFs'!M:N, MATCH(B15,'Coop GFs_CFs'!B:B,0),2), "No Growth", INDEX('Coop GFs_CFs'!O:P, MATCH(B15,'Coop GFs_CFs'!B:B,0),2) )} -> 1.150447 | P15: =F15*M15 -> 0 | Q15: =F15*N15 -> 0 | R15: 2275020000 | S15: Mobile - Aircraft | T15: Mobile Sources | U15: Aircraft | V15: Commercial Aircraft | W15: Total: All Types | X15: Airport | Z15: 2275020000-51013-NOx
A16: Virginia | B16: 51107 | C16: NOx | D16: 938.58337 | E16: =SUMIFS('Ratios_MARAMA-VA'!T:T, 'Ratios_MARAMA-VA'!AA:AA, Z16) -> 0 | F16: =SUMIFS('Ratios_MARAMA-VA'!J:J, 'Ratios_MARAMA-VA'!AA:AA, Z16) -> 0 | G16: =F16/E16 -> #DIV/0! | H16: 1557.5791 | I16: =NP_Data[[#This Row],[2022 MARAMA-VA OSD Emissions (tpd)]]*NP_Data[[#This Row],[2032 Annual Emissions (Tons)]]/NP_Data[[#This Row],[2022 Annual Emiss Data Tool v1 Emissions (Tons)]] -> 0 | J16: 1730.4662 | K16: =NP_Data[[#This Row],[2022 MARAMA-VA OSD Emissions (tpd)]]*NP_Data[[#This Row],[2038 Annual Emissions (Tons)]]/NP_Data[[#This Row],[2022 Annual Emiss Data Tool v1 Emissions (Tons)]] -> 0 | L16: {=_xlfn.SWITCH(A16, "District of Columbia", _xlfn.XLOOKUP(R16, '2015 O3 Growth Surrogates'!A:A, '2015 O3 Growth Surrogates'!H:H), "Maryland", _xlfn.XLOOKUP(R16, '2015 O3 Growth Surrogates'!A:A, '2015 O3 Growth Surrogates'!I:I), "Virginia", _xlfn.XLOOKUP(R16, '2015 O3 Growth Surrogates'!A:A, '2015 O3 Growth Surrogates'!J:J) )} -> Population | M16: {=_xlfn.SWITCH(L16, "Employment", INDEX('Coop GFs_CFs'!C:D, MATCH(B16,'Coop GFs_CFs'!B:B,0),1), "Population", INDEX('Coop GFs_CFs'!E:F, MATCH(B16,'Coop GFs_CFs'!B:B,0),1), "Household", INDEX('Coop GFs_CFs'!G:H, MATCH(B16,'Coop GFs_CFs'!B:B,0),1), "VMT", INDEX('Coop GFs_CFs'!I:J, MATCH(B16,'Coop GFs_CFs'!B:B,0),1), "Lane Mile", INDEX('Coop GFs_CFs'!K:L, MATCH(B16,'Coop GFs_CFs'!B:B,0),1), "Gas Sales", INDEX('Coop GFs_CFs'!M:N, MATCH(B16,'Coop GFs_CFs'!B:B,0),1), "No Growth", INDEX('Coop GFs_CFs'!O:P, MATCH(B16,'Coop GFs_CFs'!B:B,0),1) )} -> 1.1551128 | N16: {=_xlfn.SWITCH(L16, "Employment", INDEX('Coop GFs_CFs'!C:D, MATCH(B16,'Coop GFs_CFs'!B:B,0),2), "Population", INDEX('Coop GFs_CFs'!E:F, MATCH(B16,'Coop GFs_CFs'!B:B,0),2), "Household", INDEX('Coop GFs_CFs'!G:H, MATCH(B16,'Coop GFs_CFs'!B:B,0),2), "VMT", INDEX('Coop GFs_CFs'!I:J, MATCH(B16,'Coop GFs_CFs'!B:B,0),2), "Lane Mile", INDEX('Coop GFs_CFs'!K:L, MATCH(B16,'Coop GFs_CFs'!B:B,0),2), "Gas Sales", INDEX('Coop GFs_CFs'!M:N, MATCH(B16,'Coop GFs_CFs'!B:B,0),2), "No Growth", INDEX('Coop GFs_CFs'!O:P, MATCH(B16,'Coop GFs_CFs'!B:B,0),2) )} -> 1.1978534 | P16: =F16*M16 -> 0 | Q16: =F16*N16 -> 0 | R16: 2275020000 | S16: Mobile - Aircraft | T16: Mobile Sources | U16: Aircraft | V16: Commercial Aircraft | W16: Total: All Types | X16: Airport | Z16: 2275020000-51107-NOx
A17: Maryland | B17: 24021 | C17: VOC | D17: 0.0024656 | E17: =SUMIFS('Ratios_MARAMA-VA'!T:T, 'Ratios_MARAMA-VA'!AA:AA, Z17) -> 0.0024650221 | F17: =SUMIFS('Ratios_MARAMA-VA'!J:J, 'Ratios_MARAMA-VA'!AA:AA, Z17) -> 7.1408178e-06 | G17: =F17/E17 -> 0.0028968576 | H17: 0.0012328 | I17: 3.571246e-06 | J17: 0.0012328 | K17: 3.571246e-06 | L17: {=_xlfn.SWITCH(A17, "District of Columbia", _xlfn.XLOOKUP(R17, '2015 O3 Growth Surrogates'!A:A, '2015 O3 Growth Surrogates'!H:H), "Maryland", _xlfn.XLOOKUP(R17, '2015 O3 Growth Surrogates'!A:A, '2015 O3 Growth Surrogates'!I:I), "Virginia", _xlfn.XLOOKUP(R17, '2015 O3 Growth Surrogates'!A:A, '2015 O3 Growth Surrogates'!J:J) )} -> EPA EMP | M17: {=_xlfn.SWITCH(L17, "Employment", INDEX('Coop GFs_CFs'!C:D, MATCH(B17,'Coop GFs_CFs'!B:B,0),1), "Population", INDEX('Coop GFs_CFs'!E:F, MATCH(B17,'Coop GFs_CFs'!B:B,0),1), "Household", INDEX('Coop GFs_CFs'!G:H, MATCH(B17,'Coop GFs_CFs'!B:B,0),1), "VMT", INDEX('Coop GFs_CFs'!I:J, MATCH(B17,'Coop GFs_CFs'!B:B,0),1), "Lane Mile", INDEX('Coop GFs_CFs'!K:L, MATCH(B17,'Coop GFs_CFs'!B:B,0),1), "Gas Sales", INDEX('Coop GFs_CFs'!M:N, MATCH(B17,'Coop GFs_CFs'!B:B,0),1), "No Growth", INDEX('Coop GFs_CFs'!O:P, MATCH(B17,'Coop GFs_CFs'!B:B,0),1) )} -> #N/A | N17: {=_xlfn.SWITCH(L17, "Employment", INDEX('Coop GFs_CFs'!C:D, MATCH(B17,'Coop GFs_CFs'!B:B,0),2), "Population", INDEX('Coop GFs_CFs'!E:F, MATCH(B17,'Coop GFs_CFs'!B:B,0),2), "Household", INDEX('Coop GFs_CFs'!G:H, MATCH(B17,'Coop GFs_CFs'!B:B,0),2), "VMT", INDEX('Coop GFs_CFs'!I:J, MATCH(B17,'Coop GFs_CFs'!B:B,0),2), "Lane Mile", INDEX('Coop GFs_CFs'!K:L, MATCH(B17,'Coop GFs_CFs'!B:B,0),2), "Gas Sales", INDEX('Coop GFs_CFs'!M:N, MATCH(B17,'Coop GFs_CFs'!B:B,0),2), "No Growth", INDEX('Coop GFs_CFs'!O:P, MATCH(B17,'Coop GFs_CFs'!B:B,0),2) )} -> #N/A | P17: =I17 -> 3.571246e-06 | Q17: =K17 -> 3.571246e-06 | R17: 2275020000 | S17: Mobile - Aircraft | T17: Mobile Sources | U17: Aircraft | V17: Commercial Aircraft | W17: Total: All Types | X17: Airport | Z17: 2275020000-24021-VOC
A18: Virginia | B18: 51013 | C18: VOC | D18: 125.97171 | E18: =SUMIFS('Ratios_MARAMA-VA'!T:T, 'Ratios_MARAMA-VA'!AA:AA, Z18) -> 0 | F18: =SUMIFS('Ratios_MARAMA-VA'!J:J, 'Ratios_MARAMA-VA'!AA:AA, Z18) -> 0 | G18: =F18/E18 -> #DIV/0! | H18: 128.37777 | I18: 0.37189212 | J18: 128.37777 | K18: 0.37189212 | L18: {=_xlfn.SWITCH(A18, "District of Columbia", _xlfn.XLOOKUP(R18, '2015 O3 Growth Surrogates'!A:A, '2015 O3 Growth Surrogates'!H:H), "Maryland", _xlfn.XLOOKUP(R18, '2015 O3 Growth Surrogates'!A:A, '2015 O3 Growth Surrogates'!I:I), "Virginia", _xlfn.XLOOKUP(R18, '2015 O3 Growth Surrogates'!A:A, '2015 O3 Growth Surrogates'!J:J) )} -> Population | M18: {=_xlfn.SWITCH(L18, "Employment", INDEX('Coop GFs_CFs'!C:D, MATCH(B18,'Coop GFs_CFs'!B:B,0),1), "Population", INDEX('Coop GFs_CFs'!E:F, MATCH(B18,'Coop GFs_CFs'!B:B,0),1), "Household", INDEX('Coop GFs_CFs'!G:H, MATCH(B18,'Coop GFs_CFs'!B:B,0),1), "VMT", INDEX('Coop GFs_CFs'!I:J, MATCH(B18,'Coop GFs_CFs'!B:B,0),1), "Lane Mile", INDEX('Coop GFs_CFs'!K:L, MATCH(B18,'Coop GFs_CFs'!B:B,0),1), "Gas Sales", INDEX('Coop GFs_CFs'!M:N, MATCH(B18,'Coop GFs_CFs'!B:B,0),1), "No Growth", INDEX('Coop GFs_CFs'!O:P, MATCH(B18,'Coop GFs_CFs'!B:B,0),1) )} -> 1.098465 | N18: {=_xlfn.SWITCH(L18, "Employment", INDEX('Coop GFs_CFs'!C:D, MATCH(B18,'Coop GFs_CFs'!B:B,0),2), "Population", INDEX('Coop GFs_CFs'!E:F, MATCH(B18,'Coop GFs_CFs'!B:B,0),2), "Household", INDEX('Coop GFs_CFs'!G:H, MATCH(B18,'Coop GFs_CFs'!B:B,0),2), "VMT", INDEX('Coop GFs_CFs'!I:J, MATCH(B18,'Coop GFs_CFs'!B:B,0),2), "Lane Mile", INDEX('Coop GFs_CFs'!K:L, MATCH(B18,'Coop GFs_CFs'!B:B,0),2), "Gas Sales", INDEX('Coop GFs_CFs'!M:N, MATCH(B18,'Coop GFs_CFs'!B:B,0),2), "No Growth", INDEX('Coop GFs_CFs'!O:P, MATCH(B18,'Coop GFs_CFs'!B:B,0),2) )} -> 1.150447 | P18: =F18*M18 -> 0 | Q18: =F18*N18 -> 0 | R18: 2275020000 | S18: Mobile - Aircraft | T18: Mobile Sources | U18: Aircraft | V18: Commercial Aircraft | W18: Total: All Types | X18: Airport | Z18: 2275020000-51013-VOC
A19: Virginia | B19: 51107 | C19: VOC | D19: 149.40513 | E19: =SUMIFS('Ratios_MARAMA-VA'!T:T, 'Ratios_MARAMA-VA'!AA:AA, Z19) -> 0 | F19: =SUMIFS('Ratios_MARAMA-VA'!J:J, 'Ratios_MARAMA-VA'!AA:AA, Z19) -> 0 | G19: =F19/E19 -> #DIV/0! | H19: 247.93781 | I19: 0.71824053 | J19: 275.45824 | K19: 0.79796328 | L19: {=_xlfn.SWITCH(A19, "District of Columbia", _xlfn.XLOOKUP(R19, '2015 O3 Growth Surrogates'!A:A, '2015 O3 Growth Surrogates'!H:H), "Maryland", _xlfn.XLOOKUP(R19, '2015 O3 Growth Surrogates'!A:A, '2015 O3 Growth Surrogates'!I:I), "Virginia", _xlfn.XLOOKUP(R19, '2015 O3 Growth Surrogates'!A:A, '2015 O3 Growth Surrogates'!J:J) )} -> Population | M19: {=_xlfn.SWITCH(L19, "Employment", INDEX('Coop GFs_CFs'!C:D, MATCH(B19,'Coop GFs_CFs'!B:B,0),1), "Population", INDEX('Coop GFs_CFs'!E:F, MATCH(B19,'Coop GFs_CFs'!B:B,0),1), "Household", INDEX('Coop GFs_CFs'!G:H, MATCH(B19,'Coop GFs_CFs'!B:B,0),1), "VMT", INDEX('Coop GFs_CFs'!I:J, MATCH(B19,'Coop GFs_CFs'!B:B,0),1), "Lane Mile", INDEX('Coop GFs_CFs'!K:L, MATCH(B19,'Coop GFs_CFs'!B:B,0),1), "Gas Sales", INDEX('Coop GFs_CFs'!M:N, MATCH(B19,'Coop GFs_CFs'!B:B,0),1), "No Growth", INDEX('Coop GFs_CFs'!O:P, MATCH(B19,'Coop GFs_CFs'!B:B,0),1) )} -> 1.1551128 | N19: {=_xlfn.SWITCH(L19, "Employment", INDEX('Coop GFs_CFs'!C:D, MATCH(B19,'Coop GFs_CFs'!B:B,0),2), "Population", INDEX('Coop GFs_CFs'!E:F, MATCH(B19,'Coop GFs_CFs'!B:B,0),2), "Household", INDEX('Coop GFs_CFs'!G:H, MATCH(B19,'Coop GFs_CFs'!B:B,0),2), "VMT", INDEX('Coop GFs_CFs'!I:J, MATCH(B19,'Coop GFs_CFs'!B:B,0),2), "Lane Mile", INDEX('Coop GFs_CFs'!K:L, MATCH(B19,'Coop GFs_CFs'!B:B,0),2), "Gas Sales", INDEX('Coop GFs_CFs'!M:N, MATCH(B19,'Coop GFs_CFs'!B:B,0),2), "No Growth", INDEX('Coop GFs_CFs'!O:P, MATCH(B19,'Coop GFs_CFs'!B:B,0),2) )} -> 1.1978534 | P19: =F19*M19 -> 0 | Q19: =F19*N19 -> 0 | R19: 2275020000 | S19: Mobile - Aircraft | T19: Mobile Sources | U19: Aircraft | V19: Commercial Aircraft | W19: Total: All Types | X19: Airport | Z19: 2275020000-51107-VOC
A20: Maryland | B20: 24033 | C20: NOx | D20: 0.42122659 | E20: =SUMIFS('Ratios_MARAMA-VA'!T:T, 'Ratios_MARAMA-VA'!AA:AA, Z20) -> 0 | F20: =SUMIFS('Ratios_MARAMA-VA'!J:J, 'Ratios_MARAMA-VA'!AA:AA, Z20) -> 0 | G20: =F20/E20 -> #DIV/0! | H20: 0.56621279 | I20: =NP_Data[[#This Row],[2022 MARAMA-VA OSD Emissions (tpd)]]*NP_Data[[#This Row],[Coop 2032 Growth Factor]] -> 0 | J20: 0.56621279 | K20: =NP_Data[[#This Row],[2022 MARAMA-VA OSD Emissions (tpd)]]*NP_Data[[#This Row],[Coop 2038 Growth Factor]] -> 0 | L20: {=_xlfn.SWITCH(A20, "District of Columbia", _xlfn.XLOOKUP(R20, '2015 O3 Growth Surrogates'!A:A, '2015 O3 Growth Surrogates'!H:H), "Maryland", _xlfn.XLOOKUP(R20, '2015 O3 Growth Surrogates'!A:A, '2015 O3 Growth Surrogates'!I:I), "Virginia", _xlfn.XLOOKUP(R20, '2015 O3 Growth Surrogates'!A:A, '2015 O3 Growth Surrogates'!J:J) )} -> EPA EMP | M20: =NP_Data[[#This Row],[2032 Annual Emissions (Tons)]]/NP_Data[[#This Row],[2022 Annual Emiss Data Tool v1 Emissions (Tons)]] -> 1.3442 | N20: =NP_Data[[#This Row],[2038 Annual Emissions (Tons)]]/NP_Data[[#This Row],[2022 Annual Emiss Data Tool v1 Emissions (Tons)]] -> 1.3442 | P20: =I20 -> 0 | Q20: =K20 -> 0 | R20: 2275020000 | S20: Mobile - Aircraft | T20: Mobile Sources | U20: Aircraft | V20: Commercial Aircraft | W20: Total: All Types | X20: Airport | Z20: 2275020000-24033-NOx
A21: Maryland | B21: 24033 | C21: VOC | D21: 1.0976974 | E21: =SUMIFS('Ratios_MARAMA-VA'!T:T, 'Ratios_MARAMA-VA'!AA:AA, Z21) -> 0 | F21: =SUMIFS('Ratios_MARAMA-VA'!J:J, 'Ratios_MARAMA-VA'!AA:AA, Z21) -> 0 | G21: =F21/E21 -> #DIV/0! | H21: 1.4755248 | I21: =NP_Data[[#This Row],[2022 MARAMA-VA OSD Emissions (tpd)]]*NP_Data[[#This Row],[Coop 2032 Growth Factor]] -> 0 | J21: 1.4755248 | K21: =NP_Data[[#This Row],[2022 MARAMA-VA OSD Emissions (tpd)]]*NP_Data[[#This Row],[Coop 2038 Growth Factor]] -> 0 | L21: {=_xlfn.SWITCH(A21, "District of Columbia", _xlfn.XLOOKUP(R21, '2015 O3 Growth Surrogates'!A:A, '2015 O3 Growth Surrogates'!H:H), "Maryland", _xlfn.XLOOKUP(R21, '2015 O3 Growth Surrogates'!A:A, '2015 O3 Growth Surrogates'!I:I), "Virginia", _xlfn.XLOOKUP(R21, '2015 O3 Growth Surrogates'!A:A, '2015 O3 Growth Surrogates'!J:J) )} -> EPA EMP | M21: =NP_Data[[#This Row],[2032 Annual Emissions (Tons)]]/NP_Data[[#This Row],[2022 Annual Emiss Data Tool v1 Emissions (Tons)]] -> 1.3442 | N21: =NP_Data[[#This Row],[2038 Annual Emissions (Tons)]]/NP_Data[[#This Row],[2022 Annual Emiss Data Tool v1 Emissions (Tons)]] -> 1.3442 | P21: =I21 -> 0 | Q21: =K21 -> 0 | R21: 2275020000 | S21: Mobile - Aircraft | T21: Mobile Sources | U21: Aircraft | V21: Commercial Aircraft | W21: Total: All Types | X21: Airport | Z21: 2275020000-24033-VOC
A22: District of Columbia | B22: 11001 | C22: NOx | D22: 0.003835 | E22: =SUMIFS('Ratios_MARAMA-VA'!T:T, 'Ratios_MARAMA-VA'!AA:AA, Z22) -> 0.0038341011 | F22: =SUMIFS('Ratios_MARAMA-VA'!J:J, 'Ratios_MARAMA-VA'!AA:AA, Z22) -> 1.1106845e-05 | G22: =F22/E22 -> 0.0028968576 | H22: 0.003835 | I22: 1.1109449e-05 | J22: 0.003835 | K22: 1.1109449e-05 | L22: {=_xlfn.SWITCH(A22, "District of Columbia", _xlfn.XLOOKUP(R22, '2015 O3 Growth Surrogates'!A:A, '2015 O3 Growth Surrogates'!H:H), "Maryland", _xlfn.XLOOKUP(R22, '2015 O3 Growth Surrogates'!A:A, '2015 O3 Growth Surrogates'!I:I), "Virginia", _xlfn.XLOOKUP(R22, '2015 O3 Growth Surrogates'!A:A, '2015 O3 Growth Surrogates'!J:J) )} -> Population | M22: {=_xlfn.SWITCH(L22, "Employment", INDEX('Coop GFs_CFs'!C:D, MATCH(B22,'Coop GFs_CFs'!B:B,0),1), "Population", INDEX('Coop GFs_CFs'!E:F, MATCH(B22,'Coop GFs_CFs'!B:B,0),1), "Household", INDEX('Coop GFs_CFs'!G:H, MATCH(B22,'Coop GFs_CFs'!B:B,0),1), "VMT", INDEX('Coop GFs_CFs'!I:J, MATCH(B22,'Coop GFs_CFs'!B:B,0),1), "Lane Mile", INDEX('Coop GFs_CFs'!K:L, MATCH(B22,'Coop GFs_CFs'!B:B,0),1), "Gas Sales", INDEX('Coop GFs_CFs'!M:N, MATCH(B22,'Coop GFs_CFs'!B:B,0),1), "No Growth", INDEX('Coop GFs_CFs'!O:P, MATCH(B22,'Coop GFs_CFs'!B:B,0),1) )} -> 1.0682042 | N22: {=_xlfn.SWITCH(L22, "Employment", INDEX('Coop GFs_CFs'!C:D, MATCH(B22,'Coop GFs_CFs'!B:B,0),2), "Population", INDEX('Coop GFs_CFs'!E:F, MATCH(B22,'Coop GFs_CFs'!B:B,0),2), "Household", INDEX('Coop GFs_CFs'!G:H, MATCH(B22,'Coop GFs_CFs'!B:B,0),2), "VMT", INDEX('Coop GFs_CFs'!I:J, MATCH(B22,'Coop GFs_CFs'!B:B,0),2), "Lane Mile", INDEX('Coop GFs_CFs'!K:L, MATCH(B22,'Coop GFs_CFs'!B:B,0),2), "Gas Sales", INDEX('Coop GFs_CFs'!M:N, MATCH(B22,'Coop GFs_CFs'!B:B,0),2), "No Growth", INDEX('Coop GFs_CFs'!O:P, MATCH(B22,'Coop GFs_CFs'!B:B,0),2) )} -> 1.1102535 | P22: =F22*M22 -> 1.1864378e-05 | Q22: =F22*N22 -> 1.2331413e-05 | R22: 2275050011 | S22: Mobile - Aircraft | T22: Mobile Sources | U22: Aircraft | V22: General Aviation | W22: Piston | X22: Airport | Z22: 2275050011-11001-NOx
A23: Maryland | B23: 24009 | C23: NOx | D23: 0.010725 | E23: =SUMIFS('Ratios_MARAMA-VA'!T:T, 'Ratios_MARAMA-VA'!AA:AA, Z23) -> 0.010722486 | F23: =SUMIFS('Ratios_MARAMA-VA'!J:J, 'Ratios_MARAMA-VA'!AA:AA, Z23) -> 3.1061515e-05 | G23: =F23/E23 -> 0.0028968576 | H23: 0.010725 | I23: 3.1068797e-05 | J23: 0.010725 | K23: 3.1068797e-05 | L23: {=_xlfn.SWITCH(A23, "District of Columbia", _xlfn.XLOOKUP(R23, '2015 O3 Growth Surrogates'!A:A, '2015 O3 Growth Surrogates'!H:H), "Maryland", _xlfn.XLOOKUP(R23, '2015 O3 Growth Surrogates'!A:A, '2015 O3 Growth Surrogates'!I:I), "Virginia", _xlfn.XLOOKUP(R23, '2015 O3 Growth Surrogates'!A:A, '2015 O3 Growth Surrogates'!J:J) )} -> EPA EMP | M23: {=_xlfn.SWITCH(L23, "Employment", INDEX('Coop GFs_CFs'!C:D, MATCH(B23,'Coop GFs_CFs'!B:B,0),1), "Population", INDEX('Coop GFs_CFs'!E:F, MATCH(B23,'Coop GFs_CFs'!B:B,0),1), "Household", INDEX('Coop GFs_CFs'!G:H, MATCH(B23,'Coop GFs_CFs'!B:B,0),1), "VMT", INDEX('Coop GFs_CFs'!I:J, MATCH(B23,'Coop GFs_CFs'!B:B,0),1), "Lane Mile", INDEX('Coop GFs_CFs'!K:L, MATCH(B23,'Coop GFs_CFs'!B:B,0),1), "Gas Sales", INDEX('Coop GFs_CFs'!M:N, MATCH(B23,'Coop GFs_CFs'!B:B,0),1), "No Growth", INDEX('Coop GFs_CFs'!O:P, MATCH(B23,'Coop GFs_CFs'!B:B,0),1) )} -> #N/A | N23: {=_xlfn.SWITCH(L23, "Employment", INDEX('Coop GFs_CFs'!C:D, MATCH(B23,'Coop GFs_CFs'!B:B,0),2), "Population", INDEX('Coop GFs_CFs'!E:F, MATCH(B23,'Coop GFs_CFs'!B:B,0),2), "Household", INDEX('Coop GFs_CFs'!G:H, MATCH(B23,'Coop GFs_CFs'!B:B,0),2), "VMT", INDEX('Coop GFs_CFs'!I:J, MATCH(B23,'Coop GFs_CFs'!B:B,0),2), "Lane Mile", INDEX('Coop GFs_CFs'!K:L, MATCH(B23,'Coop GFs_CFs'!B:B,0),2), "Gas Sales", INDEX('Coop GFs_CFs'!M:N, MATCH(B23,'Coop GFs_CFs'!B:B,0),2), "No Growth", INDEX('Coop GFs_CFs'!O:P, MATCH(B23,'Coop GFs_CFs'!B:B,0),2) )} -> #N/A | P23: =I23 -> 3.1068797e-05 | Q23: =K23 -> 3.1068797e-05 | R23: 2275050011 | S23: Mobile - Aircraft | T23: Mobile Sources | U23: Aircraft | V23: General Aviation | W23: Piston | X23: Airport | Z23: 2275050011-24009-NOx
A24: Maryland | B24: 24017 | C24: NOx | D24: 0.2054325 | E24: =SUMIFS('Ratios_MARAMA-VA'!T:T, 'Ratios_MARAMA-VA'!AA:AA, Z24) -> 0.20538435 | F24: =SUMIFS('Ratios_MARAMA-VA'!J:J, 'Ratios_MARAMA-VA'!AA:AA, Z24) -> 0.0005949692 | G24: =F24/E24 -> 0.0028968576 | H24: 0.2054325 | I24: 0.00059510869 | J24: 0.2054325 | K24: 0.00059510869 | L24: {=_xlfn.SWITCH(A24, "District of Columbia", _xlfn.XLOOKUP(R24, '2015 O3 Growth Surrogates'!A:A, '2015 O3 Growth Surrogates'!H:H), "Maryland", _xlfn.XLOOKUP(R24, '2015 O3 Growth Surrogates'!A:A, '2015 O3 Growth Surrogates'!I:I), "Virginia", _xlfn.XLOOKUP(R24, '2015 O3 Growth Surrogates'!A:A, '2015 O3 Growth Surrogates'!J:J) )} -> EPA EMP | M24: {=_xlfn.SWITCH(L24, "Employment", INDEX('Coop GFs_CFs'!C:D, MATCH(B24,'Coop GFs_CFs'!B:B,0),1), "Population", INDEX('Coop GFs_CFs'!E:F, MATCH(B24,'Coop GFs_CFs'!B:B,0),1), "Household", INDEX('Coop GFs_CFs'!G:H, MATCH(B24,'Coop GFs_CFs'!B:B,0),1), "VMT", INDEX('Coop GFs_CFs'!I:J, MATCH(B24,'Coop GFs_CFs'!B:B,0),1), "Lane Mile", INDEX('Coop GFs_CFs'!K:L, MATCH(B24,'Coop GFs_CFs'!B:B,0),1), "Gas Sales", INDEX('Coop GFs_CFs'!M:N, MATCH(B24,'Coop GFs_CFs'!B:B,0),1), "No Growth", INDEX('Coop GFs_CFs'!O:P, MATCH(B24,'Coop GFs_CFs'!B:B,0),1) )} -> #N/A | N24: {=_xlfn.SWITCH(L24, "Employment", INDEX('Coop GFs_CFs'!C:D, MATCH(B24,'Coop GFs_CFs'!B:B,0),2), "Population", INDEX('Coop GFs_CFs'!E:F, MATCH(B24,'Coop GFs_CFs'!B:B,0),2), "Household", INDEX('Coop GFs_CFs'!G:H, MATCH(B24,'Coop GFs_CFs'!B:B,0),2), "VMT", INDEX('Coop GFs_CFs'!I:J, MATCH(B24,'Coop GFs_CFs'!B:B,0),2), "Lane Mile", INDEX('Coop GFs_CFs'!K:L, MATCH(B24,'Coop GFs_CFs'!B:B,0),2), "Gas Sales", INDEX('Coop GFs_CFs'!M:N, MATCH(B24,'Coop GFs_CFs'!B:B,0),2), "No Growth", INDEX('Coop GFs_CFs'!O:P, MATCH(B24,'Coop GFs_CFs'!B:B,0),2) )} -> #N/A | P24: =I24 -> 0.00059510869 | Q24: =K24 -> 0.00059510869 | R24: 2275050011 | S24: Mobile - Aircraft | T24: Mobile Sources | U24: Aircraft | V24: General Aviation | W24: Piston | X24: Airport | Z24: 2275050011-24017-NOx
A25: Maryland | B25: 24021 | C25: NOx | D25: 0.79236622 | E25: =SUMIFS('Ratios_MARAMA-VA'!T:T, 'Ratios_MARAMA-VA'!AA:AA, Z25) -> 0.79218049 | F25: =SUMIFS('Ratios_MARAMA-VA'!J:J, 'Ratios_MARAMA-VA'!AA:AA, Z25) -> 0.002294834 | G25: =F25/E25 -> 0.0028968576 | H25: 0.95448435 | I25: 0.0027650052 | J25: 0.95448435 | K25: 0.0027650052 | L25: {=_xlfn.SWITCH(A25, "District of Columbia", _xlfn.XLOOKUP(R25, '2015 O3 Growth Surrogates'!A:A, '2015 O3 Growth Surrogates'!H:H), "Maryland", _xlfn.XLOOKUP(R25, '2015 O3 Growth Surrogates'!A:A, '2015 O3 Growth Surrogates'!I:I), "Virginia", _xlfn.XLOOKUP(R25, '2015 O3 Growth Surrogates'!A:A, '2015 O3 Growth Surrogates'!J:J) )} -> EPA EMP | M25: {=_xlfn.SWITCH(L25, "Employment", INDEX('Coop GFs_CFs'!C:D, MATCH(B25,'Coop GFs_CFs'!B:B,0),1), "Population", INDEX('Coop GFs_CFs'!E:F, MATCH(B25,'Coop GFs_CFs'!B:B,0),1), "Household", INDEX('Coop GFs_CFs'!G:H, MATCH(B25,'Coop GFs_CFs'!B:B,0),1), "VMT", INDEX('Coop GFs_CFs'!I:J, MATCH(B25,'Coop GFs_CFs'!B:B,0),1), "Lane Mile", INDEX('Coop GFs_CFs'!K:L, MATCH(B25,'Coop GFs_CFs'!B:B,0),1), "Gas Sales", INDEX('Coop GFs_CFs'!M:N, MATCH(B25,'Coop GFs_CFs'!B:B,0),1), "No Growth", INDEX('Coop GFs_CFs'!O:P, MATCH(B25,'Coop GFs_CFs'!B:B,0),1) )} -> #N/A | N25: {=_xlfn.SWITCH(L25, "Employment", INDEX('Coop GFs_CFs'!C:D, MATCH(B25,'Coop GFs_CFs'!B:B,0),2), "Population", INDEX('Coop GFs_CFs'!E:F, MATCH(B25,'Coop GFs_CFs'!B:B,0),2), "Household", INDEX('Coop GFs_CFs'!G:H, MATCH(B25,'Coop GFs_CFs'!B:B,0),2), "VMT", INDEX('Coop GFs_CFs'!I:J, MATCH(B25,'Coop GFs_CFs'!B:B,0),2), "Lane Mile", INDEX('Coop GFs_CFs'!K:L, MATCH(B25,'Coop GFs_CFs'!B:B,0),2), "Gas Sales", INDEX('Coop GFs_CFs'!M:N, MATCH(B25,'Coop GFs_CFs'!B:B,0),2), "No Growth", INDEX('Coop GFs_CFs'!O:P, MATCH(B25,'Coop GFs_CFs'!B:B,0),2) )} -> #N/A | P25: =I25 -> 0.0027650052 | Q25: =K25 -> 0.0027650052 | R25: 2275050011 | S25: Mobile - Aircraft | T25: Mobile Sources | U25: Aircraft | V25: General Aviation | W25: Piston | X25: Airport | Z25: 2275050011-24021-NOx
A26: Maryland | B26: 24031 | C26: NOx | D26: 0.50011 | E26: =SUMIFS('Ratios_MARAMA-VA'!T:T, 'Ratios_MARAMA-VA'!AA:AA, Z26) -> 0.49999277 | F26: =SUMIFS('Ratios_MARAMA-VA'!J:J, 'Ratios_MARAMA-VA'!AA:AA, Z26) -> 0.0014484078 | G26: =F26/E26 -> 0.0028968576 | H26: 0.51865422 | I26: 0.0015024674 | J26: 0.51865422 | K26: 0.0015024674 | L26: {=_xlfn.SWITCH(A26, "District of Columbia", _xlfn.XLOOKUP(R26, '2015 O3 Growth Surrogates'!A:A, '2015 O3 Growth Surrogates'!H:H), "Maryland", _xlfn.XLOOKUP(R26, '2015 O3 Growth Surrogates'!A:A, '2015 O3 Growth Surrogates'!I:I), "Virginia", _xlfn.XLOOKUP(R26, '2015 O3 Growth Surrogates'!A:A, '2015 O3 Growth Surrogates'!J:J) )} -> EPA EMP | M26: {=_xlfn.SWITCH(L26, "Employment", INDEX('Coop GFs_CFs'!C:D, MATCH(B26,'Coop GFs_CFs'!B:B,0),1), "Population", INDEX('Coop GFs_CFs'!E:F, MATCH(B26,'Coop GFs_CFs'!B:B,0),1), "Household", INDEX('Coop GFs_CFs'!G:H, MATCH(B26,'Coop GFs_CFs'!B:B,0),1), "VMT", INDEX('Coop GFs_CFs'!I:J, MATCH(B26,'Coop GFs_CFs'!B:B,0),1), "Lane Mile", INDEX('Coop GFs_CFs'!K:L, MATCH(B26,'Coop GFs_CFs'!B:B,0),1), "Gas Sales", INDEX('Coop GFs_CFs'!M:N, MATCH(B26,'Coop GFs_CFs'!B:B,0),1), "No Growth", INDEX('Coop GFs_CFs'!O:P, MATCH(B26,'Coop GFs_CFs'!B:B,0),1) )} -> #N/A | N26: {=_xlfn.SWITCH(L26, "Employment", INDEX('Coop GFs_CFs'!C:D, MATCH(B26,'Coop GFs_CFs'!B:B,0),2), "Population", INDEX('Coop GFs_CFs'!E:F, MATCH(B26,'Coop GFs_CFs'!B:B,0),2), "Household", INDEX('Coop GFs_CFs'!G:H, MATCH(B26,'Coop GFs_CFs'!B:B,0),2), "VMT", INDEX('Coop GFs_CFs'!I:J, MATCH(B26,'Coop GFs_CFs'!B:B,0),2), "Lane Mile", INDEX('Coop GFs_CFs'!K:L, MATCH(B26,'Coop GFs_CFs'!B:B,0),2), "Gas Sales", INDEX('Coop GFs_CFs'!M:N, MATCH(B26,'Coop GFs_CFs'!B:B,0),2), "No Growth", INDEX('Coop GFs_CFs'!O:P, MATCH(B26,'Coop GFs_CFs'!B:B,0),2) )} -> #N/A | P26: =I26 -> 0.0015024674 | Q26: =K26 -> 0.0015024674 | R26: 2275050011 | S26: Mobile - Aircraft | T26: Mobile Sources | U26: Aircraft | V26: General Aviation | W26: Piston | X26: Airport | Z26: 2275050011-24031-NOx
A27: Maryland | B27: 24033 | C27: NOx | D27: 0.5513922 | E27: =SUMIFS('Ratios_MARAMA-VA'!T:T, 'Ratios_MARAMA-VA'!AA:AA, Z27) -> 0.51877694 | F27: =SUMIFS('Ratios_MARAMA-VA'!J:J, 'Ratios_MARAMA-VA'!AA:AA, Z27) -> 0.0015028229 | G27: =F27/E27 -> 0.0028968576 | H27: 0.56948859 | I27: =NP_Data[[#This Row],[2022 MARAMA-VA OSD Emissions (tpd)]]*NP_Data[[#This Row],[Coop 2032 Growth Factor]] -> 0.0015521447 | J27: 0.5701677 | K27: =NP_Data[[#This Row],[2022 MARAMA-VA OSD Emissions (tpd)]]*NP_Data[[#This Row],[Coop 2038 Growth Factor]] -> 0.0015539957 | L27: {=_xlfn.SWITCH(A27, "District of Columbia", _xlfn.XLOOKUP(R27, '2015 O3 Growth Surrogates'!A:A, '2015 O3 Growth Surrogates'!H:H), "Maryland", _xlfn.XLOOKUP(R27, '2015 O3 Growth Surrogates'!A:A, '2015 O3 Growth Surrogates'!I:I), "Virginia", _xlfn.XLOOKUP(R27, '2015 O3 Growth Surrogates'!A:A, '2015 O3 Growth Surrogates'!J:J) )} -> EPA EMP | M27: =NP_Data[[#This Row],[2032 Annual Emissions (Tons)]]/NP_Data[[#This Row],[2022 Annual Emiss Data Tool v1 Emissions (Tons)]] -> 1.0328194 | N27: =NP_Data[[#This Row],[2038 Annual Emissions (Tons)]]/NP_Data[[#This Row],[2022 Annual Emiss Data Tool v1 Emissions (Tons)]] -> 1.0340511 | P27: =I27 -> 0.0015521447 | Q27: =K27 -> 0.0015539957 | R27: 2275050011 | S27: Mobile - Aircraft | T27: Mobile Sources | U27: Aircraft | V27: General Aviation | W27: Piston | X27: Airport | Z27: 2275050011-24033-NOx
A28: Virginia | B28: 51013 | C28: NOx | D28: 0.02574 | E28: =SUMIFS('Ratios_MARAMA-VA'!T:T, 'Ratios_MARAMA-VA'!AA:AA, Z28) -> 0 | F28: =SUMIFS('Ratios_MARAMA-VA'!J:J, 'Ratios_MARAMA-VA'!AA:AA, Z28) -> 0 | G28: =F28/E28 -> #DIV/0! | H28: 0.035840376 | I28: =NP_Data[[#This Row],[2022 MARAMA-VA OSD Emissions (tpd)]]*NP_Data[[#This Row],[2032 Annual Emissions (Tons)]]/NP_Data[[#This Row],[2022 Annual Emiss Data Tool v1 Emissions (Tons)]] -> 0 | J28: 0.038066886 | K28: =NP_Data[[#This Row],[2022 MARAMA-VA OSD Emissions (tpd)]]*NP_Data[[#This Row],[2038 Annual Emissions (Tons)]]/NP_Data[[#This Row],[2022 Annual Emiss Data Tool v1 Emissions (Tons)]] -> 0 | L28: {=_xlfn.SWITCH(A28, "District of Columbia", _xlfn.XLOOKUP(R28, '2015 O3 Growth Surrogates'!A:A, '2015 O3 Growth Surrogates'!H:H), "Maryland", _xlfn.XLOOKUP(R28, '2015 O3 Growth Surrogates'!A:A, '2015 O3 Growth Surrogates'!I:I), "Virginia", _xlfn.XLOOKUP(R28, '2015 O3 Growth Surrogates'!A:A, '2015 O3 Growth Surrogates'!J:J) )} -> Population | M28: {=_xlfn.SWITCH(L28, "Employment", INDEX('Coop GFs_CFs'!C:D, MATCH(B28,'Coop GFs_CFs'!B:B,0),1), "Population", INDEX('Coop GFs_CFs'!E:F, MATCH(B28,'Coop GFs_CFs'!B:B,0),1), "Household", INDEX('Coop GFs_CFs'!G:H, MATCH(B28,'Coop GFs_CFs'!B:B,0),1), "VMT", INDEX('Coop GFs_CFs'!I:J, MATCH(B28,'Coop GFs_CFs'!B:B,0),1), "Lane Mile", INDEX('Coop GFs_CFs'!K:L, MATCH(B28,'Coop GFs_CFs'!B:B,0),1), "Gas Sales", INDEX('Coop GFs_CFs'!M:N, MATCH(B28,'Coop GFs_CFs'!B:B,0),1), "No Growth", INDEX('Coop GFs_CFs'!O:P, MATCH(B28,'Coop GFs_CFs'!B:B,0),1) )} -> 1.098465 | N28: {=_xlfn.SWITCH(L28, "Employment", INDEX('Coop GFs_CFs'!C:D, MATCH(B28,'Coop GFs_CFs'!B:B,0),2), "Population", INDEX('Coop GFs_CFs'!E:F, MATCH(B28,'Coop GFs_CFs'!B:B,0),2), "Household", INDEX('Coop GFs_CFs'!G:H, MATCH(B28,'Coop GFs_CFs'!B:B,0),2), "VMT", INDEX('Coop GFs_CFs'!I:J, MATCH(B28,'Coop GFs_CFs'!B:B,0),2), "Lane Mile", INDEX('Coop GFs_CFs'!K:L, MATCH(B28,'Coop GFs_CFs'!B:B,0),2), "Gas Sales", INDEX('Coop GFs_CFs'!M:N, MATCH(B28,'Coop GFs_CFs'!B:B,0),2), "No Growth", INDEX('Coop GFs_CFs'!O:P, MATCH(B28,'Coop GFs_CFs'!B:B,0),2) )} -> 1.150447 | P28: =F28*M28 -> 0 | Q28: =F28*N28 -> 0 | R28: 2275050011 | S28: Mobile - Aircraft | T28: Mobile Sources | U28: Aircraft | V28: General Aviation | W28: Piston | X28: Airport | Z28: 2275050011-51013-NOx
