Workbook

Sheet QCEW
A2: Sort | B2: Source | C2: AreaType | D2: StName | E2: Jurisdiction | F2: 2000 | G2: 2005 | H2: 2010 | I2: 2011 | J2: 2012 | K2: 2013 | L2: 2014 | M2: 2015 | N2: 2016 | O2: 2017
A3: 1 | B3: QCEW | C3: County | D3: District of Col | E3: District Of Columbia | F3: 636.179 | G3: 667.512 | H3: 693.274 | I3: 707.359 | J3: 714.93 | K3: 724.27 | L3: 729.349 | M3: 743.596 | N3: 756.646 | O3: 763.805
A4: 2 | B4: QCEW | C4: County | D4: Virginia | E4: Arlington County, Virginia | F4: 158.242 | G4: 154.08 | H4: 162.679 | I4: 168.271 | J4: 165.776 | K4: 165.044 | L4: 164.576 | M4: 170.256 | N4: 172.888 | O4: 176.703
A5: 3 | B5: QCEW | C5: County | D5: Virginia | E5: City of Alexandria, Virginia | F5: 91.892 | G5: 93.602 | H5: 95.948 | I5: 94.568 | J5: 95.584 | K5: 95.203 | L5: 94.946 | M5: 96.328 | N5: 94.885 | O5: 93.781
A6: 4 | B6: QCEW | C6: County | D6: Maryland | E6: Montgomery County, Maryland | F6: 447.208 | G6: 458.809 | H6: 441.887 | I6: 447.238 | J6: 450.496 | K6: 451.869 | L6: 455.82 | M6: 459.667 | N6: 463.967 | O6: 469.354
A7: 5 | B7: QCEW | C7: County | D7: Maryland | E7: Prince George's County, Maryland | F7: 303.252 | G7: 312.819 | H7: 299.093 | I7: 298.676 | J7: 299.516 | K7: 299.713 | L7: 303.015 | M7: 306.137 | N7: 312.033 | O7: 319.529
A8: 6 | B8: QCEW | C8: County | D8: Virginia | E8: Fairfax County, Virginia | F8: 537.746 | G8: 565.72 | H8: 573.551 | I8: 581.12 | J8: 590.49 | K8: 586.818 | L8: 579.539 | M8: 586.87 | N8: 595.313 | O8: 601.563
A9: 7 | B9: QCEW | C9: County | D9: Virginia | E9: City of Fairfax, Virginia | F9: 16.795 | G9: 23.674 | H9: 19.877 | I9: 19.509 | J9: 19.731 | K9: 19.49 | L9: 19.664 | M9: 19.567 | N9: 19.227 | O9: 19.184
A10: 8 | B10: QCEW | C10: County | D10: Virginia | E10: City of Falls Church, Virginia | F10: 14.517 | G10: 14.612 | H10: 12.395 | I10: 11.713 | J10: 11.2 | K10: 10.125 | L10: 11.032 | M10: 11.545 | N10: 11.701 | O10: 12.086
A11: 9 | B11: QCEW | C11: County | D11: Virginia | E11: Loudoun County, Virginia | F11: 87.369 | G11: 120.791 | H11: 132.34 | I11: 137.434 | J11: 141.249 | K11: 146.358 | L11: 148.593 | M11: 154.56 | N11: 159.753 | O11: 164.439
A12: 10 | B12: QCEW | C12: County | D12: Virginia | E12: Prince William County, Virginia | F12: 77.934 | G12: 100.832 | H12: 103.877 | I12: 108.137 | J12: 112.954 | K12: 116.645 | L12: 119.463 | M12: 122.607 | N12: 126.283 | O12: 127.877
A13: 11 | B13: QCEW | C13: County | D13: Virginia | E13: City of Manassas, Virginia | F13: 19.87 | G13: 24.53 | H13: 23.743 | I13: 24.218 | J13: 24.247 | K13: 22.966 | L13: 22.992 | M13: 22.771 | N13: 22.621 | O13: 22.333
A14: 12 | B14: QCEW | C14: County | D14: Virginia | E14: City of Manassas Park, Virginia | F14: 3.912 | G14: 3.836 | H14: 2.824 | I14: 2.902 | J14: 2.733 | K14: 2.743 | L14: 2.848 | M14: 2.984 | N14: 3.282 | O14: 3.499
... A16: 14 | B16: QCEW | C16: County | D16: Maryland | E16: Frederick County, Maryland | F16: 77.069 | G16: 91.127 | H16: 91.669 | I16: 90.503 | J16: 92.58 | K16: 94.789 | L16: 95.257 | M16: 98.19 | N16: 99.418 | O16: 100.655
E17: COG Region | F17: =SUM(F3:F16) -> 2508.084 | G17: =SUM(G3:G16) -> 2672.674 | H17: =SUM(H3:H16) -> 2693.501 | I17: =SUM(I3:I16) -> 2732.057 | J17: =SUM(J3:J16) -> 2762.033 | K17: =SUM(K3:K16) -> 2776.776 | L17: =SUM(L3:L16) -> 2788.319 | M17: =SUM(M3:M16) -> 2837.197 | ... O17: =SUM(O3:O16) -> 2916.454
E20: Calvert County, Maryland | F20: 16.882 | G20: 20.782 | H20: 21.066 | I20: 21.218 | J20: 21.447 | K20: 21.545 | L20: 21.732 | M20: 22.639 | N20: 24.142 | O20: 24.258

Sheet CES & QCEW-Northern Virginia
A1: Northern Virginia Adjustment
A2: CES
A3: Metropolitan Area or Division | B3: 2000 | C3: 2005 | D3: 2010 | E3: 2011 | F3: 2012 | G3: 2013 | H3: 2014 | I3: 2015 | J3: 2016 | K3: 2017
A4: 47894- Washington-Arlington-Alexandria, D.C.-Va.-Md.-W.Va. Metropolitan Division | B4: 2149.3 | C4: 2367.1 | D4: 2422.8 | E4: 2460.9 | F4: 2496.5 | G4: 2519.4 | H4: 2531.7 | I4: 2582.5 | J4: 2638 | K4: 2682.6
A5: District of Columbia | B5: 650.3 | C5: 682.2 | D5: 712.1 | E5: 726.2 | F5: 734.7 | G5: 748.1 | H5: 753.3 | I5: 769.2 | J5: 782.9 | K5: 790.4
A6: 94781 - Calvert County, Charles County, Prince George’s County | B6: 382.3 | C6: 395 | D6: 386.4 | E6: 386 | F6: 387.8 | G6: 390.6 | H6: 395.4 | I6: 401.1 | J6: 410.8 | K6: 417.3
A7: COG Northern Virginia | B7: =+B4-B5-B6 -> 1116.7 | C7: =+C4-C5-C6 -> 1289.9 | D7: =+D4-D5-D6 -> 1324.3 | E7: =+E4-E5-E6 -> 1348.7 | F7: =+F4-F5-F6 -> 1374 | G7: =+G4-G5-G6 -> 1380.7 | H7: =+H4-H5-H6 -> 1383 | I7: =+I4-I5-I6 -> 1412.2 | ... K7: =+K4-K5-K6 -> 1474.9
A8: Note: CES downloaded 6/28/2018
A10: QCEW
A11: Jurisdiction / Metro Area | B11: 2000 | C11: 2005 | D11: 2010 | E11: 2011 | F11: 2012 | G11: 2013 | H11: 2014 | I11: 2015 | J11: 2016 | K11: 2017
A12: 47894 - District of Columbia, Calvert, Charles, Prince George's, Arlington, Clarke, Fairfax, Fauquier, Loudoun, Prince William, Spotsylvania, Stafford, Warren, City of Alexandria, City of Fairfax, City of Falls Church, City of Fredericksburg, City of Manassas, City of Manassas Park, Jefferson County, WV | B12: 2116.046 | C12: 2280.322 | D12: 2321.484 | E12: 2358.782 | F12: 2386.423 | G12: 2399.499 | H12: 2408.089 | I12: 2453.932 | J12: 2496.801 | K12: 2528.109
A13: District of Columbia | B13: =+QCEW!F3 -> 636.179 | C13: =+QCEW!G3 -> 667.512 | D13: =+QCEW!H3 -> 693.274 | E13: =+QCEW!I3 -> 707.359 | F13: =+QCEW!J3 -> 714.93 | G13: =+QCEW!K3 -> 724.27 | H13: =+QCEW!L3 -> 729.349 | I13: =+QCEW!M3 -> 743.596 | ... K13: =+QCEW!O3 -> 763.805
A14: Calvert, Charles, Prince George's | B14: =+QCEW!F20+QCEW!F15+QCEW!F7 -> 356.233 | C14: =+QCEW!G20+QCEW!G15+QCEW!G7 -> 374.331 | D14: =+QCEW!H20+QCEW!H15+QCEW!H7 -> 360.503 | E14: =+QCEW!I20+QCEW!I15+QCEW!I7 -> 360.303 | F14: =+QCEW!J20+QCEW!J15+QCEW!J7 -> 361.51 | G14: =+QCEW!K20+QCEW!K15+QCEW!K7 -> 362.001 | H14: =+QCEW!L20+QCEW!L15+QCEW!L7 -> 365.972 | I14: =+QCEW!M20+QCEW!M15+QCEW!M7 -> 370.895 | ... K14: =+QCEW!O20+QCEW!O15+QCEW!O7 -> 385.433
A15: COG Northern Virginia: Arlington, Clarke, Fairfax, Fauquier, Loudoun, Prince William, Spotsylvania, Stafford, Warren, City of Alexandria, City of Fairfax, City of Falls Church, City of Fredericksburg, City of Manassas, City of Manassas Park, Jefferson County, WV | B15: =+B12-B13-B14 -> 1123.634 | C15: =+C12-C13-C14 -> 1238.479 | D15: =+D12-D13-D14 -> 1267.707 | E15: =+E12-E13-E14 -> 1291.12 | F15: =+F12-F13-F14 -> 1309.983 | G15: =+G12-G13-G14 -> 1313.228 | H15: =+H12-H13-H14 -> 1312.768 | I15: =+I12-I13-I14 -> 1339.441 | ... K15: =+K12-K13-K14 -> 1378.871
A16: Note: QCEW downloaded 6/29/2018

Sheet CES Adjustment
A1: Metro Area QCEW-CES Comparison
A2: Source | B2: Jurisdiction / Metro Area | C2: 2000 | D2: 2005 | E2: 2010 | F2: 2011 | G2: 2012 | H2: 2013 | I2: 2014 | J2: 2015 | K2: 2016 | L2: 2017
A3: QCEW | B3: District of Columbia | C3: =+QCEW!F3 -> 636.179 | D3: =+QCEW!G3 -> 667.512 | E3: =+QCEW!H3 -> 693.274 | F3: =+QCEW!I3 -> 707.359 | G3: =+QCEW!J3 -> 714.93 | H3: =+QCEW!K3 -> 724.27 | I3: =+QCEW!L3 -> 729.349 | J3: =+QCEW!M3 -> 743.596 | ... L3: =+QCEW!O3 -> 763.805
A4: QCEW | B4: Montgomery, Frederick | C4: =SUM(QCEW!F6,QCEW!F16) -> 524.277 | D4: =SUM(QCEW!G6,QCEW!G16) -> 549.936 | E4: =SUM(QCEW!H6,QCEW!H16) -> 533.556 | F4: =SUM(QCEW!I6,QCEW!I16) -> 537.741 | G4: =SUM(QCEW!J6,QCEW!J16) -> 543.076 | H4: =SUM(QCEW!K6,QCEW!K16) -> 546.658 | I4: =SUM(QCEW!L6,QCEW!L16) -> 551.077 | J4: =SUM(QCEW!M6,QCEW!M16) -> 557.857 | ... L4: =SUM(QCEW!O6,QCEW!O16) -> 570.009
A5: QCEW | B5: Calvert, Charles, Prince George's | C5: =+'CES & QCEW-Northern Virginia'!B14 -> 356.233 | D5: =+'CES & QCEW-Northern Virginia'!C14 -> 374.331 | E5: =+'CES & QCEW-Northern Virginia'!D14 -> 360.503 | F5: =+'CES & QCEW-Northern Virginia'!E14 -> 360.303 | G5: =+'CES & QCEW-Northern Virginia'!F14 -> 361.51 | H5: =+'CES & QCEW-Northern Virginia'!G14 -> 362.001 | I5: =+'CES & QCEW-Northern Virginia'!H14 -> 365.972 | J5: =+'CES & QCEW-Northern Virginia'!I14 -> 370.895 | ... L5: =+'CES & QCEW-Northern Virginia'!K14 -> 385.433
A6: QCEW | B6: Northern Virginia | C6: =+'CES & QCEW-Northern Virginia'!B15 -> 1123.634 | D6: =+'CES & QCEW-Northern Virginia'!C15 -> 1238.479 | E6: =+'CES & QCEW-Northern Virginia'!D15 -> 1267.707 | F6: =+'CES & QCEW-Northern Virginia'!E15 -> 1291.12 | G6: =+'CES & QCEW-Northern Virginia'!F15 -> 1309.983 | H6: =+'CES & QCEW-Northern Virginia'!G15 -> 1313.228 | I6: =+'CES & QCEW-Northern Virginia'!H15 -> 1312.768 | J6: =+'CES & QCEW-Northern Virginia'!I15 -> 1339.441 | ... L6: =+'CES & QCEW-Northern Virginia'!K15 -> 1378.871
A7: QCEW | B7: Region | C7: =SUM(C3:C6) -> 2640.323 | D7: =SUM(D3:D6) -> 2830.258 | E7: =SUM(E3:E6) -> 2855.04 | F7: =SUM(F3:F6) -> 2896.523 | G7: =SUM(G3:G6) -> 2929.499 | H7: =SUM(H3:H6) -> 2946.157 | I7: =SUM(I3:I6) -> 2959.166 | J7: =SUM(J3:J6) -> 3011.789 | ... L7: =SUM(L3:L6) -> 3098.118
A8: CES | B8: District of Columbia | C8: =+'CES & QCEW-Northern Virginia'!B5 -> 650.3 | D8: =+'CES & QCEW-Northern Virginia'!C5 -> 682.2 | E8: =+'CES & QCEW-Northern Virginia'!D5 -> 712.1 | F8: =+'CES & QCEW-Northern Virginia'!E5 -> 726.2 | G8: =+'CES & QCEW-Northern Virginia'!F5 -> 734.7 | H8: =+'CES & QCEW-Northern Virginia'!G5 -> 748.1 | I8: =+'CES & QCEW-Northern Virginia'!H5 -> 753.3 | J8: =+'CES & QCEW-Northern Virginia'!I5 -> 769.2 | ... L8: =+'CES & QCEW-Northern Virginia'!K5 -> 790.4
A9: CES | B9: 43524 - Silver Spring-Frederick-Rockville, MD Metropolitan Division | C9: 543.7 | D9: 565.5 | E9: 558.5 | F9: 563.4 | G9: 567 | H9: 571.7 | I9: 576.6 | J9: 581.5 | K9: 585.2 | L9: 591.5
A10: CES | B10: 94781 - Calvert County, Charles County, Prince George's County | C10: 382.3 | D10: 395 | E10: 386.4 | F10: 386 | G10: 387.8 | H10: 390.6 | I10: 395.4 | J10: 401.1 | K10: 410.8 | L10: 417.3
A11: CES | B11: Northern Virginia | C11: =+'CES & QCEW-Northern Virginia'!B7 -> 1116.7 | D11: =+'CES & QCEW-Northern Virginia'!C7 -> 1289.9 | E11: =+'CES & QCEW-Northern Virginia'!D7 -> 1324.3 | F11: =+'CES & QCEW-Northern Virginia'!E7 -> 1348.7 | G11: =+'CES & QCEW-Northern Virginia'!F7 -> 1374 | H11: =+'CES & QCEW-Northern Virginia'!G7 -> 1380.7 | I11: =+'CES & QCEW-Northern Virginia'!H7 -> 1383 | J11: =+'CES & QCEW-Northern Virginia'!I7 -> 1412.2 | ... L11: =+'CES & QCEW-Northern Virginia'!K7 -> 1474.9
A12: CES | B12: Region | C12: =SUM(C8:C11) -> 2693 | D12: =SUM(D8:D11) -> 2932.6 | E12: =SUM(E8:E11) -> 2981.3 | F12: =SUM(F8:F11) -> 3024.3 | G12: =SUM(G8:G11) -> 3063.5 | H12: =SUM(H8:H11) -> 3091.1 | I12: =SUM(I8:I11) -> 3108.3 | J12: =SUM(J8:J11) -> 3164 | ... L12: =SUM(L8:L11) -> 3274.1
A13: Adjustment Factor | B13: District of Columbia | C13: =+ROUND(C8/C3,3) -> 1.022 | D13: =+ROUND(D8/D3,3) -> 1.022 | E13: =+ROUND(E8/E3,3) -> 1.027 | F13: =+ROUND(F8/F3,3) -> 1.027 | G13: =+ROUND(G8/G3,3) -> 1.028 | H13: =+ROUND(H8/H3,3) -> 1.033 | I13: =+ROUND(I8/I3,3) -> 1.033 | J13: =+ROUND(J8/J3,3) -> 1.034 | ... L13: =+ROUND(L8/L3,3) -> 1.035
A14: Adjustment Factor | B14: 43524 - Silver Spring-Frederick-Rockville, MD Metropolitan Division | C14: =+ROUND(C9/C4,3) -> 1.037 | D14: =+ROUND(D9/D4,3) -> 1.028 | E14: =+ROUND(E9/E4,3) -> 1.047 | F14: =+ROUND(F9/F4,3) -> 1.048 | G14: =+ROUND(G9/G4,3) -> 1.044 | H14: =+ROUND(H9/H4,3) -> 1.046 | I14: =+ROUND(I9/I4,3) -> 1.046 | J14: =+ROUND(J9/J4,3) -> 1.042 | ... L14: =+ROUND(L9/L4,3) -> 1.038
A15: Adjustment Factor | B15: 94781 - Calvert County, Charles County, Prince George's County | C15: =+ROUND(C10/C5,3) -> 1.073 | D15: =+ROUND(D10/D5,3) -> 1.055 | E15: =+ROUND(E10/E5,3) -> 1.072 | F15: =+ROUND(F10/F5,3) -> 1.071 | G15: =+ROUND(G10/G5,3) -> 1.073 | H15: =+ROUND(H10/H5,3) -> 1.079 | I15: =+ROUND(I10/I5,3) -> 1.08 | J15: =+ROUND(J10/J5,3) -> 1.081 | ... L15: =+ROUND(L10/L5,3) -> 1.083
A16: Adjustment Factor | B16: Northern Virginia | C16: =+ROUND(C11/C6,3) -> 0.994 | D16: =+ROUND(D11/D6,3) -> 1.042 | E16: =+ROUND(E11/E6,3) -> 1.045 | F16: =+ROUND(F11/F6,3) -> 1.045 | G16: =+ROUND(G11/G6,3) -> 1.049 | H16: =+ROUND(H11/H6,3) -> 1.051 | I16: =+ROUND(I11/I6,3) -> 1.053 | J16: =+ROUND(J11/J6,3) -> 1.054 | ... L16: =+ROUND(L11/L6,3) -> 1.07
A17: Adjustment Factor | B17: Region | C17: =+ROUND(C12/C7,3) -> 1.02 | D17: =+ROUND(D12/D7,3) -> 1.036 | E17: =+ROUND(E12/E7,3) -> 1.044 | F17: =+ROUND(F12/F7,3) -> 1.044 | G17: =+ROUND(G12/G7,3) -> 1.046 | H17: =+ROUND(H12/H7,3) -> 1.049 | I17: =+ROUND(I12/I7,3) -> 1.05 | J17: =+ROUND(J12/J7,3) -> 1.051 | ... L17: =+ROUND(L12/L7,3) -> 1.057

Sheet Self-Employment 
C1: 2013 | G1: 2015 | K1: 2016
A2: Sort | B2: Jurisdiction of Work | C2: Covered Employment | D2: Self-Employed Not Incorporated & Unpaid Family | E2: Total Workers | F2: Self-Employment Factor | G2: Covered Employment | H2: Self-Employed Not Incorporated & Unpaid Family | I2: Total Workers | J2: Self-Employment Factor | K2: Covered Employment | L2: Self-Employed Not Incorporated & Unpaid Family | M2: Total Workers | N2: Self-Employment Factor
A3: 1 | B3: District Of Columbia | C3: 773.434 | D3: 26.978 | E3: 800.412 | F3: =+ROUND(E3/C3,2) -> 1.03 | G3: 817.69 | H3: 31.923 | I3: 849.613 | J3: =+ROUND(I3/G3,2) -> 1.04 | K3: 797.563 | L3: 29.814 | M3: 827.377 | N3: =+ROUND(M3/K3,2) -> 1.04
A4: 2 | B4: Arlington County | C4: 188.531 | D4: 5.718 | E4: 194.249 | F4: =+ROUND(E4/C4,2) -> 1.03 | G4: 186.637 | H4: 7.539 | I4: 194.176 | J4: =+ROUND(I4/G4,2) -> 1.04 | K4: 179.99 | L4: 6.749 | M4: 186.739 | N4: =+ROUND(M4/K4,2) -> 1.04
A5: 3 | B5: City of Alexandria | C5: 92.01 | D5: 4.994 | E5: 97.004 | F5: =+ROUND(E5/C5,2) -> 1.05 | G5: 94.023 | H5: 4.79 | I5: 98.813 | J5: =+ROUND(I5/G5,2) -> 1.05 | K5: 104.373 | L5: 4.272 | M5: 108.645 | N5: =+ROUND(M5/K5,2) -> 1.04
A6: 4 | B6: Montgomery County | C6: 474.672 | D6: 30.108 | E6: 504.78 | F6: =+ROUND(E6/C6,2) -> 1.06 | G6: 483.061 | H6: 32.204 | I6: 515.265 | J6: =+ROUND(I6/G6,2) -> 1.07 | K6: 501.297 | L6: 27.865 | M6: 529.162 | N6: =+ROUND(M6/K6,2) -> 1.06
A7: 5 | B7: Prince George's County | C7: 309.353 | D7: 16.771 | E7: 326.124 | F7: =+ROUND(E7/C7,2) -> 1.05 | G7: 338.998 | H7: 16.079 | I7: 355.077 | J7: =+ROUND(I7/G7,2) -> 1.05 | K7: 332.818 | L7: 18.649 | M7: 351.467 | N7: =+ROUND(M7/K7,2) -> 1.06
A8: 6 | B8: Fairfax County, City of Fairfax, and City of Falls Church | C8: 641.958 | D8: 33.077 | E8: 675.035 | F8: =+ROUND(E8/C8,2) -> 1.05 | G8: 641.754 | H8: 29.592 | I8: 671.346 | J8: =+ROUND(I8/G8,2) -> 1.05 | K8: 643.405 | L8: 35.118 | M8: 678.523 | N8: =+ROUND(M8/K8,2) -> 1.05
A9: 9 | B9: Loudoun County | C9: 146.653 | D9: 7.004 | E9: 153.657 | F9: =+ROUND(E9/C9,2) -> 1.05 | G9: 152.455 | H9: 9.094 | I9: 161.549 | J9: =+ROUND(I9/G9,2) -> 1.06 | K9: 166.142 | L9: 7.428 | M9: 173.57 | N9: =+ROUND(M9/K9,2) -> 1.04
A10: 10 | B10: Prince William County, City of Manassas, and City of Manassas Park | C10: 159.138 | D10: 8.273 | E10: 167.411 | F10: =+ROUND(E10/C10,2) -> 1.05 | G10: 158.581 | H10: 6.883 | I10: 165.464 | J10: =+ROUND(I10/G10,2) -> 1.04 | K10: 165.171 | L10: 8.147 | M10: 173.318 | N10: =+ROUND(M10/K10,2) -> 1.05
A11: 13 | B11: Charles County | C11: 40.576 | D11: 1.913 | E11: 42.489 | F11: =+ROUND(E11/C11,2) -> 1.05 | G11: 38.557 | H11: 1.842 | I11: 40.399 | J11: =+ROUND(I11/G11,2) -> 1.05 | K11: 45.521 | L11: 3.776 | M11: 49.297 | N11: =+ROUND(M11/K11,2) -> 1.08
A12: 14 | B12: Frederick County | C12: 100.554 | D12: 5.645 | E12: 106.199 | F12: =+ROUND(E12/C12,2) -> 1.06 | G12: 103.346 | H12: 6.496 | I12: 109.842 | J12: =+ROUND(I12/G12,2) -> 1.06 | K12: 106.74 | L12: 6.924 | M12: 113.664 | N12: =+ROUND(M12/K12,2) -> 1.06
B13: Region | C13: 2926.879 | D13: 140.481 | E13: 3067.36 | F13: =+ROUND(E13/C13,2) -> 1.05 | G13: =SUM(G3:G12) -> 3015.102 | H13: =SUM(H3:H12) -> 146.442 | I13: =SUM(I3:I12) -> 3161.544 | J13: =+ROUND(I13/G13,2) -> 1.05 | K13: =SUM(K3:K12) -> 3043.02 | L13: =SUM(L3:L12) -> 148.742 | M13: =SUM(M3:M12) -> 3191.762 | N13: =+ROUND(M13/K13,2) -> 1.05
B14: Source: Census ACS PUMS data

Sheet Military
A1: Sort | B1: Jurisdiction | C1: 2000 | D1: 2005 | E1: 2010 | F1: 2011 | G1: 2012 | H1: 2013 | I1: 2014 | J1: 2015 | K1: 2016 | L1: 2017
A2: 1 | B2: District of Columbia | C2: 12.76 | D2: 18.005 | E2: 18.976 | F2: 10.785 | G2: 11.409 | H2: 9.096 | I2: 9.102 | J2: =+I2 -> 9.102 | K2: 8.851 | L2: =+K2 -> 8.851
A3: 2 | B3: Arlington County | C3: 15.796 | D3: 17.742 | E3: 9.086 | F3: 12.507 | G3: 12.852 | H3: 13.491 | I3: 10.503 | J3: =+I3 -> 10.503 | K3: 10.283 | L3: =+K3 -> 10.283
A4: 3 | B4: City of Alexandria | C4: 0 | D4: 0 | E4: 0 | F4: 0 | G4: 0.012 | H4: 0.008 | I4: 0.032 | J4: =+I4 -> 0.032 | K4: 0.05 | L4: =+K4 -> 0.05
A5: 4 | B5: Montgomery County | C5: 2.726 | D5: 4.096 | E5: 3.881 | F5: 3.103 | G5: 3.392 | H5: 4.614 | I5: 5.013 | J5: =+I5 -> 5.013 | K5: 4.457 | L5: =+K5 -> 4.457
A6: 5 | B6: Prince George's County | C6: 8.323 | D6: 8.418 | E6: 7.455 | F6: 4.561 | G6: 4.72 | H6: 4.685 | I6: 4.403 | J6: =+I6 -> 4.403 | K6: 4.274 | L6: =+K6 -> 4.274
A7: 6 | B7: Fairfax County | C7: 4.117 | D7: 4.337 | E7: 6.807 | F7: 3.773 | G7: 4.049 | H7: 4.061 | I7: 4.126 | J7: =+I7 -> 4.126 | K7: 4.483 | L7: =+K7 -> 4.483
A8: 7 | B8: City of Fairfax | C8: 0 | D8: 0 | E8: 0 | F8: 0 | G8: 0 | H8: 0 | I8: 0 | J8: =+I8 -> 0 | L8: =+K8 -> 0
A9: 8 | B9: City of Falls Church | C9: 0 | D9: 0 | E9: 0 | F9: 0 | G9: 0 | H9: 0 | I9: 0 | J9: =+I9 -> 0 | L9: =+K9 -> 0
A10: 9 | B10: Loudoun County | C10: 0 | D10: 0 | E10: 0 | F10: 0 | G10: 0 | H10: 0 | I10: 0 | J10: =+I10 -> 0 | L10: =+K10 -> 0
A11: 10 | B11: Prince William County | C11: 6.652 | D11: 11.987 | E11: 6.266 | F11: 6.737 | G11: 7.444 | H11: 7.919 | I11: 7.465 | J11: =+I11 -> 7.465 | K11: 7.582 | L11: =+K11 -> 7.582
A12: 11 | B12: City of Manassas | C12: 0 | D12: 0 | E12: 0 | F12: 0 | G12: 0 | H12: 0 | I12: 0 | J12: =+I12 -> 0 | L12: =+K12 -> 0
A13: 12 | B13: City of Manassas Park | C13: 0 | D13: 0 | E13: 0 | F13: 0 | G13: 0 | H13: 0 | I13: 0 | J13: =+I13 -> 0 | L13: =+K13 -> 0
A14: 13 | B14: Charles County | C14: 0.29 | D14: 0.493 | E14: 0.001 | F14: 0.903 | G14: 0.848 | H14: 0.716 | I14: 0.737 | J14: =+I14 -> 0.737 | K14: 0.695 | L14: =+K14 -> 0.695
A15: 14 | B15: Frederick County | C15: 1.482 | D15: 1.545 | E15: 1.39 | F15: 1.239 | G15: 0.96 | H15: 0.987 | I15: 0.958 | J15: =+I15 -> 0.958 | K15: 1.045 | L15: =+K15 -> 1.045
B16: Region | C16: =SUM(C2:C15) -> 52.146 | D16: =SUM(D2:D15) -> 66.623 | E16: 45.283 | F16: 43.608 | G16: 45.686 | H16: 45.577 | I16: 42.339 | J16: =+I16 -> 42.339 | K16: =SUM(K2:K15) -> 41.72 | L16: =+K16 -> 41.72

Sheet Baseline Employment
A1: Sort | B1: Jurisdiction | C1: 2000 | D1: 2005 | E1: 2010 | F1: 2011 | G1: 2012 | H1: 2013 | I1: 2014 | J1: 2015 | K1: 2016 | L1: 2017
A2: 1 | B2: District Of Columbia | C2: =+QCEW!F3*'CES Adjustment'!C13*'Self-Employment '!$F3+Military!C2 -> 682.44019 | D2: =+QCEW!F3*'CES Adjustment'!D13*'Self-Employment '!$F3+Military!D2 -> 687.68519 | E2: =+QCEW!H3*'CES Adjustment'!E13*'Self-Employment '!$F3+Military!E2 -> 752.32817 | F2: =+QCEW!I3*'CES Adjustment'!F13*'Self-Employment '!$F3+Military!F2 -> 759.03642 | G2: =+QCEW!J3*'CES Adjustment'!G13*'Self-Employment '!$F3+Military!G2 -> 768.40548 | H2: =+QCEW!K3*'CES Adjustment'!H13*'Self-Employment '!$F3+Military!H2 -> 779.71204 | I2: =+QCEW!L3*'CES Adjustment'!I13*'Self-Employment '!$F3+Military!I2 -> 785.12204 | J2: =+QCEW!M3*'CES Adjustment'!J13*'Self-Employment '!$J3+Military!J2 -> 808.73539 | K2: =+QCEW!N3*'CES Adjustment'!K13*'Self-Employment '!$N3+Military!K2 -> 823.30475 | L2: =+QCEW!O3*'CES Adjustment'!L13*'Self-Employment '!$N3+Military!L2 -> 831.0107
A3: 2 | B3: Arlington County | C3: =+QCEW!F4*'CES Adjustment'!C16*'Self-Employment '!$F4+Military!C3 -> 177.80732 | D3: =+QCEW!F4*'CES Adjustment'!D16*'Self-Employment '!$F4+Military!D3 -> 187.57681 | E3: =+QCEW!H4*'CES Adjustment'!E16*'Self-Employment '!$F4+Military!E3 -> 184.18554 | F3: =+QCEW!I4*'CES Adjustment'!F16*'Self-Employment '!$F4+Military!F3 -> 193.62549 | G3: =+QCEW!J4*'CES Adjustment'!G16*'Self-Employment '!$F4+Military!G3 -> 191.96799 | H3: =+QCEW!K4*'CES Adjustment'!H16*'Self-Employment '!$F4+Military!H3 -> 192.15608 | I3: =+QCEW!L4*'CES Adjustment'!I16*'Self-Employment '!$F4+Military!I3 -> 189.00048 | J3: =+QCEW!M4*'CES Adjustment'!J16*'Self-Employment '!$J4+Military!J3 -> 197.13082 | K3: =+QCEW!N4*'CES Adjustment'!K16*'Self-Employment '!$N4+Military!K3 -> 201.05453 | L3: =+QCEW!O4*'CES Adjustment'!L16*'Self-Employment '!$N4+Military!L3 -> 206.9181
A4: 3 | B4: City of Alexandria | C4: =+QCEW!F5*'CES Adjustment'!C16*'Self-Employment '!$F5+Military!C4 -> 95.90768 | D4: =+QCEW!F5*'CES Adjustment'!D16*'Self-Employment '!$F5+Military!D4 -> 100.53904 | E4: =+QCEW!H5*'CES Adjustment'!E16*'Self-Employment '!$F5+Military!E4 -> 105.27894 | F4: =+QCEW!I5*'CES Adjustment'!F16*'Self-Employment '!$F5+Military!F4 -> 103.76474 | G4: =+QCEW!J5*'CES Adjustment'!G16*'Self-Employment '!$F5+Military!G4 -> 105.293 | H4: =+QCEW!K5*'CES Adjustment'!H16*'Self-Employment '!$F5+Military!H4 -> 105.06927 | I4: =+QCEW!L5*'CES Adjustment'!I16*'Self-Employment '!$F5+Military!I4 -> 105.00904 | J4: =+QCEW!M5*'CES Adjustment'!J16*'Self-Employment '!$J5+Military!J4 -> 106.6382 | K4: =+QCEW!N5*'CES Adjustment'!K16*'Self-Employment '!$N5+Military!K4 -> 104.7499 | L4: =+QCEW!O5*'CES Adjustment'!L16*'Self-Employment '!$N5+Military!L4 -> 104.4095
A5: 4 | B5: Montgomery County | C5: =+QCEW!F6*'CES Adjustment'!C14*'Self-Employment '!$F6+Military!C5 -> 494.30598 | D5: =+QCEW!F6*'CES Adjustment'!D14*'Self-Employment '!$F6+Military!D5 -> 491.40961 | E5: =+QCEW!H6*'CES Adjustment'!E14*'Self-Employment '!$F6+Military!E5 -> 494.29603 | F5: =+QCEW!I6*'CES Adjustment'!F14*'Self-Employment '!$F6+Military!F5 -> 499.93075 | G5: =+QCEW!J6*'CES Adjustment'!G14*'Self-Employment '!$F6+Military!G5 -> 501.92889 | H5: =+QCEW!K6*'CES Adjustment'!H14*'Self-Employment '!$F6+Military!H5 -> 505.62827 | I5: =+QCEW!L6*'CES Adjustment'!I14*'Self-Employment '!$F6+Military!I5 -> 510.40798 | J5: =+QCEW!M6*'CES Adjustment'!J14*'Self-Employment '!$J6+Military!J5 -> 517.51412 | K5: =+QCEW!N6*'CES Adjustment'!K14*'Self-Employment '!$N6+Military!K5 -> 515.44242 | L5: =+QCEW!O6*'CES Adjustment'!L14*'Self-Employment '!$N6+Military!L5 -> 520.87782
A6: 5 | B6: Prince George's County | C6: =+QCEW!F7*'CES Adjustment'!C15*'Self-Employment '!$F7+Military!C6 -> 349.98187 | D6: =+QCEW!F7*'CES Adjustment'!D15*'Self-Employment '!$F7+Military!D6 -> 344.3454 | E6: =+QCEW!H7*'CES Adjustment'!E15*'Self-Employment '!$F7+Military!E6 -> 344.11408 | F6: =+QCEW!I7*'CES Adjustment'!F15*'Self-Employment '!$F7+Military!F6 -> 340.4371 | G6: =+QCEW!J7*'CES Adjustment'!G15*'Self-Employment '!$F7+Military!G6 -> 342.1697 | H6: =+QCEW!K7*'CES Adjustment'!H15*'Self-Employment '!$F7+Military!H6 -> 344.24484 | I6: =+QCEW!L7*'CES Adjustment'!I15*'Self-Employment '!$F7+Military!I6 -> 348.02201 | J6: =+QCEW!M7*'CES Adjustment'!J15*'Self-Employment '!$J7+Military!J6 -> 351.8838 | K6: =+QCEW!N7*'CES Adjustment'!K15*'Self-Employment '!$N7+Military!K6 -> 362.8124 | L6: =+QCEW!O7*'CES Adjustment'!L15*'Self-Employment '!$N7+Military!L6 -> 371.0869
A7: 6 | B7: Fairfax County | C7: =+QCEW!F8*'CES Adjustment'!C16*'Self-Employment '!$F8+Military!C7 -> 565.3625 | D7: =+QCEW!F8*'CES Adjustment'!D16*'Self-Employment '!$F8+Military!D7 -> 592.6849 | E7: =+QCEW!H8*'CES Adjustment'!E16*'Self-Employment '!$F8+Military!E7 -> 636.13583 | F7: =+QCEW!I8*'CES Adjustment'!F16*'Self-Employment '!$F8+Military!F7 -> 641.40692 | G7: =+QCEW!J8*'CES Adjustment'!G16*'Self-Employment '!$F8+Military!G7 -> 654.44421 | H7: =+QCEW!K8*'CES Adjustment'!H16*'Self-Employment '!$F8+Military!H7 -> 651.644 | I7: =+QCEW!L8*'CES Adjustment'!I16*'Self-Employment '!$F8+Military!I7 -> 644.8933 | J7: =+QCEW!M8*'CES Adjustment'!J16*'Self-Employment '!$J8+Military!J7 -> 653.61503 | K7: =+QCEW!N8*'CES Adjustment'!K16*'Self-Employment '!$N8+Military!K7 -> 667.69145 | L7: =+QCEW!O8*'CES Adjustment'!L16*'Self-Employment '!$N8+Military!L7 -> 680.33903
A8: 7 | B8: City of Fairfax | C8: =+QCEW!F9*'CES Adjustment'!C16*'Self-Employment '!$F8 -> 17.528942 | D8: =+QCEW!F9*'CES Adjustment'!D16*'Self-Employment '!$F8 -> 18.37541 | E8: =+QCEW!H9*'CES Adjustment'!E16*'Self-Employment '!$F8 -> 21.810038 | F8: =+QCEW!I9*'CES Adjustment'!F16*'Self-Employment '!$F8 -> 21.40625 | G8: =+QCEW!J9*'CES Adjustment'!G16*'Self-Employment '!$F8 -> 21.73271 | H8: =+QCEW!K9*'CES Adjustment'!H16*'Self-Employment '!$F8 -> 21.50819 | I8: =+QCEW!L9*'CES Adjustment'!I16*'Self-Employment '!$F8 -> 21.741502 | J8: =+QCEW!M9*'CES Adjustment'!J16*'Self-Employment '!$J8 -> 21.654799 | K8: =+QCEW!N9*'CES Adjustment'!K16*'Self-Employment '!$N8 -> 21.419839 | L8: =+QCEW!O9*'CES Adjustment'!L16*'Self-Employment '!$N8+Military!L8 -> 21.553224
A9: 8 | B9: City of Falls Church | C9: =QCEW!F10*'CES Adjustment'!C16*'Self-Employment '!$F8 -> 15.151393 | D9: =QCEW!F10*'CES Adjustment'!D16*'Self-Employment '!$F8 -> 15.88305 | E9: =QCEW!H10*'CES Adjustment'!E16*'Self-Employment '!$F8 -> 13.600414 | F9: =+QCEW!I10*'CES Adjustment'!F16*'Self-Employment '!$F8 -> 12.852089 | G9: =+QCEW!J10*'CES Adjustment'!G16*'Self-Employment '!$F8 -> 12.33624 | H9: =+QCEW!K10*'CES Adjustment'!H16*'Self-Employment '!$F8 -> 11.173444 | I9: =+QCEW!L10*'CES Adjustment'!I16*'Self-Employment '!$F8 -> 12.197531 | J9: =+QCEW!M10*'CES Adjustment'!J16*'Self-Employment '!$J8 -> 12.776852 | K9: =+QCEW!N10*'CES Adjustment'!K16*'Self-Employment '!$N8 -> 13.035499 | L9: =+QCEW!O10*'CES Adjustment'!L16*'Self-Employment '!$N8+Military!L9 -> 13.578621
A10: 9 | B10: Loudoun County | C10: =+QCEW!F11*'CES Adjustment'!C16*'Self-Employment '!$F9 -> 91.187025 | D10: =+QCEW!F11*'CES Adjustment'!D16*'Self-Employment '!$F9 -> 95.590423 | E10: =+QCEW!H11*'CES Adjustment'!E16*'Self-Employment '!$F9 -> 145.21007 | F10: =+QCEW!I11*'CES Adjustment'!F16*'Self-Employment '!$F9 -> 150.79946 | G10: =+QCEW!J11*'CES Adjustment'!G16*'Self-Employment '!$F9 -> 155.57871 | H10: =+QCEW!K11*'CES Adjustment'!H16*'Self-Employment '!$F9 -> 161.51337 | I10: =+QCEW!L11*'CES Adjustment'!I16*'Self-Employment '!$F9 -> 164.29185 | J10: =+QCEW!M11*'CES Adjustment'!J16*'Self-Employment '!$J9 -> 172.68061 | K10: =+QCEW!N11*'CES Adjustment'!K16*'Self-Employment '!$N9 -> 176.27785 | L10: =+QCEW!O11*'CES Adjustment'!L16*'Self-Employment '!$N9+Military!L10 -> 182.98772
A11: 10 | B11: Prince William County | C11: =+QCEW!F12*'CES Adjustment'!C16*'Self-Employment '!$F10+Military!C11 -> 87.991716 | D11: =+QCEW!F12*'CES Adjustment'!D16*'Self-Employment '!$F10+Military!D11 -> 97.254589 | E11: =+QCEW!H12*'CES Adjustment'!E16*'Self-Employment '!$F10+Military!E11 -> 120.24504 | F11: =+QCEW!I12*'CES Adjustment'!F16*'Self-Employment '!$F10+Military!F11 -> 125.39032 | G11: =+QCEW!J12*'CES Adjustment'!G16*'Self-Employment '!$F10+Military!G11 -> 131.85718 | H11: =+QCEW!K12*'CES Adjustment'!H16*'Self-Employment '!$F10+Military!H11 -> 136.64259 | I11: =+QCEW!L12*'CES Adjustment'!I16*'Self-Employment '!$F10+Military!I11 -> 139.54927 | J11: =+QCEW!M12*'CES Adjustment'!J16*'Self-Employment '!$J10+Military!J11 -> 141.86189 | K11: =+QCEW!N12*'CES Adjustment'!K16*'Self-Employment '!$N10+Military!K11 -> 148.26758 | L11: =+QCEW!O12*'CES Adjustment'!L16*'Self-Employment '!$N10+Military!L11 -> 151.25181
A12: 11 | B12: City of Manassas | C12: =+QCEW!F13*'CES Adjustment'!C16*'Self-Employment '!$F10 -> 20.738319 | D12: =+QCEW!F13*'CES Adjustment'!D16*'Self-Employment '!$F10 -> 21.739767 | E12: =+QCEW!H13*'CES Adjustment'!E16*'Self-Employment '!$F10 -> 26.052007 | F12: =+QCEW!I13*'CES Adjustment'!F16*'Self-Employment '!$F10 -> 26.573201 | G12: =+QCEW!J13*'CES Adjustment'!G16*'Self-Employment '!$F10 -> 26.706858 | H12: =+QCEW!K13*'CES Adjustment'!H16*'Self-Employment '!$F10 -> 25.344129 | I12: =+QCEW!L13*'CES Adjustment'!I16*'Self-Employment '!$F10 -> 25.421105 | J12: =+QCEW!M13*'CES Adjustment'!J16*'Self-Employment '!$J10 -> 24.960659 | K12: =+QCEW!N13*'CES Adjustment'!K16*'Self-Employment '!$N10 -> 25.200925 | L12: =+QCEW!O13*'CES Adjustment'!L16*'Self-Employment '!$N10+Military!L12 -> 25.091126
A13: 12 | B13: City of Manassas Park | C13: =+QCEW!F14*'CES Adjustment'!C16*'Self-Employment '!$F10 -> 4.0829544 | D13: =+QCEW!F14*'CES Adjustment'!D16*'Self-Employment '!$F10 -> 4.2801192 | E13: =+QCEW!H14*'CES Adjustment'!E16*'Self-Employment '!$F10 -> 3.098634 | F13: =+QCEW!I14*'CES Adjustment'!F16*'Self-Employment '!$F10 -> 3.1842195 | G13: =+QCEW!J14*'CES Adjustment'!G16*'Self-Employment '!$F10 -> 3.0102629 | H13: =+QCEW!K14*'CES Adjustment'!H16*'Self-Employment '!$F10 -> 3.0270377 | I13: =+QCEW!L14*'CES Adjustment'!I16*'Self-Employment '!$F10 -> 3.1488912 | J13: =+QCEW!M14*'CES Adjustment'!J16*'Self-Employment '!$J10 -> 3.2709414 | K13: =+QCEW!N14*'CES Adjustment'!K16*'Self-Employment '!$N10 -> 3.6563121 | L13: =+QCEW!O14*'CES Adjustment'!L16*'Self-Employment '!$N10+Military!L13 -> 3.9311265
A14: 13 | B14: Charles County | C14: =+QCEW!F15*'CES Adjustment'!C15*'Self-Employment '!$F11+Military!C14 -> 40.960938 | D14: =+QCEW!F15*'CES Adjustment'!D15*'Self-Employment '!$F11+Military!D14 -> 40.481667 | E14: =+QCEW!H15*'CES Adjustment'!E15*'Self-Employment '!$F11+Military!E14 -> 45.412206 | F14: =+QCEW!I15*'CES Adjustment'!F15*'Self-Employment '!$F11+Military!F14 -> 46.344941 | G14: =+QCEW!J15*'CES Adjustment'!G15*'Self-Employment '!$F11+Military!G14 -> 46.530278 | H14: =+QCEW!K15*'CES Adjustment'!H15*'Self-Employment '!$F11+Military!H14 -> 46.875782 | I14: =+QCEW!L15*'CES Adjustment'!I15*'Self-Employment '!$F11+Military!I14 -> 47.48615 | J14: =+QCEW!M15*'CES Adjustment'!J15*'Self-Employment '!$J11+Military!J14 -> 48.544171 | K14: =+QCEW!N15*'CES Adjustment'!K15*'Self-Employment '!$N11+Military!K14 -> 50.942302 | L14: =+QCEW!O15*'CES Adjustment'!L15*'Self-Employment '!$N11+Military!L14 -> 49.405827
A15: 14 | B15: Frederick County | C15: =+QCEW!F16*'CES Adjustment'!C14*'Self-Employment '!$F12+Military!C15 -> 86.197786 | D15: =+QCEW!F16*'CES Adjustment'!D14*'Self-Employment '!$F12+Military!D15 -> 85.525548 | E15: =+QCEW!H16*'CES Adjustment'!E14*'Self-Employment '!$F12+Military!E15 -> 103.12609 | F15: =+QCEW!I16*'CES Adjustment'!F14*'Self-Employment '!$F12+Military!F15 -> 101.77697 | G15: =+QCEW!J16*'CES Adjustment'!G14*'Self-Employment '!$F12+Military!G15 -> 103.41273 | H15: =+QCEW!K16*'CES Adjustment'!H14*'Self-Employment '!$F12+Military!H15 -> 106.08525 | I15: =+QCEW!L16*'CES Adjustment'!I14*'Self-Employment '!$F12+Military!I15 -> 106.57515 | J15: =+QCEW!M16*'CES Adjustment'!J14*'Self-Employment '!$J12+Military!J15 -> 109.41082 | K15: =+QCEW!N16*'CES Adjustment'!K14*'Self-Employment '!$N12+Military!K15 -> 110.53802 | L15: =+QCEW!O16*'CES Adjustment'!L14*'Self-Employment '!$N12+Military!L15 -> 111.79368
B16: Region | C16: =SUM(C2:C15) -> 2729.6446 | D16: =SUM(D2:D15) -> 2783.3715 | E16: =SUM(E2:E15) -> 2994.8931 | F16: =SUM(F2:F15) -> 3026.5289 | G16: =SUM(G2:G15) -> 3065.3743 | H16: =SUM(H2:H15) -> 3090.6243 | I16: =SUM(I2:I15) -> 3102.8663 | J16: =SUM(J2:J15) -> 3170.6781 | ... L16: =SUM(L2:L15) -> 3274.2352
