Workbook

Sheet Read Me
A1: Note
A3: All data was downloaded from the Bay Program's CAST website: CAST.ChesapeakeBay.net
A5: All data is computed at the EOT = Edge of Tide (i.e. delivered loads) scale
A7: Loads were computed as either all source sectors together or individually for the wastewater, developed (urban) and agriculture sectors
A11: Geography - Local
A13: * NVRC = COG's Northern Virginia members
A15: * MD-COG load data = Frederick, Montgomery, Prince George's, and Charles counties
A17: * DC load Data = District of Columbia
A19: Geography - Regional
A21: * CB load data = Entire Chesapeake Bay watershed
A23: * MD and VA load data = Bay watershed portions of the states of Maryland and Virginia, repectively
A26: The spreadsheet tab %WIP2 Progress shows all the overall geography and sector loads. It also computes percent progress since 2009 (2009 - 2017/2009) and percent progress remaining toward the WIP II goal (2017-2025/2025).
... A33: The time series charts are shown as percentages of the 1985 loads, so as to normalize between loads of varying amounts. The 1985 loads are not shown in the comparison charts, although the red lines in these graphs represents 100 % of 1985 loads.

Sheet % WIP2 Progress
A1: Geography | B1: Source | C1: 1985 Progress_N Load EOT | D1: 2005 Progress_N Load EOT | E1: 2009 Progress_N Load EOT | F1: 2017 Progress V9_N Load EOT | G1: WIP 2_N Load EOT | H1: Δ (2009-2017) | I1: Percent Progress-Since 2009 | J1: Δ (2017-2025 WIP2) | K1: Percent Progress to WIP2 Goals
A2: NVRC | B2: Agriculture | C2: ='Pivot NOVA'!K5 -> 1094996.9 | D2: ='Pivot NOVA'!J5 -> 785169.06 | E2: ='Pivot NOVA'!I5 -> 723320.17 | F2: ='Pivot NOVA'!H5 -> 608096.37 | G2: ='Pivot NOVA'!G5 -> 339368.3 | H2: =(E2-F2) -> 115223.8 | I2: =H2/E2 -> 0.15929848 | J2: =(F2-G2) -> 268728.07 | K2: =J2/G2 -> 0.7918479
A3: NVRC | B3: Developed | C3: ='Pivot NOVA'!K6 -> 905450.65 | D3: ='Pivot NOVA'!J6 -> 1407522.9 | E3: ='Pivot NOVA'!I6 -> 1515258.6 | F3: ='Pivot NOVA'!H6 -> 1659504.8 | G3: ='Pivot NOVA'!G6 -> 1614679.5 | H3: =(E3-F3) -> -144246.17 | I3: =H3/E3 -> -0.095195742 | J3: =(F3-G3) -> 44825.308 | K3: =J3/G3 -> 0.027761119
A4: NVRC | B4: Natural | C4: ='Pivot NOVA'!K7 -> 884302.21 | D4: ='Pivot NOVA'!J7 -> 800156.78 | E4: ='Pivot NOVA'!I7 -> 793839.44 | F4: ='Pivot NOVA'!H7 -> 771020.07 | G4: ='Pivot NOVA'!G7 -> 785000 | H4: =(E4-F4) -> 22819.369 | I4: =H4/E4 -> 0.028745572 | J4: =(F4-G4) -> -13979.934 | K4: =J4/G4 -> -0.017808833
A5: NVRC | B5: Septic | C5: ='Pivot NOVA'!K8 -> 91904.8 | D5: ='Pivot NOVA'!J8 -> 146525.89 | E5: ='Pivot NOVA'!I8 -> 157396.62 | F5: ='Pivot NOVA'!H8 -> 202959.09 | G5: ='Pivot NOVA'!G8 -> 241776.6 | H5: =(E5-F5) -> -45562.468 | I5: =H5/E5 -> -0.28947552 | J5: =(F5-G5) -> -38817.511 | K5: =J5/G5 -> -0.16055115
A6: NVRC | B6: Wastewater | C6: ='Pivot NOVA'!K9 -> 6698623.7 | D6: ='Pivot NOVA'!J9 -> 2800892.6 | E6: ='Pivot NOVA'!I9 -> 2475344.2 | F6: ='Pivot NOVA'!H9 -> 1287225.1 | G6: ='Pivot NOVA'!G9 -> 2502009.1 | H6: =(E6-F6) -> 1188119.1 | I6: =H6/E6 -> 0.47998136 | J6: =(F6-G6) -> -1214784 | K6: =J6/G6 -> -0.48552341
A7: =A6 -> NVRC | B7: ALL | C7: =SUM(C2:C6) -> 9675278.2 | D7: =SUM(D2:D6) -> 5940267.3 | E7: =SUM(E2:E6) -> 5665159 | F7: =SUM(F2:F6) -> 4528805.4 | G7: =SUM(G2:G6) -> 5482833.4 | H7: =(E7-F7) -> 1136353.6 | I7: =H7/E7 -> 0.20058636 | J7: =(F7-G7) -> -954028.02 | K7: =J7/G7 -> -0.17400274
A8: Washington, DC | B8: Agriculture | C8: ='Pivot DC'!K5 -> 0 | D8: ='Pivot DC'!J5 -> 0 | E8: ='Pivot DC'!I5 -> 0 | F8: ='Pivot DC'!H5 -> 0 | G8: ='Pivot DC'!G5 -> 0 | H8: =(E8-F8) -> 0 | J8: =(F8-G8) -> 0
A9: Washington, DC | B9: Developed | C9: ='Pivot DC'!K6 -> 164429.15 | D9: ='Pivot DC'!J6 -> 170702.91 | E9: ='Pivot DC'!I6 -> 173098.49 | F9: ='Pivot DC'!H6 -> 163142.28 | G9: ='Pivot DC'!G6 -> 165489.99 | H9: =(E9-F9) -> 9956.2084 | I9: =H9/E9 -> 0.057517592 | J9: =(F9-G9) -> -2347.7033 | K9: =J9/G9 -> -0.014186377
A10: Washington, DC | B10: Natural | C10: ='Pivot DC'!K7 -> 26114.325 | D10: ='Pivot DC'!J7 -> 24187.692 | E10: ='Pivot DC'!I7 -> 23775.781 | F10: ='Pivot DC'!H7 -> 22479.364 | G10: ='Pivot DC'!G7 -> 19989.642 | H10: =(E10-F10) -> 1296.4167 | I10: =H10/E10 -> 0.054526779 | J10: =(F10-G10) -> 2489.722 | K10: =J10/G10 -> 0.1245506
A11: Washington, DC | B11: Septic | C11: ='Pivot DC'!K8 -> 405.69806 | D11: ='Pivot DC'!J8 -> 269.36715 | E11: ='Pivot DC'!I8 -> 193.8359 | F11: ='Pivot DC'!H8 -> 173.22532 | G11: ='Pivot DC'!G8 -> 173.22532 | H11: =(E11-F11) -> 20.61058 | I11: =H11/E11 -> 0.10633005 | J11: =(F11-G11) -> 0 | K11: =J11/G11 -> 0
A12: Washington, DC | B12: Wastewater | C12: ='Pivot DC'!K9 -> 6289206.2 | D12: ='Pivot DC'!J9 -> 2505683 | E12: ='Pivot DC'!I9 -> 2567723.3 | F12: ='Pivot DC'!H9 -> 1358842 | G12: ='Pivot DC'!G9 -> 2246536.5 | H12: =(E12-F12) -> 1208881.3 | I12: =H12/E12 -> 0.47079891 | J12: =(F12-G12) -> -887694.54 | K12: =J12/G12 -> -0.39513916
A13: =A12 -> Washington, DC | B13: ALL | C13: =SUM(C8:C12) -> 6480155.4 | D13: =SUM(D8:D12) -> 2700843 | E13: =SUM(E8:E12) -> 2764791.4 | F13: =SUM(F8:F12) -> 1544636.8 | G13: =SUM(G8:G12) -> 2432189.4 | H13: =(E13-F13) -> 1220154.5 | I13: =H13/E13 -> 0.44131885 | J13: =(F13-G13) -> -887552.52 | K13: =J13/G13 -> -0.36491917
A14: MD_COG | B14: Agriculture | C14: ='Pivot MD COG'!K33 -> 6770452.3 | D14: ='Pivot MD COG'!J33 -> 4467516.7 | E14: ='Pivot MD COG'!I33 -> 4053660.6 | F14: ='Pivot MD COG'!H33 -> 3745978.1 | G14: ='Pivot MD COG'!G33 -> 3409614.6 | H14: =(E14-F14) -> 307682.53 | I14: =H14/E14 -> 0.075902389 | J14: =(F14-G14) -> 336363.47 | K14: =J14/G14 -> 0.098651462
A15: MD_COG | B15: Developed | C15: ='Pivot MD COG'!K34 -> 1672831.6 | D15: ='Pivot MD COG'!J34 -> 2359317.5 | E15: ='Pivot MD COG'!I34 -> 2422358.5 | F15: ='Pivot MD COG'!H34 -> 2519348.6 | G15: ='Pivot MD COG'!G34 -> 2215627.5 | H15: =(E15-F15) -> -96990.089 | I15: =H15/E15 -> -0.040039527 | J15: =(F15-G15) -> 303721.08 | K15: =J15/G15 -> 0.13708129
A16: MD_COG | B16: Natural | C16: ='Pivot MD COG'!K35 -> 1791797.4 | D16: ='Pivot MD COG'!J35 -> 1589475.5 | E16: ='Pivot MD COG'!I35 -> 1550355.3 | F16: ='Pivot MD COG'!H35 -> 1540748 | G16: ='Pivot MD COG'!G35 -> 1533311.1 | H16: =(E16-F16) -> 9607.2696 | I16: =H16/E16 -> 0.0061968181 | J16: =(F16-G16) -> 7436.921 | K16: =J16/G16 -> 0.0048502362
A17: MD_COG | B17: Septic | C17: ='Pivot MD COG'!K36 -> 361258.94 | D17: ='Pivot MD COG'!J36 -> 569416.89 | E17: ='Pivot MD COG'!I36 -> 593826.34 | F17: ='Pivot MD COG'!H36 -> 615991.7 | G17: ='Pivot MD COG'!G36 -> 487820.9 | H17: =(E17-F17) -> -22165.357 | I17: =H17/E17 -> -0.037326329 | J17: =(F17-G17) -> 128170.79 | K17: =J17/G17 -> 0.2627415
A18: MD_COG | B18: Wastewater | C18: ='Pivot MD COG'!K37 -> 8574816.1 | D18: ='Pivot MD COG'!J37 -> 3853084.8 | E18: ='Pivot MD COG'!I37 -> 3543694.3 | F18: ='Pivot MD COG'!H37 -> 1991803.5 | G18: ='Pivot MD COG'!G37 -> 3957541.3 | H18: =(E18-F18) -> 1551890.8 | I18: =H18/E18 -> 0.43793023 | J18: =(F18-G18) -> -1965737.9 | K18: =J18/G18 -> -0.49670685
A19: =A18 -> MD_COG | B19: ALL | C19: =SUM(C14:C18) -> 19171156 | D19: =SUM(D14:D18) -> 12838811 | E19: =SUM(E14:E18) -> 12163895 | F19: =SUM(F14:F18) -> 10413870 | G19: =SUM(G14:G18) -> 11603915 | H19: =(E19-F19) -> 1750025.2 | I19: =H19/E19 -> 0.14387046 | J19: =(F19-G19) -> -1190045.6 | K19: =J19/G19 -> -0.10255552
A20: Chesapeake Bay WSHD | B20: Agriculture | C20: ='Pivot CB'!K5 -> 1.5628408e+08 | D20: ='Pivot CB'!J5 -> 1.3060557e+08 | E20: ='Pivot CB'!I5 -> 1.2267305e+08 | F20: ='Pivot CB'!H5 -> 1.2010248e+08 | G20: ='Pivot CB'!G5 -> 73120903 | H20: =(E20-F20) -> 2570571.2 | I20: =H20/E20 -> 0.020954653 | J20: =(F20-G20) -> 46981576 | K20: =J20/G20 -> 0.64251909
A21: Chesapeake Bay WSHD | B21: Developed | C21: ='Pivot CB'!K6 -> 27360634 | D21: ='Pivot CB'!J6 -> 36815256 | E21: ='Pivot CB'!I6 -> 37917917 | F21: ='Pivot CB'!H6 -> 39584775 | G21: ='Pivot CB'!G6 -> 30010973 | H21: =(E21-F21) -> -1666857.9 | I21: =H21/E21 -> -0.043959638 | J21: =(F21-G21) -> 9573802 | K21: =J21/G21 -> 0.31901005
A22: Chesapeake Bay WSHD | B22: Natural | C22: ='Pivot CB'!K7 -> 48529035 | D22: ='Pivot CB'!J7 -> 46724249 | E22: ='Pivot CB'!I7 -> 46166070 | F22: ='Pivot CB'!H7 -> 45682828 | G22: ='Pivot CB'!G7 -> 43369025 | H22: =(E22-F22) -> 483241.95 | I22: =H22/E22 -> 0.01046747 | J22: =(F22-G22) -> 2313803.2 | K22: =J22/G22 -> 0.053351516
A23: Chesapeake Bay WSHD | B23: Septic | C23: ='Pivot CB'!K8 -> 5451390.7 | D23: ='Pivot CB'!J8 -> 7226368.4 | E23: ='Pivot CB'!I8 -> 7562097.6 | F23: ='Pivot CB'!H8 -> 7835601.9 | G23: ='Pivot CB'!G8 -> 6288578.5 | H23: =(E23-F23) -> -273504.39 | I23: =H23/E23 -> -0.036167795 | J23: =(F23-G23) -> 1547023.5 | K23: =J23/G23 -> 0.24600527
A24: Chesapeake Bay WSHD | B24: Wastewater | C24: ='Pivot CB'!K9 -> 93603223 | D24: ='Pivot CB'!J9 -> 59952119 | E24: ='Pivot CB'!I9 -> 56589825 | F24: ='Pivot CB'!H9 -> 36577186 | G24: ='Pivot CB'!G9 -> 42796497 | H24: =(E24-F24) -> 20012639 | I24: =H24/E24 -> 0.35364377 | J24: =(F24-G24) -> -6219310.5 | K24: =J24/G24 -> -0.14532289
A25: =A24 -> Chesapeake Bay WSHD | B25: ALL | C25: =SUM(C20:C24) -> 3.3122836e+08 | D25: =SUM(D20:D24) -> 2.8132356e+08 | E25: =SUM(E20:E24) -> 2.7090896e+08 | F25: =SUM(F20:F24) -> 2.4978287e+08 | G25: =SUM(G20:G24) -> 1.9558598e+08 | H25: =(E25-F25) -> 21126090 | I25: =H25/E25 -> 0.07798225 | J25: =(F25-G25) -> 54196894 | K25: =J25/G25 -> 0.2771001
A26: Maryland | B26: Agriculture | C26: ='Pivot MD&VA'!K3 -> 34272099 | D26: ='Pivot MD&VA'!J3 -> 25427756 | E26: ='Pivot MD&VA'!I3 -> 22978436 | F26: ='Pivot MD&VA'!H3 -> 22376859 | G26: ='Pivot MD&VA'!G3 -> 18656199 | H26: =(E26-F26) -> 601577.25 | I26: =H26/E26 -> 0.026180078 | J26: =(F26-G26) -> 3720660 | K26: =J26/G26 -> 0.1994329
A27: Maryland | B27: Developed | C27: ='Pivot MD&VA'!K4 -> 6590782 | D27: ='Pivot MD&VA'!J4 -> 8910929 | E27: ='Pivot MD&VA'!I4 -> 9009369.1 | F27: ='Pivot MD&VA'!H4 -> 9351599.1 | G27: ='Pivot MD&VA'!G4 -> 7692434 | H27: =(E27-F27) -> -342230 | I27: =H27/E27 -> -0.037986012 | J27: =(F27-G27) -> 1659165.1 | K27: =J27/G27 -> 0.21568793
A28: Maryland | B28: Natural | C28: ='Pivot MD&VA'!K5 -> 8866999.9 | D28: ='Pivot MD&VA'!J5 -> 8246805.8 | E28: ='Pivot MD&VA'!I5 -> 8081053.6 | F28: ='Pivot MD&VA'!H5 -> 8098300.8 | G28: ='Pivot MD&VA'!G5 -> 7877550.8 | H28: =(E28-F28) -> -17247.203 | I28: =H28/E28 -> -0.0021342766 | J28: =(F28-G28) -> 220750 | K28: =J28/G28 -> 0.02802267
A29: Maryland | B29: Septic | C29: ='Pivot MD&VA'!K6 -> 2123635.8 | D29: ='Pivot MD&VA'!J6 -> 2932749.6 | E29: ='Pivot MD&VA'!I6 -> 3046890 | F29: ='Pivot MD&VA'!H6 -> 3090474.2 | G29: ='Pivot MD&VA'!G6 -> 2200558.5 | H29: =(E29-F29) -> -43584.223 | I29: =H29/E29 -> -0.014304495 | J29: =(F29-G29) -> 889915.64 | K29: =J29/G29 -> 0.40440444
A30: Maryland | B30: Wastewater | C30: ='Pivot MD&VA'!K7 -> 32218029 | D30: ='Pivot MD&VA'!J7 -> 16598976 | E30: ='Pivot MD&VA'!I7 -> 14396665 | F30: ='Pivot MD&VA'!H7 -> 11306504 | G30: ='Pivot MD&VA'!G7 -> 11249980 | H30: =(E30-F30) -> 3090161.4 | I30: =H30/E30 -> 0.21464424 | J30: =(F30-G30) -> 56524.464 | K30: =J30/G30 -> 0.0050244059
A31: =A30 -> Maryland | B31: ALL | C31: =SUM(C26:C30) -> 84071546 | D31: =SUM(D26:D30) -> 62117216 | E31: =SUM(E26:E30) -> 57512415 | F31: =SUM(F26:F30) -> 54223737 | G31: =SUM(G26:G30) -> 47676722 | H31: =(E31-F31) -> 3288677.2 | I31: =H31/E31 -> 0.05718204 | J31: =(F31-G31) -> 6547015.2 | K31: =J31/G31 -> 0.137321
A32: Virginia | B32: Agriculture | C32: ='Pivot MD&VA'!K9 -> 24955425 | D32: ='Pivot MD&VA'!J9 -> 21675892 | E32: ='Pivot MD&VA'!I9 -> 20407591 | F32: ='Pivot MD&VA'!H9 -> 19726462 | G32: ='Pivot MD&VA'!G9 -> 10517703 | H32: =(E32-F32) -> 681129.38 | I32: =H32/E32 -> 0.033376275 | J32: =(F32-G32) -> 9208758.8 | K32: =J32/G32 -> 0.87554847
A33: Virginia | B33: Developed | C33: ='Pivot MD&VA'!K10 -> 6692618.3 | D33: ='Pivot MD&VA'!J10 -> 9688661.3 | E33: ='Pivot MD&VA'!I10 -> 10143140 | F33: ='Pivot MD&VA'!H10 -> 10805130 | G33: ='Pivot MD&VA'!G10 -> 9838055.3 | H33: =(E33-F33) -> -661990.65 | I33: =H33/E33 -> -0.065264867 | J33: =(F33-G33) -> 967074.97 | K33: =J33/G33 -> 0.098299404
A34: Virginia | B34: Natural | C34: ='Pivot MD&VA'!K11 -> 13692855 | D34: ='Pivot MD&VA'!J11 -> 13229103 | E34: ='Pivot MD&VA'!I11 -> 13049459 | F34: ='Pivot MD&VA'!H11 -> 12763352 | G34: ='Pivot MD&VA'!G11 -> 12174162 | H34: =(E34-F34) -> 286106.65 | I34: =H34/E34 -> 0.021924791 | J34: =(F34-G34) -> 589189.59 | K34: =J34/G34 -> 0.048396726
A35: Virginia | B35: Septic | C35: ='Pivot MD&VA'!K12 -> 1333419.2 | D35: ='Pivot MD&VA'!J12 -> 1859356.8 | E35: ='Pivot MD&VA'!I12 -> 1970591.2 | F35: ='Pivot MD&VA'!H12 -> 2117299.7 | G35: ='Pivot MD&VA'!G12 -> 1994387.7 | H35: =(E35-F35) -> -146708.46 | I35: =H35/E35 -> -0.074448956 | J35: =(F35-G35) -> 122911.99 | K35: =J35/G35 -> 0.061628934
A36: Virginia | B36: Wastewater | C36: ='Pivot MD&VA'!K13 -> 35591762 | D36: ='Pivot MD&VA'!J13 -> 23032149 | E36: ='Pivot MD&VA'!I13 -> 21773646 | F36: ='Pivot MD&VA'!H13 -> 12313038 | G36: ='Pivot MD&VA'!G13 -> 15044774 | H36: =(E36-F36) -> 9460608.1 | I36: =H36/E36 -> 0.4344981 | J36: =(F36-G36) -> -2731735.8 | K36: =J36/G36 -> -0.18157373
A37: =A36 -> Virginia | B37: ALL | C37: =SUM(C32:C36) -> 82266080 | D37: =SUM(D32:D36) -> 69485162 | E37: =SUM(E32:E36) -> 67344427 | F37: =SUM(F32:F36) -> 57725282 | G37: =SUM(G32:G36) -> 49569082 | H37: =(E37-F37) -> 9619145 | I37: =H37/E37 -> 0.14283506 | J37: =(F37-G37) -> 8156199.5 | K37: =J37/G37 -> 0.16454207
A39: Geography | B39: Source | C39: 1985 Progress_P Load EOT | D39: 2005 Progress_P Load EOT | E39: 2009 Progress_P Load EOT | F39: 2017 Progress V9_P Load EOT | G39: WIP 2_ P Load EOT | H39: Δ (2009-2017) | I39: Percent Progress-Since 2009 | J39: Δ (2009-2025 WIP2) | K39: Percent Progress
A40: NVRC | B40: Agriculture | C40: ='Pivot NOVA'!P5 -> 103318.35 | D40: ='Pivot NOVA'!O5 -> 61280.857 | E40: ='Pivot NOVA'!N5 -> 51165.775 | F40: ='Pivot NOVA'!M5 -> 41551.759 | G40: ='Pivot NOVA'!L5 -> 25209.332 | H40: =(E40-F40) -> 9614.0155 | I40: =H40/E40 -> 0.18789934 | J40: =(F40-G40) -> 16342.427 | K40: =J40/G40 -> 0.64826896
A41: NVRC | B41: Developed | C41: ='Pivot NOVA'!P6 -> 104864.96 | D41: ='Pivot NOVA'!O6 -> 177283.67 | E41: ='Pivot NOVA'!N6 -> 193295.51 | F41: ='Pivot NOVA'!M6 -> 213399.93 | G41: ='Pivot NOVA'!L6 -> 214909.62 | H41: =(E41-F41) -> -20104.418 | I41: =H41/E41 -> -0.10400872 | J41: =(F41-G41) -> -1509.6981 | K41: =J41/G41 -> -0.0070248046
A42: NVRC | B42: Natural | C42: ='Pivot NOVA'!P7 -> 180070.86 | D42: ='Pivot NOVA'!O7 -> 179380.25 | E42: ='Pivot NOVA'!N7 -> 190462.08 | F42: ='Pivot NOVA'!M7 -> 172128.5 | G42: ='Pivot NOVA'!L7 -> 184314.63 | H42: =(E42-F42) -> 18333.579 | I42: =H42/E42 -> 0.096258423 | J42: =(F42-G42) -> -12186.131 | K42: =J42/G42 -> -0.066115917
A43: NVRC | B43: Septic | C43: ='Pivot NOVA'!P8 -> 75.112105 | D43: ='Pivot NOVA'!O8 -> 75.112105 | E43: ='Pivot NOVA'!N8 -> 75.112105 | F43: ='Pivot NOVA'!M8 -> 75.112105 | G43: ='Pivot NOVA'!L8 -> 75.112105 | H43: =(E43-F43) -> 0 | I43: =H43/E43 -> 0 | J43: =(F43-G43) -> 0 | K43: =J43/G43 -> 0
A44: NVRC | B44: Wastewater | C44: ='Pivot NOVA'!P9 -> 128094.88 | D44: ='Pivot NOVA'!O9 -> 105869.6 | E44: ='Pivot NOVA'!N9 -> 249018.28 | F44: ='Pivot NOVA'!M9 -> 46335.819 | G44: ='Pivot NOVA'!L9 -> 138486.66 | H44: =(E44-F44) -> 202682.46 | I44: =H44/E44 -> 0.81392603 | J44: =(F44-G44) -> -92150.844 | K44: =J44/G44 -> -0.66541313
A45: =A44 -> NVRC | B45: ALL | C45: =SUM(C40:C44) -> 516424.17 | D45: =SUM(D40:D44) -> 523889.49 | E45: =SUM(E40:E44) -> 684016.75 | F45: =SUM(F40:F44) -> 473491.11 | G45: =SUM(G40:G44) -> 562995.36 | H45: =(E45-F45) -> 210525.63 | I45: =H45/E45 -> 0.30777848 | J45: =(F45-G45) -> -89504.246 | K45: =J45/G45 -> -0.15897866
A46: Washington, DC | B46: Agriculture | C46: ='Pivot DC'!P5 -> 0 | D46: ='Pivot DC'!O5 -> 0 | E46: ='Pivot DC'!N5 -> 0 | F46: ='Pivot DC'!M5 -> 0 | G46: ='Pivot DC'!L5 -> 0 | H46: =(E46-F46) -> 0 | J46: =(F46-G46) -> 0
A47: Washington, DC | B47: Developed | C47: ='Pivot DC'!P6 -> 13515.384 | D47: ='Pivot DC'!O6 -> 15106.059 | E47: ='Pivot DC'!N6 -> 14959.18 | F47: ='Pivot DC'!M6 -> 13088.555 | G47: ='Pivot DC'!L6 -> 14830.785 | H47: =(E47-F47) -> 1870.6256 | I47: =H47/E47 -> 0.12504867 | J47: =(F47-G47) -> -1742.2302 | K47: =J47/G47 -> -0.11747391
A48: Washington, DC | B48: Natural | C48: ='Pivot DC'!P7 -> 4160.8117 | D48: ='Pivot DC'!O7 -> 4359.1825 | E48: ='Pivot DC'!N7 -> 4060.0524 | F48: ='Pivot DC'!M7 -> 3819.625 | G48: ='Pivot DC'!L7 -> 2241.9842 | H48: =(E48-F48) -> 240.42737 | I48: =H48/E48 -> 0.0592178 | J48: =(F48-G48) -> 1577.6409 | K48: =J48/G48 -> 0.70368065
A49: Washington, DC | B49: Septic | C49: ='Pivot DC'!P8 -> 0 | D49: ='Pivot DC'!O8 -> 0 | E49: ='Pivot DC'!N8 -> 0 | F49: ='Pivot DC'!M8 -> 0 | G49: ='Pivot DC'!L8 -> 0 | H49: =(E49-F49) -> 0 | J49: =(F49-G49) -> 0
A50: Washington, DC | B50: Wastewater | C50: ='Pivot DC'!P9 -> 71933.257 | D50: ='Pivot DC'!O9 -> 87205.84 | E50: ='Pivot DC'!N9 -> 53253.006 | F50: ='Pivot DC'!M9 -> 59270.146 | G50: ='Pivot DC'!L9 -> 123881.28 | H50: =(E50-F50) -> -6017.1406 | I50: =H50/E50 -> -0.11299157 | J50: =(F50-G50) -> -64611.138 | K50: =J50/G50 -> -0.5215569
A51: =A50 -> Washington, DC | B51: ALL | C51: =SUM(C46:C50) -> 89609.452 | D51: =SUM(D46:D50) -> 106671.08 | E51: =SUM(E46:E50) -> 72272.239 | F51: =SUM(F46:F50) -> 76178.326 | G51: =SUM(G46:G50) -> 140954.05 | H51: =(E51-F51) -> -3906.0876 | I51: =H51/E51 -> -0.054046861 | J51: =(F51-G51) -> -64775.728 | K51: =J51/G51 -> -0.45955207
A52: MD_COG | B52: Agriculture | C52: ='Pivot MD COG'!P33 -> 327363.53 | D52: ='Pivot MD COG'!O33 -> 144435.98 | E52: ='Pivot MD COG'!N33 -> 116589.48 | F52: ='Pivot MD COG'!M33 -> 95274.519 | G52: ='Pivot MD COG'!L33 -> 74160.538 | H52: =(E52-F52) -> 21314.961 | I52: =H52/E52 -> 0.18282062 | J52: =(F52-G52) -> 21113.981 | K52: =J52/G52 -> 0.28470642
A53: MD_COG | B53: Developed | C53: ='Pivot MD COG'!P34 -> 172304.16 | D53: ='Pivot MD COG'!O34 -> 203907.87 | E53: ='Pivot MD COG'!N34 -> 195298.16 | F53: ='Pivot MD COG'!M34 -> 189529.27 | G53: ='Pivot MD COG'!L34 -> 141207.09 | H53: =(E53-F53) -> 5768.8835 | I53: =H53/E53 -> 0.029538853 | J53: =(F53-G53) -> 48322.18 | K53: =J53/G53 -> 0.34220788
A54: MD_COG | B54: Natural | C54: ='Pivot MD COG'!P35 -> 405403.27 | D54: ='Pivot MD COG'!O35 -> 316217.03 | E54: ='Pivot MD COG'!N35 -> 302822.71 | F54: ='Pivot MD COG'!M35 -> 284546.79 | G54: ='Pivot MD COG'!L35 -> 272174.21 | H54: =(E54-F54) -> 18275.923 | I54: =H54/E54 -> 0.060351891 | J54: =(F54-G54) -> 12372.58 | K54: =J54/G54 -> 0.04545831
A55: MD_COG | B55: Septic | C55: ='Pivot MD COG'!P36 -> 0 | D55: ='Pivot MD COG'!O36 -> 130.37375 | E55: ='Pivot MD COG'!N36 -> 96.235752 | F55: ='Pivot MD COG'!M36 -> 384.55307 | G55: ='Pivot MD COG'!L36 -> 51.685651 | H55: =(E55-F55) -> -288.31731 | I55: =H55/E55 -> -2.9959481 | J55: =(F55-G55) -> 332.86742 | K55: =J55/G55 -> 6.4402288
A56: MD_COG | B56: Wastewater | C56: ='Pivot MD COG'!P37 -> 416664.88 | D56: ='Pivot MD COG'!O37 -> 155028.97 | E56: ='Pivot MD COG'!N37 -> 116529.05 | F56: ='Pivot MD COG'!M37 -> 84764.114 | G56: ='Pivot MD COG'!L37 -> 214868.28 | H56: =(E56-F56) -> 31764.933 | I56: =H56/E56 -> 0.2725924 | J56: =(F56-G56) -> -130104.17 | K56: =J56/G56 -> -0.60550662
A57: =A56 -> MD_COG | B57: ALL | C57: =SUM(C52:C56) -> 1321735.8 | D57: =SUM(D52:D56) -> 819720.23 | E57: =SUM(E52:E56) -> 731335.63 | F57: =SUM(F52:F56) -> 654499.25 | G57: =SUM(G52:G56) -> 702461.81 | H57: =(E57-F57) -> 76836.384 | I57: =H57/E57 -> 0.10506309 | J57: =(F57-G57) -> -47962.558 | K57: =J57/G57 -> -0.068277816
A58: Chesapeake Bay WSHD | B58: Agriculture | C58: ='Pivot CB'!P5 -> 7594014.3 | D58: ='Pivot CB'!O5 -> 5029055.7 | E58: ='Pivot CB'!N5 -> 4453680.7 | F58: ='Pivot CB'!M5 -> 4131962.6 | G58: ='Pivot CB'!L5 -> 2509665.4 | H58: =(E58-F58) -> 321718.13 | I58: =H58/E58 -> 0.072236461 | J58: =(F58-G58) -> 1622297.1 | K58: =J58/G58 -> 0.64641969
A59: Chesapeake Bay WSHD | B59: Developed | C59: ='Pivot CB'!P6 -> 1786751.8 | D59: ='Pivot CB'!O6 -> 2506834.7 | E59: ='Pivot CB'!N6 -> 2545072.6 | F59: ='Pivot CB'!M6 -> 2609638 | G59: ='Pivot CB'!L6 -> 2073898.5 | H59: =(E59-F59) -> -64565.319 | I59: =H59/E59 -> -0.025368753 | J59: =(F59-G59) -> 535739.49 | K59: =J59/G59 -> 0.25832484
A60: Chesapeake Bay WSHD | B60: Natural | C60: ='Pivot CB'!P7 -> 7091089 | D60: ='Pivot CB'!O7 -> 6194555.8 | E60: ='Pivot CB'!N7 -> 5946942.8 | F60: ='Pivot CB'!M7 -> 5697901.4 | G60: ='Pivot CB'!L7 -> 5247432 | H60: =(E60-F60) -> 249041.35 | I60: =H60/E60 -> 0.041877206 | J60: =(F60-G60) -> 450469.42 | K60: =J60/G60 -> 0.085845689
A61: Chesapeake Bay WSHD | B61: Septic | C61: ='Pivot CB'!P8 -> 1574.0711 | D61: ='Pivot CB'!O8 -> 1875.9257 | E61: ='Pivot CB'!N8 -> 2102.0489 | F61: ='Pivot CB'!M8 -> 2167.1142 | G61: ='Pivot CB'!L8 -> 1857.7325 | H61: =(E61-F61) -> -65.065251 | I61: =H61/E61 -> -0.030953252 | J61: =(F61-G61) -> 309.38165 | K61: =J61/G61 -> 0.16653724
A62: Chesapeake Bay WSHD | B62: Wastewater | C62: ='Pivot CB'!P9 -> 12799342 | D62: ='Pivot CB'!O9 -> 4872640.2 | E62: ='Pivot CB'!N9 -> 4125943 | F62: ='Pivot CB'!M9 -> 2402081.8 | G62: ='Pivot CB'!L9 -> 3251042.8 | H62: =(E62-F62) -> 1723861.2 | I62: =H62/E62 -> 0.41781023 | J62: =(F62-G62) -> -848961.07 | K62: =J62/G62 -> -0.261135
A63: =A62 -> Chesapeake Bay WSHD | B63: ALL | C63: =SUM(C58:C62) -> 29272771 | D63: =SUM(D58:D62) -> 18604962 | E63: =SUM(E58:E62) -> 17073741 | F63: =SUM(F58:F62) -> 14843751 | G63: =SUM(G58:G62) -> 13083896 | H63: =(E63-F63) -> 2229990.3 | I63: =H63/E63 -> 0.13060935 | J63: =(F63-G63) -> 1759854.4 | K63: =J63/G63 -> 0.13450537
A64: Maryland | B64: Agriculture | C64: ='Pivot MD&VA'!P3 -> 1890831.1 | D64: ='Pivot MD&VA'!O3 -> 850834.48 | E64: ='Pivot MD&VA'!N3 -> 701705.21 | F64: ='Pivot MD&VA'!M3 -> 645858.62 | G64: ='Pivot MD&VA'!L3 -> 528868.69 | H64: =(E64-F64) -> 55846.595 | I64: =H64/E64 -> 0.079586974 | J64: =(F64-G64) -> 116989.93 | K64: =J64/G64 -> 0.22120789
A65: Maryland | B65: Developed | C65: ='Pivot MD&VA'!P4 -> 604031.19 | D65: ='Pivot MD&VA'!O4 -> 727365.47 | E65: ='Pivot MD&VA'!N4 -> 685731.55 | F65: ='Pivot MD&VA'!M4 -> 673835.28 | G65: ='Pivot MD&VA'!L4 -> 466884.2 | H65: =(E65-F65) -> 11896.278 | I65: =H65/E65 -> 0.017348302 | J65: =(F65-G65) -> 206951.07 | K65: =J65/G65 -> 0.44325996
A66: Maryland | B66: Natural | C66: ='Pivot MD&VA'!P5 -> 2287295.2 | D66: ='Pivot MD&VA'!O5 -> 1935550.9 | E66: ='Pivot MD&VA'!N5 -> 1875516.7 | F66: ='Pivot MD&VA'!M5 -> 1832489.9 | G66: ='Pivot MD&VA'!L5 -> 1701061 | H66: =(E66-F66) -> 43026.749 | I66: =H66/E66 -> 0.022941278 | J66: =(F66-G66) -> 131428.94 | K66: =J66/G66 -> 0.077262922
A67: Maryland | B67: Septic | C67: ='Pivot MD&VA'!P6 -> 122.79787 | D67: ='Pivot MD&VA'!O6 -> 424.65247 | E67: ='Pivot MD&VA'!N6 -> 650.77565 | F67: ='Pivot MD&VA'!M6 -> 664.09138 | G67: ='Pivot MD&VA'!L6 -> 406.45926 | H67: =(E67-F67) -> -13.315728 | I67: =H67/E67 -> -0.020461319 | J67: =(F67-G67) -> 257.63212 | K67: =J67/G67 -> 0.63384489
A68: Maryland | B68: Wastewater | C68: ='Pivot MD&VA'!P7 -> 2639701 | D68: ='Pivot MD&VA'!O7 -> 910583.38 | E68: ='Pivot MD&VA'!N7 -> 784040.08 | F68: ='Pivot MD&VA'!M7 -> 512228.68 | G68: ='Pivot MD&VA'!L7 -> 767345.94 | H68: =(E68-F68) -> 271811.4 | I68: =H68/E68 -> 0.34668049 | J68: =(F68-G68) -> -255117.26 | K68: =J68/G68 -> -0.33246708
A69: =A68 -> Maryland | B69: ALL | C69: =SUM(C64:C68) -> 7421981.2 | D69: =SUM(D64:D68) -> 4424758.9 | E69: =SUM(E64:E68) -> 4047644.3 | F69: =SUM(F64:F68) -> 3665076.6 | G69: =SUM(G64:G68) -> 3464566.3 | H69: =(E69-F69) -> 382567.7 | I69: =H69/E69 -> 0.094516137 | J69: =(F69-G69) -> 200510.31 | K69: =J69/G69 -> 0.057874578
A70: Virginia | B70: Agriculture | C70: ='Pivot MD&VA'!P9 -> 2431704.4 | D70: ='Pivot MD&VA'!O9 -> 1771769.6 | E70: ='Pivot MD&VA'!N9 -> 1618794.9 | F70: ='Pivot MD&VA'!M9 -> 1568469.6 | G70: ='Pivot MD&VA'!L9 -> 865718.34 | H70: =(E70-F70) -> 50325.316 | I70: =H70/E70 -> 0.031088135 | J70: =(F70-G70) -> 702751.27 | K70: =J70/G70 -> 0.8117551
A71: Virginia | B71: Developed | C71: ='Pivot MD&VA'!P10 -> 740817.08 | D71: ='Pivot MD&VA'!O10 -> 1187329.4 | E71: ='Pivot MD&VA'!N10 -> 1241266.6 | F71: ='Pivot MD&VA'!M10 -> 1328617.1 | G71: ='Pivot MD&VA'!L10 -> 1221030.8 | H71: =(E71-F71) -> -87350.529 | I71: =H71/E71 -> -0.070372094 | J71: =(F71-G71) -> 107586.35 | K71: =J71/G71 -> 0.088111091
A72: Virginia | B72: Natural | C72: ='Pivot MD&VA'!P11 -> 2664922 | D72: ='Pivot MD&VA'!O11 -> 2426501 | E72: ='Pivot MD&VA'!N11 -> 2348564.7 | F72: ='Pivot MD&VA'!M11 -> 2276485 | G72: ='Pivot MD&VA'!L11 -> 2158214.5 | H72: =(E72-F72) -> 72079.708 | I72: =H72/E72 -> 0.030690962 | J72: =(F72-G72) -> 118270.47 | K72: =J72/G72 -> 0.054800149
A73: Virginia | B73: Septic | C73: ='Pivot MD&VA'!P12 -> 1243.2339 | D73: ='Pivot MD&VA'!O12 -> 1243.2339 | E73: ='Pivot MD&VA'!N12 -> 1243.2339 | F73: ='Pivot MD&VA'!M12 -> 1243.2339 | G73: ='Pivot MD&VA'!L12 -> 1243.2339 | H73: =(E73-F73) -> 0 | I73: =H73/E73 -> 0 | J73: =(F73-G73) -> 0 | K73: =J73/G73 -> 0
A74: Virginia | B74: Wastewater | C74: ='Pivot MD&VA'!P13 -> 7692273.4 | D74: ='Pivot MD&VA'!O13 -> 2169804 | E74: ='Pivot MD&VA'!N13 -> 1773712.2 | F74: ='Pivot MD&VA'!M13 -> 935519.96 | G74: ='Pivot MD&VA'!L13 -> 1136913.6 | H74: =(E74-F74) -> 838192.28 | I74: =H74/E74 -> 0.47256385 | J74: =(F74-G74) -> -201393.65 | K74: =J74/G74 -> -0.17714068
A75: =A74 -> Virginia | B75: ALL | C75: =SUM(C70:C74) -> 13530960 | D75: =SUM(D70:D74) -> 7556647.3 | E75: =SUM(E70:E74) -> 6983581.6 | F75: =SUM(F70:F74) -> 6110334.9 | G75: =SUM(G70:G74) -> 5383120.4 | H75: =(E75-F75) -> 873246.78 | I75: =H75/E75 -> 0.12504283 | J75: =(F75-G75) -> 727214.45 | K75: =J75/G75 -> 0.13509162

Sheet Combined TP
A1: Geography | B1: Source | C1: 1985 Progress_P Load EOT | D1: 2005 Progress_P Load EOT | E1: 2009 Progress_P Load EOT | F1: 2017 Progress V9_P Load EOT | G1: WIP 2_ P Load EOT | H1: 1985 | I1: 2005 | J1: 2009 | K1: 2017 | L1: 2025
A2: NVRC | B2: Agriculture | C2: ='[1]Pivot NOVA'!P5 -> 103318.35 | D2: ='[1]Pivot NOVA'!O5 -> 61280.857 | E2: ='[1]Pivot NOVA'!N5 -> 51165.775 | F2: ='[1]Pivot NOVA'!M5 -> 41551.759 | G2: ='[1]Pivot NOVA'!L5 -> 25209.332 | H2: =C2/C2 -> 1 | I2: =D2/$C2 -> 0.59312653 | J2: =E2/$C2 -> 0.49522445 | K2: =F2/$C2 -> 0.4021721 | L2: =G2/$C2 -> 0.24399665
A3: NVRC | B3: Developed | C3: ='[1]Pivot NOVA'!P6 -> 104864.96 | D3: ='[1]Pivot NOVA'!O6 -> 177283.67 | E3: ='[1]Pivot NOVA'!N6 -> 193295.51 | F3: ='[1]Pivot NOVA'!M6 -> 213399.93 | G3: ='[1]Pivot NOVA'!L6 -> 214909.62 | H3: =C3/C3 -> 1 | I3: =D3/$C3 -> 1.6905902 | J3: =E3/$C3 -> 1.8432802 | K3: =F3/$C3 -> 2.0349974 | L3: =G3/$C3 -> 2.049394
A4: NVRC | B4: Natural | C4: ='[1]Pivot NOVA'!P7 -> 180070.86 | D4: ='[1]Pivot NOVA'!O7 -> 179380.25 | E4: ='[1]Pivot NOVA'!N7 -> 190462.08 | F4: ='[1]Pivot NOVA'!M7 -> 172128.5 | G4: ='[1]Pivot NOVA'!L7 -> 184314.63 | H4: =C4/C4 -> 1 | I4: =D4/$C4 -> 0.9961648 | J4: =E4/$C4 -> 1.0577063 | K4: =F4/$C4 -> 0.95589313 | L4: =G4/$C4 -> 1.0235672
A5: NVRC | B5: Septic | C5: ='[1]Pivot NOVA'!P8 -> 75.112105 | D5: ='[1]Pivot NOVA'!O8 -> 75.112105 | E5: ='[1]Pivot NOVA'!N8 -> 75.112105 | F5: ='[1]Pivot NOVA'!M8 -> 75.112105 | G5: ='[1]Pivot NOVA'!L8 -> 75.112105 | H5: =C5/C5 -> 1 | I5: =D5/$C5 -> 1 | J5: =E5/$C5 -> 1 | K5: =F5/$C5 -> 1 | L5: =G5/$C5 -> 1
A6: NVRC | B6: Wastewater | C6: ='[1]Pivot NOVA'!P9 -> 128094.88 | D6: ='[1]Pivot NOVA'!O9 -> 105869.6 | E6: ='[1]Pivot NOVA'!N9 -> 249018.28 | F6: ='[1]Pivot NOVA'!M9 -> 46335.819 | G6: ='[1]Pivot NOVA'!L9 -> 138486.66 | H6: =C6/C6 -> 1 | I6: =D6/$C6 -> 0.82649364 | J6: =E6/$C6 -> 1.9440143 | K6: =F6/$C6 -> 0.36173046 | L6: =G6/$C6 -> 1.0811257
A7: =A6 -> NVRC | B7: ALL | C7: =SUM(C2:C6) -> 516424.17 | D7: =SUM(D2:D6) -> 523889.49 | E7: =SUM(E2:E6) -> 684016.75 | F7: =SUM(F2:F6) -> 473491.11 | G7: =SUM(G2:G6) -> 562995.36 | H7: =C7/C7 -> 1 | I7: =D7/$C7 -> 1.0144558 | J7: =E7/$C7 -> 1.3245251 | K7: =F7/$C7 -> 0.91686475 | L7: =G7/$C7 -> 1.0901801
A8: Washington, DC | B8: Agriculture | C8: ='[1]Pivot DC'!P5 -> 0 | D8: ='[1]Pivot DC'!O5 -> 0 | E8: ='[1]Pivot DC'!N5 -> 0 | F8: ='[1]Pivot DC'!M5 -> 0 | G8: ='[1]Pivot DC'!L5 -> 0
A9: Washington, DC | B9: Developed | C9: ='[1]Pivot DC'!P6 -> 13515.384 | D9: ='[1]Pivot DC'!O6 -> 15106.059 | E9: ='[1]Pivot DC'!N6 -> 14959.18 | F9: ='[1]Pivot DC'!M6 -> 13088.555 | G9: ='[1]Pivot DC'!L6 -> 14830.785 | H9: =C9/C9 -> 1 | I9: =D9/$C9 -> 1.1176936 | J9: =E9/$C9 -> 1.1068262 | K9: =F9/$C9 -> 0.96841903 | L9: =G9/$C9 -> 1.0973262
A10: Washington, DC | B10: Natural | C10: ='[1]Pivot DC'!P7 -> 4160.8117 | D10: ='[1]Pivot DC'!O7 -> 4359.1825 | E10: ='[1]Pivot DC'!N7 -> 4060.0524 | F10: ='[1]Pivot DC'!M7 -> 3819.625 | G10: ='[1]Pivot DC'!L7 -> 2241.9842 | H10: =C10/C10 -> 1 | I10: =D10/$C10 -> 1.047676 | J10: =E10/$C10 -> 0.97578373 | K10: =F10/$C10 -> 0.91799996 | L10: =G10/$C10 -> 0.53883336
A11: Washington, DC | B11: Septic | C11: ='[1]Pivot DC'!P8 -> 0 | D11: ='[1]Pivot DC'!O8 -> 0 | E11: ='[1]Pivot DC'!N8 -> 0 | F11: ='[1]Pivot DC'!M8 -> 0 | G11: ='[1]Pivot DC'!L8 -> 0
A12: Washington, DC | B12: Wastewater | C12: ='[1]Pivot DC'!P9 -> 71933.257 | D12: ='[1]Pivot DC'!O9 -> 87205.84 | E12: ='[1]Pivot DC'!N9 -> 53253.006 | F12: ='[1]Pivot DC'!M9 -> 59270.146 | G12: ='[1]Pivot DC'!L9 -> 123881.28 | H12: =C12/C12 -> 1 | I12: =D12/$C12 -> 1.212316 | J12: =E12/$C12 -> 0.74031134 | K12: =F12/$C12 -> 0.82396028 | L12: =G12/$C12 -> 1.7221698
A13: =A12 -> Washington, DC | B13: ALL | C13: =SUM(C8:C12) -> 89609.452 | D13: =SUM(D8:D12) -> 106671.08 | E13: =SUM(E8:E12) -> 72272.239 | F13: =SUM(F8:F12) -> 76178.326 | G13: =SUM(G8:G12) -> 140954.05 | H13: =C13/C13 -> 1 | I13: =D13/$C13 -> 1.1903999 | J13: =E13/$C13 -> 0.80652472 | K13: =F13/$C13 -> 0.85011485 | L13: =G13/$C13 -> 1.572982
A14: MD-COG | B14: Agriculture | C14: ='[1]Pivot MD COG'!P33 -> 327363.53 | D14: ='[1]Pivot MD COG'!O33 -> 144435.98 | E14: ='[1]Pivot MD COG'!N33 -> 116589.48 | F14: ='[1]Pivot MD COG'!M33 -> 95274.519 | G14: ='[1]Pivot MD COG'!L33 -> 74160.538 | H14: =C14/C14 -> 1 | I14: =D14/$C14 -> 0.44120976 | J14: =E14/$C14 -> 0.35614682 | K14: =F14/$C14 -> 0.29103584 | L14: =G14/$C14 -> 0.22653879
A15: MD-COG | B15: Developed | C15: ='[1]Pivot MD COG'!P34 -> 172304.16 | D15: ='[1]Pivot MD COG'!O34 -> 203907.87 | E15: ='[1]Pivot MD COG'!N34 -> 195298.16 | F15: ='[1]Pivot MD COG'!M34 -> 189529.27 | G15: ='[1]Pivot MD COG'!L34 -> 141207.09 | H15: =C15/C15 -> 1 | I15: =D15/$C15 -> 1.1834182 | J15: =E15/$C15 -> 1.1334501 | K15: =F15/$C15 -> 1.0999692 | L15: =G15/$C15 -> 0.81952227
A16: MD-COG | B16: Natural | C16: ='[1]Pivot MD COG'!P35 -> 405403.27 | D16: ='[1]Pivot MD COG'!O35 -> 316217.03 | E16: ='[1]Pivot MD COG'!N35 -> 302822.71 | F16: ='[1]Pivot MD COG'!M35 -> 284546.79 | G16: ='[1]Pivot MD COG'!L35 -> 272174.21 | H16: =C16/C16 -> 1 | I16: =D16/$C16 -> 0.78000612 | J16: =E16/$C16 -> 0.74696663 | K16: =F16/$C16 -> 0.70188578 | L16: =G16/$C16 -> 0.67136659
A17: MD-COG | B17: Septic | C17: ='[1]Pivot MD COG'!P36 -> 0 | D17: ='[1]Pivot MD COG'!O36 -> 130.37375 | E17: ='[1]Pivot MD COG'!N36 -> 96.235752 | F17: ='[1]Pivot MD COG'!M36 -> 384.55307 | G17: ='[1]Pivot MD COG'!L36 -> 51.685651
A18: MD-COG | B18: Wastewater | C18: ='[1]Pivot MD COG'!P37 -> 416664.88 | D18: ='[1]Pivot MD COG'!O37 -> 155028.97 | E18: ='[1]Pivot MD COG'!N37 -> 116529.05 | F18: ='[1]Pivot MD COG'!M37 -> 84764.114 | G18: ='[1]Pivot MD COG'!L37 -> 214868.28 | H18: =C18/C18 -> 1 | I18: =D18/$C18 -> 0.37207112 | J18: =E18/$C18 -> 0.27967092 | K18: =F18/$C18 -> 0.20343475 | L18: =G18/$C18 -> 0.51568609
A19: =A18 -> MD-COG | B19: ALL | C19: =SUM(C14:C18) -> 1321735.8 | D19: =SUM(D14:D18) -> 819720.23 | E19: =SUM(E14:E18) -> 731335.63 | F19: =SUM(F14:F18) -> 654499.25 | G19: =SUM(G14:G18) -> 702461.81 | H19: =C19/C19 -> 1 | I19: =D19/$C19 -> 0.62018462 | J19: =E19/$C19 -> 0.55331453 | K19: =F19/$C19 -> 0.49518159 | L19: =G19/$C19 -> 0.53146914
A20: Bay Watershed | B20: Agriculture | C20: ='[1]Pivot CB'!P5 -> 7594014.3 | D20: ='[1]Pivot CB'!O5 -> 5029055.7 | E20: ='[1]Pivot CB'!N5 -> 4453680.7 | F20: ='[1]Pivot CB'!M5 -> 4131962.6 | G20: ='[1]Pivot CB'!L5 -> 2509665.4 | H20: =C20/C20 -> 1 | I20: =D20/$C20 -> 0.66223942 | J20: =E20/$C20 -> 0.58647252 | K20: =F20/$C20 -> 0.54410782 | L20: =G20/$C20 -> 0.33047942
A21: Bay Watershed | B21: Developed | C21: ='[1]Pivot CB'!P6 -> 1786751.8 | D21: ='[1]Pivot CB'!O6 -> 2506834.7 | E21: ='[1]Pivot CB'!N6 -> 2545072.6 | F21: ='[1]Pivot CB'!M6 -> 2609638 | G21: ='[1]Pivot CB'!L6 -> 2073898.5 | H21: =C21/C21 -> 1 | I21: =D21/$C21 -> 1.4030123 | J21: =E21/$C21 -> 1.4244131 | K21: =F21/$C21 -> 1.4605486 | L21: =G21/$C21 -> 1.1607087
A22: Bay Watershed | B22: Natural | C22: ='[1]Pivot CB'!P7 -> 7091089 | D22: ='[1]Pivot CB'!O7 -> 6194555.8 | E22: ='[1]Pivot CB'!N7 -> 5946942.8 | F22: ='[1]Pivot CB'!M7 -> 5697901.4 | G22: ='[1]Pivot CB'!L7 -> 5247432 | H22: =C22/C22 -> 1 | I22: =D22/$C22 -> 0.87356904 | J22: =E22/$C22 -> 0.83865014 | K22: =F22/$C22 -> 0.80352981 | L22: =G22/$C22 -> 0.74000369
A23: Bay Watershed | B23: Septic | C23: ='[1]Pivot CB'!P8 -> 1574.0711 | D23: ='[1]Pivot CB'!O8 -> 1875.9257 | E23: ='[1]Pivot CB'!N8 -> 2102.0489 | F23: ='[1]Pivot CB'!M8 -> 2167.1142 | G23: ='[1]Pivot CB'!L8 -> 1857.7325 | H23: =C23/C23 -> 1 | I23: =D23/$C23 -> 1.1917668 | J23: =E23/$C23 -> 1.3354218 | K23: =F23/$C23 -> 1.3767575 | L23: =G23/$C23 -> 1.1802087
A24: Bay Watershed | B24: Wastewater | C24: ='[1]Pivot CB'!P9 -> 12799342 | D24: ='[1]Pivot CB'!O9 -> 4872640.2 | E24: ='[1]Pivot CB'!N9 -> 4125943 | F24: ='[1]Pivot CB'!M9 -> 2402081.8 | G24: ='[1]Pivot CB'!L9 -> 3251042.8 | H24: =C24/C24 -> 1 | I24: =D24/$C24 -> 0.3806946 | J24: =E24/$C24 -> 0.32235587 | K24: =F24/$C24 -> 0.18767229 | L24: =G24/$C24 -> 0.25400079
B25: ALL | C25: =SUM(C20:C24) -> 29272771 | D25: =SUM(D20:D24) -> 18604962 | E25: =SUM(E20:E24) -> 17073741 | F25: =SUM(F20:F24) -> 14843751 | G25: =SUM(G20:G24) -> 13083896 | H25: =C25/C25 -> 1 | I25: =D25/$C25 -> 0.6355723 | J25: =E25/$C25 -> 0.58326358 | K25: =F25/$C25 -> 0.5070839 | L25: =G25/$C25 -> 0.44696474
A26: Maryland | B26: Agriculture | C26: ='[1]Pivot MD&VA'!P3 -> 1890831.1 | D26: ='[1]Pivot MD&VA'!O3 -> 850834.48 | E26: ='[1]Pivot MD&VA'!N3 -> 701705.21 | F26: ='[1]Pivot MD&VA'!M3 -> 645858.62 | G26: ='[1]Pivot MD&VA'!L3 -> 528868.69 | H26: =C26/C26 -> 1 | I26: =D26/$C26 -> 0.44997911 | J26: =E26/$C26 -> 0.37110942 | K26: =F26/$C26 -> 0.34157394 | L26: =G26/$C26 -> 0.27970172
A27: Maryland | B27: Developed | C27: ='[1]Pivot MD&VA'!P4 -> 604031.19 | D27: ='[1]Pivot MD&VA'!O4 -> 727365.47 | E27: ='[1]Pivot MD&VA'!N4 -> 685731.55 | F27: ='[1]Pivot MD&VA'!M4 -> 673835.28 | G27: ='[1]Pivot MD&VA'!L4 -> 466884.2 | H27: =C27/C27 -> 1 | I27: =D27/$C27 -> 1.2041853 | J27: =E27/$C27 -> 1.1352585 | K27: =F27/$C27 -> 1.1155637 | L27: =G27/$C27 -> 0.77294717
A28: Maryland | B28: Natural | C28: ='[1]Pivot MD&VA'!P5 -> 2287295.2 | D28: ='[1]Pivot MD&VA'!O5 -> 1935550.9 | E28: ='[1]Pivot MD&VA'!N5 -> 1875516.7 | F28: ='[1]Pivot MD&VA'!M5 -> 1832489.9 | G28: ='[1]Pivot MD&VA'!L5 -> 1701061 | H28: =C28/C28 -> 1 | I28: =D28/$C28 -> 0.84621824 | J28: =E28/$C28 -> 0.81997143 | K28: =F28/$C28 -> 0.80116024 | L28: =G28/$C28 -> 0.74369982
A29: Maryland | B29: Septic | C29: ='[1]Pivot MD&VA'!P6 -> 122.79787 | D29: ='[1]Pivot MD&VA'!O6 -> 424.65247 | E29: ='[1]Pivot MD&VA'!N6 -> 650.77565 | F29: ='[1]Pivot MD&VA'!M6 -> 664.09138 | G29: ='[1]Pivot MD&VA'!L6 -> 406.45926 | H29: =C29/C29 -> 1 | I29: =D29/$C29 -> 3.4581421 | J29: =E29/$C29 -> 5.2995681 | K29: =F29/$C29 -> 5.4080042 | L29: =G29/$C29 -> 3.3099863
A30: Maryland | B30: Wastewater | C30: ='[1]Pivot MD&VA'!P7 -> 2639701 | D30: ='[1]Pivot MD&VA'!O7 -> 910583.38 | E30: ='[1]Pivot MD&VA'!N7 -> 784040.08 | F30: ='[1]Pivot MD&VA'!M7 -> 512228.68 | G30: ='[1]Pivot MD&VA'!L7 -> 767345.94 | H30: =C30/C30 -> 1 | I30: =D30/$C30 -> 0.34495702 | J30: =E30/$C30 -> 0.29701852 | K30: =F30/$C30 -> 0.19404799 | L30: =G30/$C30 -> 0.29069426
A31: =A30 -> Maryland | B31: ALL | C31: =SUM(C26:C30) -> 7421981.2 | D31: =SUM(D26:D30) -> 4424758.9 | E31: =SUM(E26:E30) -> 4047644.3 | F31: =SUM(F26:F30) -> 3665076.6 | G31: =SUM(G26:G30) -> 3464566.3 | H31: =C31/C31 -> 1 | I31: =D31/$C31 -> 0.59616951 | J31: =E31/$C31 -> 0.54535901 | K31: =F31/$C31 -> 0.49381378 | L31: =G31/$C31 -> 0.46679804
A32: Virginia | B32: Agriculture | C32: ='[1]Pivot MD&VA'!P9 -> 2431704.4 | D32: ='[1]Pivot MD&VA'!O9 -> 1771769.6 | E32: ='[1]Pivot MD&VA'!N9 -> 1618794.9 | F32: ='[1]Pivot MD&VA'!M9 -> 1568469.6 | G32: ='[1]Pivot MD&VA'!L9 -> 865718.34 | H32: =C32/C32 -> 1 | I32: =D32/$C32 -> 0.72861226 | J32: =E32/$C32 -> 0.66570382 | K32: =F32/$C32 -> 0.64500833 | L32: =G32/$C32 -> 0.35601298
A33: Virginia | B33: Developed | C33: ='[1]Pivot MD&VA'!P10 -> 740817.08 | D33: ='[1]Pivot MD&VA'!O10 -> 1187329.4 | E33: ='[1]Pivot MD&VA'!N10 -> 1241266.6 | F33: ='[1]Pivot MD&VA'!M10 -> 1328617.1 | G33: ='[1]Pivot MD&VA'!L10 -> 1221030.8 | H33: =C33/C33 -> 1 | I33: =D33/$C33 -> 1.6027295 | J33: =E33/$C33 -> 1.6755372 | K33: =F33/$C33 -> 1.7934483 | L33: =G33/$C33 -> 1.6482216
A34: Virginia | B34: Natural | C34: ='[1]Pivot MD&VA'!P11 -> 2664922 | D34: ='[1]Pivot MD&VA'!O11 -> 2426501 | E34: ='[1]Pivot MD&VA'!N11 -> 2348564.7 | F34: ='[1]Pivot MD&VA'!M11 -> 2276485 | G34: ='[1]Pivot MD&VA'!L11 -> 2158214.5 | H34: =C34/C34 -> 1 | I34: =D34/$C34 -> 0.91053361 | J34: =E34/$C34 -> 0.88128834 | K34: =F34/$C34 -> 0.85424075 | L34: =G34/$C34 -> 0.80986029
A35: Virginia | B35: Septic | C35: ='[1]Pivot MD&VA'!P12 -> 1243.2339 | D35: ='[1]Pivot MD&VA'!O12 -> 1243.2339 | E35: ='[1]Pivot MD&VA'!N12 -> 1243.2339 | F35: ='[1]Pivot MD&VA'!M12 -> 1243.2339 | G35: ='[1]Pivot MD&VA'!L12 -> 1243.2339 | H35: =C35/C35 -> 1 | I35: =D35/$C35 -> 1 | J35: =E35/$C35 -> 1 | K35: =F35/$C35 -> 1 | L35: =G35/$C35 -> 1
A36: Virginia | B36: Wastewater | C36: ='[1]Pivot MD&VA'!P13 -> 7692273.4 | D36: ='[1]Pivot MD&VA'!O13 -> 2169804 | E36: ='[1]Pivot MD&VA'!N13 -> 1773712.2 | F36: ='[1]Pivot MD&VA'!M13 -> 935519.96 | G36: ='[1]Pivot MD&VA'!L13 -> 1136913.6 | H36: =C36/C36 -> 1 | I36: =D36/$C36 -> 0.28207577 | J36: =E36/$C36 -> 0.23058362 | K36: =F36/$C36 -> 0.12161814 | L36: =G36/$C36 -> 0.14779943
A37: =A36 -> Virginia | B37: ALL | C37: =SUM(C32:C36) -> 13530960 | D37: =SUM(D32:D36) -> 7556647.3 | E37: =SUM(E32:E36) -> 6983581.6 | F37: =SUM(F32:F36) -> 6110334.9 | G37: =SUM(G32:G36) -> 5383120.4 | H37: =C37/C37 -> 1 | I37: =D37/$C37 -> 0.55847089 | J37: =E37/$C37 -> 0.51611871 | K37: =F37/$C37 -> 0.45158177 | L37: =G37/$C37 -> 0.39783728

Sheet Combined TN
A1: Geography | B1: Source | C1: 1985 Progress_N Load EOT | D1: 2005 Progress_N Load EOT | E1: 2009 Progress_N Load EOT | F1: 2017 Progress V9_N Load EOT | G1: WIP 2_N Load EOT | H1: 1985 | I1: 2005 | J1: 2009 | K1: 2017 | L1: 2025
A2: NVRC | B2: Agriculture | C2: ='Pivot NOVA'!K5 -> 1094996.9 | D2: ='Pivot NOVA'!J5 -> 785169.06 | E2: ='Pivot NOVA'!I5 -> 723320.17 | F2: ='Pivot NOVA'!H5 -> 608096.37 | G2: ='Pivot NOVA'!G5 -> 339368.3 | H2: =C2/C2 -> 1 | I2: =D2/$C2 -> 0.71705143 | J2: =E2/$C2 -> 0.66056826 | K2: =F2/$C2 -> 0.55534074 | L2: =G2/$C2 -> 0.30992628
A3: NVRC | B3: Developed | C3: ='Pivot NOVA'!K6 -> 905450.65 | D3: ='Pivot NOVA'!J6 -> 1407522.9 | E3: ='Pivot NOVA'!I6 -> 1515258.6 | F3: ='Pivot NOVA'!H6 -> 1659504.8 | G3: ='Pivot NOVA'!G6 -> 1614679.5 | H3: =C3/C3 -> 1 | I3: =D3/$C3 -> 1.5544999 | J3: =E3/$C3 -> 1.6734856 | K3: =F3/$C3 -> 1.8327943 | L3: =G3/$C3 -> 1.7832882
A4: NVRC | B4: Natural | C4: ='Pivot NOVA'!K7 -> 884302.21 | D4: ='Pivot NOVA'!J7 -> 800156.78 | E4: ='Pivot NOVA'!I7 -> 793839.44 | F4: ='Pivot NOVA'!H7 -> 771020.07 | G4: ='Pivot NOVA'!G7 -> 785000 | H4: =C4/C4 -> 1 | I4: =D4/$C4 -> 0.90484539 | J4: =E4/$C4 -> 0.89770152 | K4: =F4/$C4 -> 0.87189658 | L4: =G4/$C4 -> 0.88770558
A5: NVRC | B5: Septic | C5: ='Pivot NOVA'!K8 -> 91904.8 | D5: ='Pivot NOVA'!J8 -> 146525.89 | E5: ='Pivot NOVA'!I8 -> 157396.62 | F5: ='Pivot NOVA'!H8 -> 202959.09 | G5: ='Pivot NOVA'!G8 -> 241776.6 | H5: =C5/C5 -> 1 | I5: =D5/$C5 -> 1.5943225 | J5: =E5/$C5 -> 1.712605 | K5: =F5/$C5 -> 2.2083622 | L5: =G5/$C5 -> 2.6307288
A6: NVRC | B6: Wastewater | C6: ='Pivot NOVA'!K9 -> 6698623.7 | D6: ='Pivot NOVA'!J9 -> 2800892.6 | E6: ='Pivot NOVA'!I9 -> 2475344.2 | F6: ='Pivot NOVA'!H9 -> 1287225.1 | G6: ='Pivot NOVA'!G9 -> 2502009.1 | H6: =C6/C6 -> 1 | I6: =D6/$C6 -> 0.41812956 | J6: =E6/$C6 -> 0.36953026 | K6: =F6/$C6 -> 0.19216262 | L6: =G6/$C6 -> 0.37351091
A7: =A6 -> NVRC | B7: ALL | C7: =SUM(C2:C6) -> 9675278.2 | D7: =SUM(D2:D6) -> 5940267.3 | E7: =SUM(E2:E6) -> 5665159 | F7: =SUM(F2:F6) -> 4528805.4 | G7: =SUM(G2:G6) -> 5482833.4 | H7: =C7/C7 -> 1 | I7: =D7/$C7 -> 0.61396346 | J7: =E7/$C7 -> 0.58552931 | K7: =F7/$C7 -> 0.46808012 | L7: =G7/$C7 -> 0.56668483
A8: Washington, DC | B8: Agriculture | C8: ='Pivot DC'!K5 -> 0 | D8: ='Pivot DC'!J5 -> 0 | E8: ='Pivot DC'!I5 -> 0 | F8: ='Pivot DC'!H5 -> 0 | G8: ='Pivot DC'!G5 -> 0
A9: Washington, DC | B9: Developed | C9: ='Pivot DC'!K6 -> 164429.15 | D9: ='Pivot DC'!J6 -> 170702.91 | E9: ='Pivot DC'!I6 -> 173098.49 | F9: ='Pivot DC'!H6 -> 163142.28 | G9: ='Pivot DC'!G6 -> 165489.99 | H9: =C9/C9 -> 1 | I9: =D9/$C9 -> 1.0381548 | J9: =E9/$C9 -> 1.0527238 | K9: =F9/$C9 -> 0.99217371 | L9: =G9/$C9 -> 1.0064516
A10: Washington, DC | B10: Natural | C10: ='Pivot DC'!K7 -> 26114.325 | D10: ='Pivot DC'!J7 -> 24187.692 | E10: ='Pivot DC'!I7 -> 23775.781 | F10: ='Pivot DC'!H7 -> 22479.364 | G10: ='Pivot DC'!G7 -> 19989.642 | H10: =C10/C10 -> 1 | I10: =D10/$C10 -> 0.92622313 | J10: =E10/$C10 -> 0.91044975 | K10: =F10/$C10 -> 0.86080586 | L10: =G10/$C10 -> 0.76546654
A11: Washington, DC | B11: Septic | C11: ='Pivot DC'!K8 -> 405.69806 | D11: ='Pivot DC'!J8 -> 269.36715 | E11: ='Pivot DC'!I8 -> 193.8359 | F11: ='Pivot DC'!H8 -> 173.22532 | G11: ='Pivot DC'!G8 -> 173.22532 | H11: =C11/C11 -> 1 | I11: =D11/$C11 -> 0.66395966 | J11: =E11/$C11 -> 0.47778364 | K11: =F11/$C11 -> 0.42698088 | L11: =G11/$C11 -> 0.42698088
A12: Washington, DC | B12: Wastewater | C12: ='Pivot DC'!K9 -> 6289206.2 | D12: ='Pivot DC'!J9 -> 2505683 | E12: ='Pivot DC'!I9 -> 2567723.3 | F12: ='Pivot DC'!H9 -> 1358842 | G12: ='Pivot DC'!G9 -> 2246536.5 | H12: =C12/C12 -> 1 | I12: =D12/$C12 -> 0.39841006 | J12: =E12/$C12 -> 0.40827462 | K12: =F12/$C12 -> 0.21605937 | L12: =G12/$C12 -> 0.35720509
A13: =A12 -> Washington, DC | B13: ALL | C13: =SUM(C8:C12) -> 6480155.4 | D13: =SUM(D8:D12) -> 2700843 | E13: =SUM(E8:E12) -> 2764791.4 | F13: =SUM(F8:F12) -> 1544636.8 | G13: =SUM(G8:G12) -> 2432189.4 | H13: =C13/C13 -> 1 | I13: =D13/$C13 -> 0.41678676 | J13: =E13/$C13 -> 0.4266551 | K13: =F13/$C13 -> 0.23836417 | L13: =G13/$C13 -> 0.37532886
A14: MD-COG | B14: Agriculture | C14: ='Pivot MD COG'!K33 -> 6770452.3 | D14: ='Pivot MD COG'!J33 -> 4467516.7 | E14: ='Pivot MD COG'!I33 -> 4053660.6 | F14: ='Pivot MD COG'!H33 -> 3745978.1 | G14: ='Pivot MD COG'!G33 -> 3409614.6 | H14: =C14/C14 -> 1 | I14: =D14/$C14 -> 0.65985498 | J14: =E14/$C14 -> 0.59872818 | K14: =F14/$C14 -> 0.55328328 | L14: =G14/$C14 -> 0.50360219
A15: MD-COG | B15: Developed | C15: ='Pivot MD COG'!K34 -> 1672831.6 | D15: ='Pivot MD COG'!J34 -> 2359317.5 | E15: ='Pivot MD COG'!I34 -> 2422358.5 | F15: ='Pivot MD COG'!H34 -> 2519348.6 | G15: ='Pivot MD COG'!G34 -> 2215627.5 | H15: =C15/C15 -> 1 | I15: =D15/$C15 -> 1.4103735 | J15: =E15/$C15 -> 1.4480587 | K15: =F15/$C15 -> 1.5060383 | L15: =G15/$C15 -> 1.3244773
A16: MD-COG | B16: Natural | C16: ='Pivot MD COG'!K35 -> 1791797.4 | D16: ='Pivot MD COG'!J35 -> 1589475.5 | E16: ='Pivot MD COG'!I35 -> 1550355.3 | F16: ='Pivot MD COG'!H35 -> 1540748 | G16: ='Pivot MD COG'!G35 -> 1533311.1 | H16: =C16/C16 -> 1 | I16: =D16/$C16 -> 0.88708436 | J16: =E16/$C16 -> 0.86525143 | K16: =F16/$C16 -> 0.85988963 | L16: =G16/$C16 -> 0.85573909
A17: MD-COG | B17: Septic | C17: ='Pivot MD COG'!K36 -> 361258.94 | D17: ='Pivot MD COG'!J36 -> 569416.89 | E17: ='Pivot MD COG'!I36 -> 593826.34 | F17: ='Pivot MD COG'!H36 -> 615991.7 | G17: ='Pivot MD COG'!G36 -> 487820.9 | H17: =C17/C17 -> 1 | I17: =D17/$C17 -> 1.5762015 | J17: =E17/$C17 -> 1.6437692 | K17: =F17/$C17 -> 1.7051251 | L17: =G17/$C17 -> 1.3503359
A18: MD-COG | B18: Wastewater | C18: ='Pivot MD COG'!K37 -> 8574816.1 | D18: ='Pivot MD COG'!J37 -> 3853084.8 | E18: ='Pivot MD COG'!I37 -> 3543694.3 | F18: ='Pivot MD COG'!H37 -> 1991803.5 | G18: ='Pivot MD COG'!G37 -> 3957541.3 | H18: =C18/C18 -> 1 | I18: =D18/$C18 -> 0.44934897 | J18: =E18/$C18 -> 0.41326767 | K18: =F18/$C18 -> 0.23228527 | L18: =G18/$C18 -> 0.46153075
A19: =A18 -> MD-COG | B19: ALL | C19: =SUM(C14:C18) -> 19171156 | D19: =SUM(D14:D18) -> 12838811 | E19: =SUM(E14:E18) -> 12163895 | F19: =SUM(F14:F18) -> 10413870 | G19: =SUM(G14:G18) -> 11603915 | H19: =C19/C19 -> 1 | I19: =D19/$C19 -> 0.66969415 | J19: =E19/$C19 -> 0.63448937 | K19: =F19/$C19 -> 0.54320509 | L19: =G19/$C19 -> 0.60527989
A20: Bay Watershed | B20: Agriculture | C20: ='Pivot CB'!K5 -> 1.5628408e+08 | D20: ='Pivot CB'!J5 -> 1.3060557e+08 | E20: ='Pivot CB'!I5 -> 1.2267305e+08 | F20: ='Pivot CB'!H5 -> 1.2010248e+08 | G20: ='Pivot CB'!G5 -> 73120903 | H20: =C20/C20 -> 1 | I20: =D20/$C20 -> 0.83569337 | J20: =E20/$C20 -> 0.78493634 | K20: =F20/$C20 -> 0.76848827 | L20: =G20/$C20 -> 0.46787174
A21: Bay Watershed | B21: Developed | C21: ='Pivot CB'!K6 -> 27360634 | D21: ='Pivot CB'!J6 -> 36815256 | E21: ='Pivot CB'!I6 -> 37917917 | F21: ='Pivot CB'!H6 -> 39584775 | G21: ='Pivot CB'!G6 -> 30010973 | H21: =C21/C21 -> 1 | I21: =D21/$C21 -> 1.3455556 | J21: =E21/$C21 -> 1.3858566 | K21: =F21/$C21 -> 1.4467784 | L21: =G21/$C21 -> 1.0968668
A22: Bay Watershed | B22: Natural | C22: ='Pivot CB'!K7 -> 48529035 | D22: ='Pivot CB'!J7 -> 46724249 | E22: ='Pivot CB'!I7 -> 46166070 | F22: ='Pivot CB'!H7 -> 45682828 | G22: ='Pivot CB'!G7 -> 43369025 | H22: =C22/C22 -> 1 | I22: =D22/$C22 -> 0.96281019 | J22: =E22/$C22 -> 0.95130823 | K22: =F22/$C22 -> 0.94135044 | L22: =G22/$C22 -> 0.8936717
A23: Bay Watershed | B23: Septic | C23: ='Pivot CB'!K8 -> 5451390.7 | D23: ='Pivot CB'!J8 -> 7226368.4 | E23: ='Pivot CB'!I8 -> 7562097.6 | F23: ='Pivot CB'!H8 -> 7835601.9 | G23: ='Pivot CB'!G8 -> 6288578.5 | H23: =C23/C23 -> 1 | I23: =D23/$C23 -> 1.3256009 | J23: =E23/$C23 -> 1.3871869 | K23: =F23/$C23 -> 1.4373583 | L23: =G23/$C23 -> 1.1535732
A24: Bay Watershed | B24: Wastewater | C24: ='Pivot CB'!K9 -> 93603223 | D24: ='Pivot CB'!J9 -> 59952119 | E24: ='Pivot CB'!I9 -> 56589825 | F24: ='Pivot CB'!H9 -> 36577186 | G24: ='Pivot CB'!G9 -> 42796497 | H24: =C24/C24 -> 1 | I24: =D24/$C24 -> 0.64049204 | J24: =E24/$C24 -> 0.60457134 | K24: =F24/$C24 -> 0.39076845 | L24: =G24/$C24 -> 0.45721178
A25: =A24 -> Bay Watershed | B25: ALL | C25: =SUM(C20:C24) -> 3.3122836e+08 | D25: =SUM(D20:D24) -> 2.8132356e+08 | E25: =SUM(E20:E24) -> 2.7090896e+08 | F25: =SUM(F20:F24) -> 2.4978287e+08 | G25: =SUM(G20:G24) -> 1.9558598e+08 | H25: =C25/C25 -> 1 | I25: =D25/$C25 -> 0.84933416 | J25: =E25/$C25 -> 0.81789181 | K25: =F25/$C25 -> 0.75411076 | L25: =G25/$C25 -> 0.59048681
A26: Maryland | B26: Agriculture | C26: ='Pivot MD&VA'!K3 -> 34272099 | D26: ='Pivot MD&VA'!J3 -> 25427756 | E26: ='Pivot MD&VA'!I3 -> 22978436 | F26: ='Pivot MD&VA'!H3 -> 22376859 | G26: ='Pivot MD&VA'!G3 -> 18656199 | H26: =C26/C26 -> 1 | I26: =D26/$C26 -> 0.74193752 | J26: =E26/$C26 -> 0.67047065 | K26: =F26/$C26 -> 0.65291768 | L26: =G26/$C26 -> 0.54435532
A27: Maryland | B27: Developed | C27: ='Pivot MD&VA'!K4 -> 6590782 | D27: ='Pivot MD&VA'!J4 -> 8910929 | E27: ='Pivot MD&VA'!I4 -> 9009369.1 | F27: ='Pivot MD&VA'!H4 -> 9351599.1 | G27: ='Pivot MD&VA'!G4 -> 7692434 | H27: =C27/C27 -> 1 | I27: =D27/$C27 -> 1.3520291 | J27: =E27/$C27 -> 1.3669651 | K27: =F27/$C27 -> 1.4188907 | L27: =G27/$C27 -> 1.1671504
A28: Maryland | B28: Natural | C28: ='Pivot MD&VA'!K5 -> 8866999.9 | D28: ='Pivot MD&VA'!J5 -> 8246805.8 | E28: ='Pivot MD&VA'!I5 -> 8081053.6 | F28: ='Pivot MD&VA'!H5 -> 8098300.8 | G28: ='Pivot MD&VA'!G5 -> 7877550.8 | H28: =C28/C28 -> 1 | I28: =D28/$C28 -> 0.93005592 | J28: =E28/$C28 -> 0.91136277 | K28: =F28/$C28 -> 0.91330787 | L28: =G28/$C28 -> 0.88841219
A29: Maryland | B29: Septic | C29: ='Pivot MD&VA'!K6 -> 2123635.8 | D29: ='Pivot MD&VA'!J6 -> 2932749.6 | E29: ='Pivot MD&VA'!I6 -> 3046890 | F29: ='Pivot MD&VA'!H6 -> 3090474.2 | G29: ='Pivot MD&VA'!G6 -> 2200558.5 | H29: =C29/C29 -> 1 | I29: =D29/$C29 -> 1.381004 | J29: =E29/$C29 -> 1.4347516 | K29: =F29/$C29 -> 1.455275 | L29: =G29/$C29 -> 1.0362222
A30: Maryland | B30: Wastewater | C30: ='Pivot MD&VA'!K7 -> 32218029 | D30: ='Pivot MD&VA'!J7 -> 16598976 | E30: ='Pivot MD&VA'!I7 -> 14396665 | F30: ='Pivot MD&VA'!H7 -> 11306504 | G30: ='Pivot MD&VA'!G7 -> 11249980 | H30: =C30/C30 -> 1 | I30: =D30/$C30 -> 0.51520768 | J30: =E30/$C30 -> 0.44685121 | K30: =F30/$C30 -> 0.35093717 | L30: =G30/$C30 -> 0.34918274
A31: =A30 -> Maryland | B31: ALL | C31: =SUM(C26:C30) -> 84071546 | D31: =SUM(D26:D30) -> 62117216 | E31: =SUM(E26:E30) -> 57512415 | F31: =SUM(F26:F30) -> 54223737 | G31: =SUM(G26:G30) -> 47676722 | H31: =C31/C31 -> 1 | I31: =D31/$C31 -> 0.73886136 | J31: =E31/$C31 -> 0.68408894 | K31: =F31/$C31 -> 0.64497134 | L31: =G31/$C31 -> 0.56709701
A32: Virginia | B32: Agriculture | C32: ='Pivot MD&VA'!K9 -> 24955425 | D32: ='Pivot MD&VA'!J9 -> 21675892 | E32: ='Pivot MD&VA'!I9 -> 20407591 | F32: ='Pivot MD&VA'!H9 -> 19726462 | G32: ='Pivot MD&VA'!G9 -> 10517703 | H32: =C32/C32 -> 1 | I32: =D32/$C32 -> 0.86858438 | J32: =E32/$C32 -> 0.81776172 | K32: =F32/$C32 -> 0.79046788 | L32: =G32/$C32 -> 0.42145959
A33: Virginia | B33: Developed | C33: ='Pivot MD&VA'!K10 -> 6692618.3 | D33: ='Pivot MD&VA'!J10 -> 9688661.3 | E33: ='Pivot MD&VA'!I10 -> 10143140 | F33: ='Pivot MD&VA'!H10 -> 10805130 | G33: ='Pivot MD&VA'!G10 -> 9838055.3 | H33: =C33/C33 -> 1 | I33: =D33/$C33 -> 1.4476638 | J33: =E33/$C33 -> 1.5155712 | K33: =F33/$C33 -> 1.6144848 | L33: =G33/$C33 -> 1.469986
A34: Virginia | B34: Natural | C34: ='Pivot MD&VA'!K11 -> 13692855 | D34: ='Pivot MD&VA'!J11 -> 13229103 | E34: ='Pivot MD&VA'!I11 -> 13049459 | F34: ='Pivot MD&VA'!H11 -> 12763352 | G34: ='Pivot MD&VA'!G11 -> 12174162 | H34: =C34/C34 -> 1 | I34: =D34/$C34 -> 0.96613178 | J34: =E34/$C34 -> 0.95301223 | K34: =F34/$C34 -> 0.93211764 | L34: =G34/$C34 -> 0.88908866
A35: Virginia | B35: Septic | C35: ='Pivot MD&VA'!K12 -> 1333419.2 | D35: ='Pivot MD&VA'!J12 -> 1859356.8 | E35: ='Pivot MD&VA'!I12 -> 1970591.2 | F35: ='Pivot MD&VA'!H12 -> 2117299.7 | G35: ='Pivot MD&VA'!G12 -> 1994387.7 | H35: =C35/C35 -> 1 | I35: =D35/$C35 -> 1.3944277 | J35: =E35/$C35 -> 1.4778482 | K35: =F35/$C35 -> 1.5878725 | L35: =G35/$C35 -> 1.4956944
A36: Virginia | B36: Wastewater | C36: ='Pivot MD&VA'!K13 -> 35591762 | D36: ='Pivot MD&VA'!J13 -> 23032149 | E36: ='Pivot MD&VA'!I13 -> 21773646 | F36: ='Pivot MD&VA'!H13 -> 12313038 | G36: ='Pivot MD&VA'!G13 -> 15044774 | H36: =C36/C36 -> 1 | I36: =D36/$C36 -> 0.64712021 | J36: =E36/$C36 -> 0.61176084 | K36: =F36/$C36 -> 0.34595192 | L36: =G36/$C36 -> 0.42270383
A37: =A36 -> Virginia | B37: ALL | C37: =SUM(C32:C36) -> 82266080 | D37: =SUM(D32:D36) -> 69485162 | E37: =SUM(E32:E36) -> 67344427 | F37: =SUM(F32:F36) -> 57725282 | G37: =SUM(G32:G36) -> 49569082 | H37: =C37/C37 -> 1 | I37: =D37/$C37 -> 0.84463927 | J37: =E37/$C37 -> 0.81861719 | K37: =F37/$C37 -> 0.70168996 | L37: =G37/$C37 -> 0.60254582

Sheet Pivot NOVA
A3: Row Labels | B3: Sum of VA Specified WIP 2_Amount | C3: Sum of 2017 Progress V9_Amount | D3: Sum of 2009 Progress_Amount | E3: Sum of 2005 Progress_Amount | F3: Sum of 1985 Progress_Amount | G3: Sum of VA Specified WIP 2_NLoadEOT | H3: Sum of 2017 Progress V9_NLoadEOT | I3: Sum of 2009 Progress_NLoadEOT | J3: Sum of 2005 Progress_NLoadEOT | K3: Sum of 1985 Progress_NLoadEOT | L3: Sum of VA Specified WIP 2_PLoadEOT | M3: Sum of 2017 Progress V9_PLoadEOT | N3: Sum of 2009 Progress_PLoadEOT | O3: Sum of 2005 Progress_PLoadEOT | P3: Sum of 1985 Progress_PLoadEOT
A4: Northern Virginia | B4: 883638.59 | C4: 875793.43 | D4: 869467.79 | E4: 867546.95 | F4: 858607.25 | G4: 5482833.4 | H4: 4528805.4 | I4: 5665159 | J4: 5940267.3 | K4: 9675278.2 | L4: 562995.36 | M4: 473491.11 | N4: 684016.75 | O4: 523889.49 | P4: 516424.17
A5: Agriculture | B5: 96850.262 | C5: 111949.17 | D5: 120203.29 | E5: 126529.76 | F5: 153994.04 | G5: 339368.3 | H5: 608096.37 | I5: 723320.17 | J5: 785169.06 | K5: 1094996.9 | L5: 25209.332 | M5: 41551.759 | N5: 51165.775 | O5: 61280.857 | P5: 103318.35
A6: Developed | B6: 352705.11 | C6: 341414.19 | D6: 310007.91 | E6: 284621.68 | F6: 163668.6 | G6: 1614679.5 | H6: 1659504.8 | I6: 1515258.6 | J6: 1407522.9 | K6: 905450.65 | L6: 214909.62 | M6: 213399.93 | N6: 193295.51 | O6: 177283.67 | P6: 104864.96
A7: Natural | B7: 395311.36 | C7: 391503.37 | D7: 414655.53 | E7: 433715.29 | F7: 527204.08 | G7: 785000 | H7: 771020.07 | I7: 793839.44 | J7: 800156.78 | K7: 884302.21 | L7: 184314.63 | M7: 172128.5 | N7: 190462.08 | O7: 179380.25 | P7: 180070.86
A8: Septic | B8: 38771.859 | C8: 30926.7 | D8: 24601.065 | E8: 22680.228 | F8: 13740.531 | G8: 241776.6 | H8: 202959.09 | I8: 157396.62 | J8: 146525.89 | K8: 91904.8 | L8: 75.112105 | M8: 75.112105 | N8: 75.112105 | O8: 75.112105 | P8: 75.112105
A9: Wastewater | B9: 0 | C9: 0 | D9: 0 | E9: 0 | F9: 0 | G9: 2502009.1 | H9: 1287225.1 | I9: 2475344.2 | J9: 2800892.6 | K9: 6698623.7 | L9: 138486.66 | M9: 46335.819 | N9: 249018.28 | O9: 105869.6 | P9: 128094.88
A10: Grand Total | B10: 883638.59 | C10: 875793.43 | D10: 869467.79 | E10: 867546.95 | F10: 858607.25 | G10: 5482833.4 | H10: 4528805.4 | I10: 5665159 | J10: 5940267.3 | K10: 9675278.2 | L10: 562995.36 | M10: 473491.11 | N10: 684016.75 | O10: 523889.49 | P10: 516424.17

Sheet Source - All Agencies Nova
A1: Geography | B1: Sector | C1: LoadSource | D1: Allocation | E1: Agency | F1: Unit | G1: VA Specified WIP 2_Amount | H1: 2017 Progress V9_Amount | I1: 2009 Progress_Amount | J1: 2005 Progress_Amount | K1: 1985 Progress_Amount | L1: VA Specified WIP 2_NLoadEOS | M1: 2017 Progress V9_NLoadEOS | N1: 2009 Progress_NLoadEOS | O1: 2005 Progress_NLoadEOS | P1: 1985 Progress_NLoadEOS | Q1: VA Specified WIP 2_PLoadEOS | R1: 2017 Progress V9_PLoadEOS | S1: 2009 Progress_PLoadEOS | T1: 2005 Progress_PLoadEOS | U1: 1985 Progress_PLoadEOS | V1: VA Specified WIP 2_SLoadEOS | W1: 2017 Progress V9_SLoadEOS | X1: 2009 Progress_SLoadEOS | Y1: 2005 Progress_SLoadEOS | Z1: 1985 Progress_SLoadEOS | AA1: VA Specified WIP 2_NLoadEOT | AB1: 2017 Progress V9_NLoadEOT | AC1: 2009 Progress_NLoadEOT | AD1: 2005 Progress_NLoadEOT | AE1: 1985 Progress_NLoadEOT | AF1: VA Specified WIP 2_PLoadEOT | AG1: 2017 Progress V9_PLoadEOT | AH1: 2009 Progress_PLoadEOT | AI1: 2005 Progress_PLoadEOT | AJ1: 1985 Progress_PLoadEOT | AK1: VA Specified WIP 2_SLoadEOT | AL1: 2017 Progress V9_SLoadEOT | AM1: 2009 Progress_SLoadEOT | AN1: 2005 Progress_SLoadEOT | AO1: 1985 Progress_SLoadEOT
A2: Northern Virginia | B2: Agriculture | C2: Ag Open Space | D2: Load Allocation | E2: All Agencies | F2: acres | G2: 14459.87 | H2: 4597.6575 | I2: 3639.894 | J2: 3976.7019 | K2: 2251.5143 | L2: 36510.183 | M2: 12298.025 | N2: 9610.7457 | O2: 10459.304 | P2: 5970.8742 | Q2: 14852.013 | R2: 4929.1921 | S2: 4016.7803 | T2: 4444.9332 | U2: 2467.9578 | V2: 457985.81 | W2: 151609.06 | X2: 119275.91 | Y2: 130061.38 | Z2: 74388.06 | AA2: 23916.794 | AB2: 8066.2954 | AC2: 6197.9329 | AD2: 6706.8602 | AE2: 3857.72 | AF2: 7730.5959 | AG2: 2557.5162 | AH2: 2065.9356 | AI2: 2277.5256 | AJ2: 1271.8547 | AK2: 126448.62 | AL2: 41350.222 | AM2: 31332.571 | AN2: 33599.323 | AO2: 19821.508
A3: Northern Virginia | B3: Agriculture | C3: Double Cropped Land | D3: Load Allocation | E3: All Agencies | F3: acres | G3: 2267.281 | H3: 506.64792 | I3: 845.57057 | J3: 2369.7962 | K3: 354.93744 | L3: 27645.269 | M3: 7347.5206 | N3: 15187.445 | O3: 42964.963 | P3: 4355.0756 | Q3: 203.81726 | R3: 274.07821 | S3: 246.11778 | T3: 889.06173 | U3: 432.02776 | V3: 388279.69 | W3: 312860.56 | X3: 540793.8 | Y3: 1576502.9 | Z3: 344908.88 | AA3: 17966.678 | AB3: 4017.5348 | AC3: 10135.624 | AD3: 28523.746 | AE3: 2225.0513 | AF3: 101.4216 | AG3: 132.81659 | AH3: 129.22427 | AI3: 464.00829 | AJ3: 205.33309 | AK3: 102480.06 | AL3: 43923.521 | AM3: 166854.6 | AN3: 485052.5 | AO3: 40822.36
A4: Northern Virginia | B4: Agriculture | C4: Full Season Soybeans | D4: Load Allocation | E4: All Agencies | F4: acres | G4: 4754.9712 | H4: 7567.2862 | I4: 4565.6074 | J4: 3126.7281 | K4: 3525.0772 | L4: 51683.184 | M4: 112449.92 | N4: 62385.959 | O4: 39557.223 | P4: 44833.649 | Q4: 1469.6642 | R4: 3356.8083 | S4: 2110.8515 | T4: 1554.8913 | U4: 2184.9091 | V4: 2213260 | W4: 7713131.5 | X4: 4585189.6 | Y4: 3152653.2 | Z4: 3608279.9 | AA4: 31442.291 | AB4: 70643.907 | AC4: 38441.87 | AD4: 23985.745 | AE4: 28146.619 | AF4: 728.65878 | AG4: 1693.8384 | AH4: 1055.4023 | AI4: 772.89984 | AJ4: 1097.8822 | AK4: 506260.78 | AL4: 1975282.6 | AM4: 1117067.6 | AN4: 743791.85 | AO4: 968014.65
A5: Northern Virginia | B5: Agriculture | C5: Grain with Manure | D5: Load Allocation | E5: All Agencies | F5: acres | G5: 0 | H5: 236.6005 | I5: 2848.7249 | J5: 2917.3475 | K5: 6115.9501 | L5: 0 | M5: 6993.4455 | N5: 74462.312 | O5: 79174.456 | P5: 156920.63 | Q5: 0 | R5: 98.733148 | S5: 1492.4013 | T5: 1657.0777 | U5: 4860.6674 | V5: 0 | W5: 245808.09 | X5: 2848763.4 | Y5: 2955249.4 | Z5: 5902086.3 | AA5: 0 | AB5: 4701.203 | AC5: 47699.03 | AD5: 50314.789 | AE5: 97268.081 | AF5: 0 | AG5: 52.227362 | AH5: 762.35904 | AI5: 842.51769 | AJ5: 2441.7 | AK5: 0 | AL5: 75961.947 | AM5: 784037.14 | AN5: 803421.27 | AO5: 1517783.5
A6: Northern Virginia | B6: Agriculture | C6: Grain without Manure | D6: Load Allocation | E6: All Agencies | F6: acres | G6: 0 | H6: 275.42199 | I6: 3557.3213 | J6: 3691.2757 | K6: 9088.5703 | L6: 0 | M6: 6205.7851 | N6: 71444.211 | O6: 77942.79 | P6: 182029.37 | Q6: 0 | R6: 92.379031 | S6: 1468.8358 | T6: 1649.5789 | U6: 5882.4323 | V6: 0 | W6: 286140.69 | X6: 3544937.8 | Y6: 3733883.5 | Z6: 8853288.9 | AA6: 0 | AB6: 4171.7144 | AC6: 45635.619 | AD6: 49428.218 | AE6: 113507.64 | AF6: 0 | AG6: 48.866195 | AH6: 746.22214 | AI6: 835.55113 | AJ6: 2987.9308 | AK6: 0 | AL6: 88425.909 | AM6: 965457.7 | AN6: 1009922.5 | AO6: 2345110.9
A7: Northern Virginia | B7: Agriculture | C7: Legume Hay | D7: Load Allocation | E7: All Agencies | F7: acres | G7: 582.40657 | H7: 1559.1041 | I7: 3369.5561 | J7: 3843.0845 | K7: 5437.1658 | L7: 2195.2583 | M7: 7557.1762 | N7: 18030.234 | O7: 20927.253 | P7: 29091.122 | Q7: 367.62095 | R7: 731.90663 | S7: 791.8218 | T7: 1840.4847 | U7: 4823.437 | V7: 47628.737 | W7: 151594.33 | X7: 336117.89 | Y7: 384393.69 | Z7: 579151.95 | AA7: 1239.3577 | AB7: 4835.8936 | AC7: 12036.09 | AD7: 14006.792 | AE7: 19496.253 | AF7: 176.9022 | AG7: 368.59699 | AH7: 410.24002 | AI7: 969.27386 | AJ7: 2558.5526 | AK7: 7294.1408 | AL7: 37832.498 | AM7: 97628.578 | AN7: 113099.9 | AO7: 172866.01
A8: Northern Virginia | B8: Agriculture | C8: Non-Permitted Feeding Space | D8: Load Allocation | E8: All Agencies | F8: acres | G8: 188.54091 | H8: 202.84763 | I8: 218.82049 | J8: 227.33945 | K8: 216.42893 | L8: 1650.677 | M8: 5293.4412 | N8: 8664.9547 | O8: 9619.8331 | P8: 43326.078 | Q8: 100.07443 | R8: 303.54476 | S8: 492.12485 | T8: 526.46416 | U8: 2113.0313 | V8: 438050.55 | W8: 611928.22 | X8: 755100.18 | Y8: 762334.3 | Z8: 762296.45 | AA8: 1024.7464 | AB8: 3454.9349 | AC8: 5392.4995 | AD8: 6083.3425 | AE8: 28472.145 | AF8: 51.748492 | AG8: 158.93126 | AH8: 251.5573 | AI8: 270.9509 | AJ8: 1106.9874 | AK8: 125996.25 | AL8: 176645.08 | AM8: 219337.5 | AN8: 227513.48 | AO8: 223467.17
A9: Northern Virginia | B9: Agriculture | C9: Other Agronomic Crops | D9: Load Allocation | E9: All Agencies | F9: acres | G9: 4709.4787 | H9: 6210.4504 | I9: 5025.3314 | J9: 5506.8582 | K9: 8421.6713 | L9: 35103.388 | M9: 66749.842 | N9: 52593.46 | O9: 57606.765 | P9: 78498.713 | Q9: 2590.1683 | R9: 5377.4078 | S9: 4916.2526 | T9: 5330.6495 | U9: 4321.0781 | V9: 2266745.1 | W9: 6726285.7 | X9: 6546864.7 | Y9: 6649222.6 | Z9: 672055.08 | AA9: 22080.157 | AB9: 41986.888 | AC9: 33039.923 | AD9: 36224.827 | AE9: 49812.043 | AF9: 1317.4586 | AG9: 2733.9243 | AH9: 2503.4977 | AI9: 2707.2334 | AJ9: 2170.7862 | AK9: 598031.79 | AL9: 1798611.9 | AM9: 1860830 | AN9: 1967600 | AO9: 202470.3
A10: Northern Virginia | B10: Agriculture | C10: Other Hay | D10: Load Allocation | E10: All Agencies | F10: acres | G10: 28222.019 | H10: 32903.588 | I10: 32670.86 | J10: 35462.004 | K10: 34996.14 | L10: 183066.24 | M10: 239945.92 | N10: 231256.15 | O10: 258843.18 | P10: 248742.02 | Q10: 5452.3708 | R10: 6574.592 | S10: 5463.8379 | T10: 6502.3458 | U10: 10074.255 | V10: 787253.76 | W10: 1026313.1 | X10: 1210617.2 | Y10: 1329050.2 | Z10: 1177489.3 | AA10: 119098.8 | AB10: 156628.43 | AC10: 151896.77 | AD10: 170414.61 | AE10: 162704.38 | AF10: 2684.9397 | AG10: 3241.9197 | AH10: 2720.3674 | AI10: 3218.7619 | AJ10: 5081.8729 | AK10: 209581.83 | AL10: 276909.51 | AM10: 331225.94 | AN10: 367511.95 | AO10: 325171.95
A11: Northern Virginia | B11: Agriculture | C11: Pasture | D11: Load Allocation | E11: All Agencies | F11: acres | G11: 37996.864 | H11: 53398.507 | I11: 57982.258 | J11: 59528.465 | K11: 74199.495 | L11: 149254.68 | M11: 350469.88 | N11: 387938.86 | O11: 413287.34 | P11: 526125.94 | Q11: 17091.04 | R11: 32525.482 | S11: 40410.214 | T11: 52289.174 | U11: 96686.199 | V11: 1339069.8 | W11: 3194271.4 | X11: 3625767.1 | Y11: 3776759.5 | Z11: 4803995.3 | AA11: 99104.512 | AB11: 232934.82 | AC11: 257645.84 | AD11: 274532.12 | AE11: 347802.64 | AF11: 8893.4211 | AG11: 16902.47 | AH11: 21075.328 | AI11: 27361.848 | AJ11: 50666.207 | AK11: 387941.76 | AL11: 922936.93 | AM11: 1045851.6 | AN11: 1091845.5 | AO11: 1381153.1
A12: Northern Virginia | B12: Agriculture | C12: Permitted Feeding Space | D12: Waste Load Allocation | E12: All Agencies | F12: acres | G12: 0.82684701 | H12: 0.98530203 | I12: 1.4145711 | J12: 1.630646 | K12: 2.100249 | L12: 303.88765 | M12: 1869.524 | N12: 2692.661 | O12: 2487.0646 | P12: 6277.533 | Q12: 18.361884 | R12: 113.64782 | S12: 165.99393 | T12: 153.46932 | U12: 389.97573 | V12: 880.68932 | W12: 1471.2591 | X12: 2431.0357 | Y12: 1698.8053 | Z12: 3728.4348 | AA12: 157.82394 | AB12: 967.019 | AC12: 1385.7993 | AD12: 1276.2692 | AE12: 3245.2893 | AF12: 8.7814583 | AG12: 53.734733 | AH12: 78.43908 | AI12: 72.379808 | AJ12: 186.2312 | AK12: 94.5864 | AL12: 157.83667 | AM12: 260.32729 | AN12: 181.43851 | AO12: 398.93392
A13: Northern Virginia | B13: Agriculture | C13: Riparian Pasture Deposition | D13: Load Allocation | E13: All Agencies | F13: acres | G13: 0 | H13: 0 | I13: 0 | J13: 0 | K13: 0 | L13: 3484.8981 | M13: 53129.521 | N13: 91932.519 | O13: 100293.08 | P13: 173899.29 | Q13: 1005.6823 | R13: 16666.129 | S13: 28790.739 | T13: 31488.692 | U13: 53605.97 | V13: 533145.84 | W13: 8128152.7 | X13: 14064526 | Y13: 15343587 | Z13: 26604416 | AA13: 2527.498 | AB13: 33987.407 | AC13: 59587.062 | AD13: 64801.852 | AE13: 112666.99 | AF13: 612.77964 | AG13: 8900.5617 | AH13: 15266.286 | AI13: 16666.291 | AJ13: 28331.811 | AK13: 111366.37 | AL13: 2014160.4 | AM13: 3648460.4 | AN13: 4011634 | AO13: 7124563.7
... A50: Northern Virginia | B50: Wastewater | C50: Municipal Wastewater Treatment Plant | D50: Waste Load Allocation | E50: All Agencies | F50: acres | G50: 0 | H50: 0 | I50: 0 | J50: 0 | K50: 0 | L50: 3501345.2 | M50: 2080099.5 | N50: 3364119.9 | O50: 4020686 | P50: 7365704.2 | Q50: 152482.92 | R50: 41051.628 | S50: 74020.132 | T50: 40821.42 | U50: 100288.7 | V50: 25253116 | W50: 182369.05 | X50: 7530473.4 | Y50: 5387088 | Z50: 16768555 | AA50: 2387579.1 | AB50: 1205030.1 | AC50: 2391569.2 | AD50: 2729081.7 | AE50: 6638561.2 | AF50: 114259.09 | AG50: 29098.732 | AH50: 52550.986 | AI50: 29042.28 | AJ50: 86213.88 | AK50: 12209248 | AL50: 84647.812 | AM50: 3669838.9 | AN50: 2324255.2 | AO50: 9579214.2

Sheet Pivot MD COG
A3: Row Labels | B3: Sum of 2025 WIP2_Amount | C3: Sum of 2017 Progress V9_Amount | D3: Sum of 2009 Progress_Amount | E3: Sum of 2005 Progress_Amount | F3: Sum of 1985 Progress_Amount | G3: Sum of 2025 WIP2_NLoadEOT | H3: Sum of 2017 Progress V9_NLoadEOT | I3: Sum of 2009 Progress_NLoadEOT | J3: Sum of 2005 Progress_NLoadEOT | K3: Sum of 1985 Progress_NLoadEOT | L3: Sum of 2025 WIP2_PLoadEOT | M3: Sum of 2017 Progress V9_PLoadEOT | N3: Sum of 2009 Progress_PLoadEOT | O3: Sum of 2005 Progress_PLoadEOT | P3: Sum of 1985 Progress_PLoadEOT
A4: Charles, MD | B4: 308317.34 | C4: 306643.36 | D4: 305252.14 | E4: 304073.61 | F4: 297535.22 | G4: 1402957.2 | H4: 1288757.9 | I4: 1239463.2 | J4: 1663072.8 | K4: 1639030.1 | L4: 202276.03 | M4: 197615.59 | N4: 203667.82 | O4: 219063.86 | P4: 309533.14
A5: Agriculture | B5: 30914.086 | C5: 32147.18 | D5: 36539.541 | E5: 36806.241 | F5: 41570.083 | G5: 301192.34 | H5: 331362.37 | I5: 367208.07 | J5: 388728.06 | K5: 459584.79 | L5: 13955.103 | M5: 16623.447 | N5: 20880.076 | O5: 24708.202 | P5: 45211.562
A6: Developed | B6: 47080.258 | C6: 46595.156 | D6: 43577.974 | E6: 41511.511 | F6: 23714.833 | G6: 213449.5 | H6: 237074.71 | I6: 222188.79 | J6: 219700.43 | K6: 136302.06 | L6: 19282.982 | M6: 24259.28 | N6: 23776.879 | O6: 25620.984 | P6: 18061.199
A7: Natural | B7: 210325.61 | C7: 209577.63 | D7: 208202.44 | E7: 210002.21 | F7: 223035.04 | G7: 463388.11 | H7: 464030.9 | I7: 460144.19 | J7: 468326.29 | K7: 490737 | L7: 150883.31 | M7: 151558.85 | N7: 153343.41 | O7: 156657.51 | P7: 168635.52
A8: Septic | B8: 19997.377 | C8: 18323.396 | D8: 16932.184 | E8: 15753.655 | F8: 9215.2612 | G8: 88895.897 | H8: 114116.07 | I8: 108655.26 | J8: 102137.7 | K8: 67941.91 | L8: 0 | M8: 0 | N8: 0 | O8: 0 | P8: 0
A9: Wastewater | B9: 0 | C9: 0 | D9: 0 | E9: 0 | F9: 0 | G9: 336031.32 | H9: 142173.82 | I9: 81266.927 | J9: 484180.37 | K9: 484464.38 | L9: 18154.637 | M9: 5174.0165 | N9: 5667.4616 | O9: 12077.166 | P9: 77624.861
A10: Frederick, MD | B10: 458840.54 | C10: 457114.69 | D10: 455728.18 | E10: 454615.85 | F10: 443561.13 | G10: 4420961.4 | H10: 4568473.9 | I10: 4779749.3 | J10: 5059412.6 | K10: 6500406.7 | L10: 153157.91 | M10: 161625.2 | N10: 195747.48 | O10: 221857.09 | P10: 419037.22
A11: Agriculture | B11: 155939 | C11: 160770.28 | D11: 168664.7 | E11: 172297.82 | F11: 199415.89 | G11: 2523559.3 | H11: 2738962.9 | I11: 2898262 | J11: 3195125.9 | K11: 4854573.4 | L11: 46842.537 | M11: 61223.889 | N11: 71546.478 | O11: 88794.696 | P11: 200835.77
A12: Developed | B12: 86000.558 | C12: 85433.275 | D12: 79862.877 | E12: 75665.357 | F12: 41967.814 | G12: 765628.54 | H12: 811531.76 | I12: 753412.74 | J12: 729479.78 | K12: 442494.25 | L12: 33069.409 | M12: 40317.596 | N12: 39256.942 | O12: 40925.556 | P12: 29915.224
A13: Natural | B13: 186072.2 | C13: 181808.21 | D13: 179484.19 | E13: 180048.58 | F13: 186628.06 | G13: 466696.82 | H13: 465435.52 | I13: 462007.57 | J13: 475728.26 | K13: 558678.05 | L13: 41125.038 | M13: 42102.01 | N13: 46795.368 | O13: 51828.455 | P13: 85248.996
A14: Septic | B14: 30828.78 | C14: 29102.924 | D14: 27716.423 | E14: 26604.092 | F14: 15549.368 | G14: 248152.5 | H14: 292717.07 | I14: 283667.81 | J14: 273458.36 | K14: 169402.09 | L14: 48.621773 | M14: 0 | N14: 92.796051 | O14: 120.87962 | P14: 0
A15: Wastewater | B15: 0 | C15: 0 | D15: 0 | E15: 0 | F15: 0 | G15: 416924.22 | H15: 259826.68 | I15: 382399.13 | J15: 385620.34 | K15: 475258.9 | L15: 32072.303 | M15: 17981.708 | N15: 38055.9 | O15: 40187.502 | P15: 103037.23
... A28: Grand Total | B28: 1426035.2 | C28: 1421352.5 | D28: 1417574.2 | E28: 1414435.5 | F28: 1388070 | G28: 11603915 | H28: 10413870 | I28: 12163895 | J28: 12838811 | K28: 19171156 | L28: 702461.81 | M28: 654499.25 | N28: 731335.63 | O28: 819720.23 | P28: 1321735.8
A31: Row Labels | B31: Sum of 2025 WIP2_Amount | C31: Sum of 2017 Progress V9_Amount | D31: Sum of 2009 Progress_Amount | E31: Sum of 2005 Progress_Amount | F31: Sum of 1985 Progress_Amount | G31: Sum of 2025 WIP2_NLoadEOT | H31: Sum of 2017 Progress V9_NLoadEOT | I31: Sum of 2009 Progress_NLoadEOT | J31: Sum of 2005 Progress_NLoadEOT | K31: Sum of 1985 Progress_NLoadEOT | L31: Sum of 2025 WIP2_PLoadEOT | M31: Sum of 2017 Progress V9_PLoadEOT | N31: Sum of 2009 Progress_PLoadEOT | O31: Sum of 2005 Progress_PLoadEOT | P31: Sum of 1985 Progress_PLoadEOT
A32: MD_COG | B32: 1426035.2 | C32: 1421352.5 | D32: 1417574.2 | E32: 1414435.5 | F32: 1388070 | G32: 11603915 | H32: 10413870 | I32: 12163895 | J32: 12838811 | K32: 19171156 | L32: 702461.81 | M32: 654499.25 | N32: 731335.63 | O32: 819720.23 | P32: 1321735.8
A33: Agriculture | B33: 242254.39 | C33: 256251.14 | D33: 277092.86 | E33: 285623.72 | F33: 353230.06 | G33: 3409614.6 | H33: 3745978.1 | I33: 4053660.6 | J33: 4467516.7 | K33: 6770452.3 | L33: 74160.538 | M33: 95274.519 | N33: 116589.48 | O33: 144435.98 | P33: 327363.53
A34: Developed | B34: 394950.83 | C34: 398197.76 | D34: 379654.98 | E34: 363857.38 | F34: 234000.56 | G34: 2215627.5 | H34: 2519348.6 | I34: 2422358.5 | J34: 2359317.5 | K34: 1672831.6 | L34: 141207.09 | M34: 189529.27 | N34: 195298.16 | O34: 203907.87 | P34: 172304.16
A35: Natural | B35: 710507.86 | C35: 693264.18 | D35: 690965.23 | E35: 698231.98 | F35: 760482.45 | G35: 1533311.1 | H35: 1540748 | I35: 1550355.3 | J35: 1589475.5 | K35: 1791797.4 | L35: 272174.21 | M35: 284546.79 | N35: 302822.71 | O35: 316217.03 | P35: 405403.27
A36: Septic | B36: 78322.106 | C36: 73639.394 | D36: 69861.18 | E36: 66722.472 | F36: 40356.938 | G36: 487820.9 | H36: 615991.7 | I36: 593826.34 | J36: 569416.89 | K36: 361258.94 | L36: 51.685651 | M36: 384.55307 | N36: 96.235752 | O36: 130.37375 | P36: 0
A37: Wastewater | B37: 0 | C37: 0 | D37: 0 | E37: 0 | F37: 0 | G37: 3957541.3 | H37: 1991803.5 | I37: 3543694.3 | J37: 3853084.8 | K37: 8574816.1 | L37: 214868.28 | M37: 84764.114 | N37: 116529.05 | O37: 155028.97 | P37: 416664.88
A38: Grand Total | B38: 1426035.2 | C38: 1421352.5 | D38: 1417574.2 | E38: 1414435.5 | F38: 1388070 | G38: 11603915 | H38: 10413870 | I38: 12163895 | J38: 12838811 | K38: 19171156 | L38: 702461.81 | M38: 654499.25 | N38: 731335.63 | O38: 819720.23 | P38: 1321735.8

Sheet Source - All Agencies MD COG
A1: State | B1: Geography | C1: Sector | D1: LoadSource | E1: Allocation | F1: Agency | G1: Unit | H1: 2025 WIP2_Amount | I1: 2017 Progress V9_Amount | J1: 2009 Progress_Amount | K1: 2005 Progress_Amount | L1: 1985 Progress_Amount | M1: 2025 WIP2_NLoadEOS | N1: 2017 Progress V9_NLoadEOS | O1: 2009 Progress_NLoadEOS | P1: 2005 Progress_NLoadEOS | Q1: 1985 Progress_NLoadEOS | R1: 2025 WIP2_PLoadEOS | S1: 2017 Progress V9_PLoadEOS | T1: 2009 Progress_PLoadEOS | U1: 2005 Progress_PLoadEOS | V1: 1985 Progress_PLoadEOS | W1: 2025 WIP2_SLoadEOS | X1: 2017 Progress V9_SLoadEOS | Y1: 2009 Progress_SLoadEOS | Z1: 2005 Progress_SLoadEOS | AA1: 1985 Progress_SLoadEOS | AB1: 2025 WIP2_NLoadEOT | AC1: 2017 Progress V9_NLoadEOT | AD1: 2009 Progress_NLoadEOT | AE1: 2005 Progress_NLoadEOT | AF1: 1985 Progress_NLoadEOT | AG1: 2025 WIP2_PLoadEOT | AH1: 2017 Progress V9_PLoadEOT | AI1: 2009 Progress_PLoadEOT | AJ1: 2005 Progress_PLoadEOT | AK1: 1985 Progress_PLoadEOT | AL1: 2025 WIP2_SLoadEOT | AM1: 2017 Progress V9_SLoadEOT | AN1: 2009 Progress_SLoadEOT | AO1: 2005 Progress_SLoadEOT | AP1: 1985 Progress_SLoadEOT
A2: MD_COG | B2: Charles, MD | C2: Agriculture | D2: Ag Open Space | E2: Load Allocation | F2: All Agencies | G2: acres | H2: 832.18179 | I2: 567.40863 | J2: 321.96673 | K2: 202.47631 | L2: 180.89144 | M2: 2127.5876 | N2: 1496.014 | O2: 841.07008 | P2: 529.71879 | Q2: 488.95458 | R2: 758.0669 | S2: 533.95967 | T2: 299.91752 | U2: 188.93177 | V2: 175.83023 | W2: 37780.22 | X2: 26265.741 | Y2: 15308.708 | Z2: 9643.4494 | AA2: 9209.0815 | AB2: 1520.339 | AC2: 1072.8787 | AD2: 590.00644 | AE2: 372.12836 | AF2: 342.43342 | AG2: 478.71114 | AH2: 344.02834 | AI2: 188.04434 | AJ2: 118.54318 | AK2: 109.33895 | AL2: 12785.446 | AM2: 9106.995 | AN2: 5284.8019 | AO2: 3329.6563 | AP2: 3117.9158
A3: MD_COG | B3: Charles, MD | C3: Agriculture | D3: Double Cropped Land | E3: Load Allocation | F3: All Agencies | G3: acres | H3: 7391.1145 | I3: 5865.7022 | J3: 3144.1848 | K3: 2618.6118 | L3: 1288.7597 | M3: 109515.35 | N3: 93645.7 | O3: 52851.032 | P3: 53031.746 | Q3: 26362.874 | R3: 6058.7615 | S3: 5460.744 | T3: 3085.8749 | U3: 3209.7187 | V3: 2582.6645 | W3: 8734081.1 | X3: 5787282.9 | Y3: 3588006.9 | Z3: 3004614.3 | AA3: 2217031.1 | AB3: 80030.321 | AC3: 68059.563 | AD3: 38193.325 | AE3: 38380.868 | AF3: 18955.07 | AG3: 4063.5359 | AH3: 3632.7552 | AI3: 2037.8219 | AJ3: 2121.8921 | AK3: 1680.1612 | AL3: 3224792.9 | AM3: 2098662.5 | AN3: 1311363.4 | AO3: 1099451.9 | AP3: 798302.18
A4: MD_COG | B4: Charles, MD | C4: Agriculture | D4: Full Season Soybeans | E4: Load Allocation | F4: All Agencies | G4: acres | H4: 2976.193 | I4: 3953.5104 | J4: 5595.9928 | K4: 7486.0592 | L4: 5412.9588 | M4: 45774.328 | N4: 61528.256 | O4: 89154.561 | P4: 118774.28 | Q4: 88295.168 | R4: 1825.1606 | S4: 2753.1391 | T4: 4404.6896 | U4: 7568.9342 | V4: 9253.7447 | W4: 2904187.9 | X4: 3221391.2 | Y4: 5266740.6 | Z4: 7165233.7 | AA4: 7849549.1 | AB4: 33408.707 | AC4: 44723.732 | AD4: 64428.43 | AE4: 85960.967 | AF4: 63484.773 | AG4: 1222.7123 | AH4: 1831.6342 | AI4: 2908.7288 | AJ4: 5003.6978 | AK4: 6020.0551 | AL4: 1070582 | AM4: 1167961.7 | AN4: 1925034.2 | AO4: 2622083.1 | AP4: 2826615.3
A5: MD_COG | B5: Charles, MD | C5: Agriculture | D5: Grain with Manure | E5: Load Allocation | F5: All Agencies | G5: acres | H5: 2468.4827 | I5: 2478.1981 | J5: 2532.8878 | K5: 2043.2086 | L5: 2792.5025 | M5: 56624.757 | N5: 63618.226 | O5: 68017.819 | P5: 64121.279 | Q5: 90883.553 | R5: 1333.9883 | S5: 1888.9703 | T5: 2058.1417 | U5: 2179.3137 | V5: 5169.0308 | W5: 2212518.6 | X5: 1855253.3 | Y5: 2190267.6 | Z5: 1796822.7 | AA5: 3720591.9 | AB5: 41362.811 | AC5: 46243.107 | AD5: 49153.753 | AE5: 46406.74 | AF5: 65345.836 | AG5: 897.69955 | AH5: 1256.7172 | AI5: 1359.1368 | AJ5: 1440.7083 | AK5: 3362.7305 | AL5: 815314.58 | AM5: 672113.97 | AN5: 799907.44 | AO5: 657004.35 | AP5: 1338724.2
A6: MD_COG | B6: Charles, MD | C6: Agriculture | D6: Grain without Manure | E6: Load Allocation | F6: All Agencies | G6: acres | H6: 6433.5626 | I6: 6531.1935 | J6: 6382.1234 | K6: 4968.9861 | L6: 4916.6673 | M6: 118595.7 | N6: 129909.39 | O6: 127287.47 | P6: 112805.32 | Q6: 117357.85 | R6: 3886.6829 | S6: 4523.5636 | T6: 5018.5602 | U6: 5080.3934 | V6: 8458.6965 | W6: 5766593.1 | X6: 4889507.2 | Y6: 5518863.1 | Z6: 4369819.6 | AA6: 6550771.9 | AB6: 86592.931 | AC6: 94428.93 | AD6: 91985.558 | AE6: 81641.029 | AF6: 84381.019 | AG6: 2604.0456 | AH6: 3009.4859 | AI6: 3314.111 | AJ6: 3358.5644 | AK6: 5502.8339 | AL6: 2124896.6 | AM6: 1771355.7 | AN6: 2015543.5 | AO6: 1597815 | AP6: 2357065.1
A7: MD_COG | B7: Charles, MD | C7: Agriculture | D7: Legume Hay | E7: Load Allocation | F7: All Agencies | G7: acres | H7: 533.52896 | I7: 486.23156 | J7: 471.22377 | K7: 544.01732 | L7: 330.30703 | M7: 2904.0199 | N7: 2685.537 | O7: 2503.6961 | P7: 2924.3745 | Q7: 1860.3963 | R7: 122.51156 | S7: 113.9487 | T7: 143.61283 | U7: 250.6151 | V7: 344.69153 | W7: 78668.996 | X7: 73270.234 | Y7: 71977.013 | Z7: 83201.471 | AA7: 80273.904 | AB7: 2042.7673 | AC7: 1891.1565 | AD7: 1756.33 | AE7: 2054.3773 | AF7: 1302.9056 | AG7: 76.801829 | AH7: 71.469482 | AI7: 90.043352 | AJ7: 157.2457 | AK7: 214.34429 | AL7: 26922.641 | AM7: 25136.876 | AN7: 24967.081 | AO7: 28858.586 | AP7: 27272.772
A8: MD_COG | B8: Charles, MD | C8: Agriculture | D8: Non-Permitted Feeding Space | E8: Load Allocation | F8: All Agencies | G8: acres | H8: 14.912804 | I8: 16.103844 | J8: 17.526666 | K8: 18.904557 | L8: 29.312524 | M8: 347.32587 | N8: 1724.5182 | O8: 2820.1653 | P8: 3096.3 | Q8: 7958.2133 | R8: 23.535915 | S8: 117.1262 | T8: 183.46007 | U8: 198.7229 | V8: 608.1902 | W8: 15398.616 | X8: 20730.85 | Y8: 23207.988 | Z8: 27062.104 | AA8: 51615.856 | AB8: 250.36166 | AC8: 1242.7029 | AD8: 2030.4689 | AE8: 2227.3686 | AF8: 5664.9508 | AG8: 15.32011 | AH8: 76.219655 | AI8: 119.33719 | AJ8: 129.21582 | AK8: 391.54481 | AL8: 5457.6637 | AM8: 7351.7661 | AN8: 8259.8419 | AO8: 9651.9815 | AP8: 18308.41
A9: MD_COG | B9: Charles, MD | C9: Agriculture | D9: Other Agronomic Crops | E9: Load Allocation | F9: All Agencies | G9: acres | H9: 0 | I9: 754.09977 | J9: 3422.2713 | K9: 3325.513 | L9: 12871.676 | M9: 0 | N9: 7132.4432 | O9: 35185.218 | P9: 35600.404 | Q9: 161515.62 | R9: 0 | S9: 741.8335 | T9: 3901.7937 | U9: 3916.4474 | V9: 23974.347 | W9: 0 | X9: 86633.072 | Y9: 608700.84 | Z9: 716016.58 | AA9: 5295949.9 | AB9: 0 | AC9: 5185.6452 | AD9: 25426.947 | AE9: 25765.216 | AF9: 116130.73 | AG9: 0 | AH9: 493.64767 | AI9: 2576.631 | AJ9: 2589.0989 | AK9: 15596.593 | AL9: 0 | AM9: 31398.178 | AN9: 222448.61 | AO9: 261980.19 | AP9: 1906766.8
A10: MD_COG | B10: Charles, MD | C10: Agriculture | D10: Other Hay | E10: Load Allocation | F10: All Agencies | G10: acres | H10: 5946.7526 | I10: 5557.4758 | J10: 5733.2041 | K10: 6216.7264 | L10: 3839.3031 | M10: 42541.143 | N10: 40241.276 | O10: 41171.346 | P10: 46615.407 | Q10: 29223.163 | R10: 2356.3992 | S10: 2221.466 | T10: 2747.9051 | U10: 3204.1968 | V10: 2264.7176 | W10: 256907.8 | X10: 244646.08 | Y10: 255797.25 | Z10: 277723.16 | AA10: 191460.76 | AB10: 29925.686 | AC10: 28337.607 | AD10: 28881.488 | AE10: 32747.392 | AF10: 20466.083 | AG10: 1477.3404 | AH10: 1393.3388 | AI10: 1722.9003 | AJ10: 2010.4382 | AK10: 1408.3006 | AL10: 87894.057 | AM10: 83893.23 | AN10: 88685.796 | AO10: 96281.191 | AP10: 65017.14
A11: MD_COG | B11: Charles, MD | C11: Agriculture | D11: Pasture | E11: Load Allocation | F11: All Agencies | G11: acres | H11: 3534.845 | I11: 4814.3599 | J11: 6363.147 | K11: 6873.7863 | L11: 7124.7064 | M11: 22821.984 | N11: 31056.876 | O11: 40503.524 | P11: 44520.743 | Q11: 50904.269 | R11: 2531.0243 | S11: 3371.5213 | T11: 4567.8669 | U11: 5343.3127 | V11: 6619.881 | W11: 251772.29 | X11: 363154.24 | Y11: 492831.01 | Z11: 544347.48 | AA11: 631594.78 | AB11: 16062.65 | AC11: 21877.048 | AD11: 28413.831 | AE11: 31276.632 | AF11: 35650.179 | AG11: 1588.0226 | AH11: 2115.136 | AI11: 2863.9873 | AJ11: 3352.5979 | AK11: 4116.5318 | AL11: 86725.128 | AM11: 125172.24 | AN11: 171726.01 | AO11: 189696.75 | AP11: 215770.79
A12: MD_COG | B12: Charles, MD | C12: Agriculture | D12: Permitted Feeding Space | E12: Waste Load Allocation | F12: All Agencies | G12: acres | H12: 0 | I12: 0 | J12: 0 | K12: 0 | L12: 0 | M12: 0 | N12: 0 | O12: 0 | P12: 0 | Q12: 0 | R12: 0 | S12: 0 | T12: 0 | U12: 0 | V12: 0 | W12: 0 | X12: 0 | Y12: 0 | Z12: 0 | AA12: 0 | AB12: 0 | AC12: 0 | AD12: 0 | AE12: 0 | AF12: 0 | AG12: 0 | AH12: 0 | AI12: 0 | AJ12: 0 | AK12: 0 | AL12: 0 | AM12: 0 | AN12: 0 | AO12: 0 | AP12: 0
A13: MD_COG | B13: Charles, MD | C13: Agriculture | D13: Riparian Pasture Deposition | E13: Load Allocation | F13: All Agencies | G13: acres | H13: 0 | I13: 0 | J13: 0 | K13: 0 | L13: 0 | M13: 4383.3148 | N13: 7121.4062 | O13: 8479.0419 | P13: 9681.775 | Q13: 12904.898 | R13: 1386.2158 | S13: 2255.072 | T13: 2674.1398 | U13: 3052.9267 | V13: 4050.4898 | W13: 670592.36 | X13: 1089486.1 | Y13: 1297187.4 | Z13: 1481190.5 | AA13: 1974288.1 | AB13: 3170.0183 | AC13: 5140.3181 | AD13: 6115.0506 | AE13: 6976.6503 | AF13: 9205.9281 | AG13: 891.04316 | AH13: 1437.0204 | AI13: 1703.6968 | AJ13: 1944.424 | AK13: 2555.6423 | AL13: 238606.57 | AM13: 384132.71 | AN13: 459119.84 | AO13: 525527.71 | AP13: 698522.89
... A197: MD_COG | B197: Prince Georges, MD | C197: Wastewater | D197: Municipal Wastewater Treatment Plant | E197: Waste Load Allocation | F197: All Agencies | G197: acres | H197: 0 | I197: 0 | J197: 0 | K197: 0 | L197: 0 | M197: 1768276.2 | N197: 815873.29 | O197: 1653356.2 | P197: 1391967.5 | Q197: 3984283.6 | R197: 96096.506 | S197: 33983.228 | T197: 48037.925 | U197: 66512.177 | V197: 211139.26 | W197: 8346495.2 | X197: 405334.1 | Y197: 471059.23 | Z197: 644784.05 | AA197: 782617.72 | AB197: 1689619.5 | AC197: 786568.36 | AD197: 1589708.2 | AE197: 1348101.7 | AF197: 3812898.2 | AG197: 87349.816 | AH197: 32194.248 | AI197: 40219.894 | AJ197: 60779.044 | AK197: 167354.26 | AL197: 4143412 | AM197: 237878.77 | AN197: 213028.67 | AO197: 388595.89 | AP197: 436418.77

Sheet Pivot DC
A3: Row Labels | B3: Sum of 2025 WIP2_Amount | C3: Sum of 2017 Progress V9_Amount | D3: Sum of 2009 Progress_Amount | E3: Sum of 2005 Progress_Amount | F3: Sum of 1985 Progress_Amount | G3: Sum of 2025 WIP2_NLoadEOT | H3: Sum of 2017 Progress V9_NLoadEOT | I3: Sum of 2009 Progress_NLoadEOT | J3: Sum of 2005 Progress_NLoadEOT | K3: Sum of 1985 Progress_NLoadEOT | L3: Sum of 2025 WIP2_PLoadEOT | M3: Sum of 2017 Progress V9_PLoadEOT | N3: Sum of 2009 Progress_PLoadEOT | O3: Sum of 2005 Progress_PLoadEOT | P3: Sum of 1985 Progress_PLoadEOT
A4: Washington, DC | B4: 39810.81 | C4: 39810.809 | D4: 39813.767 | E4: 39825.959 | F4: 39843.213 | G4: 2432189.4 | H4: 1544636.8 | I4: 2764791.4 | J4: 2700843 | K4: 6480155.4 | L4: 140954.05 | M4: 76178.326 | N4: 72272.239 | O4: 106671.08 | P4: 89609.452
A5: Agriculture | B5: 0 | C5: 0 | D5: 0 | E5: 0 | F5: 0 | G5: 0 | H5: 0 | I5: 0 | J5: 0 | K5: 0 | L5: 0 | M5: 0 | N5: 0 | O5: 0 | P5: 0
A6: Developed | B6: 32611.239 | C6: 32535.669 | D6: 31311.918 | E6: 30355.019 | F6: 29357.71 | G6: 165489.99 | H6: 163142.28 | I6: 173098.49 | J6: 170702.91 | K6: 164429.15 | L6: 14830.785 | M6: 13088.555 | N6: 14959.18 | O6: 15106.059 | P6: 13515.384
A7: Natural | B7: 7167.5706 | C7: 7243.1405 | D7: 8466.8919 | E7: 9423.7907 | F7: 10421.099 | G7: 19989.642 | H7: 22479.364 | I7: 23775.781 | J7: 24187.692 | K7: 26114.325 | L7: 2241.9842 | M7: 3819.625 | N7: 4060.0524 | O7: 4359.1825 | P7: 4160.8117
A8: Septic | B8: 32 | C8: 32 | D8: 34.956943 | E8: 47.149396 | F8: 64.402783 | G8: 173.22532 | H8: 173.22532 | I8: 193.8359 | J8: 269.36715 | K8: 405.69806 | L8: 0 | M8: 0 | N8: 0 | O8: 0 | P8: 0
A9: Wastewater | B9: 0 | C9: 0 | D9: 0 | E9: 0 | F9: 0 | G9: 2246536.5 | H9: 1358842 | I9: 2567723.3 | J9: 2505683 | K9: 6289206.2 | L9: 123881.28 | M9: 59270.146 | N9: 53253.006 | O9: 87205.84 | P9: 71933.257
A10: Grand Total | B10: 39810.81 | C10: 39810.809 | D10: 39813.767 | E10: 39825.959 | F10: 39843.213 | G10: 2432189.4 | H10: 1544636.8 | I10: 2764791.4 | J10: 2700843 | K10: 6480155.4 | L10: 140954.05 | M10: 76178.326 | N10: 72272.239 | O10: 106671.08 | P10: 89609.452

Sheet Source - All Agencies DC
A1: Geography | B1: Sector | C1: LoadSource | D1: Allocation | E1: Agency | F1: Unit | G1: 2025 WIP2_Amount | H1: 2017 Progress V9_Amount | I1: 2009 Progress_Amount | J1: 2005 Progress_Amount | K1: 1985 Progress_Amount | L1: 2025 WIP2_NLoadEOS | M1: 2017 Progress V9_NLoadEOS | N1: 2009 Progress_NLoadEOS | O1: 2005 Progress_NLoadEOS | P1: 1985 Progress_NLoadEOS | Q1: 2025 WIP2_PLoadEOS | R1: 2017 Progress V9_PLoadEOS | S1: 2009 Progress_PLoadEOS | T1: 2005 Progress_PLoadEOS | U1: 1985 Progress_PLoadEOS | V1: 2025 WIP2_SLoadEOS | W1: 2017 Progress V9_SLoadEOS | X1: 2009 Progress_SLoadEOS | Y1: 2005 Progress_SLoadEOS | Z1: 1985 Progress_SLoadEOS | AA1: 2025 WIP2_NLoadEOT | AB1: 2017 Progress V9_NLoadEOT | AC1: 2009 Progress_NLoadEOT | AD1: 2005 Progress_NLoadEOT | AE1: 1985 Progress_NLoadEOT | AF1: 2025 WIP2_PLoadEOT | AG1: 2017 Progress V9_PLoadEOT | AH1: 2009 Progress_PLoadEOT | AI1: 2005 Progress_PLoadEOT | AJ1: 1985 Progress_PLoadEOT | AK1: 2025 WIP2_SLoadEOT | AL1: 2017 Progress V9_SLoadEOT | AM1: 2009 Progress_SLoadEOT | AN1: 2005 Progress_SLoadEOT | AO1: 1985 Progress_SLoadEOT
A2: Washington, DC | B2: Agriculture | C2: Ag Open Space | D2: Load Allocation | E2: All Agencies | F2: acres | G2: 0 | H2: 0 | I2: 0 | J2: 0 | K2: 0 | L2: 0 | M2: 0 | N2: 0 | O2: 0 | P2: 0 | Q2: 0 | R2: 0 | S2: 0 | T2: 0 | U2: 0 | V2: 0 | W2: 0 | X2: 0 | Y2: 0 | Z2: 0 | AA2: 0 | AB2: 0 | AC2: 0 | AD2: 0 | AE2: 0 | AF2: 0 | AG2: 0 | AH2: 0 | AI2: 0 | AJ2: 0 | AK2: 0 | AL2: 0 | AM2: 0 | AN2: 0 | AO2: 0
A3: Washington, DC | B3: Agriculture | C3: Double Cropped Land | D3: Load Allocation | E3: All Agencies | F3: acres | G3: 0 | H3: 0 | I3: 0 | J3: 0 | K3: 0 | L3: 0 | M3: 0 | N3: 0 | O3: 0 | P3: 0 | Q3: 0 | R3: 0 | S3: 0 | T3: 0 | U3: 0 | V3: 0 | W3: 0 | X3: 0 | Y3: 0 | Z3: 0 | AA3: 0 | AB3: 0 | AC3: 0 | AD3: 0 | AE3: 0 | AF3: 0 | AG3: 0 | AH3: 0 | AI3: 0 | AJ3: 0 | AK3: 0 | AL3: 0 | AM3: 0 | AN3: 0 | AO3: 0
A4: Washington, DC | B4: Agriculture | C4: Full Season Soybeans | D4: Load Allocation | E4: All Agencies | F4: acres | G4: 0 | H4: 0 | I4: 0 | J4: 0 | K4: 0 | L4: 0 | M4: 0 | N4: 0 | O4: 0 | P4: 0 | Q4: 0 | R4: 0 | S4: 0 | T4: 0 | U4: 0 | V4: 0 | W4: 0 | X4: 0 | Y4: 0 | Z4: 0 | AA4: 0 | AB4: 0 | AC4: 0 | AD4: 0 | AE4: 0 | AF4: 0 | AG4: 0 | AH4: 0 | AI4: 0 | AJ4: 0 | AK4: 0 | AL4: 0 | AM4: 0 | AN4: 0 | AO4: 0
A5: Washington, DC | B5: Agriculture | C5: Grain with Manure | D5: Load Allocation | E5: All Agencies | F5: acres | G5: 0 | H5: 0 | I5: 0 | J5: 0 | K5: 0 | L5: 0 | M5: 0 | N5: 0 | O5: 0 | P5: 0 | Q5: 0 | R5: 0 | S5: 0 | T5: 0 | U5: 0 | V5: 0 | W5: 0 | X5: 0 | Y5: 0 | Z5: 0 | AA5: 0 | AB5: 0 | AC5: 0 | AD5: 0 | AE5: 0 | AF5: 0 | AG5: 0 | AH5: 0 | AI5: 0 | AJ5: 0 | AK5: 0 | AL5: 0 | AM5: 0 | AN5: 0 | AO5: 0
A6: Washington, DC | B6: Agriculture | C6: Grain without Manure | D6: Load Allocation | E6: All Agencies | F6: acres | G6: 0 | H6: 0 | I6: 0 | J6: 0 | K6: 0 | L6: 0 | M6: 0 | N6: 0 | O6: 0 | P6: 0 | Q6: 0 | R6: 0 | S6: 0 | T6: 0 | U6: 0 | V6: 0 | W6: 0 | X6: 0 | Y6: 0 | Z6: 0 | AA6: 0 | AB6: 0 | AC6: 0 | AD6: 0 | AE6: 0 | AF6: 0 | AG6: 0 | AH6: 0 | AI6: 0 | AJ6: 0 | AK6: 0 | AL6: 0 | AM6: 0 | AN6: 0 | AO6: 0
A7: Washington, DC | B7: Agriculture | C7: Legume Hay | D7: Load Allocation | E7: All Agencies | F7: acres | G7: 0 | H7: 0 | I7: 0 | J7: 0 | K7: 0 | L7: 0 | M7: 0 | N7: 0 | O7: 0 | P7: 0 | Q7: 0 | R7: 0 | S7: 0 | T7: 0 | U7: 0 | V7: 0 | W7: 0 | X7: 0 | Y7: 0 | Z7: 0 | AA7: 0 | AB7: 0 | AC7: 0 | AD7: 0 | AE7: 0 | AF7: 0 | AG7: 0 | AH7: 0 | AI7: 0 | AJ7: 0 | AK7: 0 | AL7: 0 | AM7: 0 | AN7: 0 | AO7: 0
A8: Washington, DC | B8: Agriculture | C8: Non-Permitted Feeding Space | D8: Load Allocation | E8: All Agencies | F8: acres | G8: 0 | H8: 0 | I8: 0 | J8: 0 | K8: 0 | L8: 0 | M8: 0 | N8: 0 | O8: 0 | P8: 0 | Q8: 0 | R8: 0 | S8: 0 | T8: 0 | U8: 0 | V8: 0 | W8: 0 | X8: 0 | Y8: 0 | Z8: 0 | AA8: 0 | AB8: 0 | AC8: 0 | AD8: 0 | AE8: 0 | AF8: 0 | AG8: 0 | AH8: 0 | AI8: 0 | AJ8: 0 | AK8: 0 | AL8: 0 | AM8: 0 | AN8: 0 | AO8: 0
A9: Washington, DC | B9: Agriculture | C9: Other Agronomic Crops | D9: Load Allocation | E9: All Agencies | F9: acres | G9: 0 | H9: 0 | I9: 0 | J9: 0 | K9: 0 | L9: 0 | M9: 0 | N9: 0 | O9: 0 | P9: 0 | Q9: 0 | R9: 0 | S9: 0 | T9: 0 | U9: 0 | V9: 0 | W9: 0 | X9: 0 | Y9: 0 | Z9: 0 | AA9: 0 | AB9: 0 | AC9: 0 | AD9: 0 | AE9: 0 | AF9: 0 | AG9: 0 | AH9: 0 | AI9: 0 | AJ9: 0 | AK9: 0 | AL9: 0 | AM9: 0 | AN9: 0 | AO9: 0
A10: Washington, DC | B10: Agriculture | C10: Other Hay | D10: Load Allocation | E10: All Agencies | F10: acres | G10: 0 | H10: 0 | I10: 0 | J10: 0 | K10: 0 | L10: 0 | M10: 0 | N10: 0 | O10: 0 | P10: 0 | Q10: 0 | R10: 0 | S10: 0 | T10: 0 | U10: 0 | V10: 0 | W10: 0 | X10: 0 | Y10: 0 | Z10: 0 | AA10: 0 | AB10: 0 | AC10: 0 | AD10: 0 | AE10: 0 | AF10: 0 | AG10: 0 | AH10: 0 | AI10: 0 | AJ10: 0 | AK10: 0 | AL10: 0 | AM10: 0 | AN10: 0 | AO10: 0
A11: Washington, DC | B11: Agriculture | C11: Pasture | D11: Load Allocation | E11: All Agencies | F11: acres | G11: 0 | H11: 0 | I11: 0 | J11: 0 | K11: 0 | L11: 0 | M11: 0 | N11: 0 | O11: 0 | P11: 0 | Q11: 0 | R11: 0 | S11: 0 | T11: 0 | U11: 0 | V11: 0 | W11: 0 | X11: 0 | Y11: 0 | Z11: 0 | AA11: 0 | AB11: 0 | AC11: 0 | AD11: 0 | AE11: 0 | AF11: 0 | AG11: 0 | AH11: 0 | AI11: 0 | AJ11: 0 | AK11: 0 | AL11: 0 | AM11: 0 | AN11: 0 | AO11: 0
A12: Washington, DC | B12: Agriculture | C12: Permitted Feeding Space | D12: Waste Load Allocation | E12: All Agencies | F12: acres | G12: 0 | H12: 0 | I12: 0 | J12: 0 | K12: 0 | L12: 0 | M12: 0 | N12: 0 | O12: 0 | P12: 0 | Q12: 0 | R12: 0 | S12: 0 | T12: 0 | U12: 0 | V12: 0 | W12: 0 | X12: 0 | Y12: 0 | Z12: 0 | AA12: 0 | AB12: 0 | AC12: 0 | AD12: 0 | AE12: 0 | AF12: 0 | AG12: 0 | AH12: 0 | AI12: 0 | AJ12: 0 | AK12: 0 | AL12: 0 | AM12: 0 | AN12: 0 | AO12: 0
A13: Washington, DC | B13: Agriculture | C13: Riparian Pasture Deposition | D13: Load Allocation | E13: All Agencies | F13: acres | G13: 0 | H13: 0 | I13: 0 | J13: 0 | K13: 0 | L13: 0 | M13: 0 | N13: 0 | O13: 0 | P13: 0 | Q13: 0 | R13: 0 | S13: 0 | T13: 0 | U13: 0 | V13: 0 | W13: 0 | X13: 0 | Y13: 0 | Z13: 0 | AA13: 0 | AB13: 0 | AC13: 0 | AD13: 0 | AE13: 0 | AF13: 0 | AG13: 0 | AH13: 0 | AI13: 0 | AJ13: 0 | AK13: 0 | AL13: 0 | AM13: 0 | AN13: 0 | AO13: 0
... A50: Washington, DC | B50: Wastewater | C50: Municipal Wastewater Treatment Plant | D50: Waste Load Allocation | E50: All Agencies | F50: acres | G50: 0 | H50: 0 | I50: 0 | J50: 0 | K50: 0 | L50: 2153558.3 | M50: 1270540.9 | N50: 2456538.1 | O50: 2394497.8 | P50: 6179427.5 | Q50: 104607.83 | R50: 40645.741 | S50: 32552.914 | T50: 66505.748 | U50: 51406.022 | V50: 4258591.5 | W50: 413260.78 | X50: 641798.8 | Y50: 1791293.5 | Z50: 752042.3 | AA50: 2153558.3 | AB50: 1270540.9 | AC50: 2456538.1 | AD50: 2394497.8 | AE50: 6179427.5 | AF50: 104607.83 | AG50: 40645.741 | AH50: 32552.914 | AI50: 66505.748 | AJ50: 51406.022 | AK50: 4258591.5 | AL50: 413260.78 | AM50: 641798.8 | AN50: 1791293.5 | AO50: 752042.3

Sheet Pivot CB
A3: Row Labels | B3: Sum of 2025 WIP2_Amount | C3: Sum of 2017 Progress V9_Amount | D3: Sum of 2009 Progress_Amount | E3: Sum of 2005 Progress_Amount | F3: Sum of 1985 Progress_Amount | G3: Sum of 2025 WIP2_NLoadEOT | H3: Sum of 2017 Progress V9_NLoadEOT | I3: Sum of 2009 Progress_NLoadEOT | J3: Sum of 2005 Progress_NLoadEOT | K3: Sum of 1985 Progress_NLoadEOT | L3: Sum of 2025 WIP2_PLoadEOT | M3: Sum of 2017 Progress V9_PLoadEOT | N3: Sum of 2009 Progress_PLoadEOT | O3: Sum of 2005 Progress_PLoadEOT | P3: Sum of 1985 Progress_PLoadEOT
A4: Chesapeake Bay Watershed | B4: 41960716 | C4: 42084394 | D4: 42015541 | E4: 41950882 | F4: 41585920 | G4: 1.9558598e+08 | H4: 2.4978287e+08 | I4: 2.7090896e+08 | J4: 2.8132356e+08 | K4: 3.3122836e+08 | L4: 13083896 | M4: 14843751 | N4: 17073741 | O4: 18604962 | P4: 29272771
A5: Agriculture | B5: 7788105.7 | C5: 8338484.5 | D5: 8598163.5 | E5: 8758065.6 | F5: 9658865.1 | G5: 73120903 | H5: 1.2010248e+08 | I5: 1.2267305e+08 | J5: 1.3060557e+08 | K5: 1.5628408e+08 | L5: 2509665.4 | M5: 4131962.6 | N5: 4453680.7 | O5: 5029055.7 | P5: 7594014.3
A6: Developed | B6: 5503925 | C6: 5432955.5 | D6: 5157202.3 | E6: 4942817 | F6: 3548743.7 | G6: 30010973 | H6: 39584775 | I6: 37917917 | J6: 36815256 | K6: 27360634 | L6: 2073898.5 | M6: 2609638 | N6: 2545072.6 | O6: 2506834.7 | P6: 1786751.8
A7: Natural | B7: 27361468 | C7: 26882058 | D7: 26898133 | E7: 26952616 | F7: 27445890 | G7: 43369025 | H7: 45682828 | I7: 46166070 | J7: 46724249 | K7: 48529035 | L7: 5247432 | M7: 5697901.4 | N7: 5946942.8 | O7: 6194555.8 | P7: 7091089
A8: Septic | B8: 1307217.1 | C8: 1430895.3 | D8: 1362042.5 | E8: 1297383.8 | F8: 932421.44 | G8: 6288578.5 | H8: 7835601.9 | I8: 7562097.6 | J8: 7226368.4 | K8: 5451390.7 | L8: 1857.7325 | M8: 2167.1142 | N8: 2102.0489 | O8: 1875.9257 | P8: 1574.0711
A9: Wastewater | B9: 0 | C9: 0 | D9: 0 | E9: 0 | F9: 0 | G9: 42796497 | H9: 36577186 | I9: 56589825 | J9: 59952119 | K9: 93603223 | L9: 3251042.8 | M9: 2402081.8 | N9: 4125943 | O9: 4872640.2 | P9: 12799342
A10: Grand Total | B10: 41960716 | C10: 42084394 | D10: 42015541 | E10: 41950882 | F10: 41585920 | G10: 1.9558598e+08 | H10: 2.4978287e+08 | I10: 2.7090896e+08 | J10: 2.8132356e+08 | K10: 3.3122836e+08 | L10: 13083896 | M10: 14843751 | N10: 17073741 | O10: 18604962 | P10: 29272771

Sheet Source - All Agencies CB
A1: Geography | B1: Sector | C1: LoadSource | D1: Allocation | E1: Agency | F1: Unit | G1: 2025 WIP2_Amount | H1: 2017 Progress V9_Amount | I1: 2009 Progress_Amount | J1: 2005 Progress_Amount | K1: 1985 Progress_Amount | L1: 2025 WIP2_NLoadEOS | M1: 2017 Progress V9_NLoadEOS | N1: 2009 Progress_NLoadEOS | O1: 2005 Progress_NLoadEOS | P1: 1985 Progress_NLoadEOS | Q1: 2025 WIP2_PLoadEOS | R1: 2017 Progress V9_PLoadEOS | S1: 2009 Progress_PLoadEOS | T1: 2005 Progress_PLoadEOS | U1: 1985 Progress_PLoadEOS | V1: 2025 WIP2_SLoadEOS | W1: 2017 Progress V9_SLoadEOS | X1: 2009 Progress_SLoadEOS | Y1: 2005 Progress_SLoadEOS | Z1: 1985 Progress_SLoadEOS | AA1: 2025 WIP2_NLoadEOT | AB1: 2017 Progress V9_NLoadEOT | AC1: 2009 Progress_NLoadEOT | AD1: 2005 Progress_NLoadEOT | AE1: 1985 Progress_NLoadEOT | AF1: 2025 WIP2_PLoadEOT | AG1: 2017 Progress V9_PLoadEOT | AH1: 2009 Progress_PLoadEOT | AI1: 2005 Progress_PLoadEOT | AJ1: 1985 Progress_PLoadEOT | AK1: 2025 WIP2_SLoadEOT | AL1: 2017 Progress V9_SLoadEOT | AM1: 2009 Progress_SLoadEOT | AN1: 2005 Progress_SLoadEOT | AO1: 1985 Progress_SLoadEOT
A2: Chesapeake Bay Watershed | B2: Agriculture | C2: Ag Open Space | D2: Load Allocation | E2: All Agencies | F2: acres | G2: 913171.09 | H2: 273979.45 | I2: 204991.91 | J2: 181499.2 | K2: 90420.516 | L2: 3471935 | M2: 1002370.5 | N2: 751795.5 | O2: 673911.64 | P2: 336035.33 | Q2: 724196.17 | R2: 241870.43 | S2: 181425.67 | T2: 161533.79 | U2: 79855.363 | V2: 31191634 | W2: 10380379 | X2: 7795837.4 | Y2: 6707033.5 | Z2: 3723653.9 | AA2: 2133678.2 | AB2: 562884.13 | AC2: 418783.6 | AD2: 370630.06 | AE2: 188871.88 | AF2: 330500.5 | AG2: 106080.85 | AH2: 77351.324 | AI2: 69504.326 | AJ2: 36891.099 | AK2: 9807615.6 | AL2: 3193465 | AM2: 2316313.2 | AN2: 1946479 | AO2: 1195076.9
A3: Chesapeake Bay Watershed | B3: Agriculture | C3: Double Cropped Land | D3: Load Allocation | E3: All Agencies | F3: acres | G3: 606257 | H3: 645739.72 | I3: 549115.06 | J3: 582729.62 | K3: 205886.66 | L3: 12495965 | M3: 17334911 | N3: 14218467 | O3: 16105472 | P3: 5723087.3 | Q3: 246810 | R3: 405366.67 | S3: 386158.38 | T3: 507075.9 | U3: 259910.68 | V3: 3.1146078e+08 | W3: 4.2511559e+08 | X3: 4.3039337e+08 | Y3: 5.0155512e+08 | Z3: 1.4443656e+08 | AA3: 8569757.3 | AB3: 11860664 | AC3: 9773556.6 | AD3: 10909728 | AE3: 4121689.1 | AF3: 146756.11 | AG3: 226703.93 | AH3: 213246.01 | AI3: 274341.65 | AJ3: 171951.61 | AK3: 99392487 | AL3: 1.2417173e+08 | AM3: 1.2382311e+08 | AN3: 1.4116652e+08 | AO3: 36279547
A4: Chesapeake Bay Watershed | B4: Agriculture | C4: Full Season Soybeans | D4: Load Allocation | E4: All Agencies | F4: acres | G4: 673852.37 | H4: 756819.61 | I4: 674634.89 | J4: 646729.34 | K4: 650030.08 | L4: 13260917 | M4: 17960184 | N4: 15782634 | O4: 15086633 | P4: 15255350 | Q4: 264197.33 | R4: 412775.37 | S4: 427208.31 | T4: 488008.55 | U4: 761854.18 | V4: 5.5782278e+08 | W4: 6.7884814e+08 | X4: 6.5808408e+08 | Y4: 5.9844521e+08 | Z4: 5.6699586e+08 | AA4: 9061771.7 | AB4: 12369253 | AC4: 11041428 | AD4: 10653380 | AE4: 10882956 | AF4: 145947.46 | AG4: 223285.63 | AH4: 237231.28 | AI4: 281675.23 | AJ4: 490557.65 | AK4: 1.7156755e+08 | AL4: 2.0540451e+08 | AM4: 1.9646721e+08 | AN4: 1.7930024e+08 | AO4: 1.5869899e+08
A5: Chesapeake Bay Watershed | B5: Agriculture | C5: Grain with Manure | D5: Load Allocation | E5: All Agencies | F5: acres | G5: 516435.82 | H5: 655774.78 | I5: 690279.56 | J5: 647370.51 | K5: 698311.14 | L5: 18060938 | M5: 32544498 | N5: 32232993 | O5: 32694976 | P5: 37234945 | Q5: 244380.51 | R5: 503420.59 | S5: 596326.32 | T5: 633913.55 | U5: 997637.92 | V5: 3.476292e+08 | W5: 6.2419929e+08 | X5: 8.0562563e+08 | Y5: 7.5787656e+08 | Z5: 1.0949068e+09 | AA5: 12283464 | AB5: 22101061 | AC5: 21975106 | AD5: 22406047 | AE5: 25177579 | AF5: 138253.61 | AG5: 267855.07 | AH5: 313635.85 | AI5: 339865.55 | AJ5: 531042.57 | AK5: 1.0312914e+08 | AL5: 1.8745506e+08 | AM5: 2.4069213e+08 | AN5: 2.2708586e+08 | AO5: 3.2899153e+08
A6: Chesapeake Bay Watershed | B6: Agriculture | C6: Grain without Manure | D6: Load Allocation | E6: All Agencies | F6: acres | G6: 533769.36 | H6: 696168.9 | I6: 749616.31 | J6: 699957.71 | K6: 886221.71 | L6: 12540841 | M6: 22279081 | N6: 22581418 | O6: 23428205 | P6: 30777595 | Q6: 205132.79 | R6: 383289.35 | S6: 478391.11 | T6: 527361.22 | U6: 1082565.9 | V6: 4.3040201e+08 | W6: 7.3880127e+08 | X6: 9.1013523e+08 | Y6: 8.5845312e+08 | Z6: 1.4012666e+09 | AA6: 8350559.8 | AB6: 14960852 | AC6: 15301135 | AD6: 15980936 | AE6: 20981653 | AF6: 108871.95 | AG6: 190009.36 | AH6: 239266.05 | AI6: 269719.21 | AJ6: 565642.82 | AK6: 1.2126697e+08 | AL6: 2.017552e+08 | AM6: 2.5292935e+08 | AN6: 2.3986075e+08 | AO6: 4.0355141e+08
A7: Chesapeake Bay Watershed | B7: Agriculture | C7: Legume Hay | D7: Load Allocation | E7: All Agencies | F7: acres | G7: 509373.79 | H7: 593686.35 | I7: 670261.65 | J7: 771975.68 | K7: 836980.18 | L7: 3590518.3 | M7: 4528888.6 | N7: 5135334.8 | O7: 6041201.3 | P7: 7262788.4 | Q7: 185878.6 | R7: 242125.32 | S7: 208508.46 | T7: 394484.46 | U7: 862471.39 | V7: 59126757 | W7: 76659658 | X7: 86555784 | Y7: 1.0255747e+08 | Z7: 1.2531931e+08 | AA7: 2240697.4 | AB7: 2803074.7 | AC7: 3144571.5 | AD7: 3685982.7 | AE7: 4465745.8 | AF7: 68980.001 | AG7: 92271.08 | AH7: 78177.435 | AI7: 152881.07 | AJ7: 353340.31 | AK7: 14708656 | AL7: 19468236 | AM7: 22158498 | AN7: 26493279 | AO7: 32551426
A8: Chesapeake Bay Watershed | B8: Agriculture | C8: Non-Permitted Feeding Space | D8: Load Allocation | E8: All Agencies | F8: acres | G8: 9177.1715 | H8: 9280.4135 | I8: 10027.717 | J8: 10129.16 | K8: 9822.9086 | L8: 3634431.6 | M8: 11568485 | N8: 15083356 | O8: 16440776 | P8: 19456660 | Q8: 117310.44 | R8: 406305.56 | S8: 523520.47 | T8: 566016.76 | U8: 697932.57 | V8: 58438731 | W8: 67954593 | X8: 91399502 | Y8: 94589160 | Z8: 89159561 | AA8: 2186659.2 | AB8: 7581529.4 | AC8: 9746905.8 | AD8: 10563283 | AE8: 12048045 | AF8: 54211.869 | AG8: 190978.08 | AH8: 246814.4 | AI8: 265876.08 | AJ8: 332695.8 | AK8: 21325354 | AL8: 25185659 | AM8: 36383587 | AN8: 37528767 | AO8: 34976704
A9: Chesapeake Bay Watershed | B9: Agriculture | C9: Other Agronomic Crops | D9: Load Allocation | E9: All Agencies | F9: acres | G9: 475131.04 | H9: 573491.38 | I9: 549986.74 | J9: 536769.38 | K9: 624159.49 | L9: 5325132.6 | M9: 8378630.9 | N9: 8239725.5 | O9: 8345330.3 | P9: 9939595.7 | Q9: 237720.59 | R9: 420635.35 | S9: 459609.54 | T9: 475641.98 | U9: 705198.14 | V9: 40484207 | W9: 68830952 | X9: 81168730 | Y9: 92297228 | Z9: 1.3334379e+08 | AA9: 3326008.8 | AB9: 5257455.5 | AC9: 5207247.8 | AD9: 5296592.6 | AE9: 6489430.2 | AF9: 118742.23 | AG9: 192929.2 | AH9: 212058.21 | AI9: 221915.56 | AJ9: 375189.68 | AK9: 12789353 | AL9: 21767682 | AM9: 25278465 | AN9: 28645940 | AO9: 40069047
A10: Chesapeake Bay Watershed | B10: Agriculture | C10: Other Hay | D10: Load Allocation | E10: All Agencies | F10: acres | G10: 1448009.1 | H10: 1484314.2 | I10: 1459023.2 | J10: 1496309.2 | K10: 1260986 | L10: 13899185 | M10: 15515169 | N10: 14916851 | O10: 15639695 | P10: 12714070 | Q10: 499732.29 | R10: 532064.17 | S10: 423067.13 | T10: 531204.91 | U10: 719488.34 | V10: 49154241 | W10: 56536724 | X10: 57496514 | Y10: 63465274 | Z10: 58754576 | AA10: 8168301.3 | AB10: 9134019.7 | AC10: 8805624.8 | AD10: 9309553.2 | AE10: 7498407.8 | AF10: 238605.18 | AG10: 258702.52 | AH10: 204701.53 | AI10: 253278.02 | AJ10: 328956.92 | AK10: 15284392 | AL10: 17714619 | AM10: 18244465 | AN10: 19907620 | AO10: 17914955
A11: Chesapeake Bay Watershed | B11: Agriculture | C11: Pasture | D11: Load Allocation | E11: All Agencies | F11: acres | G11: 1629109.2 | H11: 1985723.3 | I11: 2250387.8 | J11: 2356178 | K11: 2918635.1 | L11: 13764768 | M11: 19139005 | N11: 21490888 | O11: 22980735 | P11: 28039928 | Q11: 1406904.1 | R11: 1976767.9 | S11: 2055298.4 | T11: 2341432 | U11: 3462044.6 | V11: 40790756 | W11: 72539267 | X11: 81727012 | Y11: 85889666 | Z11: 1.0389722e+08 | AA11: 8481577.8 | AB11: 11439254 | AC11: 12789011 | AD11: 13659311 | AE11: 16478288 | AF11: 743489.12 | AG11: 1051536.4 | AH11: 1090667.5 | AI11: 1227968.9 | AJ11: 1756132.5 | AK11: 14918739 | AL11: 26731682 | AM11: 29831310 | AN11: 31320331 | AO11: 38091921
A12: Chesapeake Bay Watershed | B12: Agriculture | C12: Permitted Feeding Space | D12: Waste Load Allocation | E12: All Agencies | F12: acres | G12: 3675.6673 | H12: 3544.7786 | I12: 2796.5043 | J12: 2826.1844 | K12: 2570.9078 | L12: 1114564.5 | M12: 4124845.9 | N12: 4278960.9 | O12: 4685219.3 | P12: 6705173.1 | Q12: 51694.561 | R12: 217601.94 | S12: 204042.75 | T12: 218063.58 | U12: 337904.37 | V12: 23665243 | W12: 23535001 | X12: 17957900 | Y12: 18440696 | Z12: 16005456 | AA12: -83782.49 | AB12: 2746739.4 | AC12: 2788443.3 | AD12: 3029381.1 | AE12: 4194187 | AF12: 29565.866 | AG12: 123765.12 | AH12: 105779.65 | AI12: 111698.77 | AJ12: 186245.44 | AK12: 11831016 | AL12: 11674588 | AM12: 8209225.2 | AN12: 8380738.7 | AO12: 6884199.5
A13: Chesapeake Bay Watershed | B13: Agriculture | C13: Riparian Pasture Deposition | D13: Load Allocation | E13: All Agencies | F13: acres | G13: 0 | H13: 0 | I13: 0 | J13: 0 | K13: 0 | L13: 884663.88 | M13: 5198100.9 | N13: 5962759.4 | O13: 6210773.7 | P13: 7642822.8 | Q13: 231107.76 | R13: 1463376.7 | S13: 1683503.3 | T13: 1751572 | U13: 2128354.5 | V13: 1.3534251e+08 | W13: 7.9524446e+08 | X13: 9.1222764e+08 | Y13: 9.5017073e+08 | Z13: 1.1692563e+09 | AA13: 634351.5 | AB13: 3345254.5 | AC13: 3782718.1 | AD13: 3921402.6 | AE13: 4748803.7 | AF13: 126877.25 | AG13: 741036.92 | AH13: 856697.75 | AI13: 877811.83 | AJ13: 1086295.4 | AK13: 49681039 | AL13: 2.7226278e+08 | AM13: 3.1211091e+08 | AN13: 3.1842925e+08 | AO13: 3.9208207e+08
... A50: Chesapeake Bay Watershed | B50: Wastewater | C50: Municipal Wastewater Treatment Plant | D50: Waste Load Allocation | E50: All Agencies | F50: acres | G50: 0 | H50: 0 | I50: 0 | J50: 0 | K50: 0 | L50: 41533359 | M50: 35170052 | N50: 55484634 | O50: 57017230 | P50: 75967403 | Q50: 3625081.3 | R50: 2487511 | S50: 4174274.9 | T50: 5090810 | U50: 11119016 | V50: 2.1971345e+08 | W50: 26214391 | X50: 49083838 | Y50: 68073961 | Z50: 1.2814578e+08 | AA50: 34052610 | AB50: 29731232 | AC50: 47460733 | AD50: 48547849 | AE50: 67628513 | AF50: 2277361.4 | AG50: 1673700.7 | AH50: 2773599.6 | AI50: 3482340.2 | AJ50: 8462875.3 | AK50: 1.1963781e+08 | AL50: 14039375 | AM50: 25331968 | AN50: 29986778 | AO50: 71630453

Sheet Pivot MD&VA
A1: Row Labels | B1: Sum of 2025 WIP2_Amount | C1: Sum of 2017 Progress V9_Amount | D1: Sum of 2009 Progress_Amount | E1: Sum of 2005 Progress_Amount | F1: Sum of 1985 Progress_Amount | G1: Sum of 2025 WIP2_NLoadEOT | H1: Sum of 2017 Progress V9_NLoadEOT | I1: Sum of 2009 Progress_NLoadEOT | J1: Sum of 2005 Progress_NLoadEOT | K1: Sum of 1985 Progress_NLoadEOT | L1: Sum of 2025 WIP2_PLoadEOT | M1: Sum of 2017 Progress V9_PLoadEOT | N1: Sum of 2009 Progress_PLoadEOT | O1: Sum of 2005 Progress_PLoadEOT | P1: Sum of 1985 Progress_PLoadEOT
A2: Maryland | B2: 6390439.7 | C2: 6408851.6 | D2: 6391287.2 | E2: 6374730.8 | F2: 6250898.7 | G2: 47676722 | H2: 54223737 | I2: 57512415 | J2: 62117216 | K2: 84071546 | L2: 3464566.3 | M2: 3665076.6 | N2: 4047644.3 | O2: 4424758.9 | P2: 7421981.2
A3: Agriculture | B3: 1457531.5 | C3: 1514836.1 | D3: 1564347.9 | E3: 1585265 | F3: 1812124.5 | G3: 18656199 | H3: 22376859 | I3: 22978436 | J3: 25427756 | K3: 34272099 | L3: 528868.69 | M3: 645858.62 | N3: 701705.21 | O3: 850834.48 | P3: 1890831.1
A4: Developed | B4: 1324063 | C4: 1341132.1 | D4: 1287895.4 | E4: 1244676.5 | F4: 850317.15 | G4: 7692434 | H4: 9351599.1 | I4: 9009369.1 | J4: 8910929 | K4: 6590782 | L4: 466884.2 | M4: 673835.28 | N4: 685731.55 | O4: 727365.47 | P4: 604031.19
A5: Natural | B5: 3210660.9 | C5: 3136287.1 | D5: 3140012.1 | E5: 3162313.9 | F5: 3329813.8 | G5: 7877550.8 | H5: 8098300.8 | I5: 8081053.6 | J5: 8246805.8 | K5: 8866999.9 | L5: 1701061 | M5: 1832489.9 | N5: 1875516.7 | O5: 1935550.9 | P5: 2287295.2
A6: Septic | B6: 398184.29 | C6: 416596.22 | D6: 399031.8 | E6: 382475.42 | F6: 258643.31 | G6: 2200558.5 | H6: 3090474.2 | I6: 3046890 | J6: 2932749.6 | K6: 2123635.8 | L6: 406.45926 | M6: 664.09138 | N6: 650.77565 | O6: 424.65247 | P6: 122.79787
A7: Wastewater | B7: 0 | C7: 0 | D7: 0 | E7: 0 | F7: 0 | G7: 11249980 | H7: 11306504 | I7: 14396665 | J7: 16598976 | K7: 32218029 | L7: 767345.94 | M7: 512228.68 | N7: 784040.08 | O7: 910583.38 | P7: 2639701
A8: Virginia | B8: 14158743 | C8: 14155672 | D8: 14124735 | E8: 14099073 | F8: 13979049 | G8: 49569082 | H8: 57725282 | I8: 67344427 | J8: 69485162 | K8: 82266080 | L8: 5383120.4 | M8: 6110334.9 | N8: 6983581.6 | O8: 7556647.3 | P8: 13530960
A9: Agriculture | B9: 2098377.1 | C9: 2323768.6 | D9: 2375564.9 | E9: 2429037.4 | F9: 2677653.3 | G9: 10517703 | H9: 19726462 | I9: 20407591 | J9: 21675892 | K9: 24955425 | L9: 865718.34 | M9: 1568469.6 | N9: 1618794.9 | O9: 1771769.6 | P9: 2431704.4
A10: Developed | B10: 1946001.1 | C10: 1881104.5 | D10: 1759897.9 | E10: 1661452.3 | F10: 1087025.9 | G10: 9838055.3 | H10: 10805130 | I10: 10143140 | J10: 9688661.3 | K10: 6692618.3 | L10: 1221030.8 | M10: 1328617.1 | N10: 1241266.6 | O10: 1187329.4 | P10: 740817.08
A11: Natural | B11: 9694506.7 | C11: 9534011.8 | D11: 9603422.2 | E11: 9648395.3 | F11: 9974205.8 | G11: 12174162 | H11: 12763352 | I11: 13049459 | J11: 13229103 | K11: 13692855 | L11: 2158214.5 | M11: 2276485 | N11: 2348564.7 | O11: 2426501 | P11: 2664922
A12: Septic | B12: 419858.13 | C12: 416786.9 | D12: 385849.99 | E12: 360188.18 | F12: 240164.38 | G12: 1994387.7 | H12: 2117299.7 | I12: 1970591.2 | J12: 1859356.8 | K12: 1333419.2 | L12: 1243.2339 | M12: 1243.2339 | N12: 1243.2339 | O12: 1243.2339 | P12: 1243.2339
A13: Wastewater | B13: 0 | C13: 0 | D13: 0 | E13: 0 | F13: 0 | G13: 15044774 | H13: 12313038 | I13: 21773646 | J13: 23032149 | K13: 35591762 | L13: 1136913.6 | M13: 935519.96 | N13: 1773712.2 | O13: 2169804 | P13: 7692273.4
A14: Grand Total | B14: 20549183 | C14: 20564523 | D14: 20516022 | E14: 20473804 | F14: 20229948 | G14: 97245805 | H14: 1.1194902e+08 | I14: 1.2485684e+08 | J14: 1.3160238e+08 | K14: 1.6633763e+08 | L14: 8847686.7 | M14: 9775411.5 | N14: 11031226 | O14: 11981406 | P14: 20952941

Sheet Source - All Agencies MD&VA
A1: Geography | B1: Sector | C1: LoadSource | D1: Allocation | E1: Agency | F1: Unit | G1: 2025 WIP2_Amount | H1: 2017 Progress V9_Amount | I1: 2009 Progress_Amount | J1: 2005 Progress_Amount | K1: 1985 Progress_Amount | L1: 2025 WIP2_NLoadEOS | M1: 2017 Progress V9_NLoadEOS | N1: 2009 Progress_NLoadEOS | O1: 2005 Progress_NLoadEOS | P1: 1985 Progress_NLoadEOS | Q1: 2025 WIP2_PLoadEOS | R1: 2017 Progress V9_PLoadEOS | S1: 2009 Progress_PLoadEOS | T1: 2005 Progress_PLoadEOS | U1: 1985 Progress_PLoadEOS | V1: 2025 WIP2_SLoadEOS | W1: 2017 Progress V9_SLoadEOS | X1: 2009 Progress_SLoadEOS | Y1: 2005 Progress_SLoadEOS | Z1: 1985 Progress_SLoadEOS | AA1: 2025 WIP2_NLoadEOT | AB1: 2017 Progress V9_NLoadEOT | AC1: 2009 Progress_NLoadEOT | AD1: 2005 Progress_NLoadEOT | AE1: 1985 Progress_NLoadEOT | AF1: 2025 WIP2_PLoadEOT | AG1: 2017 Progress V9_PLoadEOT | AH1: 2009 Progress_PLoadEOT | AI1: 2005 Progress_PLoadEOT | AJ1: 1985 Progress_PLoadEOT | AK1: 2025 WIP2_SLoadEOT | AL1: 2017 Progress V9_SLoadEOT | AM1: 2009 Progress_SLoadEOT | AN1: 2005 Progress_SLoadEOT | AO1: 1985 Progress_SLoadEOT
A2: Maryland | B2: Agriculture | C2: Ag Open Space | D2: Load Allocation | E2: All Agencies | F2: acres | G2: 48352.063 | H2: 20110.346 | I2: 14618.215 | J2: 13270.482 | K2: 7041.4071 | L2: 178413.72 | M2: 79077.821 | N2: 58584.98 | O2: 56352.39 | P2: 28721.996 | Q2: 30159.997 | R2: 12203.484 | S2: 8597.8509 | T2: 8844.3879 | U2: 4289.3483 | V2: 2032141.6 | W2: 1169778.1 | X2: 946579.18 | Y2: 587963.86 | Z2: 481600.31 | AA2: 126279.65 | AB2: 52248.651 | AC2: 37440.357 | AD2: 36248.668 | AE2: 17870.556 | AF2: 19494.442 | AG2: 6662.7826 | AH2: 4232.8239 | AI2: 5396.1062 | AJ2: 2156.2883 | AK2: 675815.19 | AL2: 359576.15 | AM2: 273364.72 | AN2: 160339.63 | AO2: 131307.94
A3: Maryland | B3: Agriculture | C3: Double Cropped Land | D3: Load Allocation | E3: All Agencies | F3: acres | G3: 228654.75 | H3: 208630.24 | I3: 176628.3 | J3: 173361.09 | K3: 107370.81 | L3: 4863474.6 | M3: 4637856.1 | N3: 3912568.1 | O3: 4310921.9 | P3: 3006182.3 | Q3: 114971.38 | R3: 111588.6 | S3: 100099.08 | T3: 127211.82 | U3: 180812.69 | V3: 1.6342827e+08 | W3: 98530455 | X3: 90839841 | Y3: 95864023 | Z3: 84708103 | AA3: 3461658.2 | AB3: 3382652 | AC3: 2870415.5 | AD3: 3165221.8 | AE3: 2226359.3 | AF3: 74072.98 | AG3: 74422.323 | AH3: 67393.779 | AI3: 86609.579 | AJ3: 128297.62 | AK3: 52815704 | AL3: 30431541 | AM3: 26505704 | AN3: 26660325 | AO3: 23482400
A4: Maryland | B4: Agriculture | C4: Full Season Soybeans | D4: Load Allocation | E4: All Agencies | F4: acres | G4: 282185.58 | H4: 287455.24 | I4: 262327 | J4: 266678.45 | K4: 291836.21 | L4: 5455546.7 | M4: 5629434.3 | N4: 5272100.3 | O4: 5358750.7 | P4: 6595324.2 | Q4: 114643.56 | R4: 133535.36 | S4: 151162.73 | T4: 201765.11 | U4: 460031.16 | V4: 2.6574786e+08 | W4: 1.6252327e+08 | X4: 1.5371798e+08 | Y4: 1.5616765e+08 | Z4: 2.6580682e+08 | AA4: 3782700.5 | AB4: 3955243.2 | AC4: 3722451.8 | AD4: 3792920.9 | AE4: 4639859.1 | AF4: 72067.459 | AG4: 86085.013 | AH4: 98763.37 | AI4: 132299.58 | AJ4: 311244.14 | AK4: 85853668 | AL4: 52225741 | AM4: 49079082 | AN4: 49635060 | AO4: 78842490
A5: Maryland | B5: Agriculture | C5: Grain with Manure | D5: Load Allocation | E5: All Agencies | F5: acres | G5: 190486.94 | H5: 209957.79 | I5: 222741.22 | J5: 219202.06 | K5: 213864.77 | L5: 6606542.7 | M5: 7816655.3 | N5: 8020637.2 | O5: 9033986.6 | P5: 10516394 | Q5: 109012.09 | R5: 131296.46 | S5: 142351.43 | T5: 173078.03 | U5: 345344.02 | V5: 1.28012e+08 | W5: 1.0340709e+08 | X5: 1.2426045e+08 | Y5: 1.2618679e+08 | Z5: 2.9440894e+08 | AA5: 4352479.4 | AB5: 5306766.7 | AC5: 5546429.8 | AD5: 6207999.2 | AE5: 7106646 | AF5: 64493.691 | AG5: 81587.656 | AH5: 90642.117 | AI5: 110978.3 | AJ5: 221518.73 | AK5: 32894513 | AL5: 26565330 | AM5: 33950834 | AN5: 34698997 | AO5: 90179259
A6: Maryland | B6: Agriculture | C6: Grain without Manure | D6: Load Allocation | E6: All Agencies | F6: acres | G6: 173958.54 | H6: 202514.43 | I6: 228433.72 | J6: 218502.02 | K6: 267041.32 | L6: 4016486 | M6: 5072250.5 | N6: 5485696.2 | O6: 6017219.6 | P6: 8329642.4 | Q6: 84978.431 | R6: 94068.958 | S6: 114262.59 | T6: 140889.77 | U6: 380154.56 | V6: 1.8218433e+08 | W6: 1.4621309e+08 | X6: 1.7333264e+08 | Y6: 1.6917276e+08 | Z6: 4.0090314e+08 | AA6: 2758181.5 | AB6: 3547120.9 | AC6: 3855848.9 | AD6: 4227164.6 | AE6: 5909970.6 | AF6: 51751.464 | AG6: 59050.567 | AH6: 73351.132 | AI6: 91477.19 | AJ6: 252251.13 | AK6: 49381850 | AL6: 39667563 | AM6: 49510551 | AN6: 48747518 | AO6: 1.2733861e+08
A7: Maryland | B7: Agriculture | C7: Legume Hay | D7: Load Allocation | E7: All Agencies | F7: acres | G7: 27420.294 | H7: 38650.091 | I7: 49657.18 | J7: 62656.88 | K7: 73470.254 | L7: 199584.77 | M7: 294601.48 | N7: 374896.97 | O7: 473493.46 | P7: 654428.19 | Q7: 7470.7465 | R7: 9765.4116 | S7: 8040.5967 | T7: 16025.983 | U7: 54318.735 | V7: 7869804.5 | W7: 9958973 | X7: 12411893 | Y7: 15710631 | Z7: 18873704 | AA7: 114921.39 | AB7: 182544.31 | AC7: 233336.68 | AD7: 294610.8 | AE7: 423546.45 | AF7: 1672.7099 | AG7: 2445.4169 | AH7: 2120.9647 | AI7: 5475.8248 | AJ7: 27752.244 | AK7: 1645480.1 | AL7: 2476744.4 | AM7: 3118812.6 | AN7: 3961116.7 | AO7: 5591186
A8: Maryland | B8: Agriculture | C8: Non-Permitted Feeding Space | D8: Load Allocation | E8: All Agencies | F8: acres | G8: 1097.0159 | H8: 1155.1443 | I8: 1254.78 | J8: 1315.3397 | K8: 1622.5682 | L8: 83085.711 | M8: 340631.57 | N8: 479067.18 | O8: 625238.77 | P8: 1690302.8 | Q8: 4664.326 | R8: 21537.006 | S8: 26721.685 | T8: 32828.155 | U8: 88518.197 | V8: 4086244.1 | W8: 4692909.6 | X8: 5991226.5 | Y8: 6637607.9 | Z8: 9851222.1 | AA8: -12262.643 | AB8: 244207.91 | AC8: 339138.68 | AD8: 444379.66 | AE8: 1174300.3 | AF8: 3103.7895 | AG8: 14348.122 | AH8: 17120.858 | AI8: 20813.858 | AJ8: 54272.037 | AK8: 1404495.9 | AL8: 1629875.5 | AM8: 2149288.5 | AN8: 2377463.6 | AO8: 3325191.3
A9: Maryland | B9: Agriculture | C9: Other Agronomic Crops | D9: Load Allocation | E9: All Agencies | F9: acres | G9: 101466.11 | H9: 98750.947 | I9: 96281.511 | J9: 90989.109 | K9: 166684.28 | L9: 1194528.8 | M9: 1197356.3 | N9: 1232389.4 | O9: 1220109.1 | P9: 2504457.5 | Q9: 74878.298 | R9: 70783.506 | S9: 77870.838 | T9: 79461.651 | U9: 262849.49 | V9: 25332799 | W9: 19130359 | X9: 18025498 | Y9: 21455090 | Z9: 69983072 | AA9: 773769.81 | AB9: 796450.23 | AC9: 832142.54 | AD9: 830141.54 | AE9: 1773707.9 | AF9: 46274.735 | AG9: 44950.253 | AH9: 50367.283 | AI9: 51277.525 | AJ9: 175889.4 | AK9: 4873657.1 | AL9: 3368159.6 | AM9: 4717451.8 | AN9: 5769488.2 | AO9: 21537691
A10: Maryland | B10: Agriculture | C10: Other Hay | D10: Load Allocation | E10: All Agencies | F10: acres | G10: 139376.67 | H10: 143946.83 | I10: 155016.96 | J10: 169744.14 | K10: 138819.93 | L10: 1496332.9 | M10: 1570419.5 | N10: 1629664.2 | O10: 1844067.8 | P10: 1514291 | Q10: 30856.892 | R10: 32856.26 | S10: 29226.078 | T10: 36328.357 | U10: 59282.31 | V10: 8296866.1 | W10: 8455392.1 | X10: 8957095 | Y10: 9810126 | Z10: 8478798.2 | AA10: 924968.63 | AB10: 988793.3 | AC10: 1035152 | AD10: 1180849.3 | AE10: 966307.07 | AF10: 16437.989 | AG10: 17412.459 | AH10: 16284.734 | AI10: 20585.557 | AJ10: 32325.057 | AK10: 2179582.9 | AL10: 2321077.8 | AM10: 2511093.7 | AN10: 2802966.2 | AO10: 2407903.7
A11: Maryland | B11: Agriculture | C11: Pasture | D11: Load Allocation | E11: All Agencies | F11: acres | G11: 157151.55 | H11: 171810.64 | I11: 211145 | J11: 225574.15 | K11: 304595.18 | L11: 1527712 | M11: 1737342.8 | N11: 2094944.7 | O11: 2310640.1 | P11: 3412067.3 | Q11: 118269.26 | R11: 136123.45 | S11: 148379.51 | T11: 173270.63 | U11: 335327.58 | V11: 3445655 | W11: 3981634.3 | X11: 5004310.7 | Y11: 5347252.2 | Z11: 8117805 | AA11: 1024993.4 | AB11: 1135498.5 | AC11: 1376811.8 | AD11: 1526642 | AE11: 2181380.9 | AF11: 67196.33 | AG11: 76167.61 | AH11: 84514.261 | AI11: 99164.012 | AJ11: 181459.5 | AK11: 1103586 | AL11: 1244997.9 | AM11: 1595503.4 | AN11: 1742176.4 | AO11: 2565738.9
A12: Maryland | B12: Agriculture | C12: Permitted Feeding Space | D12: Waste Load Allocation | E12: All Agencies | F12: acres | G12: 871.81581 | H12: 868.06164 | I12: 829.77191 | J12: 823.22955 | K12: 842.88084 | L12: 192539.41 | M12: 658571.67 | N12: 421836.14 | O12: 478387.74 | P12: 1785588.2 | Q12: 10596.696 | R12: 45949.458 | S12: 24777.991 | T12: 25836.15 | U12: 92386.922 | V12: 827620.49 | W12: 857334.47 | X12: 839957.16 | Y12: 895566.92 | Z12: 1331647.9 | AA12: -222955.39 | AB12: 411712.68 | AC12: 232036.63 | AD12: 272332.12 | AE12: 1126964.2 | AF12: 7380.7243 | AG12: 29547.935 | AH12: 13508.161 | AI12: 14455.829 | AJ12: 59219.007 | AK12: 235301.9 | AL12: 244658.64 | AM12: 230855.52 | AN12: 252613.58 | AO12: 388938.48
A13: Maryland | B13: Agriculture | C13: Riparian Pasture Deposition | D13: Load Allocation | E13: All Agencies | F13: acres | G13: 0 | H13: 0 | I13: 0 | J13: 0 | K13: 0 | L13: 296558.58 | M13: 477976.9 | N13: 596717.96 | O13: 691541.93 | P13: 1119952.3 | Q13: 86427.564 | R13: 135589.35 | S13: 165931.85 | T13: 192372.97 | U13: 299026.85 | V13: 45369755 | W13: 73124490 | X13: 91290387 | Y13: 1.0579727e+08 | Z13: 1.7133869e+08 | AA13: 198898.34 | AB13: 332035.12 | AC13: 411130.52 | AD13: 474688.02 | AE13: 753567.1 | AF13: 46679.304 | AG13: 76644.916 | AH13: 93793.28 | AI13: 108198.05 | AJ13: 164417.5 | AK13: 17488469 | AL13: 28801041 | AM13: 35400807 | AN13: 40577010 | AO13: 64185379
... A99: Virginia | B99: Wastewater | C99: Municipal Wastewater Treatment Plant | D99: Waste Load Allocation | E99: All Agencies | F99: acres | G99: 0 | H99: 0 | I99: 0 | J99: 0 | K99: 0 | L99: 13124695 | M99: 11034690 | N99: 20218834 | O99: 21590497 | P99: 28136621 | Q99: 694195.02 | R99: 656544.48 | S99: 1264577.5 | T99: 1698722.1 | U99: 4467138.2 | V99: 92877175 | W99: 6452885.9 | X99: 26923150 | Y99: 21779649 | Z99: 58207224 | AA99: 10846121 | AB99: 9500369.9 | AC99: 18094465 | AD99: 18983207 | AE99: 26153460 | AF99: 562599.46 | AG99: 580755.97 | AH99: 1079059.6 | AI99: 1489559.9 | AJ99: 4151387.8 | AK99: 54458671 | AL99: 4668228.3 | AM99: 15928354 | AN99: 12644629 | AO99: 40796042
