Workbook

Sheet Read Me
A1: Note
A3: All data was downloaded from the Bay Program's CAST website: CAST.ChesapeakeBay.net
A5: All data is computed at the EOT = Edge of Tide (i.e. delivered loads) scale
A7: Loads were computed as either all source sectors together or individually for the wastewater, developed (urban) and agriculture sectors
A11: Geography - Local
A13: * NVRC = COG's Northern Virginia members
A15: * MD-COG load data = Frederick, Montgomery, Prince George's, and Charles counties
A17: * DC load Data = District of Columbia
A19: Geography - Regional
A21: * CB load data = Entire Chesapeake Bay watershed
A23: * MD and VA load data = Bay watershed portions of the states of Maryland and Virginia, repectively
A26: The spreadsheet tab %WIP2 Progress shows all the overall geography and sector loads. It also computes percent progress since 2009 (2009 - 2017/2009) and percent progress remaining toward the WIP II goal (2017-2025/2025).
... A33: The time series charts are shown as percentages of the 1985 loads, so as to normalize between loads of varying amounts. The 1985 loads are not shown in the comparison charts, although the red lines in these graphs represents 100 % of 1985 loads.

Sheet % WIP2 Progress
A1: Geography | B1: Source | C1: 1985 Progress_N Load EOT | D1: 2005 Progress_N Load EOT | E1: 2009 Progress_N Load EOT | F1: 2017 Progress V9_N Load EOT | G1: WIP 2_N Load EOT | H1: Δ (2009-2017) | I1: Percent Progress-Since 2009 | J1: Δ (2017-2025 WIP2) | K1: Percent Progress to WIP2 Goals
A2: NVRC | B2: Agriculture | C2: ='Pivot NOVA'!K5 -> 1094996.9 | D2: ='Pivot NOVA'!J5 -> 785169.06 | E2: ='Pivot NOVA'!I5 -> 723320.17 | F2: ='Pivot NOVA'!H5 -> 608096.37 | G2: ='Pivot NOVA'!G5 -> 339368.3 | H2: =(E2-F2) -> 115223.8 | I2: =H2/E2 -> 0.15929848 | J2: =(F2-G2) -> 268728.07 | K2: =J2/G2 -> 0.7918479
A3: NVRC | B3: Developed | C3: ='Pivot NOVA'!K6 -> 905450.65 | D3: ='Pivot NOVA'!J6 -> 1407522.9 | E3: ='Pivot NOVA'!I6 -> 1515258.6 | F3: ='Pivot NOVA'!H6 -> 1659504.8 | G3: ='Pivot NOVA'!G6 -> 1614679.5 | H3: =(E3-F3) -> -144246.17 | I3: =H3/E3 -> -0.095195742 | J3: =(F3-G3) -> 44825.308 | K3: =J3/G3 -> 0.027761119
A4: NVRC | B4: Natural | C4: ='Pivot NOVA'!K7 -> 884302.21 | D4: ='Pivot NOVA'!J7 -> 800156.78 | E4: ='Pivot NOVA'!I7 -> 793839.44 | F4: ='Pivot NOVA'!H7 -> 771020.07 | G4: ='Pivot NOVA'!G7 -> 785000 | H4: =(E4-F4) -> 22819.369 | I4: =H4/E4 -> 0.028745572 | J4: =(F4-G4) -> -13979.934 | K4: =J4/G4 -> -0.017808833
A5: NVRC | B5: Septic | C5: ='Pivot NOVA'!K8 -> 91904.8 | D5: ='Pivot NOVA'!J8 -> 146525.89 | E5: ='Pivot NOVA'!I8 -> 157396.62 | F5: ='Pivot NOVA'!H8 -> 202959.09 | G5: ='Pivot NOVA'!G8 -> 241776.6 | H5: =(E5-F5) -> -45562.468 | I5: =H5/E5 -> -0.28947552 | J5: =(F5-G5) -> -38817.511 | K5: =J5/G5 -> -0.16055115
A6: NVRC | B6: Wastewater | C6: ='Pivot NOVA'!K9 -> 6698623.7 | D6: ='Pivot NOVA'!J9 -> 2800892.6 | E6: ='Pivot NOVA'!I9 -> 2475344.2 | F6: ='Pivot NOVA'!H9 -> 1287225.1 | G6: ='Pivot NOVA'!G9 -> 2502009.1 | H6: =(E6-F6) -> 1188119.1 | I6: =H6/E6 -> 0.47998136 | J6: =(F6-G6) -> -1214784 | K6: =J6/G6 -> -0.48552341
A7: =A6 -> NVRC | B7: ALL | C7: =SUM(C2:C6) -> 9675278.2 | D7: =SUM(D2:D6) -> 5940267.3 | E7: =SUM(E2:E6) -> 5665159 | F7: =SUM(F2:F6) -> 4528805.4 | G7: =SUM(G2:G6) -> 5482833.4 | H7: =(E7-F7) -> 1136353.6 | I7: =H7/E7 -> 0.20058636 | J7: =(F7-G7) -> -954028.02 | K7: =J7/G7 -> -0.17400274
A8: Washington, DC | B8: Agriculture | C8: ='Pivot DC'!K5 -> 0 | D8: ='Pivot DC'!J5 -> 0 | E8: ='Pivot DC'!I5 -> 0 | F8: ='Pivot DC'!H5 -> 0 | G8: ='Pivot DC'!G5 -> 0 | H8: =(E8-F8) -> 0 | J8: =(F8-G8) -> 0
A9: Washington, DC | B9: Developed | C9: ='Pivot DC'!K6 -> 164429.15 | D9: ='Pivot DC'!J6 -> 170702.91 | E9: ='Pivot DC'!I6 -> 173098.49 | F9: ='Pivot DC'!H6 -> 163142.28 | G9: ='Pivot DC'!G6 -> 165489.99 | H9: =(E9-F9) -> 9956.2084 | I9: =H9/E9 -> 0.057517592 | J9: =(F9-G9) -> -2347.7033 | K9: =J9/G9 -> -0.014186377
A10: Washington, DC | B10: Natural | C10: ='Pivot DC'!K7 -> 26114.325 | D10: ='Pivot DC'!J7 -> 24187.692 | E10: ='Pivot DC'!I7 -> 23775.781 | F10: ='Pivot DC'!H7 -> 22479.364 | G10: ='Pivot DC'!G7 -> 19989.642 | H10: =(E10-F10) -> 1296.4167 | I10: =H10/E10 -> 0.054526779 | J10: =(F10-G10) -> 2489.722 | K10: =J10/G10 -> 0.1245506
A11: Washington, DC | B11: Septic | C11: ='Pivot DC'!K8 -> 405.69806 | D11: ='Pivot DC'!J8 -> 269.36715 | E11: ='Pivot DC'!I8 -> 193.8359 | F11: ='Pivot DC'!H8 -> 173.22532 | G11: ='Pivot DC'!G8 -> 173.22532 | H11: =(E11-F11) -> 20.61058 | I11: =H11/E11 -> 0.10633005 | J11: =(F11-G11) -> 0 | K11: =J11/G11 -> 0
A12: Washington, DC | B12: Wastewater | C12: ='Pivot DC'!K9 -> 6289206.2 | D12: ='Pivot DC'!J9 -> 2505683 | E12: ='Pivot DC'!I9 -> 2567723.3 | F12: ='Pivot DC'!H9 -> 1358842 | G12: ='Pivot DC'!G9 -> 2246536.5 | H12: =(E12-F12) -> 1208881.3 | I12: =H12/E12 -> 0.47079891 | J12: =(F12-G12) -> -887694.54 | K12: =J12/G12 -> -0.39513916
A13: =A12 -> Washington, DC | B13: ALL | C13: =SUM(C8:C12) -> 6480155.4 | D13: =SUM(D8:D12) -> 2700843 | E13: =SUM(E8:E12) -> 2764791.4 | F13: =SUM(F8:F12) -> 1544636.8 | G13: =SUM(G8:G12) -> 2432189.4 | H13: =(E13-F13) -> 1220154.5 | I13: =H13/E13 -> 0.44131885 | J13: =(F13-G13) -> -887552.52 | K13: =J13/G13 -> -0.36491917
A14: MD_COG | B14: Agriculture | C14: ='Pivot MD COG'!K33 -> 6770452.3 | D14: ='Pivot MD COG'!J33 -> 4467516.7 | E14: ='Pivot MD COG'!I33 -> 4053660.6 | F14: ='Pivot MD COG'!H33 -> 3745978.1 | G14: ='Pivot MD COG'!G33 -> 3409614.6 | H14: =(E14-F14) -> 307682.53 | I14: =H14/E14 -> 0.075902389 | J14: =(F14-G14) -> 336363.47 | K14: =J14/G14 -> 0.098651462
A15: MD_COG | B15: Developed | C15: ='Pivot MD COG'!K34 -> 1672831.6 | D15: ='Pivot MD COG'!J34 -> 2359317.5 | E15: ='Pivot MD COG'!I34 -> 2422358.5 | F15: ='Pivot MD COG'!H34 -> 2519348.6 | G15: ='Pivot MD COG'!G34 -> 2215627.5 | H15: =(E15-F15) -> -96990.089 | I15: =H15/E15 -> -0.040039527 | J15: =(F15-G15) -> 303721.08 | K15: =J15/G15 -> 0.13708129
A16: MD_COG | B16: Natural | C16: ='Pivot MD COG'!K35 -> 1791797.4 | D16: ='Pivot MD COG'!J35 -> 1589475.5 | E16: ='Pivot MD COG'!I35 -> 1550355.3 | F16: ='Pivot MD COG'!H35 -> 1540748 | G16: ='Pivot MD COG'!G35 -> 1533311.1 | H16: =(E16-F16) -> 9607.2696 | I16: =H16/E16 -> 0.0061968181 | J16: =(F16-G16) -> 7436.921 | K16: =J16/G16 -> 0.0048502362
A17: MD_COG | B17: Septic | C17: ='Pivot MD COG'!K36 -> 361258.94 | D17: ='Pivot MD COG'!J36 -> 569416.89 | E17: ='Pivot MD COG'!I36 -> 593826.34 | F17: ='Pivot MD COG'!H36 -> 615991.7 | G17: ='Pivot MD COG'!G36 -> 487820.9 | H17: =(E17-F17) -> -22165.357 | I17: =H17/E17 -> -0.037326329 | J17: =(F17-G17) -> 128170.79 | K17: =J17/G17 -> 0.2627415
A18: MD_COG | B18: Wastewater | C18: ='Pivot MD COG'!K37 -> 8574816.1 | D18: ='Pivot MD COG'!J37 -> 3853084.8 | E18: ='Pivot MD COG'!I37 -> 3543694.3 | F18: ='Pivot MD COG'!H37 -> 1991803.5 | G18: ='Pivot MD COG'!G37 -> 3957541.3 | H18: =(E18-F18) -> 1551890.8 | I18: =H18/E18 -> 0.43793023 | J18: =(F18-G18) -> -1965737.9 | K18: =J18/G18 -> -0.49670685
A19: =A18 -> MD_COG | B19: ALL | C19: =SUM(C14:C18) -> 19171156 | D19: =SUM(D14:D18) -> 12838811 | E19: =SUM(E14:E18) -> 12163895 | F19: =SUM(F14:F18) -> 10413870 | G19: =SUM(G14:G18) -> 11603915 | H19: =(E19-F19) -> 1750025.2 | I19: =H19/E19 -> 0.14387046 | J19: =(F19-G19) -> -1190045.6 | K19: =J19/G19 -> -0.10255552
A20: Chesapeake Bay WSHD | B20: Agriculture | C20: ='Pivot CB'!K5 -> 1.5628408e+08 | D20: ='Pivot CB'!J5 -> 1.3060557e+08 | E20: ='Pivot CB'!I5 -> 1.2267305e+08 | F20: ='Pivot CB'!H5 -> 1.2010248e+08 | G20: ='Pivot CB'!G5 -> 73120903 | H20: =(E20-F20) -> 2570571.2 | I20: =H20/E20 -> 0.020954653 | J20: =(F20-G20) -> 46981576 | K20: =J20/G20 -> 0.64251909
A21: Chesapeake Bay WSHD | B21: Developed | C21: ='Pivot CB'!K6 -> 27360634 | D21: ='Pivot CB'!J6 -> 36815256 | E21: ='Pivot CB'!I6 -> 37917917 | F21: ='Pivot CB'!H6 -> 39584775 | G21: ='Pivot CB'!G6 -> 30010973 | H21: =(E21-F21) -> -1666857.9 | I21: =H21/E21 -> -0.043959638 | J21: =(F21-G21) -> 9573802 | K21: =J21/G21 -> 0.31901005
A22: Chesapeake Bay WSHD | B22: Natural | C22: ='Pivot CB'!K7 -> 48529035 | D22: ='Pivot CB'!J7 -> 46724249 | E22: ='Pivot CB'!I7 -> 46166070 | F22: ='Pivot CB'!H7 -> 45682828 | G22: ='Pivot CB'!G7 -> 43369025 | H22: =(E22-F22) -> 483241.95 | I22: =H22/E22 -> 0.01046747 | J22: =(F22-G22) -> 2313803.2 | K22: =J22/G22 -> 0.053351516
A23: Chesapeake Bay WSHD | B23: Septic | C23: ='Pivot CB'!K8 -> 5451390.7 | D23: ='Pivot CB'!J8 -> 7226368.4 | E23: ='Pivot CB'!I8 -> 7562097.6 | F23: ='Pivot CB'!H8 -> 7835601.9 | G23: ='Pivot CB'!G8 -> 6288578.5 | H23: =(E23-F23) -> -273504.39 | I23: =H23/E23 -> -0.036167795 | J23: =(F23-G23) -> 1547023.5 | K23: =J23/G23 -> 0.24600527
A24: Chesapeake Bay WSHD | B24: Wastewater | C24: ='Pivot CB'!K9 -> 93603223 | D24: ='Pivot CB'!J9 -> 59952119 | E24: ='Pivot CB'!I9 -> 56589825 | F24: ='Pivot CB'!H9 -> 36577186 | G24: ='Pivot CB'!G9 -> 42796497 | H24: =(E24-F24) -> 20012639 | I24: =H24/E24 -> 0.35364377 | J24: =(F24-G24) -> -6219310.5 | K24: =J24/G24 -> -0.14532289
A25: =A24 -> Chesapeake Bay WSHD | B25: ALL | C25: =SUM(C20:C24) -> 3.3122836e+08 | D25: =SUM(D20:D24) -> 2.8132356e+08 | E25: =SUM(E20:E24) -> 2.7090896e+08 | F25: =SUM(F20:F24) -> 2.4978287e+08 | G25: =SUM(G20:G24) -> 1.9558598e+08 | H25: =(E25-F25) -> 21126090 | I25: =H25/E25 -> 0.07798225 | J25: =(F25-G25) -> 54196894 | K25: =J25/G25 -> 0.2771001
A26: Maryland | B26: Agriculture | C26: ='Pivot MD&VA'!K3 -> 34272099 | D26: ='Pivot MD&VA'!J3 -> 25427756 | E26: ='Pivot MD&VA'!I3 -> 22978436 | F26: ='Pivot MD&VA'!H3 -> 22376859 | G26: ='Pivot MD&VA'!G3 -> 18656199 | H26: =(E26-F26) -> 601577.25 | I26: =H26/E26 -> 0.026180078 | J26: =(F26-G26) -> 3720660 | K26: =J26/G26 -> 0.1994329
A27: Maryland | B27: Developed | C27: ='Pivot MD&VA'!K4 -> 6590782 | D27: ='Pivot MD&VA'!J4 -> 8910929 | E27: ='Pivot MD&VA'!I4 -> 9009369.1 | F27: ='Pivot MD&VA'!H4 -> 9351599.1 | G27: ='Pivot MD&VA'!G4 -> 7692434 | H27: =(E27-F27) -> -342230 | I27: =H27/E27 -> -0.037986012 | J27: =(F27-G27) -> 1659165.1 | K27: =J27/G27 -> 0.21568793
A28: Maryland | B28: Natural | C28: ='Pivot MD&VA'!K5 -> 8866999.9 | D28: ='Pivot MD&VA'!J5 -> 8246805.8 | E28: ='Pivot MD&VA'!I5 -> 8081053.6 | F28: ='Pivot MD&VA'!H5 -> 8098300.8 | G28: ='Pivot MD&VA'!G5 -> 7877550.8 | H28: =(E28-F28) -> -17247.203 | I28: =H28/E28 -> -0.0021342766 | J28: =(F28-G28) -> 220750 | K28: =J28/G28 -> 0.02802267
A29: Maryland | B29: Septic | C29: ='Pivot MD&VA'!K6 -> 2123635.8 | D29: ='Pivot MD&VA'!J6 -> 2932749.6 | E29: ='Pivot MD&VA'!I6 -> 3046890 | F29: ='Pivot MD&VA'!H6 -> 3090474.2 | G29: ='Pivot MD&VA'!G6 -> 2200558.5 | H29: =(E29-F29) -> -43584.223 | I29: =H29/E29 -> -0.014304495 | J29: =(F29-G29) -> 889915.64 | K29: =J29/G29 -> 0.40440444
A30: Maryland | B30: Wastewater | C30: ='Pivot MD&VA'!K7 -> 32218029 | D30: ='Pivot MD&VA'!J7 -> 16598976 | E30: ='Pivot MD&VA'!I7 -> 14396665 | F30: ='Pivot MD&VA'!H7 -> 11306504 | G30: ='Pivot MD&VA'!G7 -> 11249980 | H30: =(E30-F30) -> 3090161.4 | I30: =H30/E30 -> 0.21464424 | J30: =(F30-G30) -> 56524.464 | K30: =J30/G30 -> 0.0050244059
A31: =A30 -> Maryland | B31: ALL | C31: =SUM(C26:C30) -> 84071546 | D31: =SUM(D26:D30) -> 62117216 | E31: =SUM(E26:E30) -> 57512415 | F31: =SUM(F26:F30) -> 54223737 | G31: =SUM(G26:G30) -> 47676722 | H31: =(E31-F31) -> 3288677.2 | I31: =H31/E31 -> 0.05718204 | J31: =(F31-G31) -> 6547015.2 | K31: =J31/G31 -> 0.137321
A32: Virginia | B32: Agriculture | C32: ='Pivot MD&VA'!K9 -> 24955425 | D32: ='Pivot MD&VA'!J9 -> 21675892 | E32: ='Pivot MD&VA'!I9 -> 20407591 | F32: ='Pivot MD&VA'!H9 -> 19726462 | G32: ='Pivot MD&VA'!G9 -> 10517703 | H32: =(E32-F32) -> 681129.38 | I32: =H32/E32 -> 0.033376275 | J32: =(F32-G32) -> 9208758.8 | K32: =J32/G32 -> 0.87554847
A33: Virginia | B33: Developed | C33: ='Pivot MD&VA'!K10 -> 6692618.3 | D33: ='Pivot MD&VA'!J10 -> 9688661.3 | E33: ='Pivot MD&VA'!I10 -> 10143140 | F33: ='Pivot MD&VA'!H10 -> 10805130 | G33: ='Pivot MD&VA'!G10 -> 9838055.3 | H33: =(E33-F33) -> -661990.65 | I33: =H33/E33 -> -0.065264867 | J33: =(F33-G33) -> 967074.97 | K33: =J33/G33 -> 0.098299404
A34: Virginia | B34: Natural | C34: ='Pivot MD&VA'!K11 -> 13692855 | D34: ='Pivot MD&VA'!J11 -> 13229103 | E34: ='Pivot MD&VA'!I11 -> 13049459 | F34: ='Pivot MD&VA'!H11 -> 12763352 | G34: ='Pivot MD&VA'!G11 -> 12174162 | H34: =(E34-F34) -> 286106.65 | I34: =H34/E34 -> 0.021924791 | J34: =(F34-G34) -> 589189.59 | K34: =J34/G34 -> 0.048396726
A35: Virginia | B35: Septic | C35: ='Pivot MD&VA'!K12 -> 1333419.2 | D35: ='Pivot MD&VA'!J12 -> 1859356.8 | E35: ='Pivot MD&VA'!I12 -> 1970591.2 | F35: ='Pivot MD&VA'!H12 -> 2117299.7 | G35: ='Pivot MD&VA'!G12 -> 1994387.7 | H35: =(E35-F35) -> -146708.46 | I35: =H35/E35 -> -0.074448956 | J35: =(F35-G35) -> 122911.99 | K35: =J35/G35 -> 0.061628934
A36: Virginia | B36: Wastewater | C36: ='Pivot MD&VA'!K13 -> 35591762 | D36: ='Pivot MD&VA'!J13 -> 23032149 | E36: ='Pivot MD&VA'!I13 -> 21773646 | F36: ='Pivot MD&VA'!H13 -> 12313038 | G36: ='Pivot MD&VA'!G13 -> 15044774 | H36: =(E36-F36) -> 9460608.1 | I36: =H36/E36 -> 0.4344981 | J36: =(F36-G36) -> -2731735.8 | K36: =J36/G36 -> -0.18157373
A37: =A36 -> Virginia | B37: ALL | C37: =SUM(C32:C36) -> 82266080 | D37: =SUM(D32:D36) -> 69485162 | E37: =SUM(E32:E36) -> 67344427 | F37: =SUM(F32:F36) -> 57725282 | G37: =SUM(G32:G36) -> 49569082 | H37: =(E37-F37) -> 9619145 | I37: =H37/E37 -> 0.14283506 | J37: =(F37-G37) -> 8156199.5 | K37: =J37/G37 -> 0.16454207
A39: Geography | B39: Source | C39: 1985 Progress_P Load EOT | D39: 2005 Progress_P Load EOT | E39: 2009 Progress_P Load EOT | F39: 2017 Progress V9_P Load EOT | G39: WIP 2_ P Load EOT | H39: Δ (2009-2017) | I39: Percent Progress-Since 2009 | J39: Δ (2009-2025 WIP2) | K39: Percent Progress
A40: NVRC | B40: Agriculture | C40: ='Pivot NOVA'!P5 -> 103318.35 | D40: ='Pivot NOVA'!O5 -> 61280.857 | E40: ='Pivot NOVA'!N5 -> 51165.775 | F40: ='Pivot NOVA'!M5 -> 41551.759 | G40: ='Pivot NOVA'!L5 -> 25209.332 | H40: =(E40-F40) -> 9614.0155 | I40: =H40/E40 -> 0.18789934 | J40: =(F40-G40) -> 16342.427 | K40: =J40/G40 -> 0.64826896
A41: NVRC | B41: Developed | C41: ='Pivot NOVA'!P6 -> 104864.96 | D41: ='Pivot NOVA'!O6 -> 177283.67 | E41: ='Pivot NOVA'!N6 -> 193295.51 | F41: ='Pivot NOVA'!M6 -> 213399.93 | G41: ='Pivot NOVA'!L6 -> 214909.62 | H41: =(E41-F41) -> -20104.418 | I41: =H41/E41 -> -0.10400872 | J41: =(F41-G41) -> -1509.6981 | K41: =J41/G41 -> -0.0070248046
...

Sheet Combined TP
A1: Geography | B1: Source | C1: 1985 Progress_P Load EOT | D1: 2005 Progress_P Load EOT | E1: 2009 Progress_P Load EOT | F1: 2017 Progress V9_P Load EOT | G1: WIP 2_ P Load EOT | H1: 1985 | I1: 2005 | J1: 2009 | K1: 2017 | L1: 2025
A2: NVRC | B2: Agriculture | C2: ='[1]Pivot NOVA'!P5 -> 103318.35 | D2: ='[1]Pivot NOVA'!O5 -> 61280.857 | E2: ='[1]Pivot NOVA'!N5 -> 51165.775 | F2: ='[1]Pivot NOVA'!M5 -> 41551.759 | G2: ='[1]Pivot NOVA'!L5 -> 25209.332 | H2: =C2/C2 -> 1 | I2: =D2/$C2 -> 0.59312653 | J2: =E2/$C2 -> 0.49522445 | K2: =F2/$C2 -> 0.4021721 | L2: =G2/$C2 -> 0.24399665
A3: NVRC | B3: Developed | C3: ='[1]Pivot NOVA'!P6 -> 104864.96 | D3: ='[1]Pivot NOVA'!O6 -> 177283.67 | E3: ='[1]Pivot NOVA'!N6 -> 193295.51 | F3: ='[1]Pivot NOVA'!M6 -> 213399.93 | G3: ='[1]Pivot NOVA'!L6 -> 214909.62 | H3: =C3/C3 -> 1 | I3: =D3/$C3 -> 1.6905902 | J3: =E3/$C3 -> 1.8432802 | K3: =F3/$C3 -> 2.0349974 | L3: =G3/$C3 -> 2.049394
A4: NVRC | B4: Natural | C4: ='[1]Pivot NOVA'!P7 -> 180070.86 | D4: ='[1]Pivot NOVA'!O7 -> 179380.25 | E4: ='[1]Pivot NOVA'!N7 -> 190462.08 | F4: ='[1]Pivot NOVA'!M7 -> 172128.5 | G4: ='[1]Pivot NOVA'!L7 -> 184314.63 | H4: =C4/C4 -> 1 | I4: =D4/$C4 -> 0.9961648 | J4: =E4/$C4 -> 1.0577063 | K4: =F4/$C4 -> 0.95589313 | L4: =G4/$C4 -> 1.0235672
A5: NVRC | B5: Septic | C5: ='[1]Pivot NOVA'!P8 -> 75.112105 | D5: ='[1]Pivot NOVA'!O8 -> 75.112105 | E5: ='[1]Pivot NOVA'!N8 -> 75.112105 | F5: ='[1]Pivot NOVA'!M8 -> 75.112105 | G5: ='[1]Pivot NOVA'!L8 -> 75.112105 | H5: =C5/C5 -> 1 | I5: =D5/$C5 -> 1 | J5: =E5/$C5 -> 1 | K5: =F5/$C5 -> 1 | L5: =G5/$C5 -> 1
A6: NVRC | B6: Wastewater | C6: ='[1]Pivot NOVA'!P9 -> 128094.88 | D6: ='[1]Pivot NOVA'!O9 -> 105869.6 | E6: ='[1]Pivot NOVA'!N9 -> 249018.28 | F6: ='[1]Pivot NOVA'!M9 -> 46335.819 | G6: ='[1]Pivot NOVA'!L9 -> 138486.66 | H6: =C6/C6 -> 1 | I6: =D6/$C6 -> 0.82649364 | J6: =E6/$C6 -> 1.9440143 | K6: =F6/$C6 -> 0.36173046 | L6: =G6/$C6 -> 1.0811257
A7: =A6 -> NVRC | B7: ALL | C7: =SUM(C2:C6) -> 516424.17 | D7: =SUM(D2:D6) -> 523889.49 | E7: =SUM(E2:E6) -> 684016.75 | F7: =SUM(F2:F6) -> 473491.11 | G7: =SUM(G2:G6) -> 562995.36 | H7: =C7/C7 -> 1 | I7: =D7/$C7 -> 1.0144558 | J7: =E7/$C7 -> 1.3245251 | K7: =F7/$C7 -> 0.91686475 | L7: =G7/$C7 -> 1.0901801
A8: Washington, DC | B8: Agriculture | C8: ='[1]Pivot DC'!P5 -> 0 | D8: ='[1]Pivot DC'!O5 -> 0 | E8: ='[1]Pivot DC'!N5 -> 0 | F8: ='[1]Pivot DC'!M5 -> 0 | G8: ='[1]Pivot DC'!L5 -> 0
A9: Washington, DC | B9: Developed | C9: ='[1]Pivot DC'!P6 -> 13515.384 | D9: ='[1]Pivot DC'!O6 -> 15106.059 | E9: ='[1]Pivot DC'!N6 -> 14959.18 | F9: ='[1]Pivot DC'!M6 -> 13088.555 | G9: ='[1]Pivot DC'!L6 -> 14830.785 | H9: =C9/C9 -> 1 | I9: =D9/$C9 -> 1.1176936 | J9: =E9/$C9 -> 1.1068262 | K9: =F9/$C9 -> 0.96841903 | L9: =G9/$C9 -> 1.0973262
A10: Washington, DC | B10: Natural | C10: ='[1]Pivot DC'!P7 -> 4160.8117 | D10: ='[1]Pivot DC'!O7 -> 4359.1825 | E10: ='[1]Pivot DC'!N7 -> 4060.0524 | F10: ='[1]Pivot DC'!M7 -> 3819.625 | G10: ='[1]Pivot DC'!L7 -> 2241.9842 | H10: =C10/C10 -> 1 | I10: =D10/$C10 -> 1.047676 | J10: =E10/$C10 -> 0.97578373 | K10: =F10/$C10 -> 0.91799996 | L10: =G10/$C10 -> 0.53883336
A11: Washington, DC | B11: Septic | C11: ='[1]Pivot DC'!P8 -> 0 | D11: ='[1]Pivot DC'!O8 -> 0 | E11: ='[1]Pivot DC'!N8 -> 0 | F11: ='[1]Pivot DC'!M8 -> 0 | G11: ='[1]Pivot DC'!L8 -> 0
A12: Washington, DC | B12: Wastewater | C12: ='[1]Pivot DC'!P9 -> 71933.257 | D12: ='[1]Pivot DC'!O9 -> 87205.84 | E12: ='[1]Pivot DC'!N9 -> 53253.006 | F12: ='[1]Pivot DC'!M9 -> 59270.146 | G12: ='[1]Pivot DC'!L9 -> 123881.28 | H12: =C12/C12 -> 1 | I12: =D12/$C12 -> 1.212316 | J12: =E12/$C12 -> 0.74031134 | K12: =F12/$C12 -> 0.82396028 | L12: =G12/$C12 -> 1.7221698
A13: =A12 -> Washington, DC | B13: ALL | C13: =SUM(C8:C12) -> 89609.452 | D13: =SUM(D8:D12) -> 106671.08 | E13: =SUM(E8:E12) -> 72272.239 | F13: =SUM(F8:F12) -> 76178.326 | G13: =SUM(G8:G12) -> 140954.05 | H13: =C13/C13 -> 1 | I13: =D13/$C13 -> 1.1903999 | J13: =E13/$C13 -> 0.80652472 | K13: =F13/$C13 -> 0.85011485 | L13: =G13/$C13 -> 1.572982
A14: MD-COG | B14: Agriculture | C14: ='[1]Pivot MD COG'!P33 -> 327363.53 | D14: ='[1]Pivot MD COG'!O33 -> 144435.98 | E14: ='[1]Pivot MD COG'!N33 -> 116589.48 | F14: ='[1]Pivot MD COG'!M33 -> 95274.519 | G14: ='[1]Pivot MD COG'!L33 -> 74160.538 | H14: =C14/C14 -> 1 | I14: =D14/$C14 -> 0.44120976 | J14: =E14/$C14 -> 0.35614682 | K14: =F14/$C14 -> 0.29103584 | L14: =G14/$C14 -> 0.22653879
A15: MD-COG | B15: Developed | C15: ='[1]Pivot MD COG'!P34 -> 172304.16 | D15: ='[1]Pivot MD COG'!O34 -> 203907.87 | E15: ='[1]Pivot MD COG'!N34 -> 195298.16 | F15: ='[1]Pivot MD COG'!M34 -> 189529.27 | G15: ='[1]Pivot MD COG'!L34 -> 141207.09 | H15: =C15/C15 -> 1 | I15: =D15/$C15 -> 1.1834182 | J15: =E15/$C15 -> 1.1334501 | K15: =F15/$C15 -> 1.0999692 | L15: =G15/$C15 -> 0.81952227
A16: MD-COG | B16: Natural | C16: ='[1]Pivot MD COG'!P35 -> 405403.27 | D16: ='[1]Pivot MD COG'!O35 -> 316217.03 | E16: ='[1]Pivot MD COG'!N35 -> 302822.71 | F16: ='[1]Pivot MD COG'!M35 -> 284546.79 | G16: ='[1]Pivot MD COG'!L35 -> 272174.21 | H16: =C16/C16 -> 1 | I16: =D16/$C16 -> 0.78000612 | J16: =E16/$C16 -> 0.74696663 | K16: =F16/$C16 -> 0.70188578 | L16: =G16/$C16 -> 0.67136659
A17: MD-COG | B17: Septic | C17: ='[1]Pivot MD COG'!P36 -> 0 | D17: ='[1]Pivot MD COG'!O36 -> 130.37375 | E17: ='[1]Pivot MD COG'!N36 -> 96.235752 | F17: ='[1]Pivot MD COG'!M36 -> 384.55307 | G17: ='[1]Pivot MD COG'!L36 -> 51.685651
A18: MD-COG | B18: Wastewater | C18: ='[1]Pivot MD COG'!P37 -> 416664.88 | D18: ='[1]Pivot MD COG'!O37 -> 155028.97 | E18: ='[1]Pivot MD COG'!N37 -> 116529.05 | F18: ='[1]Pivot MD COG'!M37 -> 84764.114 | G18: ='[1]Pivot MD COG'!L37 -> 214868.28 | H18: =C18/C18 -> 1 | I18: =D18/$C18 -> 0.37207112 | J18: =E18/$C18 -> 0.27967092 | K18: =F18/$C18 -> 0.20343475 | L18: =G18/$C18 -> 0.51568609
A19: =A18 -> MD-COG | B19: ALL | C19: =SUM(C14:C18) -> 1321735.8 | D19: =SUM(D14:D18) -> 819720.23 | E19: =SUM(E14:E18) -> 731335.63 | F19: =SUM(F14:F18) -> 654499.25 | G19: =SUM(G14:G18) -> 702461.81 | H19: =C19/C19 -> 1 | I19: =D19/$C19 -> 0.62018462 | J19: =E19/$C19 -> 0.55331453 | K19: =F19/$C19 -> 0.49518159 | L19: =G19/$C19 -> 0.53146914
A20: Bay Watershed | B20: Agriculture | C20: ='[1]Pivot CB'!P5 -> 7594014.3 | D20: ='[1]Pivot CB'!O5 -> 5029055.7 | E20: ='[1]Pivot CB'!N5 -> 4453680.7 | F20: ='[1]Pivot CB'!M5 -> 4131962.6 | G20: ='[1]Pivot CB'!L5 -> 2509665.4 | H20: =C20/C20 -> 1 | I20: =D20/$C20 -> 0.66223942 | J20: =E20/$C20 -> 0.58647252 | K20: =F20/$C20 -> 0.54410782 | L20: =G20/$C20 -> 0.33047942
A21: Bay Watershed | B21: Developed | C21: ='[1]Pivot CB'!P6 -> 1786751.8 | D21: ='[1]Pivot CB'!O6 -> 2506834.7 | E21: ='[1]Pivot CB'!N6 -> 2545072.6 | F21: ='[1]Pivot CB'!M6 -> 2609638 | G21: ='[1]Pivot CB'!L6 -> 2073898.5 | H21: =C21/C21 -> 1 | I21: =D21/$C21 -> 1.4030123 | J21: =E21/$C21 -> 1.4244131 | K21: =F21/$C21 -> 1.4605486 | L21: =G21/$C21 -> 1.1607087
A22: Bay Watershed | B22: Natural | C22: ='[1]Pivot CB'!P7 -> 7091089 | D22: ='[1]Pivot CB'!O7 -> 6194555.8 | E22: ='[1]Pivot CB'!N7 -> 5946942.8 | F22: ='[1]Pivot CB'!M7 -> 5697901.4 | G22: ='[1]Pivot CB'!L7 -> 5247432 | H22: =C22/C22 -> 1 | I22: =D22/$C22 -> 0.87356904 | J22: =E22/$C22 -> 0.83865014 | K22: =F22/$C22 -> 0.80352981 | L22: =G22/$C22 -> 0.74000369
A23: Bay Watershed | B23: Septic | C23: ='[1]Pivot CB'!P8 -> 1574.0711 | D23: ='[1]Pivot CB'!O8 -> 1875.9257 | E23: ='[1]Pivot CB'!N8 -> 2102.0489 | F23: ='[1]Pivot CB'!M8 -> 2167.1142 | G23: ='[1]Pivot CB'!L8 -> 1857.7325 | H23: =C23/C23 -> 1 | I23: =D23/$C23 -> 1.1917668 | J23: =E23/$C23 -> 1.3354218 | K23: =F23/$C23 -> 1.3767575 | L23: =G23/$C23 -> 1.1802087
A24: Bay Watershed | B24: Wastewater | C24: ='[1]Pivot CB'!P9 -> 12799342 | D24: ='[1]Pivot CB'!O9 -> 4872640.2 | E24: ='[1]Pivot CB'!N9 -> 4125943 | F24: ='[1]Pivot CB'!M9 -> 2402081.8 | G24: ='[1]Pivot CB'!L9 -> 3251042.8 | H24: =C24/C24 -> 1 | I24: =D24/$C24 -> 0.3806946 | J24: =E24/$C24 -> 0.32235587 | K24: =F24/$C24 -> 0.18767229 | L24: =G24/$C24 -> 0.25400079
B25: ALL | C25: =SUM(C20:C24) -> 29272771 | D25: =SUM(D20:D24) -> 18604962 | E25: =SUM(E20:E24) -> 17073741 | F25: =SUM(F20:F24) -> 14843751 | G25: =SUM(G20:G24) -> 13083896 | H25: =C25/C25 -> 1 | I25: =D25/$C25 -> 0.6355723 | J25: =E25/$C25 -> 0.58326358 | K25: =F25/$C25 -> 0.5070839 | L25: =G25/$C25 -> 0.44696474
A26: Maryland | B26: Agriculture | C26: ='[1]Pivot MD&VA'!P3 -> 1890831.1 | D26: ='[1]Pivot MD&VA'!O3 -> 850834.48 | E26: ='[1]Pivot MD&VA'!N3 -> 701705.21 | F26: ='[1]Pivot MD&VA'!M3 -> 645858.62 | G26: ='[1]Pivot MD&VA'!L3 -> 528868.69 | H26: =C26/C26 -> 1 | I26: =D26/$C26 -> 0.44997911 | J26: =E26/$C26 -> 0.37110942 | K26: =F26/$C26 -> 0.34157394 | L26: =G26/$C26 -> 0.27970172
A27: Maryland | B27: Developed | C27: ='[1]Pivot MD&VA'!P4 -> 604031.19 | D27: ='[1]Pivot MD&VA'!O4 -> 727365.47 | E27: ='[1]Pivot MD&VA'!N4 -> 685731.55 | F27: ='[1]Pivot MD&VA'!M4 -> 673835.28 | G27: ='[1]Pivot MD&VA'!L4 -> 466884.2 | H27: =C27/C27 -> 1 | I27: =D27/$C27 -> 1.2041853 | J27: =E27/$C27 -> 1.1352585 | K27: =F27/$C27 -> 1.1155637 | L27: =G27/$C27 -> 0.77294717
A28: Maryland | B28: Natural | C28: ='[1]Pivot MD&VA'!P5 -> 2287295.2 | D28: ='[1]Pivot MD&VA'!O5 -> 1935550.9 | E28: ='[1]Pivot MD&VA'!N5 -> 1875516.7 | F28: ='[1]Pivot MD&VA'!M5 -> 1832489.9 | G28: ='[1]Pivot MD&VA'!L5 -> 1701061 | H28: =C28/C28 -> 1 | I28: =D28/$C28 -> 0.84621824 | J28: =E28/$C28 -> 0.81997143 | K28: =F28/$C28 -> 0.80116024 | L28: =G28/$C28 -> 0.74369982
A29: Maryland | B29: Septic | C29: ='[1]Pivot MD&VA'!P6 -> 122.79787 | D29: ='[1]Pivot MD&VA'!O6 -> 424.65247 | E29: ='[1]Pivot MD&VA'!N6 -> 650.77565 | F29: ='[1]Pivot MD&VA'!M6 -> 664.09138 | G29: ='[1]Pivot MD&VA'!L6 -> 406.45926 | H29: =C29/C29 -> 1 | I29: =D29/$C29 -> 3.4581421 | J29: =E29/$C29 -> 5.2995681 | K29: =F29/$C29 -> 5.4080042 | L29: =G29/$C29 -> 3.3099863
A30: Maryland | B30: Wastewater | C30: ='[1]Pivot MD&VA'!P7 -> 2639701 | D30: ='[1]Pivot MD&VA'!O7 -> 910583.38 | E30: ='[1]Pivot MD&VA'!N7 -> 784040.08 | F30: ='[1]Pivot MD&VA'!M7 -> 512228.68 | G30: ='[1]Pivot MD&VA'!L7 -> 767345.94 | H30: =C30/C30 -> 1 | I30: =D30/$C30 -> 0.34495702 | J30: =E30/$C30 -> 0.29701852 | K30: =F30/$C30 -> 0.19404799 | L30: =G30/$C30 -> 0.29069426
A31: =A30 -> Maryland | B31: ALL | C31: =SUM(C26:C30) -> 7421981.2 | D31: =SUM(D26:D30) -> 4424758.9 | E31: =SUM(E26:E30) -> 4047644.3 | F31: =SUM(F26:F30) -> 3665076.6 | G31: =SUM(G26:G30) -> 3464566.3 | H31: =C31/C31 -> 1 | I31: =D31/$C31 -> 0.59616951 | J31: =E31/$C31 -> 0.54535901 | K31: =F31/$C31 -> 0.49381378 | L31: =G31/$C31 -> 0.46679804
A32: Virginia | B32: Agriculture | C32: ='[1]Pivot MD&VA'!P9 -> 2431704.4 | D32: ='[1]Pivot MD&VA'!O9 -> 1771769.6 | E32: ='[1]Pivot MD&VA'!N9 -> 1618794.9 | F32: ='[1]Pivot MD&VA'!M9 -> 1568469.6 | G32: ='[1]Pivot MD&VA'!L9 -> 865718.34 | H32: =C32/C32 -> 1 | I32: =D32/$C32 -> 0.72861226 | J32: =E32/$C32 -> 0.66570382 | K32: =F32/$C32 -> 0.64500833 | L32: =G32/$C32 -> 0.35601298
A33: Virginia | B33: Developed | C33: ='[1]Pivot MD&VA'!P10 -> 740817.08 | D33: ='[1]Pivot MD&VA'!O10 -> 1187329.4 | E33: ='[1]Pivot MD&VA'!N10 -> 1241266.6 | F33: ='[1]Pivot MD&VA'!M10 -> 1328617.1 | G33: ='[1]Pivot MD&VA'!L10 -> 1221030.8 | H33: =C33/C33 -> 1 | I33: =D33/$C33 -> 1.6027295 | J33: =E33/$C33 -> 1.6755372 | K33: =F33/$C33 -> 1.7934483 | L33: =G33/$C33 -> 1.6482216
A34: Virginia | B34: Natural | C34: ='[1]Pivot MD&VA'!P11 -> 2664922 | D34: ='[1]Pivot MD&VA'!O11 -> 2426501 | E34: ='[1]Pivot MD&VA'!N11 -> 2348564.7 | F34: ='[1]Pivot MD&VA'!M11 -> 2276485 | G34: ='[1]Pivot MD&VA'!L11 -> 2158214.5 | H34: =C34/C34 -> 1 | I34: =D34/$C34 -> 0.91053361 | J34: =E34/$C34 -> 0.88128834 | K34: =F34/$C34 -> 0.85424075 | L34: =G34/$C34 -> 0.80986029
A35: Virginia | B35: Septic | C35: ='[1]Pivot MD&VA'!P12 -> 1243.2339 | D35: ='[1]Pivot MD&VA'!O12 -> 1243.2339 | E35: ='[1]Pivot MD&VA'!N12 -> 1243.2339 | F35: ='[1]Pivot MD&VA'!M12 -> 1243.2339 | G35: ='[1]Pivot MD&VA'!L12 -> 1243.2339 | H35: =C35/C35 -> 1 | I35: =D35/$C35 -> 1 | J35: =E35/$C35 -> 1 | K35: =F35/$C35 -> 1 | L35: =G35/$C35 -> 1
A36: Virginia | B36: Wastewater | C36: ='[1]Pivot MD&VA'!P13 -> 7692273.4 | D36: ='[1]Pivot MD&VA'!O13 -> 2169804 | E36: ='[1]Pivot MD&VA'!N13 -> 1773712.2 | F36: ='[1]Pivot MD&VA'!M13 -> 935519.96 | G36: ='[1]Pivot MD&VA'!L13 -> 1136913.6 | H36: =C36/C36 -> 1 | I36: =D36/$C36 -> 0.28207577 | J36: =E36/$C36 -> 0.23058362 | K36: =F36/$C36 -> 0.12161814 | L36: =G36/$C36 -> 0.14779943
A37: =A36 -> Virginia | B37: ALL | C37: =SUM(C32:C36) -> 13530960 | D37: =SUM(D32:D36) -> 7556647.3 | E37: =SUM(E32:E36) -> 6983581.6 | F37: =SUM(F32:F36) -> 6110334.9 | G37: =SUM(G32:G36) -> 5383120.4 | H37: =C37/C37 -> 1 | I37: =D37/$C37 -> 0.55847089 | J37: =E37/$C37 -> 0.51611871 | K37: =F37/$C37 -> 0.45158177 | L37: =G37/$C37 -> 0.39783728

Sheet Combined TN
A1: Geography | B1: Source | C1: 1985 Progress_N Load EOT | D1: 2005 Progress_N Load EOT | E1: 2009 Progress_N Load EOT | F1: 2017 Progress V9_N Load EOT | G1: WIP 2_N Load EOT | H1: 1985 | I1: 2005 | J1: 2009 | K1: 2017 | L1: 2025
A2: NVRC | B2: Agriculture | C2: ='Pivot NOVA'!K5 -> 1094996.9 | D2: ='Pivot NOVA'!J5 -> 785169.06 | E2: ='Pivot NOVA'!I5 -> 723320.17 | F2: ='Pivot NOVA'!H5 -> 608096.37 | G2: ='Pivot NOVA'!G5 -> 339368.3 | H2: =C2/C2 -> 1 | I2: =D2/$C2 -> 0.71705143 | J2: =E2/$C2 -> 0.66056826 | K2: =F2/$C2 -> 0.55534074 | L2: =G2/$C2 -> 0.30992628
A3: NVRC | B3: Developed | C3: ='Pivot NOVA'!K6 -> 905450.65 | D3: ='Pivot NOVA'!J6 -> 1407522.9 | E3: ='Pivot NOVA'!I6 -> 1515258.6 | F3: ='Pivot NOVA'!H6 -> 1659504.8 | G3: ='Pivot NOVA'!G6 -> 1614679.5 | H3: =C3/C3 -> 1 | I3: =D3/$C3 -> 1.5544999 | J3: =E3/$C3 -> 1.6734856 | K3: =F3/$C3 -> 1.8327943 | L3: =G3/$C3 -> 1.7832882
A4: NVRC | B4: Natural | C4: ='Pivot NOVA'!K7 -> 884302.21 | D4: ='Pivot NOVA'!J7 -> 800156.78 | E4: ='Pivot NOVA'!I7 -> 793839.44 | F4: ='Pivot NOVA'!H7 -> 771020.07 | G4: ='Pivot NOVA'!G7 -> 785000 | H4: =C4/C4 -> 1 | I4: =D4/$C4 -> 0.90484539 | J4: =E4/$C4 -> 0.89770152 | K4: =F4/$C4 -> 0.87189658 | L4: =G4/$C4 -> 0.88770558
A5: NVRC | B5: Septic | C5: ='Pivot NOVA'!K8 -> 91904.8 | D5: ='Pivot NOVA'!J8 -> 146525.89 | E5: ='Pivot NOVA'!I8 -> 157396.62 | F5: ='Pivot NOVA'!H8 -> 202959.09 | G5: ='Pivot NOVA'!G8 -> 241776.6 | H5: =C5/C5 -> 1 | I5: =D5/$C5 -> 1.5943225 | J5: =E5/$C5 -> 1.712605 | K5: =F5/$C5 -> 2.2083622 | L5: =G5/$C5 -> 2.6307288
A6: NVRC | B6: Wastewater | C6: ='Pivot NOVA'!K9 -> 6698623.7 | D6: ='Pivot NOVA'!J9 -> 2800892.6 | E6: ='Pivot NOVA'!I9 -> 2475344.2 | F6: ='Pivot NOVA'!H9 -> 1287225.1 | G6: ='Pivot NOVA'!G9 -> 2502009.1 | H6: =C6/C6 -> 1 | I6: =D6/$C6 -> 0.41812956 | J6: =E6/$C6 -> 0.36953026 | K6: =F6/$C6 -> 0.19216262 | L6: =G6/$C6 -> 0.37351091
A7: =A6 -> NVRC | B7: ALL | C7: =SUM(C2:C6) -> 9675278.2 | D7: =SUM(D2:D6) -> 5940267.3 | E7: =SUM(E2:E6) -> 5665159 | F7: =SUM(F2:F6) -> 4528805.4 | G7: =SUM(G2:G6) -> 5482833.4 | H7: =C7/C7 -> 1 | I7: =D7/$C7 -> 0.61396346 | J7: =E7/$C7 -> 0.58552931 | K7: =F7/$C7 -> 0.46808012 | L7: =G7/$C7 -> 0.56668483
A8: Washington, DC | B8: Agriculture | C8: ='Pivot DC'!K5 -> 0 | D8: ='Pivot DC'!J5 -> 0 | E8: ='Pivot DC'!I5 -> 0 | F8: ='Pivot DC'!H5 -> 0 | G8: ='Pivot DC'!G5 -> 0
A9: Washington, DC | B9: Developed | C9: ='Pivot DC'!K6 -> 164429.15 | D9: ='Pivot DC'!J6 -> 170702.91 | E9: ='Pivot DC'!I6 -> 173098.49 | F9: ='Pivot DC'!H6 -> 163142.28 | G9: ='Pivot DC'!G6 -> 165489.99 | H9: =C9/C9 -> 1 | I9: =D9/$C9 -> 1.0381548 | J9: =E9/$C9 -> 1.0527238 | K9: =F9/$C9 -> 0.99217371 | L9: =G9/$C9 -> 1.0064516
A10: Washington, DC | B10: Natural | C10: ='Pivot DC'!K7 -> 26114.325 | D10: ='Pivot DC'!J7 -> 24187.692 | E10: ='Pivot DC'!I7 -> 23775.781 | F10: ='Pivot DC'!H7 -> 22479.364 | G10: ='Pivot DC'!G7 -> 19989.642 | H10: =C10/C10 -> 1 | I10: =D10/$C10 -> 0.92622313 | J10: =E10/$C10 -> 0.91044975 | K10: =F10/$C10 -> 0.86080586 | L10: =G10/$C10 -> 0.76546654
A11: Washington, DC | B11: Septic | C11: ='Pivot DC'!K8 -> 405.69806 | D11: ='Pivot DC'!J8 -> 269.36715 | E11: ='Pivot DC'!I8 -> 193.8359 | F11: ='Pivot DC'!H8 -> 173.22532 | G11: ='Pivot DC'!G8 -> 173.22532 | H11: =C11/C11 -> 1 | I11: =D11/$C11 -> 0.66395966 | J11: =E11/$C11 -> 0.47778364 | K11: =F11/$C11 -> 0.42698088 | L11: =G11/$C11 -> 0.42698088
A12: Washington, DC | B12: Wastewater | C12: ='Pivot DC'!K9 -> 6289206.2 | D12: ='Pivot DC'!J9 -> 2505683 | E12: ='Pivot DC'!I9 -> 2567723.3 | F12: ='Pivot DC'!H9 -> 1358842 | G12: ='Pivot DC'!G9 -> 2246536.5 | H12: =C12/C12 -> 1 | I12: =D12/$C12 -> 0.39841006 | J12: =E12/$C12 -> 0.40827462 | K12: =F12/$C12 -> 0.21605937 | L12: =G12/$C12 -> 0.35720509
A13: =A12 -> Washington, DC | B13: ALL | C13: =SUM(C8:C12) -> 6480155.4 | D13: =SUM(D8:D12) -> 2700843 | E13: =SUM(E8:E12) -> 2764791.4 | F13: =SUM(F8:F12) -> 1544636.8 | G13: =SUM(G8:G12) -> 2432189.4 | H13: =C13/C13 -> 1 | I13: =D13/$C13 -> 0.41678676 | J13: =E13/$C13 -> 0.4266551 | K13: =F13/$C13 -> 0.23836417 | L13: =G13/$C13 -> 0.37532886
A14: MD-COG | B14: Agriculture | C14: ='Pivot MD COG'!K33 -> 6770452.3 | D14: ='Pivot MD COG'!J33 -> 4467516.7 | E14: ='Pivot MD COG'!I33 -> 4053660.6 | F14: ='Pivot MD COG'!H33 -> 3745978.1 | G14: ='Pivot MD COG'!G33 -> 3409614.6 | H14: =C14/C14 -> 1 | I14: =D14/$C14 -> 0.65985498 | J14: =E14/$C14 -> 0.59872818 | K14: =F14/$C14 -> 0.55328328 | L14: =G14/$C14 -> 0.50360219
A15: MD-COG | B15: Developed | C15: ='Pivot MD COG'!K34 -> 1672831.6 | D15: ='Pivot MD COG'!J34 -> 2359317.5 | E15: ='Pivot MD COG'!I34 -> 2422358.5 | F15: ='Pivot MD COG'!H34 -> 2519348.6 | G15: ='Pivot MD COG'!G34 -> 2215627.5 | H15: =C15/C15 -> 1 | I15: =D15/$C15 -> 1.4103735 | J15: =E15/$C15 -> 1.4480587 | K15: =F15/$C15 -> 1.5060383 | L15: =G15/$C15 -> 1.3244773
A16: MD-COG | B16: Natural | C16: ='Pivot MD COG'!K35 -> 1791797.4 | D16: ='Pivot MD COG'!J35 -> 1589475.5 | E16: ='Pivot MD COG'!I35 -> 1550355.3 | F16: ='Pivot MD COG'!H35 -> 1540748 | G16: ='Pivot MD COG'!G35 -> 1533311.1 | H16: =C16/C16 -> 1 | I16: =D16/$C16 -> 0.88708436 | J16: =E16/$C16 -> 0.86525143 | K16: =F16/$C16 -> 0.85988963 | L16: =G16/$C16 -> 0.85573909
A17: MD-COG | B17: Septic | C17: ='Pivot MD COG'!K36 -> 361258.94 | D17: ='Pivot MD COG'!J36 -> 569416.89 | E17: ='Pivot MD COG'!I36 -> 593826.34 | F17: ='Pivot MD COG'!H36 -> 615991.7 | G17: ='Pivot MD COG'!G36 -> 487820.9 | H17: =C17/C17 -> 1 | I17: =D17/$C17 -> 1.5762015 | J17: =E17/$C17 -> 1.6437692 | K17: =F17/$C17 -> 1.7051251 | L17: =G17/$C17 -> 1.3503359
A18: MD-COG | B18: Wastewater | C18: ='Pivot MD COG'!K37 -> 8574816.1 | D18: ='Pivot MD COG'!J37 -> 3853084.8 | E18: ='Pivot MD COG'!I37 -> 3543694.3 | F18: ='Pivot MD COG'!H37 -> 1991803.5 | G18: ='Pivot MD COG'!G37 -> 3957541.3 | H18: =C18/C18 -> 1 | I18: =D18/$C18 -> 0.44934897 | J18: =E18/$C18 -> 0.41326767 | K18: =F18/$C18 -> 0.23228527 | L18: =G18/$C18 -> 0.46153075
A19: =A18 -> MD-COG | B19: ALL | C19: =SUM(C14:C18) -> 19171156 | D19: =SUM(D14:D18) -> 12838811 | E19: =SUM(E14:E18) -> 12163895 | F19: =SUM(F14:F18) -> 10413870 | G19: =SUM(G14:G18) -> 11603915 | H19: =C19/C19 -> 1 | I19: =D19/$C19 -> 0.66969415 | J19: =E19/$C19 -> 0.63448937 | K19: =F19/$C19 -> 0.54320509 | L19: =G19/$C19 -> 0.60527989
A20: Bay Watershed | B20: Agriculture | C20: ='Pivot CB'!K5 -> 1.5628408e+08 | D20: ='Pivot CB'!J5 -> 1.3060557e+08 | E20: ='Pivot CB'!I5 -> 1.2267305e+08 | F20: ='Pivot CB'!H5 -> 1.2010248e+08 | G20: ='Pivot CB'!G5 -> 73120903 | H20: =C20/C20 -> 1 | I20: =D20/$C20 -> 0.83569337 | J20: =E20/$C20 -> 0.78493634 | K20: =F20/$C20 -> 0.76848827 | L20: =G20/$C20 -> 0.46787174
A21: Bay Watershed | B21: Developed | C21: ='Pivot CB'!K6 -> 27360634 | D21: ='Pivot CB'!J6 -> 36815256 | E21: ='Pivot CB'!I6 -> 37917917 | F21: ='Pivot CB'!H6 -> 39584775 | G21: ='Pivot CB'!G6 -> 30010973 | H21: =C21/C21 -> 1 | I21: =D21/$C21 -> 1.3455556 | J21: =E21/$C21 -> 1.3858566 | K21: =F21/$C21 -> 1.4467784 | L21: =G21/$C21 -> 1.0968668
A22: Bay Watershed | B22: Natural | C22: ='Pivot CB'!K7 -> 48529035 | D22: ='Pivot CB'!J7 -> 46724249 | E22: ='Pivot CB'!I7 -> 46166070 | F22: ='Pivot CB'!H7 -> 45682828 | G22: ='Pivot CB'!G7 -> 43369025 | H22: =C22/C22 -> 1 | I22: =D22/$C22 -> 0.96281019 | J22: =E22/$C22 -> 0.95130823 | K22: =F22/$C22 -> 0.94135044 | L22: =G22/$C22 -> 0.8936717
A23: Bay Watershed | B23: Septic | C23: ='Pivot CB'!K8 -> 5451390.7 | D23: ='Pivot CB'!J8 -> 7226368.4 | E23: ='Pivot CB'!I8 -> 7562097.6 | F23: ='Pivot CB'!H8 -> 7835601.9 | G23: ='Pivot CB'!G8 -> 6288578.5 | H23: =C23/C23 -> 1 | I23: =D23/$C23 -> 1.3256009 | J23: =E23/$C23 -> 1.3871869 | K23: =F23/$C23 -> 1.4373583 | L23: =G23/$C23 -> 1.1535732
A24: Bay Watershed | B24: Wastewater | C24: ='Pivot CB'!K9 -> 93603223 | D24: ='Pivot CB'!J9 -> 59952119 | E24: ='Pivot CB'!I9 -> 56589825 | F24: ='Pivot CB'!H9 -> 36577186 | G24: ='Pivot CB'!G9 -> 42796497 | H24: =C24/C24 -> 1 | I24: =D24/$C24 -> 0.64049204 | J24: =E24/$C24 -> 0.60457134 | K24: =F24/$C24 -> 0.39076845 | L24: =G24/$C24 -> 0.45721178
A25: =A24 -> Bay Watershed | B25: ALL | C25: =SUM(C20:C24) -> 3.3122836e+08 | D25: =SUM(D20:D24) -> 2.8132356e+08 | E25: =SUM(E20:E24) -> 2.7090896e+08 | F25: =SUM(F20:F24) -> 2.4978287e+08 | G25: =SUM(G20:G24) -> 1.9558598e+08 | H25: =C25/C25 -> 1 | I25: =D25/$C25 -> 0.84933416 | J25: =E25/$C25 -> 0.81789181 | K25: =F25/$C25 -> 0.75411076 | L25: =G25/$C25 -> 0.59048681
A26: Maryland | B26: Agriculture | C26: ='Pivot MD&VA'!K3 -> 34272099 | D26: ='Pivot MD&VA'!J3 -> 25427756 | E26: ='Pivot MD&VA'!I3 -> 22978436 | F26: ='Pivot MD&VA'!H3 -> 22376859 | G26: ='Pivot MD&VA'!G3 -> 18656199 | H26: =C26/C26 -> 1 | I26: =D26/$C26 -> 0.74193752 | J26: =E26/$C26 -> 0.67047065 | K26: =F26/$C26 -> 0.65291768 | L26: =G26/$C26 -> 0.54435532
A27: Maryland | B27: Developed | C27: ='Pivot MD&VA'!K4 -> 6590782 | D27: ='Pivot MD&VA'!J4 -> 8910929 | E27: ='Pivot MD&VA'!I4 -> 9009369.1 | F27: ='Pivot MD&VA'!H4 -> 9351599.1 | G27: ='Pivot MD&VA'!G4 -> 7692434 | H27: =C27/C27 -> 1 | I27: =D27/$C27 -> 1.3520291 | J27: =E27/$C27 -> 1.3669651 | K27: =F27/$C27 -> 1.4188907 | L27: =G27/$C27 -> 1.1671504
A28: Maryland | B28: Natural | C28: ='Pivot MD&VA'!K5 -> 8866999.9 | D28: ='Pivot MD&VA'!J5 -> 8246805.8 | E28: ='Pivot MD&VA'!I5 -> 8081053.6 | F28: ='Pivot MD&VA'!H5 -> 8098300.8 | G28: ='Pivot MD&VA'!G5 -> 7877550.8 | H28: =C28/C28 -> 1 | I28: =D28/$C28 -> 0.93005592 | J28: =E28/$C28 -> 0.91136277 | K28: =F28/$C28 -> 0.91330787 | L28: =G28/$C28 -> 0.88841219
A29: Maryland | B29: Septic | C29: ='Pivot MD&VA'!K6 -> 2123635.8 | D29: ='Pivot MD&VA'!J6 -> 2932749.6 | E29: ='Pivot MD&VA'!I6 -> 3046890 | F29: ='Pivot MD&VA'!H6 -> 3090474.2 | G29: ='Pivot MD&VA'!G6 -> 2200558.5 | H29: =C29/C29 -> 1 | I29: =D29/$C29 -> 1.381004 | J29: =E29/$C29 -> 1.4347516 | K29: =F29/$C29 -> 1.455275 | L29: =G29/$C29 -> 1.0362222
A30: Maryland | B30: Wastewater | C30: ='Pivot MD&VA'!K7 -> 32218029 | D30: ='Pivot MD&VA'!J7 -> 16598976 | E30: ='Pivot MD&VA'!I7 -> 14396665 | F30: ='Pivot MD&VA'!H7 -> 11306504 | G30: ='Pivot MD&VA'!G7 -> 11249980 | H30: =C30/C30 -> 1 | I30: =D30/$C30 -> 0.51520768 | J30: =E30/$C30 -> 0.44685121 | K30: =F30/$C30 -> 0.35093717 | L30: =G30/$C30 -> 0.34918274
A31: =A30 -> Maryland | B31: ALL | C31: =SUM(C26:C30) -> 84071546 | D31: =SUM(D26:D30) -> 62117216 | E31: =SUM(E26:E30) -> 57512415 | F31: =SUM(F26:F30) -> 54223737 | G31: =SUM(G26:G30) -> 47676722 | H31: =C31/C31 -> 1 | I31: =D31/$C31 -> 0.73886136 | J31: =E31/$C31 -> 0.68408894 | K31: =F31/$C31 -> 0.64497134 | L31: =G31/$C31 -> 0.56709701
A32: Virginia | B32: Agriculture | C32: ='Pivot MD&VA'!K9 -> 24955425 | D32: ='Pivot MD&VA'!J9 -> 21675892 | E32: ='Pivot MD&VA'!I9 -> 20407591 | F32: ='Pivot MD&VA'!H9 -> 19726462 | G32: ='Pivot MD&VA'!G9 -> 10517703 | H32: =C32/C32 -> 1 | I32: =D32/$C32 -> 0.86858438 | J32: =E32/$C32 -> 0.81776172 | K32: =F32/$C32 -> 0.79046788 | L32: =G32/$C32 -> 0.42145959
A33: Virginia | B33: Developed | C33: ='Pivot MD&VA'!K10 -> 6692618.3 | D33: ='Pivot MD&VA'!J10 -> 9688661.3 | E33: ='Pivot MD&VA'!I10 -> 10143140 | F33: ='Pivot MD&VA'!H10 -> 10805130 | G33: ='Pivot MD&VA'!G10 -> 9838055.3 | H33: =C33/C33 -> 1 | I33: =D33/$C33 -> 1.4476638 | J33: =E33/$C33 -> 1.5155712 | K33: =F33/$C33 -> 1.6144848 | L33: =G33/$C33 -> 1.469986
A34: Virginia | B34: Natural | C34: ='Pivot MD&VA'!K11 -> 13692855 | D34: ='Pivot MD&VA'!J11 -> 13229103 | E34: ='Pivot MD&VA'!I11 -> 13049459 | F34: ='Pivot MD&VA'!H11 -> 12763352 | G34: ='Pivot MD&VA'!G11 -> 12174162 | H34: =C34/C34 -> 1 | I34: =D34/$C34 -> 0.96613178 | J34: =E34/$C34 -> 0.95301223 | K34: =F34/$C34 -> 0.93211764 | L34: =G34/$C34 -> 0.88908866
A35: Virginia | B35: Septic | C35: ='Pivot MD&VA'!K12 -> 1333419.2 | D35: ='Pivot MD&VA'!J12 -> 1859356.8 | E35: ='Pivot MD&VA'!I12 -> 1970591.2 | F35: ='Pivot MD&VA'!H12 -> 2117299.7 | G35: ='Pivot MD&VA'!G12 -> 1994387.7 | H35: =C35/C35 -> 1 | I35: =D35/$C35 -> 1.3944277 | J35: =E35/$C35 -> 1.4778482 | K35: =F35/$C35 -> 1.5878725 | L35: =G35/$C35 -> 1.4956944
A36: Virginia | B36: Wastewater | C36: ='Pivot MD&VA'!K13 -> 35591762 | D36: ='Pivot MD&VA'!J13 -> 23032149 | E36: ='Pivot MD&VA'!I13 -> 21773646 | F36: ='Pivot MD&VA'!H13 -> 12313038 | G36: ='Pivot MD&VA'!G13 -> 15044774 | H36: =C36/C36 -> 1 | I36: =D36/$C36 -> 0.64712021 | J36: =E36/$C36 -> 0.61176084 | K36: =F36/$C36 -> 0.34595192 | L36: =G36/$C36 -> 0.42270383
A37: =A36 -> Virginia | B37: ALL | C37: =SUM(C32:C36) -> 82266080 | D37: =SUM(D32:D36) -> 69485162 | E37: =SUM(E32:E36) -> 67344427 | F37: =SUM(F32:F36) -> 57725282 | G37: =SUM(G32:G36) -> 49569082 | H37: =C37/C37 -> 1 | I37: =D37/$C37 -> 0.84463927 | J37: =E37/$C37 -> 0.81861719 | K37: =F37/$C37 -> 0.70168996 | L37: =G37/$C37 -> 0.60254582

Sheet Pivot NOVA
A3: Row Labels | B3: Sum of VA Specified WIP 2_Amount | C3: Sum of 2017 Progress V9_Amount | D3: Sum of 2009 Progress_Amount | E3: Sum of 2005 Progress_Amount | F3: Sum of 1985 Progress_Amount | G3: Sum of VA Specified WIP 2_NLoadEOT | H3: Sum of 2017 Progress V9_NLoadEOT | I3: Sum of 2009 Progress_NLoadEOT | J3: Sum of 2005 Progress_NLoadEOT | K3: Sum of 1985 Progress_NLoadEOT | L3: Sum of VA Specified WIP 2_PLoadEOT | M3: Sum of 2017 Progress V9_PLoadEOT | N3: Sum of 2009 Progress_PLoadEOT | O3: Sum of 2005 Progress_PLoadEOT | P3: Sum of 1985 Progress_PLoadEOT
A4: Northern Virginia | B4: 883638.59 | C4: 875793.43 | D4: 869467.79 | E4: 867546.95 | F4: 858607.25 | G4: 5482833.4 | H4: 4528805.4 | I4: 5665159 | J4: 5940267.3 | K4: 9675278.2 | L4: 562995.36 | M4: 473491.11 | N4: 684016.75 | O4: 523889.49 | P4: 516424.17
A5: Agriculture | B5: 96850.262 | C5: 111949.17 | D5: 120203.29 | E5: 126529.76 | F5: 153994.04 | G5: 339368.3 | H5: 608096.37 | I5: 723320.17 | J5: 785169.06 | K5: 1094996.9 | L5: 25209.332 | M5: 41551.759 | N5: 51165.775 | O5: 61280.857 | P5: 103318.35
A6: Developed | B6: 352705.11 | C6: 341414.19 | D6: 310007.91 | E6: 284621.68 | F6: 163668.6 | G6: 1614679.5 | H6: 1659504.8 | I6: 1515258.6 | J6: 1407522.9 | K6: 905450.65 | L6: 214909.62 | M6: 213399.93 | N6: 193295.51 | O6: 177283.67 | P6: 104864.96
A7: Natural | B7: 395311.36 | C7: 391503.37 | D7: 414655.53 | E7: 433715.29 | F7: 527204.08 | G7: 785000 | H7: 771020.07 | I7: 793839.44 | J7: 800156.78 | K7: 884302.21 | L7: 184314.63 | M7: 172128.5 | N7: 190462.08 | O7: 179380.25 | P7: 180070.86
A8: Septic | B8: 38771.859 | C8: 30926.7 | D8: 24601.065 | E8: 22680.228 | F8: 13740.531 | G8: 241776.6 | H8: 202959.09 | I8: 157396.62 | J8: 146525.89 | K8: 91904.8 | L8: 75.112105 | M8: 75.112105 | N8: 75.112105 | O8: 75.112105 | P8: 75.112105
A9: Wastewater | B9: 0 | C9: 0 | D9: 0 | E9: 0 | F9: 0 | G9: 2502009.1 | H9: 1287225.1 | I9: 2475344.2 | J9: 2800892.6 | K9: 6698623.7 | L9: 138486.66 | M9: 46335.819 | N9: 249018.28 | O9: 105869.6 | P9: 128094.88
A10: Grand Total | B10: 883638.59 | C10: 875793.43 | D10: 869467.79 | E10: 867546.95 | F10: 858607.25 | G10: 5482833.4 | H10: 4528805.4 | I10: 5665159 | J10: 5940267.3 | K10: 9675278.2 | L10: 562995.36 | M10: 473491.11 | N10: 684016.75 | O10: 523889.49 | P10: 516424.17

Sheet Source - All Agencies Nova
A1: Geography | B1: Sector | C1: LoadSource | D1: Allocation | E1: Agency | F1: Unit | G1: VA Specified WIP 2_Amount | H1: 2017 Progress V9_Amount | I1: 2009 Progress_Amount | J1: 2005 Progress_Amount | K1: 1985 Progress_Amount | L1: VA Specified WIP 2_NLoadEOS | M1: 2017 Progress V9_NLoadEOS | N1: 2009 Progress_NLoadEOS | O1: 2005 Progress_NLoadEOS | P1: 1985 Progress_NLoadEOS | Q1: VA Specified WIP 2_PLoadEOS | R1: 2017 Progress V9_PLoadEOS | S1: 2009 Progress_PLoadEOS | T1: 2005 Progress_PLoadEOS | U1: 1985 Progress_PLoadEOS | V1: VA Specified WIP 2_SLoadEOS | W1: 2017 Progress V9_SLoadEOS | X1: 2009 Progress_SLoadEOS | Y1: 2005 Progress_SLoadEOS | Z1: 1985 Progress_SLoadEOS | AA1: VA Specified WIP 2_NLoadEOT | AB1: 2017 Progress V9_NLoadEOT | AC1: 2009 Progress_NLoadEOT | AD1: 2005 Progress_NLoadEOT | AE1: 1985 Progress_NLoadEOT | AF1: VA Specified WIP 2_PLoadEOT | AG1: 2017 Progress V9_PLoadEOT | AH1: 2009 Progress_PLoadEOT | AI1: 2005 Progress_PLoadEOT | AJ1: 1985 Progress_PLoadEOT | AK1: VA Specified WIP 2_SLoadEOT | AL1: 2017 Progress V9_SLoadEOT | AM1: 2009 Progress_SLoadEOT | AN1: 2005 Progress_SLoadEOT | AO1: 1985 Progress_SLoadEOT
A2: Northern Virginia | B2: Agriculture | C2: Ag Open Space | D2: Load Allocation | E2: All Agencies | F2: acres | G2: 14459.87 | H2: 4597.6575 | I2: 3639.894 | J2: 3976.7019 | K2: 2251.5143 | L2: 36510.183 | M2: 12298.025 | N2: 9610.7457 | O2: 10459.304 | P2: 5970.8742 | Q2: 14852.013 | R2: 4929.1921 | S2: 4016.7803 | T2: 4444.9332 | U2: 2467.9578 | V2: 457985.81 | W2: 151609.06 | X2: 119275.91 | Y2: 130061.38 | Z2: 74388.06 | AA2: 23916.794 | AB2: 8066.2954 | AC2: 6197.9329 | AD2: 6706.8602 | AE2: 3857.72 | AF2: 7730.5959 | AG2: 2557.5162 | AH2: 2065.9356 | AI2: 2277.5256 | AJ2: 1271.8547 | AK2: 126448.62 | AL2: 41350.222 | AM2: 31332.571 | AN2: 33599.323 | AO2: 19821.508
A3: Northern Virginia | B3: Agriculture | C3: Double Cropped Land | D3: Load Allocation | E3: All Agencies | F3: acres | G3: 2267.281 | H3: 506.64792 | I3: 845.57057 | J3: 2369.7962 | K3: 354.93744 | L3: 27645.269 | M3: 7347.5206 | N3: 15187.445 | O3: 42964.963 | P3: 4355.0756 | Q3: 203.81726 | R3: 274.07821 | S3: 246.11778 | T3: 889.06173 | U3: 432.02776 | V3: 388279.69 | W3: 312860.56 | X3: 540793.8 | Y3: 1576502.9 | Z3: 344908.88 | AA3: 17966.678 | AB3: 4017.5348 | AC3: 10135.624 | AD3: 28523.746 | AE3: 2225.0513 | AF3: 101.4216 | AG3: 132.81659 | AH3: 129.22427 | AI3: 464.00829 | AJ3: 205.33309 | AK3: 102480.06 | AL3: 43923.521 | AM3: 166854.6 | AN3: 485052.5 | AO3: 40822.36
A4: Northern Virginia | B4: Agriculture | C4: Full Season Soybeans | D4: Load Allocation | E4: All Agencies | F4: acres | G4: 4754.9712 | H4: 7567.2862 | I4: 4565.6074 | J4: 3126.7281 | K4: 3525.0772 | L4: 51683.184 | M4: 112449.92 | N4: 62385.959 | O4: 39557.223 | P4: 44833.649 | Q4: 1469.6642 | R4: 3356.8083 | S4: 2110.8515 | T4: 1554.8913 | U4: 2184.9091 | V4: 2213260 | W4: 7713131.5 | X4: 4585189.6 | Y4: 3152653.2 | Z4: 3608279.9 | AA4: 31442.291 | AB4: 70643.907 | AC4: 38441.87 | AD4: 23985.745 | AE4: 28146.619 | AF4: 728.65878 | AG4: 1693.8384 | AH4: 1055.4023 | AI4: 772.89984 | AJ4: 1097.8822 | AK4: 506260.78 | AL4: 1975282.6 | AM4: 1117067.6 | AN4: 743791.85 | AO4: 968014.65
A5: Northern Virginia | B5: Agriculture | C5: Grain with Manure | D5: Load Allocation | E5: All Agencies | F5: acres | G5: 0 | H5: 236.6005 | I5: 2848.7249 | J5: 2917.3475 | K5: 6115.9501 | L5: 0 | M5: 6993.4455 | N5: 74462.312 | O5: 79174.456 | P5: 156920.63 | Q5: 0 | R5: 98.733148 | S5: 1492.4013 | T5: 1657.0777 | U5: 4860.6674 | V5: 0 | W5: 245808.09 | X5: 2848763.4 | Y5: 2955249.4 | Z5: 5902086.3 | AA5: 0 | AB5: 4701.203 | AC5: 47699.03 | AD5: 50314.789 | AE5: 97268.081 | AF5: 0 | AG5: 52.227362 | AH5: 762.35904 | AI5: 842.51769 | AJ5: 2441.7 | AK5: 0 | AL5: 75961.947 | AM5: 784037.14 | AN5: 803421.27 | AO5: 1517783.5
A6: Northern Virginia | B6: Agriculture | C6: Grain without Manure | D6: Load Allocation | E6: All Agencies | F6: acres | G6: 0 | H6: 275.42199 | I6: 3557.3213 | J6: 3691.2757 | K6: 9088.5703 | L6: 0 | M6: 6205.7851 | N6: 71444.211 | O6: 77942.79 | P6: 182029.37 | Q6: 0 | R6: 92.379031 | S6: 1468.8358 | T6: 1649.5789 | U6: 5882.4323 | V6: 0 | W6: 286140.69 | X6: 3544937.8 | Y6: 3733883.5 | Z6: 8853288.9 | AA6: 0 | AB6: 4171.7144 | AC6: 45635.619 | AD6: 49428.218 | AE6: 113507.64 | AF6: 0 | AG6: 48.866195 | AH6: 746.22214 | AI6: 835.55113 | AJ6: 2987.9308 | AK6: 0 | AL6: 88425.909 | AM6: 965457.7 | AN6: 1009922.5 | AO6: 2345110.9
A7: Northern Virginia | B7: Agriculture | C7: Legume Hay | D7: Load Allocation | E7: All Agencies | F7: acres | G7: 582.40657 | H7: 1559.1041 | I7: 3369.5561 | J7: 3843.0845 | K7: 5437.1658 | L7: 2195.2583 | M7: 7557.1762 | N7: 18030.234 | O7: 20927.253 | P7: 29091.122 | Q7: 367.62095 | R7: 731.90663 | S7: 791.8218 | T7: 1840.4847 | U7: 4823.437 | V7: 47628.737 | W7: 151594.33 | X7: 336117.89 | Y7: 384393.69 | Z7: 579151.95 | AA7: 1239.3577 | AB7: 4835.8936 | AC7: 12036.09 | AD7: 14006.792 | AE7: 19496.253 | AF7: 176.9022 | AG7: 368.59699 | AH7: 410.24002 | AI7: 969.27386 | AJ7: 2558.5526 | AK7: 7294.1408 | AL7: 37832.498 | AM7: 97628.578 | AN7: 113099.9 | AO7: 172866.01
A8: Northern Virginia | B8: Agriculture | C8: Non-Permitted Feeding Space | D8: Load Allocation | E8: All Agencies | F8: acres | G8: 188.54091 | H8: 202.84763 | I8: 218.82049 | J8: 227.33945 | K8: 216.42893 | L8: 1650.677 | M8: 5293.4412 | N8: 8664.9547 | O8: 9619.8331 | P8: 43326.078 | Q8: 100.07443 | R8: 303.54476 | S8: 492.12485 | T8: 526.46416 | U8: 2113.0313 | V8: 438050.55 | W8: 611928.22 | X8: 755100.18 | Y8: 762334.3 | Z8: 762296.45 | AA8: 1024.7464 | AB8: 3454.9349 | AC8: 5392.4995 | AD8: 6083.3425 | AE8: 28472.145 | AF8: 51.748492 | AG8: 158.93126 | AH8: 251.5573 | AI8: 270.9509 | AJ8: 1106.9874 | AK8: 125996.25 | AL8: 176645.08 | AM8: 219337.5 | AN8: 227513.48 | AO8: 223467.17
A9: Northern Virginia | B9: Agriculture | C9: Other Agronomic Crops | D9: Load Allocation | E9: All Agencies | F9: acres | G9: 4709.4787 | H9: 6210.4504 | I9: 5025.3314 | J9: 5506.8582 | K9: 8421.6713 | L9: 35103.388 | M9: 66749.842 | N9: 52593.46 | O9: 57606.765 | P9: 78498.713 | Q9: 2590.1683 | R9: 5377.4078 | S9: 4916.2526 | T9: 5330.6495 | U9: 4321.0781 | V9: 2266745.1 | W9: 6726285.7 | X9: 6546864.7 | Y9: 6649222.6 | Z9: 672055.08 | AA9: 22080.157 | AB9: 41986.888 | AC9: 33039.923 | AD9: 36224.827 | AE9: 49812.043 | AF9: 1317.4586 | AG9: 2733.9243 | AH9: 2503.4977 | AI9: 2707.2334 | AJ9: 2170.7862 | AK9: 598031.79 | AL9: 1798611.9 | AM9: 1860830 | AN9: 1967600 | AO9: 202470.3
A10: Northern Virginia | B10: Agriculture | C10: Other Hay | D10: Load Allocation | E10: All Agencies | F10: acres | G10: 28222.019 | H10: 32903.588 | I10: 32670.86 | J10: 35462.004 | K10: 34996.14 | L10: 183066.24 | M10: 239945.92 | N10: 231256.15 | O10: 258843.18 | P10: 248742.02 | Q10: 5452.3708 | R10: 6574.592 | S10: 5463.8379 | T10: 6502.3458 | U10: 10074.255 | V10: 787253.76 | W10: 1026313.1 | X10: 1210617.2 | Y10: 1329050.2 | Z10: 1177489.3 | AA10: 119098.8 | AB10: 156628.43 | AC10: 151896.77 | AD10: 170414.61 | AE10: 162704.38 | AF10: 2684.9397 | AG10: 3241.9197 | AH10: 2720.3674 | AI10: 3218.7619 | AJ10: 5081.8729 | AK10: 209581.83 | AL10: 276909.51 | AM10: 331225.94 | AN10: 367511.95 | AO10: 325171.95
A11: Northern Virginia | B11: Agriculture | C11: Pasture | D11: Load Allocation | E11: All Agencies | F11: acres | G11: 37996.864 | H11: 53398.507 | I11: 57982.258 | J11: 59528.465 | K11: 74199.495 | L11: 149254.68 | M11: 350469.88 | N11: 387938.86 | O11: 413287.34 | P11: 526125.94 | Q11: 17091.04 | R11: 32525.482 | S11: 40410.214 | T11: 52289.174 | U11: 96686.199 | V11: 1339069.8 | W11: 3194271.4 | X11: 3625767.1 | Y11: 3776759.5 | Z11: 4803995.3 | AA11: 99104.512 | AB11: 232934.82 | AC11: 257645.84 | AD11: 274532.12 | AE11: 347802.64 | AF11: 8893.4211 | AG11: 16902.47 | AH11: 21075.328 | AI11: 27361.848 | AJ11: 50666.207 | AK11: 387941.76 | AL11: 922936.93 | AM11: 1045851.6 | AN11: 1091845.5 | AO11: 1381153.1
A12: Northern Virginia | B12: Agriculture | C12: Permitted Feeding Space | D12: Waste Load Allocation | E12: All Agencies | F12: acres | G12: 0.82684701 | H12: 0.98530203 | I12: 1.4145711 | J12: 1.630646 | K12: 2.100249 | L12: 303.88765 | M12: 1869.524 | N12: 2692.661 | O12: 2487.0646 | P12: 6277.533 | Q12: 18.361884 | R12: 113.64782 | S12: 165.99393 | T12: 153.46932 | U12: 389.97573 | V12: 880.68932 | W12: 1471.2591 | X12: 2431.0357 | Y12: 1698.8053 | Z12: 3728.4348 | AA12: 157.82394 | AB12: 967.019 | AC12: 1385.7993 | AD12: 1276.2692 | AE12: 3245.2893 | AF12: 8.7814583 | AG12: 53.734733 | AH12: 78.43908 | AI12: 72.379808 | AJ12: 186.2312 | AK12: 94.5864 | AL12: 157.83667 | AM12: 260.32729 | AN12: 181.43851 | AO12: 398.93392
A13: Northern Virginia | B13: Agriculture | C13: Riparian Pasture Deposition | D13: Load Allocation | E13: All Agencies | F13: acres | G13: 0 | H13: 0 | I13: 0 | J13: 0 | K13: 0 | L13: 3484.8981 | M13: 53129.521 | N13: 91932.519 | O13: 100293.08 | P13: 173899.29 | Q13: 1005.6823 | R13: 16666.129 | S13: 28790.739 | T13: 31488.692 | U13: 53605.97 | V13: 533145.84 | W13: 8128152.7 | X13: 14064526 | Y13: 15343587 | Z13: 26604416 | AA13: 2527.498 | AB13: 33987.407 | AC13: 59587.062 | AD13: 64801.852 | AE13: 112666.99 | AF13: 612.77964 | AG13: 8900.5617 | AH13: 15266.286 | AI13: 16666.291 | AJ13: 28331.811 | AK13: 111366.37 | AL13: 2014160.4 | AM13: 3648460.4 | AN13: 4011634 | AO13: 7124563.7
... A50: Northern Virginia | B50: Wastewater | C50: Municipal Wastewater Treatment Plant | D50: Waste Load Allocation | E50: All Agencies | F50: acres | G50: 0 | H50: 0 | I50: 0 | J50: 0 | K50: 0 | L50: 3501345.2 | M50: 2080099.5 | N50: 3364119.9 | O50: 4020686 | P50: 7365704.2 | Q50: 152482.92 | R50: 41051.628 | S50: 74020.132 | T50: 40821.42 | U50: 100288.7 | V50: 25253116 | W50: 182369.05 | X50: 7530473.4 | Y50: 5387088 | Z50: 16768555 | AA50: 2387579.1 | AB50: 1205030.1 | AC50: 2391569.2 | AD50: 2729081.7 | AE50: 6638561.2 | AF50: 114259.09 | AG50: 29098.732 | AH50: 52550.986 | AI50: 29042.28 | AJ50: 86213.88 | AK50: 12209248 | AL50: 84647.812 | AM50: 3669838.9 | AN50: 2324255.2 | AO50: 9579214.2

Sheet Pivot MD COG
A3: Row Labels | B3: Sum of 2025 WIP2_Amount | C3: Sum of 2017 Progress V9_Amount | D3: Sum of 2009 Progress_Amount | E3: Sum of 2005 Progress_Amount | F3: Sum of 1985 Progress_Amount | G3: Sum of 2025 WIP2_NLoadEOT | H3: Sum of 2017 Progress V9_NLoadEOT | I3: Sum of 2009 Progress_NLoadEOT | J3: Sum of 2005 Progress_NLoadEOT | K3: Sum of 1985 Progress_NLoadEOT | L3: Sum of 2025 WIP2_PLoadEOT | M3: Sum of 2017 Progress V9_PLoadEOT | N3: Sum of 2009 Progress_PLoadEOT | O3: Sum of 2005 Progress_PLoadEOT | P3: Sum of 1985 Progress_PLoadEOT
A4: Charles, MD | B4: 308317.34 | C4: 306643.36 | D4: 305252.14 | E4: 304073.61 | F4: 297535.22 | G4: 1402957.2 | H4: 1288757.9 | I4: 1239463.2 | J4: 1663072.8 | K4: 1639030.1 | L4: 202276.03 | M4: 197615.59 | N4: 203667.82 | O4: 219063.86 | P4: 309533.14
A5: Agriculture | B5: 30914.086 | C5: 32147.18 | D5: 36539.541 | E5: 36806.241 | F5: 41570.083 | G5: 301192.34 | H5: 331362.37 | I5: 367208.07 | J5: 388728.06 | K5: 459584.79 | L5: 13955.103 | M5: 16623.447 | N5: 20880.076 | O5: 24708.202 | P5: 45211.562
A6: Developed | B6: 47080.258 | C6: 46595.156 | D6: 43577.974 | E6: 41511.511 | F6: 23714.833 | G6: 213449.5 | H6: 237074.71 | I6: 222188.79 | J6: 219700.43 | K6: 136302.06 | L6: 19282.982 | M6: 24259.28 | N6: 23776.879 | O6: 25620.984 | P6: 18061.199
A7: Natural | B7: 210325.61 | C7: 209577.63 | D7: 208202.44 | E7: 210002.21 | F7: 223035.04 | G7: 463388.11 | H7: 464030.9 | I7: 460144.19 | J7: 468326.29 | K7: 490737 | L7: 150883.31 | M7: 151558.85 | N7: 153343.41 | O7: 156657.51 | P7: 168635.52
A8: Septic | B8: 19997.377 | C8: 18323.396 | D8: 16932.184 | E8: 15753.655 | F8: 9215.2612 | G8: 88895.897 | H8: 114116.07 | I8: 108655.26 | J8: 102137.7 | K8: 67941.91 | L8: 0 | M8: 0 | N8: 0 | O8: 0 | P8: 0
A9: Wastewater | B9: 0 | C9: 0 | D9: 0 | E9: 0 | F9: 0 | G9: 336031.32 | H9: 142173.82 | I9: 81266.927 | J9: 484180.37 | K9: 484464.38 | L9: 18154.637 | M9: 5174.0165 | N9: 5667.4616 | O9: 12077.166 | P9: 77624.861
A10: Frederick, MD | B10: 458840.54 | C10: 457114.69 | D10: 455728.18 | E10: 454615.85 | F10: 443561.13 | G10: 4420961.4 | H10: 4568473.9 | I10: 4779749.3 | J10: 5059412.6 | K10: 6500406.7 | L10: 153157.91 | M10: 161625.2 | N10: 195747.48 | O10: 221857.09 | P10: 419037.22
A11: Agriculture | B11: 155939 | C11: 160770.28 | D11: 168664.7 | E11: 172297.82 | F11: 199415.89 | G11: 2523559.3 | H11: 2738962.9 | I11: 2898262 | J11: 3195125.9 | K11: 4854573.4 | L11: 46842.537 | M11: 61223.889 | N11: 71546.478 | O11: 88794.696 | P11: 200835.77
A12: Developed | B12: 86000.558 | C12: 85433.275 | D12: 79862.877 | E12: 75665.357 | F12: 41967.814 | G12: 765628.54 | H12: 811531.76 | I12: 753412.74 | J12: 729479.78 | K12: 442494.25 | L12: 33069.409 | M12: 40317.596 | N12: 39256.942 | O12: 40925.556 | P12: 29915.224
A13: Natural | B13: 186072.2 | C13: 181808.21 | D13: 179484.19 | E13: 180048.58 | F13: 186628.06 | G13: 466696.82 | H13: 465435.52 | I13: 462007.57 | J13: 475728.26 | K13: 558678.05 | L13: 41125.038 | M13: 42102.01 | N13: 46795.368 | O13: 51828.455 | P13: 85248.996
A14: Septic | B14: 30828.78 | C14: 29102.924 | D14: 27716.423 | E14: 26604.092 | F14: 15549.368 | G14: 248152.5 | H14: 292717.07 | I14: 283667.81 | J14: 273458.36 | K14: 169402.09 | L14: 48.621773 | M14: 0 | N14: 92.796051 | O14: 120.87962 | P14: 0
A15: Wastewater | B15: 0 | C15: 0 | D15: 0 | E15: 0 | F15: 0 | G15: 416924.22 | H15: 259826.68 | I15: 382399.13 | J15: 385620.34 | K15: 475258.9 | L15: 32072.303 | M15: 17981.708 | N15: 38055.9 | O15: 40187.502 | P15: 103037.23
... A28: Grand Total | B28: 1426035.2 | C28: 1421352.5 | D28: 1417574.2 | E28: 1414435.5 | F28: 1388070 | G28: 11603915 | H28: 10413870 | I28: 12163895 | J28: 12838811 | K28: 19171156 | L28: 702461.81 | M28: 654499.25 | N28: 731335.63 | O28: 819720.23 | P28: 1321735.8
A31: Row Labels | B31: Sum of 2025 WIP2_Amount | C31: Sum of 2017 Progress V9_Amount | D31: Sum of 2009 Progress_Amount | E31: Sum of 2005 Progress_Amount | F31: Sum of 1985 Progress_Amount | G31: Sum of 2025 WIP2_NLoadEOT | H31: Sum of 2017 Progress V9_NLoadEOT | I31: Sum of 2009 Progress_NLoadEOT | J31: Sum of 2005 Progress_NLoadEOT | K31: Sum of 1985 Progress_NLoadEOT | L31: Sum of 2025 WIP2_PLoadEOT | M31: Sum of 2017 Progress V9_PLoadEOT | N31: Sum of 2009 Progress_PLoadEOT | O31: Sum of 2005 Progress_PLoadEOT | P31: Sum of 1985 Progress_PLoadEOT
A32: MD_COG | B32: 1426035.2 | C32: 1421352.5 | D32: 1417574.2 | E32: 1414435.5 | F32: 1388070 | G32: 11603915 | H32: 10413870 | I32: 12163895 | J32: 12838811 | K32: 19171156 | L32: 702461.81 | M32: 654499.25 | N32: 731335.63 | O32: 819720.23 | P32: 1321735.8
A33: Agriculture | B33: 242254.39 | C33: 256251.14 | D33: 277092.86 | E33: 285623.72 | F33: 353230.06 | G33: 3409614.6 | H33: 3745978.1 | I33: 4053660.6 | J33: 4467516.7 | K33: 6770452.3 | L33: 74160.538 | M33: 95274.519 | N33: 116589.48 | O33: 144435.98 | P33: 327363.53
A34: Developed | B34: 394950.83 | C34: 398197.76 | D34: 379654.98 | E34: 363857.38 | F34: 234000.56 | G34: 2215627.5 | H34: 2519348.6 | I34: 2422358.5 | J34: 2359317.5 | K34: 1672831.6 | L34: 141207.09 | M34: 189529.27 | N34: 195298.16 | O34: 203907.87 | P34: 172304.16
A35: Natural | B35: 710507.86 | C35: 693264.18 | D35: 690965.23 | E35: 698231.98 | F35: 760482.45 | G35: 1533311.1 | H35: 1540748 | I35: 1550355.3 | J35: 1589475.5 | K35: 1791797.4 | L35: 272174.21 | M35: 284546.79 | N35: 302822.71 | O35: 316217.03 | P35: 405403.27
A36: Septic | B36: 78322.106 | C36: 73639.394 | D36: 69861.18 | E36: 66722.472 | F36: 40356.938 | G36: 487820.9 | H36: 615991.7 | I36: 593826.34 | J36: 569416.89 | K36: 361258.94 | L36: 51.685651 | M36: 384.55307 | N36: 96.235752 | O36: 130.37375 | P36: 0
A37: Wastewater | B37: 0 | C37: 0 | D37: 0 | E37: 0 | F37: 0 | G37: 3957541.3 | H37: 1991803.5 | I37: 3543694.3 | J37: 3853084.8 | K37: 8574816.1 | L37: 214868.28 | M37: 84764.114 | N37: 116529.05 | O37: 155028.97 | P37: 416664.88
A38: Grand Total | B38: 1426035.2 | C38: 1421352.5 | D38: 1417574.2 | E38: 1414435.5 | F38: 1388070 | G38: 11603915 | H38: 10413870 | I38: 12163895 | J38: 12838811 | K38: 19171156 | L38: 702461.81 | M38: 654499.25 | N38: 731335.63 | O38: 819720.23 | P38: 1321735.8

Sheet Source - All Agencies MD COG
A1: State | B1: Geography | C1: Sector | D1: LoadSource | E1: Allocation | F1: Agency | G1: Unit | H1: 2025 WIP2_Amount | I1: 2017 Progress V9_Amount | J1: 2009 Progress_Amount | K1: 2005 Progress_Amount | L1: 1985 Progress_Amount | M1: 2025 WIP2_NLoadEOS | N1: 2017 Progress V9_NLoadEOS | O1: 2009 Progress_NLoadEOS | P1: 2005 Progress_NLoadEOS | Q1: 1985 Progress_NLoadEOS | R1: 2025 WIP2_PLoadEOS | S1: 2017 Progress V9_PLoadEOS | T1: 2009 Progress_PLoadEOS | U1: 2005 Progress_PLoadEOS | V1: 1985 Progress_PLoadEOS | W1: 2025 WIP2_SLoadEOS | X1: 2017 Progress V9_SLoadEOS | Y1: 2009 Progress_SLoadEOS | Z1: 2005 Progress_SLoadEOS | AA1: 1985 Progress_SLoadEOS | AB1: 2025 WIP2_NLoadEOT | AC1: 2017 Progress V9_NLoadEOT | AD1: 2009 Progress_NLoadEOT | AE1: 2005 Progress_NLoadEOT | AF1: 1985 Progress_NLoadEOT | AG1: 2025 WIP2_PLoadEOT | AH1: 2017 Progress V9_PLoadEOT | AI1: 2009 Progress_PLoadEOT | AJ1: 2005 Progress_PLoadEOT | AK1: 1985 Progress_PLoadEOT | AL1: 2025 WIP2_SLoadEOT | AM1: 2017 Progress V9_SLoadEOT | AN1: 2009 Progress_SLoadEOT | AO1: 2005 Progress_SLoadEOT | AP1: 1985 Progress_SLoadEOT
