Workbook

Sheet Summary
A1: FY 2011 TPB TIGER Grant Application - Cost and Schedule
F2: FY2012 | H2: FY 2013 | L2: FY 2014 | P2: FY 2015 | T2: FY 2016 | X2: TOTALS
F3: 3Q | G3: 4Q | H3: 1Q | I3: 2Q | J3: 3Q | K3: 4Q | L3: 1Q | M3: 2Q | N3: 3Q | O3: 4Q | P3: 1Q | Q3: 2Q | R3: 3Q | S3: 4Q | T3: 1Q | U3: 2Q | V3: 3Q | W3: 4Q
A4: Project | B4: Total Budget | C4: TIGER | D4: Local | E4: Match
A5: District Of Columbia
A6: Fort Totten / 1st Place-Galloway Road Access Improvement Project | B6: ='DC Ftotten'!E29 -> 4171050 | C6: ='DC Ftotten'!E31 -> 3336840 | D6: ='DC Ftotten'!E33 -> 834210 | E6: =D6/B6 -> 0.2 | F6: ='DC Ftotten'!I29 -> 258750 | G6: ='DC Ftotten'!J29 -> 258750 | H6: ='DC Ftotten'!K29 -> 0 | I6: ='DC Ftotten'!L29 -> 1216336.5 | J6: ='DC Ftotten'!M29 -> 1216336.5 | K6: ='DC Ftotten'!N29 -> 1220877 | X6: =SUM(F6:W6) -> 4171050
A8: Maryland
A9: Forest Glen Metrorail Access Project | B9: ='MC F Glen'!E34 -> 17600000 | C9: =B9*0.8 -> 14080000 | D9: =B9*0.2 -> 3520000 | E9: =D9/B9 -> 0.2 | F9: ='MC F Glen'!I34 -> 105000 | G9: ='MC F Glen'!J34 -> 105000 | H9: ='MC F Glen'!K34 -> 450000 | I9: ='MC F Glen'!L34 -> 450000 | J9: ='MC F Glen'!M34 -> 450000 | K9: ='MC F Glen'!N34 -> 950000 | L9: ='MC F Glen'!O34 -> 1115000 | M9: ='MC F Glen'!P34 -> 1115000 | ... V9: ='MC F Glen'!Y34 -> 1696041.7 | X9: =SUM(F9:W9) -> 17600000
A11: Pedestrian Safety Measures for the New Carrollton Metrorail Station | B11: ='PG NewC'!E44 -> 953419.6 | C11: ='PG NewC'!E46 -> 682735.68 | D11: ='PG NewC'!E48 -> 270683.92 | E11: =D11/B11 -> 0.28390849 | F11: ='PG NewC'!G44 -> 50000 | G11: ='PG NewC'!H44 -> 50000 | H11: ='PG NewC'!I44 -> 52267.5 | I11: ='PG NewC'!J44 -> 105052.5 | J11: ='PG NewC'!K44 -> 346725 | K11: ='PG NewC'!L44 -> 297624.6 | L11: ='PG NewC'!M44 -> 51750 | X11: =SUM(F11:W11) -> 953419.6
A13: Twinbrook Metro Station: Pedestrian Safety Improvements | B13: ='RV Tbrook'!E68 -> 501589.98 | C13: ='RV Tbrook'!E70 -> 401271.98 | D13: ='RV Tbrook'!E72 -> 100318 | E13: =D13/B13 -> 0.2 | L13: ='RV Tbrook'!L68 -> 246810.14 | M13: ='RV Tbrook'!M68 -> 254779.84 | X13: =SUM(F13:W13) -> 501589.98
A15: West Hyattsville Metrorail Station Access Improvements | B15: ='PG WH'!E27 -> 710250 | C15: ='PG WH'!E29 -> 542750 | D15: ='PG WH'!E31 -> 167500 | E15: =D15/B15 -> 0.23583245 | I15: ='PG WH'!H25 -> 37500 | J15: ='PG WH'!I25 -> 257583.33 | K15: ='PG WH'!J25 -> 267583.33 | L15: ='PG WH'!K25 -> 147583.33 | X15: =SUM(F15:W15) -> 710250
A17: Virginia
A18: Arlington Army Navy Drive Multimodal Access Improvement Project | B18: ='Arl A-N'!E36 -> 6838878.7 | C18: ='Arl A-N'!E38 -> 4965983 | D18: ='Arl A-N'!E40 -> 1872895.7 | E18: =D18/B18 -> 0.27386006 | H18: ='Arl A-N'!G37 -> 1011328.7 | I18: ='Arl A-N'!H37 -> 135050 | J18: ='Arl A-N'!I37 -> 1428300 | K18: ='Arl A-N'!J37 -> 1428300 | L18: ='Arl A-N'!K37 -> 1428300 | M18: ='Arl A-N'!L37 -> 1407600 | X18: =SUM(F18:W18) -> 6838878.7
A20: Bicycle Lockers at VRE Stations | B20: =VRE!E60 -> 283600.35 | C20: =VRE!E62 -> 226880.28 | D20: =VRE!E64 -> 56720.07 | E20: =D20/B20 -> 0.2 | J20: =VRE!I60 -> 65555 | K20: =VRE!J60 -> 108655 | L20: =VRE!K60 -> 56905 | M20: =VRE!L60 -> 44505 | N20: =VRE!M60 -> 7980 | X20: =SUM(F20:W20) -> 283600
A22: TOTAL Project Implementation Cost | B22: =SUM(B6:B21) -> 31058789 | C22: =SUM(C6:C21) -> 24236461 | D22: =SUM(D6:D21) -> 6822327.7 | E22: =D22/B22 -> 0.21965853 | F22: =SUM(F6:F21) -> 413750 | G22: =SUM(G6:G21) -> 413750 | H22: =SUM(H6:H21) -> 1513596.2 | I22: =SUM(I6:I21) -> 1943939 | J22: =SUM(J6:J21) -> 3764499.8 | K22: =SUM(K6:K21) -> 4273040 | L22: =SUM(L6:L21) -> 3046348.5 | M22: =SUM(M6:M21) -> 2821884.8 | ... V22: =SUM(V6:V21) -> 1696041.7 | X22: =SUM(F22:W22) -> 31058788
A24: Jobs Created/Retained | F24: =F22/92000 -> 4.4972826 | G24: =G22/92000 -> 4.4972826 | H24: =H22/92000 -> 16.452133 | I24: =I22/92000 -> 21.129772 | J24: =J22/92000 -> 40.918476 | K24: =K22/92000 -> 46.446087 | L24: =L22/92000 -> 33.112483 | M24: =M22/92000 -> 30.672661 | ... V24: =V22/92000 -> 18.435236 | X24: =SUM(F24:W24) -> 337.59553
A26: Direct, On-Project Jobs | F26: =F24*0.64 -> 2.8782609 | G26: =G24*0.64 -> 2.8782609 | H26: =H24*0.64 -> 10.529365 | I26: =I24*0.64 -> 13.523054 | J26: =J24*0.64 -> 26.187825 | K26: =K24*0.64 -> 29.725495 | L26: =L24*0.64 -> 21.191989 | M26: =M24*0.64 -> 19.630503 | ... V26: =V24*0.64 -> 11.798551 | X26: =SUM(F26:W26) -> 216.06114
A27: Induced Jobs | F27: =F24*0.36 -> 1.6190217 | G27: =G24*0.36 -> 1.6190217 | H27: =H24*0.36 -> 5.9227679 | I27: =I24*0.36 -> 7.6067178 | J27: =J24*0.36 -> 14.730651 | K27: =K24*0.36 -> 16.720591 | L27: =L24*0.36 -> 11.920494 | M27: =M24*0.36 -> 11.042158 | ... V27: =V24*0.36 -> 6.6366848 | X27: =SUM(F27:W27) -> 121.53439

Sheet DC Ftotten
A1: FY 2011 TPB TIGER Grant Application - Cost and Schedule | M1: 2013
G2: FY 2012 | K2: FY 2013
G3: 1Q | H3: 2Q | I3: 3Q | J3: 4Q | K3: 1Q | L3: 2Q | M3: 3Q | N3: 4Q
A4: Project | B4: Activity | C4: Lead Agency | D4: Workforce | E4: Budget | F4: Funding Source
A5: Fort Totten Station Access
B6: Included in TIGER Request
A7: 1. Final Design & Engineering | B7: Design | C7: DDOT | D7: Contractor | E7: 500000 | F7: TIGER
A8: Complete final design (30% to 100%) and engineering for project. | I8: 250000 | J8: 250000
A10: 2. Construction | B10: Construction | C10: DDOT | D10: Contractor | E10: 3530000 | F10: TIGER
A12: 2.1 1st Place NE Section
A13: Excavaton, Milling, grading, curb and gutter, asphalt, pavement markings, catch basins, street lights | B13: Procure | C13: DDOT | D13: Contractor | E13: 752641 | L13: =$E13/3 -> 250880.33 | M13: =$E13/3 -> 250880.33 | N13: =$E13/3 -> 250880.33
A15: 2.2 WMATA property Section
A16: Excavaton, Milling, grading, curb and gutter, asphalt, pavement markings, catch basins, street lights, rain garden | B16: Procure | C16: DDOT | D16: Contractor | E16: 1711513 | L16: =$E16/3 -> 570504.33 | M16: =$E16/3 -> 570504.33 | N16: =$E16/3 -> 570504.33
A18: 2.3 Pedestrian Plaza
A19: Pavers, secure bike parking, landscape | B19: Procure | C19: DDOT | D19: Contractor | E19: 622380 | L19: =$E19/3 -> 207460 | M19: =$E19/3 -> 207460 | N19: =$E19/3 -> 207460
A21: 2.4 Galloway Street NE Section
A22: Excavaton, Milling, grading, curb and gutter, asphalt, pavement markings, retaining wall | B22: Procure | C22: DDOT | D22: Contractor | E22: 439079 | L22: =$E22/3 -> 146359.67 | M22: =$E22/3 -> 146359.67 | N22: =$E22/3 -> 146359.67
A24: Total Construction Costs (not rounded) | E24: =SUM(E13:E22) -> 3525613 | N24: =E10-E24 -> 4387
A26: Project Implementation Cost | E26: =E10+E7 -> 4030000 | I26: =SUM(I8:I25) -> 250000 | J26: =SUM(J8:J25) -> 250000 | K26: =SUM(K8:K25) -> 0 | L26: =SUM(L8:L25) -> 1175204.3 | M26: =SUM(M8:M25) -> 1175204.3 | N26: =SUM(N8:N25) -> 1179591.3
A27: COG PM Costs (3.5%) | E27: =E26*0.035 -> 141050 | I27: =I26*0.035 -> 8750 | J27: =J26*0.035 -> 8750 | K27: =K26*0.035 -> 0 | L27: =L26*0.035 -> 41132.152 | M27: =M26*0.035 -> 41132.152 | N27: =N26*0.035 -> 41285.697
A29: TOTAL Project Implementation Cost | E29: =E26+E27 -> 4171050 | I29: =I26+I27 -> 258750 | J29: =J26+J27 -> 258750 | K29: =K26+K27 -> 0 | L29: =L26+L27 -> 1216336.5 | M29: =M26+M27 -> 1216336.5 | N29: =N26+N27 -> 1220877 | P29: =SUM(I29:O29) -> 4171050
A31: Total TIGER Funds | E31: =E29*0.8 -> 3336840 | F31: =E31/E29 -> 0.8
A33: Total Other Funds (% match) | E33: =E29-E31 -> 834210 | F33: =E33/E29 -> 0.2
AC35: =$E35*6 -> 0
AC36: =$E36*6 -> 0

Sheet MC F Glen
A1: Forest Glen Pedestrian Passageway | Y1: CY 2016
A2: FY 2011 TPB TIGER Grant Application - Cost and Schedule | G2: FY 2012 | K2: FY 2013 | O2: FY 2014 | S2: FY 2015 | W2: FY 2016
G3: 1Q | H3: 2Q | I3: 3Q | J3: 4Q | K3: 1Q | L3: 2Q | M3: 3Q | N3: 4Q | O3: 1Q | P3: 2Q | Q3: 3Q | R3: 4Q | S3: 1Q | T3: 2Q | U3: 3Q | V3: 4Q | W3: 1Q | X3: 2Q | Y3: 3Q | Z3: 4Q
A4: Project | B4: Activity | C4: Lead Agency | D4: Workforce | E4: Budget | F4: Funding Source
A5: Forest Glen Pedestrian Passageway under
A6: Georgia Avenue
A8: 1. Planning | B8: Design | C8: County | D8: County | E8: =SUM(E9:E12) -> 210000 | F8: TIGER
A9: Management and Review (Mont. County) | E9: 50000 | I9: =E9/2 -> 25000 | J9: =E9/2 -> 25000 | AA9: =SUM(G9:Z9) -> 50000
A10: Agency (SHA and WMATA) Review | E10: 10000 | I10: =E10/2 -> 5000 | J10: =E10/2 -> 5000 | AA10: =SUM(G10:Z10) -> 10000
A11: Planning/NEPA Documentation | E11: 150000 | I11: =E11/2 -> 75000 | J11: =E11/2 -> 75000 | AA11: =SUM(G11:Z11) -> 150000
A13: 2. Final Design and Engineering | B13: Design | C13: County | D13: County | E13: =SUM(E14:E19) -> 3090000
A14: Management and Review (Mont. County) | E14: 150000 | K14: =($E$14/4) -> 37500 | L14: =($E$14/4) -> 37500 | M14: =($E$14/4) -> 37500 | N14: =($E$14/4) -> 37500 | AA14: =SUM(G14:Z14) -> 150000
A15: Management and Administration (MWCOG) | E15: =ROUND(0.035*SUM(E8,E14,E16:E18,E20,E23,E30),-4) -> 600000 | K15: =$E15/15 -> 40000 | L15: =$E15/15 -> 40000 | M15: =$E15/15 -> 40000 | N15: =$E15/15 -> 40000 | O15: =$E15/15 -> 40000 | P15: =$E15/15 -> 40000 | Q15: =$E15/15 -> 40000 | R15: =$E15/15 -> 40000 | ... Y15: =$E15/15 -> 40000 | AA15: =SUM(G15:Z15) -> 600000
A16: Agency (SHA and WMATA) Review | E16: 100000 | K16: =($E$16/4) -> 25000 | L16: =($E$16/4) -> 25000 | M16: =($E$16/4) -> 25000 | N16: =($E$16/4) -> 25000 | AA16: =SUM(G16:Z16) -> 100000
A17: Final design and engineering for project | E17: 1390000 | K17: =($E$17/4) -> 347500 | L17: =($E$17/4) -> 347500 | M17: =($E$17/4) -> 347500 | N17: =($E$17/4) -> 347500 | AA17: =SUM(G17:Z17) -> 1390000
A18: Construction Management and Inspection (Mont. County) | E18: 850000 | O18: 75000 | P18: 75000 | Q18: 75000 | R18: 75000 | S18: 75000 | T18: 75000 | U18: 80000 | V18: 80000 | W18: 80000 | X18: 80000 | Y18: 80000 | AA18: =SUM(G18:Z18) -> 850000
A20: 3. Land Acquisition | B20: Acquisition | C20: County | D20: County | E20: =SUM(E21:E22) -> 500000
A21: Acquire required Right-of-Way, Easements | E21: 500000 | N21: 500000 | AA21: =SUM(G21:Z21) -> 500000
A23: 4. Construct Pedestrian Passageway | B23: Construction | C23: County | D23: Contractor | E23: =SUM(E24:E29) -> 13300000
A24: Utility Relocation | E24: 2000000 | O24: =($E$24/2) -> 1000000 | P24: =($E$24/2) -> 1000000 | AA24: =SUM(G24:Z24) -> 2000000
A25: Install Support of Excavation | E25: 3250000 | Q25: =($E$25/4) -> 812500 | R25: =($E$25/4) -> 812500 | S25: =($E$25/4) -> 812500 | T25: =($E$25/4) -> 812500 | AA25: =SUM(G25:Z25) -> 3250000
A26: Excavate and Install Temporary Bridge | E26: 1250000 | R26: =($E$26/12)*2 -> 208333.33 | S26: =($E$26/12)*3 -> 312500 | T26: =($E$26/12)*3 -> 312500 | U26: =($E$26/12)*3 -> 312500 | V26: =($E$26/12)*1 -> 104166.67 | AA26: =SUM(G26:Z26) -> 1250000
A27: Construct Ped. Passageway and Station Tie-In | E27: 5875000 | U27: =($E$27/12)*1 -> 489583.33 | V27: =($E$27/12)*3 -> 1468750 | W27: =($E$27/12)*3 -> 1468750 | X27: =($E$27/12)*3 -> 1468750 | Y27: =($E$27/12)*2 -> 979166.67 | AA27: =SUM(G27:Z27) -> 5875000
A28: Conduct Roadway Restoration | E28: 925000 | W28: =($E$28/8)*2 -> 231250 | X28: =($E$28/8)*3 -> 346875 | Y28: =($E$28/8)*3 -> 346875 | AA28: =SUM(G28:Z28) -> 925000
A30: 5. Bike Share Stations | B30: Construction | C30: County | E30: =SUM(E31) -> 500000
A31: Construct Bike Share Stations | E31: 500000 | X31: =($E$31/2) -> 250000 | Y31: =($E$31/2) -> 250000 | AA31: =SUM(G31:Z31) -> 500000
A34: TOTAL Project Implementation Cost | E34: =E8+E13+E20+E23+E30 -> 17600000 | G34: =SUM(G5:G31) -> 0 | H34: =SUM(H5:H31) -> 0 | I34: =SUM(I5:I31) -> 105000 | J34: =SUM(J5:J31) -> 105000 | K34: =SUM(K5:K31) -> 450000 | L34: =SUM(L5:L31) -> 450000 | M34: =SUM(M5:M31) -> 450000 | N34: =SUM(N5:N31) -> 950000 | ... Y34: =SUM(Y5:Y31) -> 1696041.7 | AA34: =SUM(G34:Z34) -> 17600000
A36: Total TIGER Funds | E36: =E34*0.8 -> 14080000
A38: Total Other Funds (% match) | E38: =E34-E36 -> 3520000 | F38: =E38/E34 -> 0.2

Sheet PG NewC
A1: FY 2011 TPB TIGER Grant Application - Cost and Schedule | I1: 2013
G2: FY 2013 | K2: FY 2014
G3: 1Q | H3: 2Q | I3: 3Q | J3: 4Q | K3: 1Q | L3: 2Q | M3: 3Q | N3: 4Q
A4: Project | B4: Activity | C4: Lead Agency | D4: Workforce | E4: Budget | F4: Funding Source
A5: New Carrollton Safety Measures for the New Carrollton Metro Station
C7: NOT FUNDED BY TIGER - Included in Local Matching
A8: 1. Final Design & Engineering | B8: Design | C8: County | D8: County | E8: 100000 | F8: County
A9: Complete Final Design | G9: 50000 | H9: 50000
A11: 2. Construct Pedestrian Crossings | E11: =SUM(E13:E36) -> 824560 | F11: TIGER
A13: 2.1 Sign Installation on Garden City Drive near Metro Staton Entrance | E13: 500 | F13: =E13*0.8 -> 400 | I13: 500 | O13: =SUM(G13:M13) -> 500
A15: 2.2 Bike facility improvements for 85th Avenue from Annapolis Road to Harkins Road | E15: 6500 | F15: =E15*0.8 -> 5200 | J15: 6500 | O15: =SUM(G15:M15) -> 6500
A17: 2.3 Extend the West median for better pedestrian refuge on Harkins Road at West Lanham Drive | E17: 30000 | F17: =E17*0.8 -> 24000 | K17: 15000 | L17: 15000 | O17: =SUM(G17:M17) -> 30000
A19: 2.4 Install six new lights along roadway for Ellin Road | E19: 90000 | F19: =E19*0.8 -> 72000 | K19: 45000 | L19: 45000 | O19: =SUM(G19:M19) -> 90000
A21: 2.5 Upgrade existing geometry and signal to the latest ADA standards for pedestrian and overall safety
A22: at Garden City Drive at Corporate Place | E22: 270000 | F22: =E22*0.8 -> 216000 | I22: 50000 | J22: 50000 | K22: 100000 | L22: 70000 | O22: =SUM(G22:M22) -> 270000
A24: 2.6 Install pedestrian walkway on Ellin Road From Veterans Parkway to Emerson Place | E24: 200760 | F24: =E24*0.8 -> 160608 | J24: 25000 | K24: 50000 | L24: =75760 -> 75760 | M24: 50000 | O24: =SUM(G24:M24) -> 200760
A26: 2.7 Install pedestrian walkway on east side Garden City Drive | E26: 151800 | F26: =E26*0.8 -> 121440 | J26: 20000 | K26: 50000 | L26: =50000+31800 -> 81800 | O26: =SUM(G26:M26) -> 151800
A28: 2.8 Provide trash receptacles (WMATA) | B28: Quantity 10 | E28: 15000 | F28: =E28*0.8 -> 12000 | K28: 15000 | O28: =SUM(G28:M28) -> 15000
A30: 2.9 Provide 10 benches (WMATA | E30: 15000 | F30: =E30*0.8 -> 12000 | K30: 15000 | O30: =SUM(G30:M30) -> 15000
A32: 3.0 Consolidate Bus Stops on Annapolis Road (WMATA) | E32: 15000 | F32: =E32*0.8 -> 12000 | K32: 15000 | O32: =SUM(G32:M32) -> 15000
A34: 3.1 Move bus Stop closer to intersection of Annapolis Road and 85th Ave | E34: 15000 | F34: =E34*0.8 -> 12000 | K34: 15000 | O34: =SUM(G34:M34) -> 15000
A36: 3.2 Move Bus Stop close to Intersection of Annapolis Road and Riverdale Road | E36: 15000 | F36: =E36*0.8 -> 12000 | K36: 15000 | O36: =SUM(G36:M36) -> 15000
A38: Project Implementation Cost | E38: =E11+E8 -> 924560
A40: Project Construction Costs | E40: =E11 -> 824560 | F40: =SUM(F13:F37) -> 659648 | I40: =SUM(I8:I39) -> 50500 | J40: =SUM(J8:J39) -> 101500 | K40: =SUM(K8:K39) -> 335000 | L40: =SUM(L8:L39) -> 287560 | M40: =SUM(M8:M39) -> 50000 | O40: =SUM(G40:M40) -> 824560
A41: COG PM Costs | E41: =E40*0.035 -> 28859.6 | I41: =I40*0.035 -> 1767.5 | J41: =J40*0.035 -> 3552.5 | K41: =K40*0.035 -> 11725 | L41: =L40*0.035 -> 10064.6 | M41: =M40*0.035 -> 1750 | O41: =SUM(G41:M41) -> 28859.6
A42: Total Construction Costs (inc COG PM) | E42: =E40+E41 -> 853419.6 | F42: =E42*0.8 -> 682735.68 | G42: =G40+G41 -> 0 | H42: =H40+H41 -> 0 | I42: =I40+I41 -> 52267.5 | J42: =J40+J41 -> 105052.5 | K42: =K40+K41 -> 346725 | L42: =L40+L41 -> 297624.6 | M42: =M40+M41 -> 51750 | O42: =O40+O41 -> 853419.6
A44: TOTAL Project Implementation Cost | E44: =E48+E46 -> 953419.6 | G44: =G42+G9 -> 50000 | H44: =H42+H9 -> 50000 | I44: =I42+I9 -> 52267.5 | J44: =J42+J9 -> 105052.5 | K44: =K42+K9 -> 346725 | L44: =L42+L9 -> 297624.6 | M44: =M42+M9 -> 51750 | O44: =SUM(G44:M44) -> 953419.6
A46: Total TIGER request | E46: =E42*0.8 -> 682735.68
A48: Total Other Funds | E48: =(E42*0.2)+E8 -> 270683.92 | F48: =E48/E44 -> 0.28390849
N51: =$E51*6 -> 0 | S51: =$E51*6 -> 0 | X51: =$E51*6 -> 0 | AC51: =$E51*6 -> 0
S52: =$E52*6 -> 0 | AC52: =$E52*6 -> 0

Sheet RV Tbrook
A1: FY 2011 TPB TIGER Grant Application - Cost and Schedule
H2: FY 2013 | L2: FY 2014
H3: 1Q | I3: 2Q | J3: 3Q | K3: 4Q | L3: 1Q | M3: 2Q | N3: 3Q | O3: 4Q
A4: Project (By Study Corridor) | B4: Activity | C4: Lead Agency | D4: Workforce | E4: Budget | F4: Existing/ New Infrastructure | G4: Funding Source
A5: Twinbrook Station Pedestrian Improvements
A7: 1. Construction - Improvements on/near Halpine Road | G7: TIGER
A8: Halpine / E. Jefferson
A9: Raised Intersection | B9: Construction | C9: Rockville | D9: Contractor | E9: 37260 | F9: New | L9: =E9*0.5 -> 18630 | M9: =E9*0.5 -> 18630
A10: High Visibility Crosswalk | B10: Installation | C10: Rockville | D10: Contractor | E10: 6210 | F10: Modify Existing | M10: =SUM(E10) -> 6210
A11: Advanced Stop Bar Realignment | B11: Installation | C11: Rockville | D11: Contractor | E11: 745.2 | F11: Modify Existing | M11: =SUM(E11) -> 745.2
A13: Halpine / Congressional Shopping Center Driveway
A14: High Visibility Crosswalk | B14: Installation | C14: Rockville | D14: Contractor | E14: 9563.4 | F14: Modify Existing | M14: =SUM(E14) -> 9563.4
A16: Halpine / Rockville Pike
A17: High Visibility Crosswalk | B17: Installation | C17: SHA | D17: Contractor | E17: 16394.4 | F17: Modify Existing | L17: =SUM(E17) -> 16394.4
A19: Halpine / Chapman
A20: Curb Extensions | B20: Construction | C20: Rockville | D20: Contractor | E20: 49680 | F20: New | L20: =E20*0.5 -> 24840 | M20: =E20*0.5 -> 24840
A21: High Visibility Crosswalk | B21: Installation | C21: Rockville | D21: Contractor | E21: 5464.8 | F21: New | M21: =SUM(E21) -> 5464.8
A23: 2. Construction - Improvements on/near Lewis Avenue | G23: TIGER
A24: Lewis / Rockland
A25: High Visibility Crosswalk | B25: Installation | C25: Rockville | D25: Contractor | E25: 5464.8 | F25: New | L25: =SUM(E25) -> 5464.8
A26: Advanced Stop Bar Realignment | B26: Installation | C26: Rockville | D26: Contractor | E26: 621 | F26: New | L26: =SUM(E26) -> 621
A28: Lewis / Halpine
A29: High Visibility Crosswalk | B29: Installation | C29: Rockville | D29: Contractor | E29: 4098.6 | F29: New | L29: =SUM(E29) -> 4098.6
A30: Construct Sidewalk on south side of Halpine | B30: Construction | C30: Rockville | D30: Contractor | E30: 9936 | F30: New | L30: =SUM(E30) -> 9936
A31: Wayfinding Signs to Metrorail | B31: Installation | C31: Rockville | D31: Contractor | E31: 1242 | F31: New | L31: =SUM(E31) -> 1242
A33: 4. Construction - Improvements near Rockville Pike and Chapman Avenue | G33: TIGER
A34: Chapman - mid block
A35: Construct Curb Extensions | B35: Construction | C35: Rockville | D35: Contractor | E35: 6210 | F35: New | L35: =SUM(E35) -> 6210
A37: Chapman / Bouic
A38: Curb Extensions | B38: Construction | C38: Rockville | D38: Contractor | E38: 39744 | F38: New | L38: =SUM(E38*0.5) -> 19872 | M38: =SUM(E38*0.5) -> 19872
A40: Chapman / Thompson
A41: Curb Extensions | B41: Construction | C41: Rockville | D41: Contractor | E41: 80730 | F41: New | L41: =SUM(E41*0.5) -> 40365 | M41: =SUM(E41*0.5) -> 40365
A43: Chapman / Twinbrook
A44: Elimination of EB Twinbrook " Hot Right" | B44: Construction | C44: Rockville | D44: Contractor | E44: 93150 | F44: Modify Existing | L44: =SUM(E44*0.5) -> 46575 | M44: =SUM(E44*0.5) -> 46575
A45: High Visibility Crosswalk | B45: Installation | C45: Rockville | D45: Contractor | E45: 13041 | F45: New | M45: =SUM(E45) -> 13041
A46: Advanced Stop Bar Realignment | B46: Installation | C46: Rockville | D46: Contractor | E46: 2235.6 | F46: Modify Existing | M46: =SUM(E46) -> 2235.6
A47: Addition of New Pedestrian Crossing Signals on East side | B47: Construction | C47: Rockville | D47: Contractor | E47: 37260 | F47: New | L47: =SUM(E47*0.5) -> 18630 | M47: =SUM(E47*0.5) -> 18630
A49: Rockville Pike / Bouic
A50: Construct Curb Extensions on Bouic | B50: Construction | C50: Rockville | D50: Contractor | E50: 12420 | F50: New | L50: =E50*0.5 -> 6210 | M50: =E50*0.5 -> 6210
A52: Rockville Pike / Thompson
...

Sheet PG WH
A2: FY 2011 TPB TIGER Grant Application - Cost and Schedule - West Hyattsville ONLY Project
G3: FY 2013 | K3: FY 2014
G4: 1Q | H4: 2Q | I4: 3Q | J4: 4Q | K4: 1Q | L4: 2Q | M4: 3Q | N4: 4Q
A5: Project | B5: Activity | C5: Lead Agency | D5: Workforce | E5: Budget | F5: Funding Source
A6: Ager Road Green Road Project - Project Start Date - January 2012
A7: West Hyattsville Access Improvments - Project Start Date - January 2012
C8: NOT FUNDED BY TIGER - Included in Local Matching
A9: 1. Planning, Design & Engineering | B9: Design | C9: County | D9: Consultant | F9: County
A12: Construction - Start Date - September 2013 | B12: Construction | C12: County | D12: Contractor | F12: TIGER 80%
A15: West Hyattsville Project Access Improvements
B16: Jamestown Road Sidewalk Design | E16: 37500 | H16: 37500
B17: (note: Design costs are not a part of Tiger request)
B18: Jamestown Road Sidewalk Construction | E18: 250000 | F18: =E18*0.8 -> 200000 | I18: 50000 | J18: 100000 | K18: 100000
B19: WMATA Secure Bike Station | E19: 400000 | F19: =E19*0.8 -> 320000 | I19: 200000 | J19: 160000 | K19: 40000
A21: Project Implementation Cost | E21: =E9+E12+SUM(E16:E19) -> 687500 | I21: =SUM(I18:I20) -> 250000 | J21: =SUM(J18:J20) -> 260000 | K21: =SUM(K18:K20) -> 140000
A23: Construction Costs | E23: =E18+E19 -> 650000 | F23: =SUM(F14:F19) -> 520000
A24: Plus COG PM Costs (3.5%) | E24: =E23*0.035 -> 22750 | F24: =E24 -> 22750 | I24: =$F24/3 -> 7583.3333 | J24: =$F24/3 -> 7583.3333 | K24: =$F24/3 -> 7583.3333
A25: TOTAL Project Construction Costs | E25: =E23+E24 -> 672750 | F25: =F23+E24 -> 542750 | H25: 37500 | I25: =I21+I24 -> 257583.33 | J25: =J21+J24 -> 267583.33 | K25: =K21+K24 -> 147583.33
A27: TOTAL Project Implementation Cost | E27: =E25+E16 -> 710250 | K27: =SUM(H25:K25) -> 710250
A29: Total TIGER Funds | E29: =F25 -> 542750 | L29: =K27-H25 -> 672750
A31: Total Other Funds (% match) | E31: =E27-E29 -> 167500 | F31: =E31/E27 -> 0.23583245

Sheet Arl A-N
A1: FY 2011 TPB TIGER Grant Application - Cost and Schedule
G2: FY 2013 | K2: FY 2014 | O2: FY 2015 | S2: FY 2016 | W2: FY 2017
G3: 1Q | H3: 2Q | I3: 3Q | J3: 4Q | K3: 1Q | L3: 2Q | M3: 3Q | N3: 4Q | O3: 1Q | P3: 2Q | Q3: 3Q | R3: 4Q | S3: 1Q | T3: 2Q | U3: 3Q | V3: 4Q | W3: 1Q | X3: 2Q | Y3: 3Q | Z3: 4Q
A4: Project | B4: Activity | C4: Lead Agency | D4: Workforce | E4: Budget | F4: Funding Source
A5: Combined Pentagon / Pentagon City / Crystal City Access Improvement Project
A7: 1. Planning | B7: NOT FUNDED BY TIGER - Included in Local Matching
A8: Army Navy Drive | B8: Planning
A9: 30% design | C9: FHWA | D9: 270000 | F9: FHWA | G9: Finished as of FY 2011.
A10: 100% design and site coordination | C10: Arlington | E10: 620000 | F10: Arlington | G10: 104000 | H10: 104000 | I10: Completed mid-FY2013
A11: Bikesharing 5 initial stations | B11: Planning
A12: Plan station locations | C12: Arlington | E12: 2500 | F12: Arlington | G12: To be completed FY2012
A13: Obtain environmental clearance | C13: Arlington | E13: 3200 | F13: Arlington | G13: To be completed FY2012
A14: Bikesharing 5 additional stations | B14: Planning
A15: Plan station locations | C15: Arlington | E15: 2500 | F15: Arlington | G15: To be completed FY2012
A16: Obtain environmental clearance | C16: Arlington | E16: 3200 | F16: Arlington | G16: To be completed FY2012
A18: Total Planning Costs - all Local | E18: =SUM(E10:E16) -> 631400
A21: 2. Implementation | E21: Overall | F21: TIGER
A22: Army Navy Drive Construction | B22: Construction
A23: Arlington portion | E23: 1110000 | F23: Arlington | I23: 1100000 | J23: 1100000 | K23: 1100000 | L23: 1090000
A24: TIGER portion | E24: 4390000 | F24: TIGER | I24: 280000 | J24: 280000 | K24: 280000 | L24: 270000
A25: Bikesharing 5 initial stations | B25: Construction
A26: Procurement | E26: 233782 | F26: TIGER | G26: 233782
A27: Installation | E27: 15000 | F27: TIGER | H27: 15000
A28: Bikesharing 5 additional stations | B28: Construction
A29: Procurement | E29: 233782 | F29: TIGER | G29: 233782
A30: Installation | E30: 15000 | F30: TIGER | H30: 15000
A32: Total Construction Costs | E32: =SUM(E23:E30) -> 5997564 | F32: =E32*0.8 -> 4798051.2
A33: COG PM (3.5%) of construction | E33: =E32*0.035 -> 209914.74 | G33: =0.035*(SUM(G23:G31)) -> 16364.74 | H33: =0.035*(SUM(H23:H31)) -> 1050 | I33: =0.035*(SUM(I23:I31)) -> 48300 | J33: =0.035*(SUM(J23:J31)) -> 48300 | K33: =0.035*(SUM(K23:K31)) -> 48300 | L33: =0.035*(SUM(L23:L31)) -> 47600
A34: TOTAL | E34: =E32+E33 -> 6207478.7 | F34: =E34*0.8 -> 4965983
A36: TOTAL Project Implementation Cost | E36: =E34+SUM(E9:E16) -> 6838878.7
G37: =SUM(G23:G36)+SUM(E10:E16)-H10 -> 1011328.7 | H37: =SUM(H23:H36)+H10 -> 135050 | I37: =SUM(I23:I36) -> 1428300 | J37: =SUM(J23:J36) -> 1428300 | K37: =SUM(K23:K36) -> 1428300 | L37: =SUM(L23:L36) -> 1407600 | N37: =SUM(G37:M37) -> 6838878.7
A38: Total TIGER Funds (%) | E38: =F34 -> 4965983 | F38: =E38/E36 -> 0.72613994
A40: Total Other Funds (% match) | E40: =E36-E38 -> 1872895.7 | F40: =E40/E36 -> 0.27386006

Sheet VRE
A1: FY 2011 TPB TIGER Grant Application - Cost and Schedule
I2: CY 2013
G3: FY 2013 | K3: FY 2014
G4: 1Q | H4: 2Q | I4: 3Q | J4: 4Q | K4: 1Q | L4: 2Q | M4: 3Q | N4: 4Q
A5: Project | B5: Activity | C5: Lead Agency | D5: Workforce | E5: Budget | F5: Funding Source
A6: VRE Bike Lockers
A8: 1. Install Bike Lockers | E8: =SUM(E11:E57) -> 283600.35 | F8: TIGER
A9: Install bike lockers at eight (8) locations
A11: Broad Run
A12: Purchase lockers | B12: Procure | C12: VRE | D12: Manufacturer | E12: 11600 | I12: 5800 | J12: 5800
A13: Prepare site | B13: Construct | C13: VRE | D13: Contractor | E13: 7500 | J13: 3750 | K13: 3750
A14: Install | B14: Construct | C14: VRE | D14: Contractor | E14: 2000 | L14: 2000
A15: Permits, Inspection, Administration | C15: VRE | D15: VRE | E15: 5199.35 | I15: 1300 | J15: 1300 | K15: 1300 | L15: 1299
A17: Rippon
A18: Purchase lockers | B18: Procure | C18: VRE | D18: Manufacturer | E18: 11600 | I18: 5800 | J18: 5800
A19: Prepare site | B19: Construct | C19: VRE | D19: Contractor | E19: 7500 | J19: 3750 | K19: 3750
A20: Install | B20: Construct | C20: VRE | D20: Contractor | E20: 2000 | L20: 2000
A21: Permits, Inspection, Administration | B21: Construct | C21: VRE | D21: VRE | E21: 5882.45 | I21: 1470 | J21: 1470 | K21: 1470 | L21: 1473
A23: Woodbridge
A24: Purchase lockers | B24: Procure | C24: VRE | D24: Manufacturer | E24: 11600 | I24: 5800 | J24: 5800
A25: Prepare site | B25: Construct | C25: VRE | D25: Contractor | E25: 7500 | J25: 3750 | K25: 3750
A26: Install | B26: Construct | C26: VRE | D26: Contractor | E26: 2000 | L26: 2000
A27: Permits, Inspection, Administration | B27: Construct | C27: VRE | D27: VRE | E27: 5199.35 | I27: 1300 | J27: 1300 | K27: 1300 | L27: 1299
A29: Manassas
A30: Purchase lockers | B30: Procure | C30: VRE | D30: Manufacturer | E30: 11600 | I30: 5800 | J30: 5800
A31: Prepare site | B31: Construct | C31: VRE | D31: Contractor | E31: 7500 | J31: 3750 | K31: 3750
A32: Install | B32: Construct | C32: VRE | D32: Contractor | E32: 2000 | L32: 2000
A33: Permits, Inspection, Administration | B33: Construct | C33: VRE | D33: VRE | E33: 5199.35 | I33: 1300 | J33: 1300 | K33: 1300 | L33: 1299
A35: Manassas Park
A36: Purchase lockers | B36: Procure | C36: VRE | D36: Manufacturer | E36: 11600 | I36: 5800 | J36: 5800
A37: Prepare site | B37: Construct | C37: VRE | D37: Contractor | E37: 7500 | J37: 3750 | K37: 3750
A38: Install | B38: Construct | C38: VRE | D38: Contractor | E38: 2000 | L38: 2000
A39: Permits, Inspection, Administration | B39: Construct | C39: VRE | D39: VRE | E39: 5199.35 | I39: 1300 | J39: 1300 | K39: 1300 | L39: 1299
A41: Rolling Rd.
A42: Purchase lockers | B42: Procure | C42: VRE/Fairfax Co. | D42: Manufacturer | E42: 14500 | I42: 7250 | J42: 7250
A43: Prepare site | B43: Construct | C43: VRE/Fairfax Co. | D43: Contractor | E43: 7500 | J43: 3750 | K43: 3750
A44: Install | B44: Construct | C44: VRE/Fairfax Co. | D44: Contractor | E44: 2000 | L44: 2000
A45: Permits, Inspection, Administration | B45: Construct | C45: VRE/Fairfax Co. | D45: VRE/Fairfax Co. | E45: 4462.5 | I45: 1115 | J45: 1115 | K45: 1115 | L45: 1118
A47: Lorton
A48: Purchase lockers | B48: Procure | C48: VRE/Fairfax Co. | D48: Manufacturer | E48: 11600 | I48: 5800 | J48: 5800
...
