Workbook

Sheet OSD (R Studio)
A1: EIS Facility ID | B1: Facility ID | C1: Column1 | D1: Agency Process ID | E1: Unit ID | F1: Pollutant Name | G1: Pollutant Code | H1: Total Emissions | I1: Emissions UOM | J1: Total Emissions in Tons | K1: Emissions Factor | L1: Emissions Numerator UOM | M1: Emissions Denominator UOM | N1: Percentage | O1: Unique | P1: ozone_szn_day | Q1: SCC
A2: 12622011 | B2: 21 | D2: 1 | E2: Appleby Bay#3 Heater | F2: Carbon Monoxide | G2: CO | H2: 0.00184472 | I2: TON | J2: 0.00184472 | K2: 84 | L2: LB | M2: E6FT3SD | N2: 0.25 | O2: =B2 & E2 & D2 -> 21Appleby Bay#3 Heater1 | P2: 5.0128261e-06 | Q2: 10300602
A3: 12622011 | B3: 21 | D3: 1 | E3: Appleby Bay#3 Heater | F3: Nitrogen Oxides | G3: NOX | H3: 0.0021961 | I3: TON | J3: 0.0021961 | K3: 100 | L3: LB | M3: E6FT3SD | N3: 0.25 | O3: =B3 & E3 & D3 -> 21Appleby Bay#3 Heater1 | P3: 5.967663e-06 | Q3: 10300602
A4: 12622011 | B4: 21 | D4: 1 | E4: Appleby Bay#3 Heater | F4: Volatile Organic Compounds | G4: VOC | H4: 0.000120786 | I4: TON | J4: 0.000120786 | K4: 5.5 | L4: LB | M4: E6FT3SD | N4: 0.25 | O4: =B4 & E4 & D4 -> 21Appleby Bay#3 Heater1 | P4: 3.2822283e-07 | Q4: 10300602
A5: 12622011 | B5: 21 | D5: 1 | E5: Appleby Bay#6 Heater | F5: Nitrogen Oxides | G5: NOX | H5: 0.0014 | I5: TON | J5: 0.0014 | K5: 5e-05 | L5: LB | M5: FT3SD | N5: 0.25 | O5: =B5 & E5 & D5 -> 21Appleby Bay#6 Heater1 | P5: 3.8043478e-06 | Q5: 10300602
A6: 12622011 | B6: 21 | D6: 1 | E6: Appleby Bay#6 Heater | F6: Carbon Monoxide | G6: CO | H6: 0.00239812 | I6: TON | J6: 0.00239812 | K6: 84 | L6: LB | M6: E6FT3SD | N6: 0.25 | O6: =B6 & E6 & D6 -> 21Appleby Bay#6 Heater1 | P6: 6.5166304e-06 | Q6: 10300602
A7: 12622011 | B7: 21 | D7: 1 | E7: Appleby Bay#6 Heater | F7: Volatile Organic Compounds | G7: VOC | H7: 0.00015702 | I7: TON | J7: 0.00015702 | K7: 5.5 | L7: LB | M7: E6FT3SD | N7: 0.25 | O7: =B7 & E7 & D7 -> 21Appleby Bay#6 Heater1 | P7: 4.2668478e-07 | Q7: 10300602
A8: 12622011 | B8: 21 | D8: 1 | E8: Appleby Bay#9 Heater | F8: Nitrogen Oxides | G8: NOX | H8: 0.0014 | I8: TON | J8: 0.0014 | K8: 5e-05 | L8: LB | M8: FT3SD | N8: 0.25 | O8: =B8 & E8 & D8 -> 21Appleby Bay#9 Heater1 | P8: 3.8043478e-06 | Q8: 10300602
A9: 12622011 | B9: 21 | D9: 1 | E9: Appleby Bay#9 Heater | F9: Carbon Monoxide | G9: CO | H9: 0.00239812 | I9: TON | J9: 0.00239812 | K9: 84 | L9: LB | M9: E6FT3SD | N9: 0.25 | O9: =B9 & E9 & D9 -> 21Appleby Bay#9 Heater1 | P9: 6.5166304e-06 | Q9: 10300602
A10: 12622011 | B10: 21 | D10: 1 | E10: Appleby Bay#9 Heater | F10: Volatile Organic Compounds | G10: VOC | H10: 0.00015702 | I10: TON | J10: 0.00015702 | K10: 5.5 | L10: LB | M10: E6FT3SD | N10: 0.25 | O10: =B10 & E10 & D10 -> 21Appleby Bay#9 Heater1 | P10: 4.2668478e-07 | Q10: 10300602
A11: 12622011 | B11: 21 | D11: 1 | E11: Appleby Boiler | F11: Nitrogen Oxides | G11: NOX | H11: 0.0058 | I11: TON | J11: 0.0058 | K11: 5e-05 | L11: LB | M11: FT3SD | N11: 0.25 | O11: =B11 & E11 & D11 -> 21Appleby Boiler1 | P11: 1.576087e-05 | Q11: 10200602
A12: 12622011 | B12: 21 | D12: 1 | E12: Appleby Boiler | F12: Carbon Monoxide | G12: CO | H12: 0.00971237 | I12: TON | J12: 0.00971237 | K12: 84 | L12: LB | M12: E6FT3SD | N12: 0.25 | O12: =B12 & E12 & D12 -> 21Appleby Boiler1 | P12: 2.639231e-05 | Q12: 10200602
A13: 12622011 | B13: 21 | D13: 1 | E13: Appleby Boiler | F13: Volatile Organic Compounds | G13: VOC | H13: 0.000635929 | I13: TON | J13: 0.000635929 | K13: 5.5 | L13: LB | M13: E6FT3SD | N13: 0.25 | O13: =B13 & E13 & D13 -> 21Appleby Boiler1 | P13: 1.7280679e-06 | Q13: 10200602
... A617: 17061511 | B617: 11003 | D617: 1 | E617: B5 | F617: Carbon Monoxide | G617: CO | H617: 0.016 | I617: TON | J617: 0.016 | K617: 0.00178 | L617: LB | M617: HR | N617: 0.325 | O617: =B617 & E617 & D617 -> 11003B51 | P617: 5.6521739e-05 | Q617: 10200602
A618: 17061511 | B618: 11003 | D618: 1 | E618: B5 | F618: Volatile Organic Compounds | G618: VOC | H618: 0 | I618: TON | J618: 0 | K618: 5.5 | L618: LB | M618: E6FT3SD | N618: 0.332 | O618: =B618 & E618 & D618 -> 11003B51 | P618: =(N618)/(92)/(2000) -> 1.8043478e-06 | Q618: 10200602
A619: 17061511 | B619: 11003 | D619: 2 | E619: B6 | F619: Nitrogen Oxides | G619: NOX | H619: 0.001 | I619: TON | J619: 0.001 | K619: 2.48 | L619: LB | M619: HR | N619: 0 | O619: =B619 & E619 & D619 -> 11003B62 | P619: 0 | Q619: 10300502
A620: 17061511 | B620: 11003 | D620: 2 | E620: B6 | F620: Carbon Monoxide | G620: CO | H620: 0.001 | I620: TON | J620: 0.001 | K620: 0.103 | L620: LB | M620: HR | N620: 0 | O620: =B620 & E620 & D620 -> 11003B62 | P620: 0 | Q620: 10300502
A621: 17061511 | B621: 11003 | D621: 2 | E621: B6 | F621: Volatile Organic Compounds | G621: VOC | H621: 0 | I621: TON | J621: 0 | K621: 0.34 | L621: LB | M621: E3GAL | N621: 0 | O621: =B621 & E621 & D621 -> 11003B62 | P621: 0 | Q621: 10300502
A622: 17061511 | B622: 11003 | D622: 1 | E622: B6 | F622: Nitrogen Oxides | G622: NOX | H622: 0.641 | I622: TON | J622: 0.641 | K622: 0.608 | L622: LB | M622: HR | N622: 0.075 | O622: =B622 & E622 & D622 -> 11003B61 | P622: 0.00052255435 | Q622: 10200602
A623: 17061511 | B623: 11003 | D623: 1 | E623: B6 | F623: Volatile Organic Compounds | G623: VOC | H623: 0.064 | I623: TON | J623: 0.064 | K623: 5.5 | L623: LB | M623: E6FT3SD | N623: 0.382 | O623: =B623 & E623 & D623 -> 11003B61 | P623: =(N623)/(92)/(2000) -> 2.076087e-06 | Q623: 10200602
A624: 17061511 | B624: 11003 | D624: 1 | E624: B6 | F624: Carbon Monoxide | G624: CO | H624: 0.002 | I624: TON | J624: 0.002 | K624: 0.00208 | L624: LB | M624: HR | N624: 0.075 | O624: =B624 & E624 & D624 -> 11003B61 | P624: 1.6304348e-06 | Q624: 10200602
A625: 17061511 | B625: 11003 | D625: 1 | E625: EG-1 | F625: Volatile Organic Compounds | G625: VOC | H625: 0.012 | I625: TON | J625: 0.012 | K625: 9.5e-05 | L625: LB | M625: KW-HR | N625: 0.276 | O625: =B625 & E625 & D625 -> 11003EG-11 | P625: 3.6e-05 | Q625: 20100102
A626: 17061511 | B626: 11003 | D626: 1 | E626: EG-1 | F626: Carbon Monoxide | G626: CO | H626: 0.098 | I626: TON | J626: 0.098 | K626: 3.5 | L626: G | M626: KW-HR | N626: 0.276 | O626: =B626 & E626 & D626 -> 11003EG-11 | P626: 0.000294 | Q626: 20100102
A627: 17061511 | B627: 11003 | D627: 1 | E627: EG-1 | F627: Nitrogen Oxides | G627: NOX | H627: 0.167 | I627: TON | J627: 0.167 | K627: 0.301315 | L627: LB | M627: KW-HR | N627: 0.276 | O627: =B627 & E627 & D627 -> 11003EG-11 | P627: 0.000501 | Q627: 20100102
A628: 17061511 | B628: 11003 | D628: 1 | E628: EG-10 | F628: Volatile Organic Compounds | G628: VOC | H628: 0.001 | I628: TON | J628: 0.001 | K628: 0.0183 | L628: G | M628: KW-HR | N628: 0.663 | O628: =B628 & E628 & D628 -> 11003EG-101 | P628: 7.2065217e-06 | Q628: 20100102
A629: 17061511 | B629: 11003 | D629: 1 | E629: EG-10 | F629: Carbon Monoxide | G629: CO | H629: 0.004 | I629: TON | J629: 0.004 | K629: 0.0537 | L629: G | M629: KW-HR | N629: 0.663 | O629: =B629 & E629 & D629 -> 11003EG-101 | P629: 2.8826087e-05 | Q629: 20100102
A630: 17061511 | B630: 11003 | D630: 1 | E630: EG-10 | F630: Nitrogen Oxides | G630: NOX | H630: 0.021 | I630: TON | J630: 0.021 | K630: 0.28 | L630: G | M630: KW-HR | N630: 0.663 | O630: =B630 & E630 & D630 -> 11003EG-101 | P630: 0.00015133696 | Q630: 20100102
A631: 17061511 | B631: 11003 | D631: 1 | E631: EG-11 | F631: Nitrogen Oxides | G631: NOX | H631: 0.014 | I631: TON | J631: 0.014 | K631: 0.23 | L631: G | M631: KW-HR | N631: 0.646 | O631: =B631 & E631 & D631 -> 11003EG-111 | P631: 9.8304348e-05 | Q631: 20100102
A632: 17061511 | B632: 11003 | D632: 1 | E632: EG-11 | F632: Carbon Monoxide | G632: CO | H632: 0.003 | I632: TON | J632: 0.003 | K632: 3.5 | L632: KG | M632: KW-HR | N632: 0.646 | O632: =B632 & E632 & D632 -> 11003EG-111 | P632: 2.1065217e-05 | Q632: 20100102
A633: 17061511 | B633: 11003 | D633: 1 | E633: EG-11 | F633: Volatile Organic Compounds | G633: VOC | H633: 0 | I633: TON | J633: 0 | K633: 0.00297 | L633: KG | M633: KW-HR | N633: 0.646 | O633: =B633 & E633 & D633 -> 11003EG-111 | P633: 0 | Q633: 20100102
A634: 17061511 | B634: 11003 | D634: 1 | E634: EG-12 | F634: Volatile Organic Compounds | G634: VOC | H634: 0 | I634: TON | J634: 0 | K634: 0.0105 | L634: G | M634: KW-HR | N634: 0.09 | O634: =B634 & E634 & D634 -> 11003EG-121 | P634: 0 | Q634: 20100102
A635: 17061511 | B635: 11003 | D635: 1 | E635: EG-12 | F635: Carbon Monoxide | G635: CO | H635: 0.002 | I635: TON | J635: 0.002 | K635: 0.0574 | L635: G | M635: KW-HR | N635: 0.09 | O635: =B635 & E635 & D635 -> 11003EG-121 | P635: 1.9565217e-06 | Q635: 20100102
... A945: 18304511 | B945: 142 | D945: 1 | E945: TDPS-EG1 | F945: Volatile Organic Compounds | G945: VOC | H945: 0.000808 | I945: TON | J945: 0.000808 | K945: NA | L945: NA | M945: NA | N945: 0 | O945: =B945 & E945 & D945 -> 142TDPS-EG11 | P945: 0 | Q945: 20100102
A946: 18304511 | B946: 142 | D946: 1 | E946: TDPS-EG1 | F946: Carbon Monoxide | G946: CO | H946: 0.00327015 | I946: TON | J946: 0.00327015 | K946: 0.45 | L946: G | M946: HP-HR | N946: 0.106 | O946: =B946 & E946 & D946 -> 142TDPS-EG11 | P946: =(N946)/(92)/(2000) -> 5.7608696e-07 | Q946: 20100102
A947: 18957611 | B947: 80502 | D947: Operation | E947: ADAMS | F947: Volatile Organic Compounds | G947: VOC | H947: 0.006483 | I947: TON | J947: 0.006483 | K947: 0.000705 | L947: G | M947: HP-HR | N947: 0.25 | O947: =B947 & E947 & D947 -> 80502ADAMSOperation | P947: 1.7616848e-05 | Q947: 20300101
A948: 18957611 | B948: 80502 | D948: Operation | E948: ADAMS | F948: Nitrogen Oxides | G948: NOX | H948: 0.10846 | I948: TON | J948: 0.10846 | K948: 27.45815623 | L948: LB | M948: HR | N948: 0.25 | O948: =B948 & E948 & D948 -> 80502ADAMSOperation | P948: 0.00029472826 | Q948: 20300101
A949: 18957611 | B949: 80502 | D949: Operation | E949: ADAMS | F949: Carbon Monoxide | G949: CO | H949: 0.0101364 | I949: TON | J949: 0.0101364 | K949: 2.566182825 | L949: LB | M949: HR | N949: 0.25 | O949: =B949 & E949 & D949 -> 80502ADAMSOperation | P949: 2.7544565e-05 | Q949: 20300101
A950: 18957611 | B950: 80502 | D950: Operation | E950: CHLD | F950: Carbon Monoxide | G950: CO | H950: 0.00205222 | I950: TON | J950: 0.00205222 | K950: 0.436642743 | L950: LB | M950: HR | N950: 0.25 | O950: =B950 & E950 & D950 -> 80502CHLDOperation | P950: 5.5766848e-06 | Q950: 20300101
A951: 18957611 | B951: 80502 | D951: Operation | E951: CHLD | F951: Volatile Organic Compounds | G951: VOC | H951: 0.000961979 | I951: TON | J951: 0.000961979 | K951: 0.204676286 | L951: LB | M951: HR | N951: 0.25 | O951: =B951 & E951 & D951 -> 80502CHLDOperation | P951: 2.6140734e-06 | Q951: 20300101
A952: 18957611 | B952: 80502 | D952: Operation | E952: CHLD | F952: Nitrogen Oxides | G952: NOX | H952: 0.0124052 | I952: TON | J952: 0.0124052 | K952: 2.6394 | L952: LB | M952: HR | N952: 0.25 | O952: =B952 & E952 & D952 -> 80502CHLDOperation | P952: 3.3709783e-05 | Q952: 20300101
A953: 18957611 | B953: 80502 | D953: Operation | E953: MADA | F953: Volatile Organic Compounds | G953: VOC | H953: 0.00234722 | I953: TON | J953: 0.00234722 | K953: 0.515873016 | L953: LB | M953: HR | N953: 0.25 | O953: =B953 & E953 & D953 -> 80502MADAOperation | P953: 6.3783152e-06 | Q953: 20300101
A954: 18957611 | B954: 80502 | D954: Operation | E954: MADA | F954: Nitrogen Oxides | G954: NOX | H954: 0.13321 | I954: TON | J954: 0.13321 | K954: 29.27689594 | L954: LB | M954: HR | N954: 0.25 | O954: =B954 & E954 & D954 -> 80502MADAOperation | P954: 0.0003619837 | Q954: 20300101
A955: 18957611 | B955: 80502 | D955: Operation | E955: MADA | F955: Carbon Monoxide | G955: CO | H955: 0.0192593 | I955: TON | J955: 0.0192593 | K955: 4.232804233 | L955: LB | M955: HR | N955: 0.25 | O955: =B955 & E955 & D955 -> 80502MADAOperation | P955: 5.2335054e-05 | Q955: 20300101
A956: 18957611 | B956: 80502 | D956: Operation | E956: MADB | F956: Volatile Organic Compounds | G956: VOC | H956: 0.007732 | I956: TON | J956: 0.007732 | K956: 0.000705 | L956: LB | M956: HP-HR | N956: 0.25 | O956: =B956 & E956 & D956 -> 80502MADBOperation | P956: 2.101087e-05 | Q956: 20300101
A957: 18957611 | B957: 80502 | D957: Operation | E957: MADB | F957: Nitrogen Oxides | G957: NOX | H957: 0.26322 | I957: TON | J957: 0.26322 | K957: 604 | L957: LB | M957: E3GAL | N957: 0.25 | O957: =B957 & E957 & D957 -> 80502MADBOperation | P957: 0.00071527174 | Q957: 20300101
A958: 18957611 | B958: 80502 | D958: Operation | E958: MADB | F958: Carbon Monoxide | G958: CO | H958: 0.060321 | I958: TON | J958: 0.060321 | K958: 130 | L958: LB | M958: E3GAL | N958: 0.25 | O958: =B958 & E958 & D958 -> 80502MADBOperation | P958: 0.00016391576 | Q958: 20300101
... A966: 18957611 | B966: 80502 | D966: Operation | E966: Miscellaneous | F966: Volatile Organic Compounds | G966: VOC | H966: 0.01 | I966: TON | J966: 0.01 | K966: NA | L966: NA | M966: NA | N966: 0.25 | O966: =B966 & E966 & D966 -> 80502MiscellaneousOperation | P966: 2.7173913e-05 | Q966: 40288801
A967: 18957611 | B967: 80502 | D967: Operation | E967: JEFF RENTAL | F967: Carbon Monoxide | G967: CO | H967: 0.07367 | I967: TON | J967: 0.07367 | K967: 0.0055 | L967: LB | M967: HP-HR | N967: 0.25 | O967: =B967 & E967 & D967 -> 80502JEFF RENTALOperation | P967: =(N967)/(92)/(2000) -> 1.3586957e-06 | Q967: 20300101
A968: 18957611 | B968: 80502 | D968: Operation | E968: JEFF RENTAL | F968: Nitrogen Oxides | G968: NOX | H968: 0.321468 | I968: TON | J968: 0.321468 | K968: 0.024 | L968: LB | M968: HP-HR | N968: 0.25 | O968: =B968 & E968 & D968 -> 80502JEFF RENTALOperation | P968: 0.00087355435 | Q968: 20300101
A969: 18957611 | B969: 80502 | D969: Operation | E969: JEFF RENTAL | F969: Volatile Organic Compounds | G969: VOC | H969: 0.009443 | I969: TON | J969: 0.009443 | K969: 0.000705 | L969: LB | M969: HP-HR | N969: 0.25 | O969: =B969 & E969 & D969 -> 80502JEFF RENTALOperation | P969: 2.5660326e-05 | Q969: 20300101
A970: 12621911 | B970: 59 | D970: 1 | E970: Alumni Sq | F970: Carbon Monoxide | G970: CO | H970: 0.002006 | I970: TON | J970: 0.002006 | K970: 130 | L970: LB | M970: E3GAL | N970: 0.25 | O970: =B970 & E970 & D970 -> 59Alumni Sq1 | P970: 5.451087e-06 | Q970: 20300101
A971: 12621911 | B971: 59 | D971: 1 | E971: Alumni Sq | F971: Nitrogen Oxides | G971: NOX | H971: 0.0093093 | I971: TON | J971: 0.0093093 | K971: NA | L971: NA | M971: NA | N971: 0.25 | O971: =B971 & E971 & D971 -> 59Alumni Sq1 | P971: 2.5297011e-05 | Q971: 20300101
A972: 12621911 | B972: 59 | D972: 1 | E972: Alumni Sq | F972: Volatile Organic Compounds | G972: VOC | H972: 0.0007417 | I972: TON | J972: 0.0007417 | K972: NA | L972: NA | M972: NA | N972: 0.25 | O972: =B972 & E972 & D972 -> 59Alumni Sq1 | P972: 2.0154891e-06 | Q972: 20300101
A973: 12621911 | B973: 59 | D973: 1 | E973: Arrupe | F973: Carbon Monoxide | G973: CO | H973: 0.0007075 | I973: TON | J973: 0.0007075 | K973: NA | L973: NA | M973: NA | N973: 0.25 | O973: =B973 & E973 & D973 -> 59Arrupe1 | P973: 1.9225543e-06 | Q973: 20300201
A974: 12621911 | B974: 59 | D974: 1 | E974: Arrupe | F974: Nitrogen Oxides | G974: NOX | H974: 0.0010107 | I974: TON | J974: 0.0010107 | K974: NA | L974: NA | M974: NA | N974: 0.25 | O974: =B974 & E974 & D974 -> 59Arrupe1 | P974: 2.7464674e-06 | Q974: 20300201
A975: 12621911 | B975: 59 | D975: 1 | E975: Arrupe | F975: Volatile Organic Compounds | G975: VOC | H975: 0.0001 | I975: TON | J975: 0.0001 | K975: NA | L975: NA | M975: NA | N975: 0.25 | O975: =B975 & E975 & D975 -> 59Arrupe1 | P975: 2.7173913e-07 | Q975: 20300201
A976: 12621911 | B976: 59 | D976: 1 | E976: Building D | F976: Carbon Monoxide | G976: CO | H976: 0.02574 | I976: TON | J976: 0.02574 | K976: 130 | L976: LB | M976: E3GAL | N976: 0.25 | O976: =B976 & E976 & D976 -> 59Building D1 | P976: 6.9945652e-05 | Q976: 20300101
A977: 12621911 | B977: 59 | D977: 1 | E977: Building D | F977: Nitrogen Oxides | G977: NOX | H977: 0.11232 | I977: TON | J977: 0.11232 | K977: 604 | L977: LB | M977: E3GAL | N977: 0.25 | O977: =B977 & E977 & D977 -> 59Building D1 | P977: 0.00030521739 | Q977: 20300101
A978: 12621911 | B978: 59 | D978: 1 | E978: Building D | F978: Volatile Organic Compounds | G978: VOC | H978: 0.0032994 | I978: TON | J978: 0.0032994 | K978: NA | L978: NA | M978: NA | N978: 0.25 | O978: =B978 & E978 & D978 -> 59Building D1 | P978: 8.9657609e-06 | Q978: 20300101
A979: 12621911 | B979: 59 | D979: 1 | E979: Central Plant | F979: Carbon Monoxide | G979: CO | H979: 0.0172298 | I979: TON | J979: 0.0172298 | K979: NA | L979: NA | M979: NA | N979: 0.25 | O979: =B979 & E979 & D979 -> 59Central Plant1 | P979: 4.6820109e-05 | Q979: 20300101
... A991: 12621911 | B991: 59 | D991: 1 | E991: EPN-1 | F991: Volatile Organic Compounds | G991: VOC | H991: 0.731693 | I991: TON | J991: 0.731693 | K991: 5.5 | L991: LB | M991: E6FT3SD | N991: 0.1 | O991: =B991 & E991 & D991 -> 59EPN-11 | P991: 0.00079531848 | Q991: 10300601
A992: 12621911 | B992: 59 | D992: 1 | E992: EPN-1 | F992: Nitrogen Oxides | G992: NOX | H992: 12.0349 | N992: 0.4 | P992: 0.013081413 | Q992: 10300501
A993: 12621911 | B993: 00059 | D993: 2 | E993: EPN-1 | F993: Nitrogen Oxides | G993: NOX | H993: 0 | N993: 0.4 | P993: 0 | Q993: 10300501
A994: 12621911 | B994: 59 | D994: 1 | E994: EPN-1 | F994: Carbon Monoxide | G994: CO | H994: 11.26 | I994: TON | J994: 11.26 | K994: 84 | L994: LB | M994: E6FT3SD | N994: 0.1 | O994: =B994 & E994 & D994 -> 59EPN-11 | P994: 0.01223913 | Q994: 10300601
A995: 12621911 | B995: 59 | D995: 2 | E995: EPN-1 | F995: Carbon Monoxide | G995: CO | H995: 0 | I995: TON | J995: 0 | K995: 5 | L995: LB | M995: E3GAL | N995: 0.1 | O995: =B995 & E995 & D995 -> 59EPN-12 | P995: 0 | Q995: 10300501
A996: 12621911 | B996: 59 | D996: 2 | E996: EPN-1 | F996: Volatile Organic Compounds | G996: VOC | H996: 0 | I996: TON | J996: 0 | K996: NA | L996: NA | M996: NA | N996: 0.1 | O996: =B996 & E996 & D996 -> 59EPN-12 | P996: 0 | Q996: 10300501
A997: 12621911 | B997: 59 | D997: 1 | E997: EPN-2 | F997: Carbon Monoxide | G997: CO | H997: 0.0407592 | I997: TON | J997: 0.0407592 | K997: NA | L997: NA | M997: NA | N997: 0.1 | O997: =B997 & E997 & D997 -> 59EPN-21 | P997: 4.4303478e-05 | Q997: 10300601
A998: 12621911 | B998: 59 | D998: 1 | E998: EPN-2 | F998: Volatile Organic Compounds | G998: VOC | H998: 0.0044064 | I998: TON | J998: 0.0044064 | K998: NA | L998: NA | M998: NA | N998: 0.1 | O998: =B998 & E998 & D998 -> 59EPN-21 | P998: 4.7895652e-06 | Q998: 10300601
A999: 12621911 | B999: 59 | D999: 2 | E999: EPN-2 | F999: Carbon Monoxide | G999: CO | H999: 0.0129145 | I999: TON | J999: 0.0129145 | K999: NA | L999: NA | M999: NA | N999: 0.1 | O999: =B999 & E999 & D999 -> 59EPN-22 | P999: 1.40375e-05 | Q999: 10300501
A1000: 12621911 | B1000: 59 | D1000: 2 | E1000: EPN-2 | F1000: Volatile Organic Compounds | G1000: VOC | H1000: 0.0007255 | I1000: TON | J1000: 0.0007255 | K1000: NA | L1000: NA | M1000: NA | N1000: 0.1 | O1000: =B1000 & E1000 & D1000 -> 59EPN-22 | P1000: 7.8858696e-07 | Q1000: 10300501
A1001: 12621911 | B1001: 59 | D1001: 1 | E1001: EPN-3 | F1001: Volatile Organic Compounds | G1001: VOC | H1001: 0.684492 | I1001: TON | J1001: 0.684492 | K1001: 5.5 | L1001: LB | M1001: E6FT3SD | N1001: 0.1 | O1001: =B1001 & E1001 & D1001 -> 59EPN-31 | P1001: 0.00074401304 | Q1001: 10300601
A1002: 12621911 | B1002: 59 | D1002: 1 | E1002: EPN-3 | F1002: Carbon Monoxide | G1002: CO | H1002: 10.54 | I1002: TON | J1002: 10.54 | K1002: 84 | L1002: LB | M1002: E6FT3SD | N1002: 0.1 | O1002: =B1002 & E1002 & D1002 -> 59EPN-31 | P1002: 0.011456522 | Q1002: 10300601
A1003: 12621911 | B1003: 59 | D1003: 2 | E1003: EPN-3 | F1003: Carbon Monoxide | G1003: CO | H1003: 0 | I1003: TON | J1003: 0 | K1003: 5 | L1003: LB | M1003: E3GAL | N1003: 0.1 | O1003: =B1003 & E1003 & D1003 -> 59EPN-32 | P1003: 0 | Q1003: 10300501
A1004: 12621911 | B1004: 59 | D1004: 2 | E1004: EPN-3 | F1004: Volatile Organic Compounds | G1004: VOC | H1004: 0 | I1004: TON | J1004: 0 | K1004: NA | L1004: NA | M1004: NA | N1004: 0.1 | O1004: =B1004 & E1004 & D1004 -> 59EPN-32 | P1004: 0 | Q1004: 10300501
A1005: 12621911 | B1005: 59 | D1005: 1 | E1005: EPN-4 | F1005: Carbon Monoxide | G1005: CO | H1005: 2.04221 | I1005: TON | J1005: 2.04221 | K1005: NA | L1005: NA | M1005: NA | N1005: 0 | O1005: =B1005 & E1005 & D1005 -> 59EPN-41 | P1005: 0 | Q1005: 10300601
... A2267: 12625911 | B2267: 136 | D2267: 1 | E2267: EG-6 | F2267: Nitrogen Oxides | G2267: NOX | H2267: 94.452 | I2267: LB | J2267: 0.047226 | K2267: 4.08 | L2267: LB | M2267: E6BTU | N2267: 0.27 | O2267: =B2267 & E2267 & D2267 -> 136EG-61 | P2267: 0.00013859804 | Q2267: 20200254
A2268: 12625911 | B2268: 136 | D2268: 1 | E2268: EG-15 | F2268: Volatile Organic Compounds | G2268: VOC | H2268: 6.61699e-06 | I2268: TON | J2268: 6.61699e-06 | K2268: 0.00125 | N2268: 0.177 | O2268: =B2268 & E2268 & D2268 -> 136EG-151 | P2268: =(N2268)/(92)/(2000) -> 9.6195652e-07 | Q2268: 20200254
A2269: 12625911 | B2269: 136 | D2269: 1 | E2269: EG-15 | F2269: Carbon Monoxide | G2269: CO | H2269: 0.00190569 | I2269: TON | J2269: 0.00190569 | K2269: 0.36 | N2269: 0.177 | O2269: =B2269 & E2269 & D2269 -> 136EG-151 | P2269: =(N2269)/(92)/(2000) -> 9.6195652e-07 | Q2269: 20200254
A2270: 12625911 | B2270: 136 | D2270: 1 | E2270: EG-15 | F2270: Nitrogen Oxides | G2270: NOX | H2270: 0.00019851 | I2270: TON | J2270: 0.00019851 | K2270: 0.0375 | N2270: 0.177 | O2270: =B2270 & E2270 & D2270 -> 136EG-151 | P2270: =(N2270)/(92)/(2000) -> 9.6195652e-07 | Q2270: 20200254
A2271: 12625911 | B2271: 136 | D2271: 1 | E2271: EG-4 | F2271: Volatile Organic Compounds | G2271: VOC | H2271: 2.14428e-06 | I2271: TON | J2271: 2.14428e-06 | K2271: 0.00125 | L2271: G | M2271: KW-HR | N2271: 0.148 | O2271: =B2271 & E2271 & D2271 -> 136EG-41 | P2271: 3.4494939e-09 | Q2271: 20200254
A2272: 12625911 | B2272: 136 | D2272: 1 | E2272: EG-4 | F2272: Nitrogen Oxides | G2272: NOX | H2272: 6.43284e-05 | I2272: TON | J2272: 6.43284e-05 | K2272: 0.0375 | L2272: G | M2272: KW-HR | N2272: 0.148 | O2272: =B2272 & E2272 & D2272 -> 136EG-41 | P2272: 1.0348482e-07 | Q2272: 20200254
A2273: 12625911 | B2273: 136 | D2273: 1 | E2273: EG-4 | F2273: Carbon Monoxide | G2273: CO | H2273: 0.000617553 | I2273: TON | J2273: 0.000617553 | K2273: 0.36 | L2273: G | M2273: KW-HR | N2273: 0.148 | O2273: =B2273 & E2273 & D2273 -> 136EG-41 | P2273: 9.9345483e-07 | Q2273: 20200254
A2274: 12625911 | B2274: 136 | D2274: 1 | E2274: Misc. Diesel Tanks | F2274: Volatile Organic Compounds | G2274: VOC | H2274: 0.00514 | I2274: TON | J2274: 0.00514 | K2274: NA | L2274: NA | M2274: NA | N2274: 0.25 | O2274: =B2274 & E2274 & D2274 -> 136Misc. Diesel Tanks1 | P2274: 1.3967391e-05 | Q2274: 40400316
A2275: 12625911 | B2275: 136 | D2275: 2 | E2275: CU-2 | F2275: Volatile Organic Compounds | G2275: VOC | H2275: 0.00063512 | I2275: TON | J2275: 0.00063512 | K2275: 0.34 | N2275: 0.768 | O2275: =B2275 & E2275 & D2275 -> 136CU-22 | P2275: =(N2275)/(92)/(2000) -> 4.173913e-06 | Q2275: 10300502
A2276: 12625911 | B2276: 136 | D2276: 2 | E2276: CU-2 | F2276: Nitrogen Oxides | G2276: NOX | H2276: 35.37 | I2276: LB | J2276: 0.017685 | K2276: NA | L2276: NA | M2276: NA | N2276: 0 | O2276: =B2276 & E2276 & D2276 -> 136CU-22 | P2276: 0 | Q2276: 10300502
A2277: 12625911 | B2277: 136 | D2277: 2 | E2277: CU-2 | F2277: Carbon Monoxide | G2277: CO | H2277: 1.28 | I2277: LB | J2277: 0.00064 | K2277: NA | L2277: NA | M2277: NA | N2277: 0 | O2277: =B2277 & E2277 & D2277 -> 136CU-22 | P2277: 0 | Q2277: 10300502
A2278: 12625911 | B2278: 136 | D2278: 1 | E2278: CU-2 | F2278: Volatile Organic Compounds | G2278: VOC | H2278: 100.094 | I2278: LB | J2278: 0.050047 | K2278: 5.5 | L2278: LB | M2278: E6FT3SD | N2278: 0.115 | O2278: =B2278 & E2278 & D2278 -> 136CU-21 | P2278: 6.255875e-05 | Q2278: 10300602
A2279: 12625911 | B2279: 136 | D2279: 1 | E2279: CU-2 | F2279: Nitrogen Oxides | G2279: NOX | H2279: 573 | I2279: LB | J2279: 0.2865 | K2279: NA | L2279: NA | M2279: NA | N2279: 0.115 | O2279: =B2279 & E2279 & D2279 -> 136CU-21 | P2279: 0.000358125 | Q2279: 10300602
A2280: 12625911 | B2280: 136 | D2280: 1 | E2280: CU-2 | F2280: Carbon Monoxide | G2280: CO | H2280: 45.48 | I2280: LB | J2280: 0.02274 | K2280: NA | L2280: NA | M2280: NA | N2280: 0.115 | O2280: =B2280 & E2280 & D2280 -> 136CU-21 | P2280: 2.8425e-05 | Q2280: 10300602
A2281: 12625911 | B2281: 136 | D2281: 1 | E2281: CU-3 | F2281: Volatile Organic Compounds | G2281: VOC | H2281: 100.094 | I2281: LB | J2281: 0.050047 | K2281: 5.5 | L2281: LB | M2281: E6FT3SD | N2281: 0.115 | O2281: =B2281 & E2281 & D2281 -> 136CU-31 | P2281: 6.255875e-05 | Q2281: 10300602
A2282: 12625911 | B2282: 136 | D2282: 1 | E2282: CU-3 | F2282: Nitrogen Oxides | G2282: NOX | H2282: 527.5 | I2282: LB | J2282: 0.26375 | K2282: NA | L2282: NA | M2282: NA | N2282: 0.115 | O2282: =B2282 & E2282 & D2282 -> 136CU-31 | P2282: 0.0003296875 | Q2282: 10300602
A2283: 12625911 | B2283: 136 | D2283: 1 | E2283: CU-3 | F2283: Carbon Monoxide | G2283: CO | H2283: 54.57 | I2283: LB | J2283: 0.027285 | K2283: NA | L2283: NA | M2283: NA | N2283: 0.115 | O2283: =B2283 & E2283 & D2283 -> 136CU-31 | P2283: 3.410625e-05 | Q2283: 10300602
A2284: 12625911 | B2284: 136 | D2284: 2 | E2284: CU-3 | F2284: Volatile Organic Compounds | G2284: VOC | H2284: 0.00058225 | I2284: TON | J2284: 0.00058225 | K2284: 0.34 | N2284: 0.818 | O2284: =B2284 & E2284 & D2284 -> 136CU-32 | P2284: =(N2284)/(92)/(2000) -> 4.4456522e-06 | Q2284: 10300502
A2285: 12625911 | B2285: 136 | D2285: 2 | E2285: CU-3 | F2285: Nitrogen Oxides | G2285: NOX | H2285: 35.48 | I2285: LB | J2285: 0.01774 | K2285: NA | L2285: NA | M2285: NA | N2285: 0 | O2285: =B2285 & E2285 & D2285 -> 136CU-32 | P2285: 0 | Q2285: 10300502
A2286: 12625911 | B2286: 136 | D2286: 2 | E2286: CU-3 | F2286: Carbon Monoxide | G2286: CO | H2286: 1.64 | I2286: LB | J2286: 0.00082 | K2286: NA | L2286: NA | M2286: NA | N2286: 0 | O2286: =B2286 & E2286 & D2286 -> 136CU-32 | P2286: 0 | Q2286: 10300502
A2287: 12625911 | B2287: 136 | D2287: 1 | E2287: EG-13 | F2287: Volatile Organic Compounds | G2287: VOC | H2287: 0.00791648 | I2287: TON | J2287: 0.00791648 | K2287: 1.69 | N2287: 0.135 | O2287: =B2287 & E2287 & D2287 -> 136EG-131 | P2287: =(N2287)/(92)/(2000) -> 7.3369565e-07 | Q2287: 20201001
A2288: 12625911 | B2288: 136 | D2288: 1 | E2288: EG-13 | F2288: Nitrogen Oxides | G2288: NOX | H2288: 0.0502626 | I2288: TON | J2288: 0.0502626 | K2288: 10.73 | L2288: G | M2288: KW-HR | N2288: 0.192 | O2288: =B2288 & E2288 & D2288 -> 136EG-131 | P2288: 0.00010489586 | Q2288: 20201001
A2289: 12625911 | B2289: 136 | D2289: 1 | E2289: EG-13 | F2289: Carbon Monoxide | G2289: CO | H2289: 0.19126 | I2289: TON | J2289: 0.19126 | K2289: 40.83 | N2289: 0.135 | O2289: =B2289 & E2289 & D2289 -> 136EG-131 | P2289: =(N2289)/(92)/(2000) -> 7.3369565e-07 | Q2289: 20201001
A2290: 12625911 | B2290: 136 | D2290: 1 | E2290: EG-25 | F2290: Carbon Monoxide | G2290: CO | H2290: 3.78309 | I2290: LB | J2290: 0.001891545 | K2290: 0.2 | L2290: G | M2290: HP-HR | N2290: 0.381 | O2290: =B2290 & E2290 & D2290 -> 136EG-251 | P2290: 7.8334635e-06 | Q2290: 20200254
A2291: 12625911 | B2291: 136 | D2291: 1 | E2291: EG-25 | F2291: Nitrogen Oxides | G2291: NOX | H2291: 8.3228 | I2291: LB | J2291: 0.0041614 | K2291: 0.44 | L2291: G | M2291: HP-HR | N2291: 0.381 | O2291: =B2291 & E2291 & D2291 -> 136EG-251 | P2291: 1.7233624e-05 | Q2291: 20200254
...

Sheet NOX RACT Units
A1: Agency Facility ID | B1: Facility | C1: Agency Unit ID | D1: Unit Description | E1: Unit Type | F1: Unit Op Status Code | G1: Unit Op Status Year | H1: Unit Design Capacity | I1: Unit Design Capacity UOM | J1: SCC Description | K1: SCC | L1: Process ID | M1: Throughput Material | N1: Fuel Use Value | O1: Fuel Use UOM | P1: Converted Fuel Use Value (MMBTU) | Q1: Total Fuel Use Value EOM | R1: Summer Op. % | S1: Summer Fuel Use | T1: OSD NOx RACT 2022 | U1: Annual NOx RACT | V1: Emission Factor (lb/mmBTU) | W1: 2022* | X1: 2026* | Y1: 2032* | Z1: 2038* | AA1: Unique | AB1: 2022
A2: 8 | B2: D.C. General Hospital | C2: CU-1 | D2: Keeler Boiler: Model WWHS1014 | E2: Boiler | F2: OP | G2: 2021 | H2: 47 | I2: E6BTU/HR | J2: =VLOOKUP(K2, '[1]Units-SCCs'!$I:$J, 2, FALSE) -> External Combustion Boilers > Commercial/Institutional > Natural Gas > 10-100 Million BTU/hr | K2: 10300602 | L2: =IF(M2="natural gas",1,IF(ISNUMBER(SEARCH("distillate",M2)),2,"")) -> 1 | M2: Natural Gas | N2: 57.909153 | O2: E6FT3S | P2: =(N2*1034) -> 59878.064 | Q2: mmbtu | R2: 0.14 | S2: =(P2*R2) -> 8382.929 | T2: =(S2*V2)/2000/92 -> 0.0022779698 | U2: =(P2*V2)/2000 -> 1.4969516 | V2: =IF( M2="Natural Gas", 0.05, IF( AND(M2="Distillate Oil", H2>=25, H2<100), 0.12, IF( AND(M2="Distillate Oil", H2>=100), 0.9, V2 ) ) ) -> 0.05 | W2: =T2 -> 0.0022779698 | X2: =T2 -> 0.0022779698 | Y2: =T2 -> 0.0022779698 | Z2: =T2 -> 0.0022779698 | AA2: =A2 & C2 & L2 -> 8CU-11 | AB2: =Y2 -> 0.0022779698
A3: 8 | B3: D.C. General Hospital | C3: CU-4 | D3: Keeler Boiler: Model WWHS1014 | E3: Boiler | F3: OP | G3: 2021 | H3: 47 | I3: E6BTU/HR | J3: =VLOOKUP(K3, '[1]Units-SCCs'!$I:$J, 2, FALSE) -> External Combustion Boilers > Commercial/Institutional > Natural Gas > 10-100 Million BTU/hr | K3: 10300602 | L3: =IF(M3="natural gas",1,IF(ISNUMBER(SEARCH("distillate",M3)),2,"")) -> 1 | M3: Natural Gas | N3: 45.390846 | O3: E6FT3S | P3: =(N3*1034) -> 46934.135 | Q3: mmbtu | R3: 0.18 | S3: =(P3*R3) -> 8448.1443 | T3: =(S3*V3)/2000/92 -> 0.0022956914 | U3: =(P3*V3)/2000 -> 1.1733534 | V3: =IF( M3="Natural Gas", 0.05, IF( AND(M3="Distillate Oil", H3>=25, H3<100), 0.12, IF( AND(M3="Distillate Oil", H3>=100), 0.9, V3 ) ) ) -> 0.05 | W3: =T3 -> 0.0022956914 | X3: =T3 -> 0.0022956914 | Y3: =T3 -> 0.0022956914 | Z3: =T3 -> 0.0022956914 | AA3: =A3 & C3 & L3 -> 8CU-41 | AB3: =Y3 -> 0.0022956914
A4: 10 | B4: George Washington University | C4: EUN-34 | D4: Installed 1974; steam or hot water boiler (WT293X-CN1) | E4: Boiler | F4: OP | G4: 2020 | H4: 48.7 | I4: E6BTU/HR | J4: =VLOOKUP(K4, '[1]Units-SCCs'!$I:$J, 2, FALSE) -> External Combustion Boilers > Commercial/Institutional > Distillate Oil > 10-100 Million BTU/hr | K4: 10300502 | L4: =IF(M4="natural gas",1,IF(ISNUMBER(SEARCH("distillate",M4)),2,"")) -> 2 | M4: Distillate Oil | N4: 0.686 | O4: E3GAL | P4: =(N4*0.138)*1000 -> 94.668 | Q4: mmbtu | R4: 0.25 | S4: =(P4*R4) -> 23.667 | T4: =(S4*V4)/2000/92 -> 1.5435e-05 | U4: =(P4*V4)/2000 -> 0.00568008 | V4: =IF( M4="Natural Gas", 0.05, IF( AND(M4="Distillate Oil", H4>=25, H4<100), 0.12, IF( AND(M4="Distillate Oil", H4>=100), 0.9, V4 ) ) ) -> 0.12 | W4: =T4 -> 1.5435e-05 | X4: =T4 -> 1.5435e-05 | Y4: =T4 -> 1.5435e-05 | Z4: =T4 -> 1.5435e-05 | AA4: =A4 & C4 & L4 -> 10EUN-342 | AB4: =Y4 -> 1.5435e-05
A5: 10 | B5: George Washington University | C5: EUN-35 | D5: Installed 1974; steam or hot water boiler (WT293X-CN1) | E5: Boiler | F5: OP | G5: 2020 | H5: 48.7 | I5: E6BTU/HR | J5: =VLOOKUP(K5, '[1]Units-SCCs'!$I:$J, 2, FALSE) -> External Combustion Boilers > Commercial/Institutional > Distillate Oil > 10-100 Million BTU/hr | K5: 10300502 | L5: =IF(M5="natural gas",1,IF(ISNUMBER(SEARCH("distillate",M5)),2,"")) -> 2 | M5: Distillate Oil | N5: 0.686 | O5: E3GAL | P5: =(N5*0.138)*1000 -> 94.668 | Q5: mmbtu | R5: 0.25 | S5: =(P5*R5) -> 23.667 | T5: =(S5*V5)/2000/92 -> 1.5435e-05 | U5: =(P5*V5)/2000 -> 0.00568008 | V5: =IF( M5="Natural Gas", 0.05, IF( AND(M5="Distillate Oil", H5>=25, H5<100), 0.12, IF( AND(M5="Distillate Oil", H5>=100), 0.9, V5 ) ) ) -> 0.12 | W5: =T5 -> 1.5435e-05 | X5: =T5 -> 1.5435e-05 | Y5: =T5 -> 1.5435e-05 | Z5: =T5 -> 1.5435e-05 | AA5: =A5 & C5 & L5 -> 10EUN-352 | AB5: =Y5 -> 1.5435e-05
A6: 13 | B6: Washington Navy Yard | C6: 3 | D6: Nebraska NS-F/S-76; installed/modified 1995 | E6: Boiler | F6: OP | G6: 1995 | H6: 101 | I6: E6BTU/HR | J6: =VLOOKUP(K6, '[1]Units-SCCs'!$I:$J, 2, FALSE) -> > 100 Million BTU/hr | K6: 10300601 | L6: =IF(M6="natural gas",1,IF(ISNUMBER(SEARCH("distillate",M6)),2,"")) -> 1 | M6: Natural Gas | N6: 41.71 | O6: E6FT3S | P6: =(N6*1034) -> 43128.14 | Q6: mmbtu | R6: 0.25 | S6: =(P6*R6) -> 10782.035 | T6: =(S6*V6)/2000/92 -> 0.0029299008 | U6: =(P6*V6)/2000 -> 1.0782035 | V6: =IF( M6="Natural Gas", 0.05, IF( AND(M6="Distillate Oil", H6>=25, H6<100), 0.12, IF( AND(M6="Distillate Oil", H6>=100), 0.9, V6 ) ) ) -> 0.05 | W6: =T6 -> 0.0029299008 | X6: =T6 -> 0.0029299008 | Y6: =T6 -> 0.0029299008 | Z6: =T6 -> 0.0029299008 | AA6: =A6 & C6 & L6 -> 1331 | AB6: =Y6 -> 0.0029299008
A7: 13 | B7: Washington Navy Yard | C7: 3 | D7: Nebraska NS-F/S-76; installed/modified 1995 | E7: Boiler | F7: OP | G7: 1995 | H7: 101 | I7: E6BTU/HR | J7: =VLOOKUP(K7, '[1]Units-SCCs'!$I:$J, 2, FALSE) -> Distillate Oil - Grades 1 and 2: Boiler | K7: 10300501 | L7: =IF(M7="natural gas",1,IF(ISNUMBER(SEARCH("distillate",M7)),2,"")) -> 2 | M7: Distillate Oil | N7: 920 | O7: GAL | P7: =(N7*0.138) -> 126.96 | Q7: mmbtu | R7: 0.06 | S7: =(P7*R7) -> 7.6176 | T7: =(S7*V7)/2000/92 -> 3.726e-05 | U7: =(P7*V7)/2000 -> 0.057132 | V7: =IF( M7="Natural Gas", 0.05, IF( AND(M7="Distillate Oil", H7>=25, H7<100), 0.12, IF( AND(M7="Distillate Oil", H7>=100), 0.9, V7 ) ) ) -> 0.9 | W7: =T7 -> 3.726e-05 | X7: =T7 -> 3.726e-05 | Y7: =T7 -> 3.726e-05 | Z7: =T7 -> 3.726e-05 | AA7: =A7 & C7 & L7 -> 1332 | AB7: =Y7 -> 3.726e-05
A8: 14 | B8: Washington Hospital Center | C8: 1 | D8: Boiler #1 | E8: Boiler | F8: OP | G8: 1984 | H8: 56.8 | I8: E6BTU/HR | J8: =VLOOKUP(K8, '[1]Units-SCCs'!$I:$J, 2, FALSE) -> External Combustion Boilers > Commercial/Institutional > Natural Gas > 10-100 Million BTU/hr | K8: 10300602 | L8: =IF(M8="natural gas",1,IF(ISNUMBER(SEARCH("distillate",M8)),2,"")) -> 1 | M8: Natural Gas | N8: 87.6 | O8: E6FT3S | P8: =(N8*1034) -> 90578.4 | Q8: mmbtu | R8: 0.16 | S8: =(P8*R8) -> 14492.544 | T8: =(S8*V8)/2000/92 -> 0.0039381913 | U8: =(P8*V8)/2000 -> 2.26446 | V8: =IF( M8="Natural Gas", 0.05, IF( AND(M8="Distillate Oil", H8>=25, H8<100), 0.12, IF( AND(M8="Distillate Oil", H8>=100), 0.9, V8 ) ) ) -> 0.05 | W8: =T8 -> 0.0039381913 | X8: =T8 -> 0.0039381913 | Y8: =T8 -> 0.0039381913 | Z8: =T8 -> 0.0039381913 | AA8: =A8 & C8 & L8 -> 1411 | AB8: =Y8 -> 0.0039381913
A9: 14 | B9: Washington Hospital Center | C9: 1 | D9: Boiler #1 | E9: Boiler | F9: OP | G9: 1984 | H9: 56.8 | I9: E6BTU/HR | J9: =VLOOKUP(K9, '[1]Units-SCCs'!$I:$J, 2, FALSE) -> External Combustion Boilers > Commercial/Institutional > Distillate Oil > 10-100 Million BTU/hr | K9: 10300502 | L9: =IF(M9="natural gas",1,IF(ISNUMBER(SEARCH("distillate",M9)),2,"")) -> 2 | M9: Distillate Oil | N9: 3.35 | O9: E3GAL | P9: =(N9*0.138)*1000 -> 462.3 | Q9: mmbtu | R9: 0 | S9: =(P9*R9) -> 0 | T9: =(S9*V9)/2000/92 -> 0 | U9: =(P9*V9)/2000 -> 0.027738 | V9: =IF( M9="Natural Gas", 0.05, IF( AND(M9="Distillate Oil", H9>=25, H9<100), 0.12, IF( AND(M9="Distillate Oil", H9>=100), 0.9, V9 ) ) ) -> 0.12 | W9: =T9 -> 0 | X9: =T9 -> 0 | Y9: =T9 -> 0 | Z9: =T9 -> 0 | AA9: =A9 & C9 & L9 -> 1412 | AB9: =Y9 -> 0
A10: 14 | B10: Washington Hospital Center | C10: 2 | D10: Boiler #2 | E10: Boiler | F10: OP | G10: 2021 | H10: 56.8 | I10: E6BTU/HR | J10: =VLOOKUP(K10, '[1]Units-SCCs'!$I:$J, 2, FALSE) -> External Combustion Boilers > Commercial/Institutional > Natural Gas > 10-100 Million BTU/hr | K10: 10300602 | L10: =IF(M10="natural gas",1,IF(ISNUMBER(SEARCH("distillate",M10)),2,"")) -> 1 | M10: Natural Gas | N10: 88.04 | O10: E6FT3S | P10: =(N10*1034) -> 91033.36 | Q10: mmbtu | R10: 0.16 | S10: =(P10*R10) -> 14565.338 | T10: =(S10*V10)/2000/92 -> 0.0039579722 | U10: =(P10*V10)/2000 -> 2.275834 | V10: =IF( M10="Natural Gas", 0.05, IF( AND(M10="Distillate Oil", H10>=25, H10<100), 0.12, IF( AND(M10="Distillate Oil", H10>=100), 0.9, V10 ) ) ) -> 0.05 | W10: =T10 -> 0.0039579722 | X10: =T10 -> 0.0039579722 | Y10: =T10 -> 0.0039579722 | Z10: =T10 -> 0.0039579722 | AA10: =A10 & C10 & L10 -> 1421 | AB10: =Y10 -> 0.0039579722
A11: 14 | B11: Washington Hospital Center | C11: 2 | D11: Boiler #2 | E11: Boiler | F11: OP | G11: 2021 | H11: 56.8 | I11: E6BTU/HR | J11: =VLOOKUP(K11, '[1]Units-SCCs'!$I:$J, 2, FALSE) -> External Combustion Boilers > Commercial/Institutional > Distillate Oil > 10-100 Million BTU/hr | K11: 10300502 | L11: =IF(M11="natural gas",1,IF(ISNUMBER(SEARCH("distillate",M11)),2,"")) -> 2 | M11: Distillate Oil | N11: 3.24 | O11: E3GAL | P11: =(N11*0.138)*1000 -> 447.12 | Q11: mmbtu | R11: 0 | S11: =(P11*R11) -> 0 | T11: =(S11*V11)/2000/92 -> 0 | U11: =(P11*V11)/2000 -> 0.0268272 | V11: =IF( M11="Natural Gas", 0.05, IF( AND(M11="Distillate Oil", H11>=25, H11<100), 0.12, IF( AND(M11="Distillate Oil", H11>=100), 0.9, V11 ) ) ) -> 0.12 | W11: =T11 -> 0 | X11: =T11 -> 0 | Y11: =T11 -> 0 | Z11: =T11 -> 0 | AA11: =A11 & C11 & L11 -> 1422 | AB11: =Y11 -> 0
A12: 14 | B12: Washington Hospital Center | C12: 3 | D12: Boiler #3 | E12: Boiler | F12: OP | G12: 1984 | H12: 56.8 | I12: E6BTU/HR | J12: =VLOOKUP(K12, '[1]Units-SCCs'!$I:$J, 2, FALSE) -> External Combustion Boilers > Commercial/Institutional > Natural Gas > 10-100 Million BTU/hr | K12: 10300602 | L12: =IF(M12="natural gas",1,IF(ISNUMBER(SEARCH("distillate",M12)),2,"")) -> 1 | M12: Natural Gas | N12: 69.23 | O12: E6FT3S | P12: =(N12*1034) -> 71583.82 | Q12: mmbtu | R12: 0.1 | S12: =(P12*R12) -> 7158.382 | T12: =(S12*V12)/2000/92 -> 0.0019452125 | U12: =(P12*V12)/2000 -> 1.7895955 | V12: =IF( M12="Natural Gas", 0.05, IF( AND(M12="Distillate Oil", H12>=25, H12<100), 0.12, IF( AND(M12="Distillate Oil", H12>=100), 0.9, V12 ) ) ) -> 0.05 | W12: =T12 -> 0.0019452125 | X12: =T12 -> 0.0019452125 | Y12: =T12 -> 0.0019452125 | Z12: =T12 -> 0.0019452125 | AA12: =A12 & C12 & L12 -> 1431 | AB12: =Y12 -> 0.0019452125
A13: 14 | B13: Washington Hospital Center | C13: 3 | D13: Boiler #3 | E13: Boiler | F13: OP | G13: 1984 | H13: 56.8 | I13: E6BTU/HR | J13: =VLOOKUP(K13, '[1]Units-SCCs'!$I:$J, 2, FALSE) -> External Combustion Boilers > Commercial/Institutional > Distillate Oil > 10-100 Million BTU/hr | K13: 10300502 | L13: =IF(M13="natural gas",1,IF(ISNUMBER(SEARCH("distillate",M13)),2,"")) -> 2 | M13: Distillate Oil | N13: 5.82 | O13: E3GAL | P13: =(N13*0.138)*1000 -> 803.16 | Q13: mmbtu | R13: 0.49 | S13: =(P13*R13) -> 393.5484 | T13: =(S13*V13)/2000/92 -> 0.000256662 | U13: =(P13*V13)/2000 -> 0.0481896 | V13: =IF( M13="Natural Gas", 0.05, IF( AND(M13="Distillate Oil", H13>=25, H13<100), 0.12, IF( AND(M13="Distillate Oil", H13>=100), 0.9, V13 ) ) ) -> 0.12 | W13: =T13 -> 0.000256662 | X13: =T13 -> 0.000256662 | Y13: =T13 -> 0.000256662 | Z13: =T13 -> 0.000256662 | AA13: =A13 & C13 & L13 -> 1432 | AB13: =Y13 -> 0.000256662
A14: 14 | B14: Washington Hospital Center | C14: 5 | D14: Boiler #5 | E14: Boiler | F14: OP | G14: 1976 | H14: 57.3 | I14: E6BTU/HR | J14: =VLOOKUP(K14, '[1]Units-SCCs'!$I:$J, 2, FALSE) -> External Combustion Boilers > Commercial/Institutional > Natural Gas > 10-100 Million BTU/hr | K14: 10300602 | L14: =IF(M14="natural gas",1,IF(ISNUMBER(SEARCH("distillate",M14)),2,"")) -> 1 | M14: Natural Gas | N14: 16.88 | O14: E6FT3S | P14: =(N14*1034) -> 17453.92 | Q14: mmbtu | R14: 0.64 | S14: =(P14*R14) -> 11170.509 | T14: =(S14*V14)/2000/92 -> 0.0030354643 | U14: =(P14*V14)/2000 -> 0.436348 | V14: =IF( M14="Natural Gas", 0.05, IF( AND(M14="Distillate Oil", H14>=25, H14<100), 0.12, IF( AND(M14="Distillate Oil", H14>=100), 0.9, V14 ) ) ) -> 0.05 | W14: =T14 -> 0.0030354643 | X14: =T14 -> 0.0030354643 | Y14: =T14 -> 0.0030354643 | Z14: =T14 -> 0.0030354643 | AA14: =A14 & C14 & L14 -> 1451 | AB14: =Y14 -> 0.0030354643
A15: 14 | B15: Washington Hospital Center | C15: 6 | D15: Boiler #6 | E15: Boiler | F15: OP | G15: 1976 | H15: 57.3 | I15: E6BTU/HR | J15: =VLOOKUP(K15, '[1]Units-SCCs'!$I:$J, 2, FALSE) -> External Combustion Boilers > Commercial/Institutional > Natural Gas > 10-100 Million BTU/hr | K15: 10300602 | L15: =IF(M15="natural gas",1,IF(ISNUMBER(SEARCH("distillate",M15)),2,"")) -> 1 | M15: Natural Gas | N15: 22.82 | O15: E6FT3S | P15: =(N15*1034) -> 23595.88 | Q15: mmbtu | R15: 0.52 | S15: =(P15*R15) -> 12269.858 | T15: =(S15*V15)/2000/92 -> 0.0033342004 | U15: =(P15*V15)/2000 -> 0.589897 | V15: =IF( M15="Natural Gas", 0.05, IF( AND(M15="Distillate Oil", H15>=25, H15<100), 0.12, IF( AND(M15="Distillate Oil", H15>=100), 0.9, V15 ) ) ) -> 0.05 | W15: =T15 -> 0.0033342004 | X15: =T15 -> 0.0033342004 | Y15: =T15 -> 0.0033342004 | Z15: =T15 -> 0.0033342004 | AA15: =A15 & C15 & L15 -> 1461 | AB15: =Y15 -> 0.0033342004
A16: 21 | B16: Gallaudet University | C16: CU-1 | D16: Installed in 1980 | E16: Boiler | F16: OP | G16: 2020 | H16: 42 | I16: E6BTU/HR | J16: =VLOOKUP(K16, '[1]Units-SCCs'!$I:$J, 2, FALSE) -> External Combustion Boilers > Commercial/Institutional > Natural Gas > 10-100 Million BTU/hr | K16: 10300602 | L16: =IF(M16="natural gas",1,IF(ISNUMBER(SEARCH("distillate",M16)),2,"")) -> 1 | M16: Natural Gas | N16: 50894829 | O16: FT3SD | P16: =(N16*1034)/1000000 -> 52625.253 | Q16: mmbtu | R16: 0.25 | S16: =(P16*R16) -> 13156.313 | T16: =(S16*V16)/2000/92 -> 0.0035750851 | U16: =(P16*V16)/2000 -> 1.3156313 | V16: =IF( M16="Natural Gas", 0.05, IF( AND(M16="Distillate Oil", H16>=25, H16<100), 0.12, IF( AND(M16="Distillate Oil", H16>=100), 0.9, V16 ) ) ) -> 0.05 | W16: =T16 -> 0.0035750851 | X16: =T16 -> 0.0035750851 | Y16: =T16 -> 0.0035750851 | Z16: =T16 -> 0.0035750851 | AA16: =A16 & C16 & L16 -> 21CU-11 | AB16: =Y16 -> 0.0035750851
A17: 21 | B17: Gallaudet University | C17: CU-1 | D17: Installed in 1980 | E17: Boiler | F17: OP | G17: 2020 | H17: 42 | I17: E6BTU/HR | J17: =VLOOKUP(K17, '[1]Units-SCCs'!$I:$J, 2, FALSE) -> External Combustion Boilers > Commercial/Institutional > Distillate Oil > 10-100 Million BTU/hr | K17: 10300502 | L17: =IF(M17="natural gas",1,IF(ISNUMBER(SEARCH("distillate",M17)),2,"")) -> 2 | M17: Distillate Oil | N17: 446 | O17: GAL | P17: =(N17*0.138) -> 61.548 | Q17: mmbtu | R17: 0 | S17: =(P17*R17) -> 0 | T17: =(S17*V17)/2000/92 -> 0 | U17: =(P17*V17)/2000 -> 0.00369288 | V17: =IF( M17="Natural Gas", 0.05, IF( AND(M17="Distillate Oil", H17>=25, H17<100), 0.12, IF( AND(M17="Distillate Oil", H17>=100), 0.9, V17 ) ) ) -> 0.12 | W17: =T17 -> 0 | X17: =T17 -> 0 | Y17: =T17 -> 0 | Z17: =T17 -> 0 | AA17: =A17 & C17 & L17 -> 21CU-12 | AB17: =Y17 -> 0
A18: 21 | B18: Gallaudet University | C18: CU-2 | D18: Installed in 1980 | E18: Boiler | F18: OP | G18: 2020 | H18: 42 | I18: E6BTU/HR | J18: =VLOOKUP(K18, '[1]Units-SCCs'!$I:$J, 2, FALSE) -> External Combustion Boilers > Commercial/Institutional > Natural Gas > 10-100 Million BTU/hr | K18: 10300602 | L18: =IF(M18="natural gas",1,IF(ISNUMBER(SEARCH("distillate",M18)),2,"")) -> 1 | M18: Natural Gas | N18: 50271902 | O18: FT3SD | P18: =(N18*1034)/1000000 -> 51981.147 | Q18: mmbtu | R18: 0.25 | S18: =(P18*R18) -> 12995.287 | T18: =(S18*V18)/2000/92 -> 0.0035313279 | U18: =(P18*V18)/2000 -> 1.2995287 | V18: =IF( M18="Natural Gas", 0.05, IF( AND(M18="Distillate Oil", H18>=25, H18<100), 0.12, IF( AND(M18="Distillate Oil", H18>=100), 0.9, V18 ) ) ) -> 0.05 | W18: =T18 -> 0.0035313279 | X18: =T18 -> 0.0035313279 | Y18: =T18 -> 0.0035313279 | Z18: =T18 -> 0.0035313279 | AA18: =A18 & C18 & L18 -> 21CU-21 | AB18: =Y18 -> 0.0035313279
A19: 21 | B19: Gallaudet University | C19: CU-2 | D19: Installed in 1980 | E19: Boiler | F19: OP | G19: 2020 | H19: 42 | I19: E6BTU/HR | J19: =VLOOKUP(K19, '[1]Units-SCCs'!$I:$J, 2, FALSE) -> External Combustion Boilers > Commercial/Institutional > Distillate Oil > 10-100 Million BTU/hr | K19: 10300502 | L19: =IF(M19="natural gas",1,IF(ISNUMBER(SEARCH("distillate",M19)),2,"")) -> 2 | M19: Distillate Oil | N19: 426 | O19: GAL | P19: =(N19*0.138) -> 58.788 | Q19: mmbtu | R19: 0 | S19: =(P19*R19) -> 0 | T19: =(S19*V19)/2000/92 -> 0 | U19: =(P19*V19)/2000 -> 0.00352728 | V19: =IF( M19="Natural Gas", 0.05, IF( AND(M19="Distillate Oil", H19>=25, H19<100), 0.12, IF( AND(M19="Distillate Oil", H19>=100), 0.9, V19 ) ) ) -> 0.12 | W19: =T19 -> 0 | X19: =T19 -> 0 | Y19: =T19 -> 0 | Z19: =T19 -> 0 | AA19: =A19 & C19 & L19 -> 21CU-22 | AB19: =Y19 -> 0
A20: 22 | B20: Howard University | C20: CU-19 | D20: Temporary Boiler | E20: Boiler | F20: OP | G20: 2018 | H20: 37 | I20: E6BTU/HR | J20: =VLOOKUP(K20, '[1]Units-SCCs'!$I:$J, 2, FALSE) -> External Combustion Boilers > Commercial/Institutional > Natural Gas > 10-100 Million BTU/hr | K20: 10300602 | L20: =IF(M20="natural gas",1,IF(ISNUMBER(SEARCH("distillate",M20)),2,"")) -> 1 | M20: Natural Gas | N20: 37.86 | O20: E6FT3S | P20: =(N20*1034) -> 39147.24 | Q20: mmbtu | R20: 0 | S20: =(P20*R20) -> 0 | T20: =(S20*V20)/2000/92 -> 0 | U20: =(P20*V20)/2000 -> 0.978681 | V20: =IF( M20="Natural Gas", 0.05, IF( AND(M20="Distillate Oil", H20>=25, H20<100), 0.12, IF( AND(M20="Distillate Oil", H20>=100), 0.9, V20 ) ) ) -> 0.05 | W20: =T20 -> 0 | X20: 0 | Y20: 0 | Z20: 0 | AA20: =A20 & C20 & L20 -> 22CU-191 | AB20: =Y20 -> 0
A21: 22 | B21: Howard University | C21: CU-20 | D21: Temporary Boiler | E21: Boiler | F21: OP | G21: 2018 | H21: 37 | I21: E6BTU/HR | J21: =VLOOKUP(K21, '[1]Units-SCCs'!$I:$J, 2, FALSE) -> External Combustion Boilers > Commercial/Institutional > Natural Gas > 10-100 Million BTU/hr | K21: 10300602 | L21: =IF(M21="natural gas",1,IF(ISNUMBER(SEARCH("distillate",M21)),2,"")) -> 1 | M21: Natural Gas | N21: 52.62 | O21: E6FT3S | P21: =(N21*1034) -> 54409.08 | Q21: mmbtu | R21: 0.28 | S21: =(P21*R21) -> 15234.542 | T21: =(S21*V21)/2000/92 -> 0.0041398213 | U21: =(P21*V21)/2000 -> 1.360227 | V21: =IF( M21="Natural Gas", 0.05, IF( AND(M21="Distillate Oil", H21>=25, H21<100), 0.12, IF( AND(M21="Distillate Oil", H21>=100), 0.9, V21 ) ) ) -> 0.05 | W21: =T21 -> 0.0041398213 | X21: =T21 -> 0.0041398213 | Y21: 0 | Z21: 0 | AA21: =A21 & C21 & L21 -> 22CU-201 | AB21: =Y21 -> 0
A22: 22 | B22: Howard University | C22: CU-21 | D22: Temporary Boiler | E22: Boiler | F22: OP | G22: 2019 | H22: 37.8 | I22: E6BTU/HR | J22: =VLOOKUP(K22, '[1]Units-SCCs'!$I:$J, 2, FALSE) -> External Combustion Boilers > Commercial/Institutional > Natural Gas > 10-100 Million BTU/hr | K22: 10300602 | L22: =IF(M22="natural gas",1,IF(ISNUMBER(SEARCH("distillate",M22)),2,"")) -> 1 | M22: Natural Gas | N22: 62.47 | O22: E6FT3S | P22: =(N22*1034) -> 64593.98 | Q22: mmbtu | R22: 0.22 | S22: =(P22*R22) -> 14210.676 | T22: =(S22*V22)/2000/92 -> 0.0038615966 | U22: =(P22*V22)/2000 -> 1.6148495 | V22: =IF( M22="Natural Gas", 0.05, IF( AND(M22="Distillate Oil", H22>=25, H22<100), 0.12, IF( AND(M22="Distillate Oil", H22>=100), 0.9, V22 ) ) ) -> 0.05 | W22: =T22 -> 0.0038615966 | X22: =T22 -> 0.0038615966 | Y22: 0 | Z22: 0 | AA22: =A22 & C22 & L22 -> 22CU-211 | AB22: =Y22 -> 0
A23: 22 | B23: Howard University | C23: CU-22 | D23: Temporary Boiler | E23: Boiler | F23: OP | G23: 2019 | H23: 37 | I23: E6BTU/HR | J23: =VLOOKUP(K23, '[1]Units-SCCs'!$I:$J, 2, FALSE) -> External Combustion Boilers > Commercial/Institutional > Natural Gas > 10-100 Million BTU/hr | K23: 10300602 | L23: =IF(M23="natural gas",1,IF(ISNUMBER(SEARCH("distillate",M23)),2,"")) -> 1 | M23: Natural Gas | N23: 42.87 | O23: E6FT3S | P23: =(N23*1034) -> 44327.58 | Q23: mmbtu | R23: 0 | S23: =(P23*R23) -> 0 | T23: =(S23*V23)/2000/92 -> 0 | U23: =(P23*V23)/2000 -> 1.1081895 | V23: =IF( M23="Natural Gas", 0.05, IF( AND(M23="Distillate Oil", H23>=25, H23<100), 0.12, IF( AND(M23="Distillate Oil", H23>=100), 0.9, V23 ) ) ) -> 0.05 | W23: 0 | X23: 0 | Y23: 0 | Z23: 0 | AA23: =A23 & C23 & L23 -> 22CU-221 | AB23: 0
A24: 22 | B24: Howard University | C24: CU-23 | D24: Temporary Boiler | E24: Boiler | F24: OP | G24: 2018 | H24: 37 | I24: E6BTU/HR | J24: =VLOOKUP(K24, '[1]Units-SCCs'!$I:$J, 2, FALSE) -> External Combustion Boilers > Commercial/Institutional > Natural Gas > 10-100 Million BTU/hr | K24: 10300602 | L24: =IF(M24="natural gas",1,IF(ISNUMBER(SEARCH("distillate",M24)),2,"")) -> 1 | M24: Natural Gas | N24: 72.04 | O24: E6FT3S | P24: =(N24*1034) -> 74489.36 | Q24: mmbtu | R24: 0.08 | S24: =(P24*R24) -> 5959.1488 | T24: =(S24*V24)/2000/92 -> 0.0016193339 | U24: =(P24*V24)/2000 -> 1.862234 | V24: =IF( M24="Natural Gas", 0.05, IF( AND(M24="Distillate Oil", H24>=25, H24<100), 0.12, IF( AND(M24="Distillate Oil", H24>=100), 0.9, V24 ) ) ) -> 0.05 | W24: =T24 -> 0.0016193339 | X24: =T24 -> 0.0016193339 | Y24: 0 | Z24: 0 | AA24: =A24 & C24 & L24 -> 22CU-231 | AB24: =Y24 -> 0
A25: 33 | B25: Naval Research Laboratory | C25: 1 | D25: Nebraska NS-E-65; installed 1987 | E25: Boiler | F25: OP | G25: 1987 | H25: 80.5 | I25: E6BTU/HR | J25: =VLOOKUP(K25, '[1]Units-SCCs'!$I:$J, 2, FALSE) -> External Combustion Boilers > Commercial/Institutional > Distillate Oil > 10-100 Million BTU/hr | K25: 10300502 | L25: =IF(M25="natural gas",1,IF(ISNUMBER(SEARCH("distillate",M25)),2,"")) -> 2 | M25: Distillate Oil | N25: 5.92 | O25: E3GAL | P25: =(N25*0.138)*1000 -> 816.96 | Q25: mmbtu | R25: 0.066 | S25: =(P25*R25) -> 53.91936 | T25: =(S25*V25)/2000/92 -> 3.51648e-05 | U25: =(P25*V25)/2000 -> 0.0490176 | V25: =IF( M25="Natural Gas", 0.05, IF( AND(M25="Distillate Oil", H25>=25, H25<100), 0.12, IF( AND(M25="Distillate Oil", H25>=100), 0.9, V25 ) ) ) -> 0.12 | W25: =T25 -> 3.51648e-05 | X25: =T25 -> 3.51648e-05 | Y25: =T25 -> 3.51648e-05 | Z25: =T25 -> 3.51648e-05 | AA25: =A25 & C25 & L25 -> 3312 | AB25: =Y25 -> 3.51648e-05
A26: 33 | B26: Naval Research Laboratory | C26: 2 | D26: Nebraska NS-E-65; installed 1987 | E26: Boiler | F26: OP | G26: 1987 | H26: 80.5 | I26: E6BTU/HR | J26: =VLOOKUP(K26, '[1]Units-SCCs'!$I:$J, 2, FALSE) -> External Combustion Boilers > Commercial/Institutional > Distillate Oil > 10-100 Million BTU/hr | K26: 10300502 | L26: =IF(M26="natural gas",1,IF(ISNUMBER(SEARCH("distillate",M26)),2,"")) -> 2 | M26: Distillate Oil | N26: 5.92 | O26: E3GAL | P26: =(N26*0.138)*1000 -> 816.96 | Q26: mmbtu | R26: 0.066 | S26: =(P26*R26) -> 53.91936 | T26: =(S26*V26)/2000/92 -> 3.51648e-05 | U26: =(P26*V26)/2000 -> 0.0490176 | V26: =IF( M26="Natural Gas", 0.05, IF( AND(M26="Distillate Oil", H26>=25, H26<100), 0.12, IF( AND(M26="Distillate Oil", H26>=100), 0.9, V26 ) ) ) -> 0.12 | W26: =T26 -> 3.51648e-05 | X26: =T26 -> 3.51648e-05 | Y26: =T26 -> 3.51648e-05 | Z26: =T26 -> 3.51648e-05 | AA26: =A26 & C26 & L26 -> 3322 | AB26: =Y26 -> 3.51648e-05
A27: 33 | B27: Naval Research Laboratory | C27: 3 | D27: Nebraska NS-E-53; installed 1987 | E27: Boiler | F27: OP | G27: 1987 | H27: 56.7 | I27: E6BTU/HR | J27: =VLOOKUP(K27, '[1]Units-SCCs'!$I:$J, 2, FALSE) -> External Combustion Boilers > Commercial/Institutional > Distillate Oil > 10-100 Million BTU/hr | K27: 10300502 | L27: =IF(M27="natural gas",1,IF(ISNUMBER(SEARCH("distillate",M27)),2,"")) -> 2 | M27: Distillate Oil | N27: 4.17 | O27: E3GAL | P27: =(N27*0.138)*1000 -> 575.46 | Q27: mmbtu | R27: 0.066 | S27: =(P27*R27) -> 37.98036 | T27: =(S27*V27)/2000/92 -> 2.47698e-05 | U27: =(P27*V27)/2000 -> 0.0345276 | V27: =IF( M27="Natural Gas", 0.05, IF( AND(M27="Distillate Oil", H27>=25, H27<100), 0.12, IF( AND(M27="Distillate Oil", H27>=100), 0.9, V27 ) ) ) -> 0.12 | W27: =T27 -> 2.47698e-05 | X27: =T27 -> 2.47698e-05 | Y27: =T27 -> 2.47698e-05 | Z27: =T27 -> 2.47698e-05 | AA27: =A27 & C27 & L27 -> 3332 | AB27: =Y27 -> 2.47698e-05
A28: 33 | B28: Naval Research Laboratory | C28: 1 | D28: Nebraska NS-E-65; installed 1987 | E28: Boiler | F28: OP | G28: 1987 | H28: 80.5 | I28: E6BTU/HR | J28: =VLOOKUP(K28, '[1]Units-SCCs'!$I:$J, 2, FALSE) -> External Combustion Boilers > Commercial/Institutional > Natural Gas > 10-100 Million BTU/hr | K28: 10300602 | L28: =IF(M28="natural gas",1,IF(ISNUMBER(SEARCH("distillate",M28)),2,"")) -> 1 | M28: Natural Gas | N28: 193017701 | O28: FT3SD | P28: =(N28*1034)/1000000 -> 199580.3 | Q28: mmbtu | R28: 0.189 | S28: =(P28*R28) -> 37720.677 | T28: =(S28*V28)/2000/92 -> 0.010250184 | U28: =(P28*V28)/2000 -> 4.9895076 | V28: =IF( M28="Natural Gas", 0.05, IF( AND(M28="Distillate Oil", H28>=25, H28<100), 0.12, IF( AND(M28="Distillate Oil", H28>=100), 0.9, V28 ) ) ) -> 0.05 | W28: =T28 -> 0.010250184 | X28: =T28 -> 0.010250184 | Y28: =T28 -> 0.010250184 | Z28: =T28 -> 0.010250184 | AA28: =A28 & C28 & L28 -> 3311 | AB28: =Y28 -> 0.010250184
A29: 33 | B29: Naval Research Laboratory | C29: 2 | D29: Nebraska NS-E-65; installed 1987 | E29: Boiler | F29: OP | G29: 1987 | H29: 80.5 | I29: E6BTU/HR | J29: =VLOOKUP(K29, '[1]Units-SCCs'!$I:$J, 2, FALSE) -> External Combustion Boilers > Commercial/Institutional > Natural Gas > 10-100 Million BTU/hr | K29: 10300602 | L29: =IF(M29="natural gas",1,IF(ISNUMBER(SEARCH("distillate",M29)),2,"")) -> 1 | M29: Natural Gas | N29: 193017701 | O29: FT3SD | P29: =(N29*1034)/1000000 -> 199580.3 | Q29: mmbtu | R29: 0.189 | S29: =(P29*R29) -> 37720.677 | T29: =(S29*V29)/2000/92 -> 0.010250184 | U29: =(P29*V29)/2000 -> 4.9895076 | V29: =IF( M29="Natural Gas", 0.05, IF( AND(M29="Distillate Oil", H29>=25, H29<100), 0.12, IF( AND(M29="Distillate Oil", H29>=100), 0.9, V29 ) ) ) -> 0.05 | W29: =T29 -> 0.010250184 | X29: =T29 -> 0.010250184 | Y29: =T29 -> 0.010250184 | Z29: =T29 -> 0.010250184 | AA29: =A29 & C29 & L29 -> 3321 | AB29: =Y29 -> 0.010250184
A30: 33 | B30: Naval Research Laboratory | C30: 3 | D30: Nebraska NS-E-53; installed 1987 | E30: Boiler | F30: OP | G30: 1987 | H30: 56.7 | I30: E6BTU/HR | J30: =VLOOKUP(K30, '[1]Units-SCCs'!$I:$J, 2, FALSE) -> External Combustion Boilers > Commercial/Institutional > Natural Gas > 10-100 Million BTU/hr | K30: 10300602 | L30: =IF(M30="natural gas",1,IF(ISNUMBER(SEARCH("distillate",M30)),2,"")) -> 1 | M30: Natural Gas | N30: 1.359516e+08 | O30: FT3SD | P30: =(N30*1034)/1000000 -> 140573.95 | Q30: mmbtu | R30: 0.189 | S30: =(P30*R30) -> 26568.477 | T30: =(S30*V30)/2000/92 -> 0.0072196948 | U30: =(P30*V30)/2000 -> 3.5143488 | V30: =IF( M30="Natural Gas", 0.05, IF( AND(M30="Distillate Oil", H30>=25, H30<100), 0.12, IF( AND(M30="Distillate Oil", H30>=100), 0.9, V30 ) ) ) -> 0.05 | W30: =T30 -> 0.0072196948 | X30: =T30 -> 0.0072196948 | Y30: =T30 -> 0.0072196948 | Z30: =T30 -> 0.0072196948 | AA30: =A30 & C30 & L30 -> 3331 | AB30: =Y30 -> 0.0072196948
A31: 48 | B31: LEnfant Plaza | C31: CU-1 | D31: East Bldg Boiler 1 | E31: Boiler | F31: OP | G31: 1971 | H31: 25.106 | I31: E6BTU/HR | J31: =VLOOKUP(K31, '[1]Units-SCCs'!$I:$J, 2, FALSE) -> External Combustion Boilers > Commercial/Institutional > Natural Gas > 10-100 Million BTU/hr | K31: 10300602 | L31: =IF(M31="natural gas",1,IF(ISNUMBER(SEARCH("distillate",M31)),2,"")) -> 1 | M31: Natural Gas | N31: 12.233788 | O31: E6FT3SD | P31: =(N31*1034) -> 12649.737 | Q31: mmbtu | R31: 0.05 | S31: =(P31*R31) -> 632.48684 | T31: =(S31*V31)/2000/92 -> 0.00017187142 | U31: =(P31*V31)/2000 -> 0.31624342 | V31: =IF( M31="Natural Gas", 0.05, IF( AND(M31="Distillate Oil", H31>=25, H31<100), 0.12, IF( AND(M31="Distillate Oil", H31>=100), 0.9, V31 ) ) ) -> 0.05 | W31: =T31 -> 0.00017187142 | X31: =T31 -> 0.00017187142 | Y31: =T31 -> 0.00017187142 | Z31: =T31 -> 0.00017187142 | AA31: =A31 & C31 & L31 -> 48CU-11 | AB31: =Y31 -> 0.00017187142
A32: 48 | B32: LEnfant Plaza | C32: CU-2 | D32: East Bldg Boiler 2 | E32: Boiler | F32: OP | G32: 1971 | H32: 25.106 | I32: E6BTU/HR | J32: =VLOOKUP(K32, '[1]Units-SCCs'!$I:$J, 2, FALSE) -> External Combustion Boilers > Commercial/Institutional > Natural Gas > 10-100 Million BTU/hr | K32: 10300602 | L32: =IF(M32="natural gas",1,IF(ISNUMBER(SEARCH("distillate",M32)),2,"")) -> 1 | M32: Natural Gas | N32: 12.233788 | O32: E6FT3SD | P32: =(N32*1034) -> 12649.737 | Q32: mmbtu | R32: 0.05 | S32: =(P32*R32) -> 632.48684 | T32: =(S32*V32)/2000/92 -> 0.00017187142 | U32: =(P32*V32)/2000 -> 0.31624342 | V32: =IF( M32="Natural Gas", 0.05, IF( AND(M32="Distillate Oil", H32>=25, H32<100), 0.12, IF( AND(M32="Distillate Oil", H32>=100), 0.9, V32 ) ) ) -> 0.05 | W32: =T32 -> 0.00017187142 | X32: =T32 -> 0.00017187142 | Y32: =T32 -> 0.00017187142 | Z32: =T32 -> 0.00017187142 | AA32: =A32 & C32 & L32 -> 48CU-21 | AB32: =Y32 -> 0.00017187142
A33: 52 | B33: Providence Hospital | C33: 17035 | D33: Boiler 2 | E33: Boiler | F33: OP | G33: 1977 | H33: 33.2 | I33: E6BTU/HR | J33: =VLOOKUP(K33, '[1]Units-SCCs'!$I:$J, 2, FALSE) -> External Combustion Boilers > Commercial/Institutional > Natural Gas > 10-100 Million BTU/hr | K33: 10300602 | L33: =IF(M33="natural gas",1,IF(ISNUMBER(SEARCH("distillate",M33)),2,"")) -> 1 | M33: Natural Gas | N33: 2000683 | O33: FT3SD | P33: =(N33*1034)/1000000 -> 2068.7062 | Q33: mmbtu | R33: 0.25 | S33: =(P33*R33) -> 517.17656 | T33: =(S33*V33)/2000/92 -> 0.00014053711 | U33: =(P33*V33)/2000 -> 0.051717656 | V33: =IF( M33="Natural Gas", 0.05, IF( AND(M33="Distillate Oil", H33>=25, H33<100), 0.12, IF( AND(M33="Distillate Oil", H33>=100), 0.9, V33 ) ) ) -> 0.05 | W33: =T33 -> 0.00014053711 | X33: =T33 -> 0.00014053711 | Y33: =T33 -> 0.00014053711 | Z33: =T33 -> 0.00014053711 | AA33: =A33 & C33 & L33 -> 52170351 | AB33: =Y33 -> 0.00014053711
A34: 52 | B34: Providence Hospital | C34: 17035 | D34: Boiler 2 | E34: Boiler | F34: OP | G34: 1977 | H34: 33.2 | I34: E6BTU/HR | J34: =VLOOKUP(K34, '[1]Units-SCCs'!$I:$J, 2, FALSE) -> External Combustion Boilers > Commercial/Institutional > Distillate Oil > 10-100 Million BTU/hr | K34: 10300502 | L34: =IF(M34="natural gas",1,IF(ISNUMBER(SEARCH("distillate",M34)),2,"")) -> 2 | M34: Distillate Oil | N34: 24 | O34: GAL | P34: =(N34*0.138) -> 3.312 | Q34: mmbtu | R34: 0 | S34: =(P34*R34) -> 0 | T34: =(S34*V34)/2000/92 -> 0 | U34: =(P34*V34)/2000 -> 0.00019872 | V34: =IF( M34="Natural Gas", 0.05, IF( AND(M34="Distillate Oil", H34>=25, H34<100), 0.12, IF( AND(M34="Distillate Oil", H34>=100), 0.9, V34 ) ) ) -> 0.12 | W34: =T34 -> 0 | X34: =T34 -> 0 | Y34: =T34 -> 0 | Z34: =T34 -> 0 | AA34: =A34 & C34 & L34 -> 52170352 | AB34: =Y34 -> 0
A35: 54 | B35: Sibley Memorial Hospital | C35: CU-1 | D35: Cleaver Brooks Water Tube Boiler | E35: Boiler | F35: OP | G35: 1996 | H35: 38.5 | I35: E6BTU/HR | J35: =VLOOKUP(K35, '[1]Units-SCCs'!$I:$J, 2, FALSE) -> External Combustion Boilers > Commercial/Institutional > Distillate Oil > 10-100 Million BTU/hr | K35: 10300502 | L35: =IF(M35="natural gas",1,IF(ISNUMBER(SEARCH("distillate",M35)),2,"")) -> 2 | M35: Distillate Oil | N35: 1877 | O35: GAL | P35: =(N35*0.138) -> 259.026 | Q35: mmbtu | R35: 0 | S35: =(P35*R35) -> 0 | T35: =(S35*V35)/2000/92 -> 0 | U35: =(P35*V35)/2000 -> 0.01554156 | V35: =IF( M35="Natural Gas", 0.05, IF( AND(M35="Distillate Oil", H35>=25, H35<100), 0.12, IF( AND(M35="Distillate Oil", H35>=100), 0.9, V35 ) ) ) -> 0.12 | W35: =T35 -> 0 | X35: =T35 -> 0 | Y35: =T35 -> 0 | Z35: =T35 -> 0 | AA35: =A35 & C35 & L35 -> 54CU-12 | AB35: =Y35 -> 0
A36: 54 | B36: Sibley Memorial Hospital | C36: CU-1 | D36: Cleaver Brooks Water Tube Boiler | E36: Boiler | F36: OP | G36: 1996 | H36: 38.5 | I36: E6BTU/HR | J36: =VLOOKUP(K36, '[1]Units-SCCs'!$I:$J, 2, FALSE) -> External Combustion Boilers > Commercial/Institutional > Natural Gas > 10-100 Million BTU/hr | K36: 10300602 | L36: =IF(M36="natural gas",1,IF(ISNUMBER(SEARCH("distillate",M36)),2,"")) -> 1 | M36: Natural Gas | N36: 2.782031 | O36: E6FT3S | P36: =(N36*1034) -> 2876.6201 | Q36: mmbtu | R36: 0 | S36: =(P36*R36) -> 0 | T36: =(S36*V36)/2000/92 -> 0 | U36: =(P36*V36)/2000 -> 0.071915501 | V36: =IF( M36="Natural Gas", 0.05, IF( AND(M36="Distillate Oil", H36>=25, H36<100), 0.12, IF( AND(M36="Distillate Oil", H36>=100), 0.9, V36 ) ) ) -> 0.05 | W36: =T36 -> 0 | X36: =T36 -> 0 | Y36: =T36 -> 0 | Z36: =T36 -> 0 | AA36: =A36 & C36 & L36 -> 54CU-11 | AB36: =Y36 -> 0
A37: 54 | B37: Sibley Memorial Hospital | C37: CU-2 | D37: Cleaver Brooks Water Tube Boiler | E37: Boiler | F37: OP | G37: 1996 | H37: 38.5 | I37: E6BTU/HR | J37: =VLOOKUP(K37, '[1]Units-SCCs'!$I:$J, 2, FALSE) -> External Combustion Boilers > Commercial/Institutional > Distillate Oil > 10-100 Million BTU/hr | K37: 10300502 | L37: =IF(M37="natural gas",1,IF(ISNUMBER(SEARCH("distillate",M37)),2,"")) -> 2 | M37: Distillate Oil | N37: 1912 | O37: GAL | P37: =(N37*0.138) -> 263.856 | Q37: mmbtu | R37: 0 | S37: =(P37*R37) -> 0 | T37: =(S37*V37)/2000/92 -> 0 | U37: =(P37*V37)/2000 -> 0.01583136 | V37: =IF( M37="Natural Gas", 0.05, IF( AND(M37="Distillate Oil", H37>=25, H37<100), 0.12, IF( AND(M37="Distillate Oil", H37>=100), 0.9, V37 ) ) ) -> 0.12 | W37: =T37 -> 0 | X37: =T37 -> 0 | Y37: =T37 -> 0 | Z37: =T37 -> 0 | AA37: =A37 & C37 & L37 -> 54CU-22 | AB37: =Y37 -> 0
A38: 54 | B38: Sibley Memorial Hospital | C38: CU-2 | D38: Cleaver Brooks Water Tube Boiler | E38: Boiler | F38: OP | G38: 1996 | H38: 38.5 | I38: E6BTU/HR | J38: =VLOOKUP(K38, '[1]Units-SCCs'!$I:$J, 2, FALSE) -> External Combustion Boilers > Commercial/Institutional > Natural Gas > 10-100 Million BTU/hr | K38: 10300602 | L38: =IF(M38="natural gas",1,IF(ISNUMBER(SEARCH("distillate",M38)),2,"")) -> 1 | M38: Natural Gas | N38: 1.287753 | O38: E6FT3S | P38: =(N38*1034) -> 1331.5366 | Q38: mmbtu | R38: 0 | S38: =(P38*R38) -> 0 | T38: =(S38*V38)/2000/92 -> 0 | U38: =(P38*V38)/2000 -> 0.033288415 | V38: =IF( M38="Natural Gas", 0.05, IF( AND(M38="Distillate Oil", H38>=25, H38<100), 0.12, IF( AND(M38="Distillate Oil", H38>=100), 0.9, V38 ) ) ) -> 0.05 | W38: =T38 -> 0 | X38: =T38 -> 0 | Y38: =T38 -> 0 | Z38: =T38 -> 0 | AA38: =A38 & C38 & L38 -> 54CU-21 | AB38: =Y38 -> 0
A39: 59 | B39: Georgetown University | C39: EPN-1 | D39: NG/FO Boiler 1 | E39: Boiler | F39: OP | G39: 1969 | H39: 127 | I39: E6BTU/HR | J39: =VLOOKUP(K39, '[1]Units-SCCs'!$I:$J, 2, FALSE) -> > 100 Million BTU/hr | K39: 10300601 | L39: =IF(M39="natural gas",1,IF(ISNUMBER(SEARCH("distillate",M39)),2,"")) -> 1 | M39: Natural Gas | N39: 268.16 | O39: E6FT3S | P39: =(N39*1034) -> 277277.44 | Q39: mmbtu | R39: 0.1 | S39: =(P39*R39) -> 27727.744 | T39: =(S39*V39)/2000/92 -> 0.007534713 | U39: =(P39*V39)/2000 -> 6.931936 | V39: =IF( M39="Natural Gas", 0.05, IF( AND(M39="Distillate Oil", H39>=25, H39<100), 0.12, IF( AND(M39="Distillate Oil", H39>=100), 0.9, V39 ) ) ) -> 0.05 | W39: =T39 -> 0.007534713 | X39: =T39 -> 0.007534713 | Y39: =T39 -> 0.007534713 | Z39: =T39 -> 0.007534713 | AA39: =A39 & C39 & L39 -> 59EPN-11 | AB39: =Y39 -> 0.007534713
A40: 59 | B40: Georgetown University | C40: EPN-1 | D40: NG/FO Boiler 1 | E40: Boiler | F40: OP | G40: 1969 | H40: 127 | I40: E6BTU/HR | J40: =VLOOKUP(K40, '[1]Units-SCCs'!$I:$J, 2, FALSE) -> Distillate Oil - Grades 1 and 2: Boiler | K40: 10300501 | L40: =IF(M40="natural gas",1,IF(ISNUMBER(SEARCH("distillate",M40)),2,"")) -> 2 | M40: Distillate Oil | N40: 0 | O40: E3GAL | P40: =(N40*0.138)*1000 -> 0 | Q40: mmbtu | R40: 0.1 | S40: =(P40*R40) -> 0 | T40: =(S40*V40)/2000/92 -> 0 | U40: =(P40*V40)/2000 -> 0 | V40: =IF( M40="Natural Gas", 0.05, IF( AND(M40="Distillate Oil", H40>=25, H40<100), 0.12, IF( AND(M40="Distillate Oil", H40>=100), 0.9, V40 ) ) ) -> 0.9 | W40: =T40 -> 0 | X40: =T40 -> 0 | Y40: =T40 -> 0 | Z40: =T40 -> 0 | AA40: =A40 & C40 & L40 -> 59EPN-12 | AB40: =Y40 -> 0
A41: 59 | B41: Georgetown University | C41: EPN-2 | D41: NG/FO Boiler 2 | E41: Boiler | F41: OP | G41: 2020 | H41: 127 | I41: E6BTU/HR | J41: =VLOOKUP(K41, '[1]Units-SCCs'!$I:$J, 2, FALSE) -> > 100 Million BTU/hr | K41: 10300601 | L41: =IF(M41="natural gas",1,IF(ISNUMBER(SEARCH("distillate",M41)),2,"")) -> 1 | M41: Natural Gas | N41: 2.16 | O41: E6FT3S | P41: =(N41*1034) -> 2233.44 | Q41: mmbtu | R41: 0.1 | S41: =(P41*R41) -> 223.344 | T41: =(S41*V41)/2000/92 -> 6.0691304e-05 | U41: =(P41*V41)/2000 -> 0.055836 | V41: =IF( M41="Natural Gas", 0.05, IF( AND(M41="Distillate Oil", H41>=25, H41<100), 0.12, IF( AND(M41="Distillate Oil", H41>=100), 0.9, V41 ) ) ) -> 0.05 | W41: =T41 -> 6.0691304e-05 | X41: =T41 -> 6.0691304e-05 | Y41: =T41 -> 6.0691304e-05 | Z41: =T41 -> 6.0691304e-05 | AA41: =A41 & C41 & L41 -> 59EPN-21 | AB41: =Y41 -> 6.0691304e-05
A42: 59 | B42: Georgetown University | C42: EPN-2 | D42: NG/FO Boiler 2 | E42: Boiler | F42: OP | G42: 2020 | H42: 127 | I42: E6BTU/HR | J42: =VLOOKUP(K42, '[1]Units-SCCs'!$I:$J, 2, FALSE) -> Distillate Oil - Grades 1 and 2: Boiler | K42: 10300501 | L42: =IF(M42="natural gas",1,IF(ISNUMBER(SEARCH("distillate",M42)),2,"")) -> 2 | M42: Distillate Oil | N42: 2.103 | O42: E3GAL | P42: =(N42*0.138)*1000 -> 290.214 | Q42: mmbtu | R42: 0.1 | S42: =(P42*R42) -> 29.0214 | T42: =(S42*V42)/2000/92 -> 0.0001419525 | U42: =(P42*V42)/2000 -> 0.1305963 | V42: =IF( M42="Natural Gas", 0.05, IF( AND(M42="Distillate Oil", H42>=25, H42<100), 0.12, IF( AND(M42="Distillate Oil", H42>=100), 0.9, V42 ) ) ) -> 0.9 | W42: =T42 -> 0.0001419525 | X42: =T42 -> 0.0001419525 | Y42: =T42 -> 0.0001419525 | Z42: =T42 -> 0.0001419525 | AA42: =A42 & C42 & L42 -> 59EPN-22 | AB42: =Y42 -> 0.0001419525
A43: 59 | B43: Georgetown University | C43: EPN-3 | D43: NG/FO Boiler 3 | E43: Boiler | F43: OP | G43: 1989 | H43: 120.6 | I43: E6BTU/HR | J43: =VLOOKUP(K43, '[1]Units-SCCs'!$I:$J, 2, FALSE) -> > 100 Million BTU/hr | K43: 10300601 | L43: =IF(M43="natural gas",1,IF(ISNUMBER(SEARCH("distillate",M43)),2,"")) -> 1 | M43: Natural Gas | N43: 250.86 | O43: E6FT3S | P43: =(N43*1034) -> 259389.24 | Q43: mmbtu | R43: 0.1 | S43: =(P43*R43) -> 25938.924 | T43: =(S43*V43)/2000/92 -> 0.0070486207 | U43: =(P43*V43)/2000 -> 6.484731 | V43: =IF( M43="Natural Gas", 0.05, IF( AND(M43="Distillate Oil", H43>=25, H43<100), 0.12, IF( AND(M43="Distillate Oil", H43>=100), 0.9, V43 ) ) ) -> 0.05 | W43: =T43 -> 0.0070486207 | X43: =T43 -> 0.0070486207 | Y43: =T43 -> 0.0070486207 | Z43: =T43 -> 0.0070486207 | AA43: =A43 & C43 & L43 -> 59EPN-31 | AB43: =Y43 -> 0.0070486207
A44: 59 | B44: Georgetown University | C44: EPN-3 | D44: NG/FO Boiler 3 | E44: Boiler | F44: OP | G44: 1989 | H44: 120.6 | I44: E6BTU/HR | J44: =VLOOKUP(K44, '[1]Units-SCCs'!$I:$J, 2, FALSE) -> Distillate Oil - Grades 1 and 2: Boiler | K44: 10300501 | L44: =IF(M44="natural gas",1,IF(ISNUMBER(SEARCH("distillate",M44)),2,"")) -> 2 | M44: Distillate Oil | N44: 0 | O44: E3GAL | P44: =(N44*0.138)*1000 -> 0 | Q44: mmbtu | R44: 0.1 | S44: =(P44*R44) -> 0 | T44: =(S44*V44)/2000/92 -> 0 | U44: =(P44*V44)/2000 -> 0 | V44: =IF( M44="Natural Gas", 0.05, IF( AND(M44="Distillate Oil", H44>=25, H44<100), 0.12, IF( AND(M44="Distillate Oil", H44>=100), 0.9, V44 ) ) ) -> 0.9 | W44: =T44 -> 0 | X44: =T44 -> 0 | Y44: =T44 -> 0 | Z44: =T44 -> 0 | AA44: =A44 & C44 & L44 -> 59EPN-32 | AB44: =Y44 -> 0
A45: 59 | B45: Georgetown University | C45: EPN-4 | D45: NG/FO Boiler 4 | E45: Boiler | F45: OP | G45: 2021 | H45: 119.8 | I45: E6BTU/HR | J45: =VLOOKUP(K45, '[1]Units-SCCs'!$I:$J, 2, FALSE) -> > 100 Million BTU/hr | K45: 10300601 | L45: =IF(M45="natural gas",1,IF(ISNUMBER(SEARCH("distillate",M45)),2,"")) -> 1 | M45: Natural Gas | N45: 108.22 | O45: E6FT3S | P45: =(N45*1034) -> 111899.48 | Q45: mmbtu | R45: 0 | S45: =(P45*R45) -> 0 | T45: =(S45*V45)/2000/92 -> 0 | U45: =(P45*V45)/2000 -> 2.797487 | V45: =IF( M45="Natural Gas", 0.05, IF( AND(M45="Distillate Oil", H45>=25, H45<100), 0.12, IF( AND(M45="Distillate Oil", H45>=100), 0.9, V45 ) ) ) -> 0.05 | W45: =T45 -> 0 | X45: =T45 -> 0 | Y45: =T45 -> 0 | Z45: =T45 -> 0 | AA45: =A45 & C45 & L45 -> 59EPN-41 | AB45: =Y45 -> 0
A46: 59 | B46: Georgetown University | C46: EPN-4 | D46: NG/FO Boiler 4 | E46: Boiler | F46: OP | G46: 2021 | H46: 119.8 | I46: E6BTU/HR | J46: =VLOOKUP(K46, '[1]Units-SCCs'!$I:$J, 2, FALSE) -> Distillate Oil - Grades 1 and 2: Boiler | K46: 10300501 | L46: =IF(M46="natural gas",1,IF(ISNUMBER(SEARCH("distillate",M46)),2,"")) -> 2 | M46: Distillate Oil | N46: 24582 | O46: E3GAL | P46: =(N46*0.138)*1000 -> 3392316 | Q46: mmbtu | R46: 0 | S46: =(P46*R46) -> 0 | T46: =(S46*V46)/2000/92 -> 0 | U46: =(P46*V46)/2000 -> 1526.5422 | V46: =IF( M46="Natural Gas", 0.05, IF( AND(M46="Distillate Oil", H46>=25, H46<100), 0.12, IF( AND(M46="Distillate Oil", H46>=100), 0.9, V46 ) ) ) -> 0.9 | W46: =T46 -> 0 | X46: =T46 -> 0 | Y46: =T46 -> 0 | Z46: =T46 -> 0 | AA46: =A46 & C46 & L46 -> 59EPN-42 | AB46: =Y46 -> 0
A47: 142 | B47: Blue Plains Wastewater Treatment Plant | C47: AB | D47: Auxilary Boiler | E47: Boiler | F47: OP | G47: 2017 | H47: 62.5 | I47: E6BTU/HR | J47: =VLOOKUP(K47, '[1]Units-SCCs'!$I:$J, 2, FALSE) -> External Combustion Boilers > Commercial/Institutional > Natural Gas > 10-100 Million BTU/hr | K47: 10300602 | L47: =IF(M47="natural gas",1,IF(ISNUMBER(SEARCH("distillate",M47)),2,"")) -> 1 | M47: Natural Gas | N47: 3.34 | O47: E6FT3S | P47: =(N47*1034) -> 3453.56 | Q47: mmbtu | R47: 0.084 | S47: =(P47*R47) -> 290.09904 | T47: =(S47*V47)/2000/92 -> 7.8831261e-05 | U47: =(P47*V47)/2000 -> 0.086339 | V47: =IF( M47="Natural Gas", 0.05, IF( AND(M47="Distillate Oil", H47>=25, H47<100), 0.12, IF( AND(M47="Distillate Oil", H47>=100), 0.9, V47 ) ) ) -> 0.05 | W47: =T47 -> 7.8831261e-05 | X47: =T47 -> 7.8831261e-05 | Y47: =T47 -> 7.8831261e-05 | Z47: =T47 -> 7.8831261e-05 | AA47: =A47 & C47 & L47 -> 142AB1 | AB47: =Y47 -> 7.8831261e-05
A48: 142 | B48: Blue Plains Wastewater Treatment Plant | C48: AB | D48: Auxilary Boiler | E48: Boiler | F48: OP | G48: 2017 | H48: 62.5 | I48: E6BTU/HR | J48: =VLOOKUP(K48, '[1]Units-SCCs'!$I:$J, 2, FALSE) -> External Combustion Boilers > Commercial/Institutional > Process Gas > POTW Digester Gas-fired Boiler | K48: 10300701 | L48: =IF(M48="natural gas",1,IF(ISNUMBER(SEARCH("distillate",M48)),2,"")) -> 2 | M48: Distillate Oil | N48: 18.0269 | O48: E6FT3S | P48: =(N48*1034) -> 18639.815 | Q48: mmbtu | R48: 0.296 | S48: =(P48*R48) -> 5517.3851 | T48: =(S48*V48)/2000/92 -> 0.0035982946 | U48: =(P48*V48)/2000 -> 1.1183889 | V48: =IF( M48="Natural Gas", 0.05, IF( AND(M48="Distillate Oil", H48>=25, H48<100), 0.12, IF( AND(M48="Distillate Oil", H48>=100), 0.9, V48 ) ) ) -> 0.12 | W48: =T48 -> 0.0035982946 | X48: =T48 -> 0.0035982946 | Y48: =T48 -> 0.0035982946 | Z48: =T48 -> 0.0035982946 | AA48: =A48 & C48 & L48 -> 142AB2 | AB48: =Y48 -> 0.0035982946
A49: 5007 | B49: Fort Myer Plant #1 | C49: KB1 | D49: Rotary Kiln w/Genco Ultra II Burner | E49: Boiler | F49: OP | G49: 2014 | H49: 75 | I49: E6BTU/HR | J49: =VLOOKUP(K49, '[1]Units-SCCs'!$I:$J, 2, FALSE) -> Industrial Processes > Mineral Products > Asphalt Concrete > Batch Mix Plant: Hot Elevators, Screens, Bins, Mixer & NG Rot Dryer | K49: 30500245 | L49: =IF(M49="natural gas",1,IF(ISNUMBER(SEARCH("distillate",M49)),2,"")) -> 1 | M49: Natural Gas | N49: 27.8 | O49: E6FT3S | P49: =(N49*1034) -> 28745.2 | Q49: mmbtu | R49: 0.314 | S49: =(P49*R49) -> 9025.9928 | T49: =(S49*V49)/2000/92 -> 0.0024527154 | U49: =(P49*V49)/2000 -> 0.71863 | V49: =IF( M49="Natural Gas", 0.05, IF( AND(M49="Distillate Oil", H49>=25, H49<100), 0.12, IF( AND(M49="Distillate Oil", H49>=100), 0.9, V49 ) ) ) -> 0.05 | W49: 0.004108963 | X49: =T49 -> 0.0024527154 | Y49: =T49 -> 0.0024527154 | Z49: =T49 -> 0.0024527154 | AA49: =A49 & C49 & L49 -> 5007KB11 | AB49: 0.004108963
A50: 5007 | B50: Fort Myer Plant #1 | C50: KB1 | D50: Rotary Kiln w/Genco Ultra II Burner | E50: Boiler | F50: OP | G50: 2014 | H50: 75 | I50: E6BTU/HR | J50: =VLOOKUP(K50, '[1]Units-SCCs'!$I:$J, 2, FALSE) -> Industrial Processes > Mineral Products > Asphalt Concrete > Batch Mix Plant: Hot Elevators, Screens, Bins, Mixer& #2 Oil Rot Dryer | K50: 30500246 | L50: =IF(M50="natural gas",1,IF(ISNUMBER(SEARCH("distillate",M50)),2,"")) -> 2 | M50: Distillate Oil | N50: 0 | O50: EGAL | P50: =(N50*0.138) -> 0 | Q50: mmbtu | R50: 0.33 | S50: =(P50*R50) -> 0 | T50: =(S50*V50)/2000/92 -> 0 | U50: =(P50*V50)/2000 -> 0 | V50: =IF( M50="Natural Gas", 0.05, IF( AND(M50="Distillate Oil", H50>=25, H50<100), 0.12, IF( AND(M50="Distillate Oil", H50>=100), 0.9, V50 ) ) ) -> 0.12 | W50: =T50 -> 0 | X50: =T50 -> 0 | Y50: =T50 -> 0 | Z50: =T50 -> 0 | AA50: =A50 & C50 & L50 -> 5007KB12 | AB50: =Y50 -> 0
A51: 8001 | B51: Washington Convention Center | C51: 1 | D51: Installed 2002 | E51: Boiler | F51: OP | G51: 2021 | H51: 30.6 | I51: E6BTU/HR | J51: =VLOOKUP(K51, '[1]Units-SCCs'!$I:$J, 2, FALSE) -> External Combustion Boilers > Commercial/Institutional > Natural Gas > 10-100 Million BTU/hr | K51: 10300602 | L51: =IF(M51="natural gas",1,IF(ISNUMBER(SEARCH("distillate",M51)),2,"")) -> 1 | M51: Natural Gas | N51: 6.268235 | O51: E6FT3SD | P51: =(N51*1034) -> 6481.355 | Q51: mmbtu | R51: 0 | S51: =(P51*R51) -> 0 | T51: =(S51*V51)/2000/92 -> 0 | U51: =(P51*V51)/2000 -> 0.16203387 | V51: =IF( M51="Natural Gas", 0.05, IF( AND(M51="Distillate Oil", H51>=25, H51<100), 0.12, IF( AND(M51="Distillate Oil", H51>=100), 0.9, V51 ) ) ) -> 0.05 | W51: =T51 -> 0 | X51: =T51 -> 0 | Y51: =T51 -> 0 | Z51: =T51 -> 0 | AA51: =A51 & C51 & L51 -> 800111 | AB51: =Y51 -> 0
A52: 8001 | B52: Washington Convention Center | C52: 1 | D52: Installed 2002 | E52: Boiler | F52: OP | G52: 2021 | H52: 30.6 | I52: E6BTU/HR | J52: =VLOOKUP(K52, '[1]Units-SCCs'!$I:$J, 2, FALSE) -> External Combustion Boilers > Commercial/Institutional > Distillate Oil > 10-100 Million BTU/hr | K52: 10300502 | L52: =IF(M52="natural gas",1,IF(ISNUMBER(SEARCH("distillate",M52)),2,"")) -> 2 | M52: Distillate Oil | N52: 0.187 | O52: E3GAL | P52: =(N52*0.138)*1000 -> 25.806 | Q52: mmbtu | R52: 0.005 | S52: =(P52*R52) -> 0.12903 | T52: =(S52*V52)/2000/92 -> 8.415e-08 | U52: =(P52*V52)/2000 -> 0.00154836 | V52: =IF( M52="Natural Gas", 0.05, IF( AND(M52="Distillate Oil", H52>=25, H52<100), 0.12, IF( AND(M52="Distillate Oil", H52>=100), 0.9, V52 ) ) ) -> 0.12 | W52: =T52 -> 8.415e-08 | X52: =T52 -> 8.415e-08 | Y52: =T52 -> 8.415e-08 | Z52: =T52 -> 8.415e-08 | AA52: =A52 & C52 & L52 -> 800112 | AB52: =Y52 -> 8.415e-08
A53: 8001 | B53: Washington Convention Center | C53: 2 | D53: Installed 2002 | E53: Boiler | F53: OP | G53: 2021 | H53: 30.6 | I53: E6BTU/HR | J53: =VLOOKUP(K53, '[1]Units-SCCs'!$I:$J, 2, FALSE) -> External Combustion Boilers > Commercial/Institutional > Natural Gas > 10-100 Million BTU/hr | K53: 10300602 | L53: =IF(M53="natural gas",1,IF(ISNUMBER(SEARCH("distillate",M53)),2,"")) -> 1 | M53: Natural Gas | N53: 10.231765 | O53: E6FT3SD | P53: =(N53*1034) -> 10579.645 | Q53: mmbtu | R53: 0 | S53: =(P53*R53) -> 0 | T53: =(S53*V53)/2000/92 -> 0 | U53: =(P53*V53)/2000 -> 0.26449113 | V53: =IF( M53="Natural Gas", 0.05, IF( AND(M53="Distillate Oil", H53>=25, H53<100), 0.12, IF( AND(M53="Distillate Oil", H53>=100), 0.9, V53 ) ) ) -> 0.05 | W53: =T53 -> 0 | X53: =T53 -> 0 | Y53: =T53 -> 0 | Z53: =T53 -> 0 | AA53: =A53 & C53 & L53 -> 800121 | AB53: =Y53 -> 0
A54: 8001 | B54: Washington Convention Center | C54: 2 | D54: Installed 2002 | E54: Boiler | F54: OP | G54: 2020 | H54: 30.6 | I54: E6BTU/HR | J54: =VLOOKUP(K54, '[1]Units-SCCs'!$I:$J, 2, FALSE) -> External Combustion Boilers > Commercial/Institutional > Distillate Oil > 10-100 Million BTU/hr | K54: 10300502 | L54: =IF(M54="natural gas",1,IF(ISNUMBER(SEARCH("distillate",M54)),2,"")) -> 2 | M54: Distillate Oil | N54: 2.029 | O54: E3GAL | P54: =(N54*0.138)*1000 -> 280.002 | Q54: mmbtu | R54: 0 | S54: =(P54*R54) -> 0 | T54: =(S54*V54)/2000/92 -> 0 | U54: =(P54*V54)/2000 -> 0.01680012 | V54: =IF( M54="Natural Gas", 0.05, IF( AND(M54="Distillate Oil", H54>=25, H54<100), 0.12, IF( AND(M54="Distillate Oil", H54>=100), 0.9, V54 ) ) ) -> 0.12 | W54: =T54 -> 0 | X54: =T54 -> 0 | Y54: =T54 -> 0 | Z54: =T54 -> 0 | AA54: =A54 & C54 & L54 -> 800122 | AB54: =Y54 -> 0
A55: 10 | B55: George Washington University | C55: EUN-34 | D55: Installed 1974; steam or hot water boiler (WT293X-CN1) | E55: Boiler | F55: OP | G55: 2020 | H55: 48.7 | I55: E6BTU/HR | J55: =VLOOKUP(K55, '[1]Units-SCCs'!$I:$J, 2, FALSE) -> External Combustion Boilers > Commercial/Institutional > Natural Gas > 10-100 Million BTU/hr | K55: 10300602 | L55: =IF(M55="natural gas",1,IF(ISNUMBER(SEARCH("distillate",M55)),2,"")) -> 1 | M55: Natural Gas | N55: 60.83 | O55: E6FT3S | P55: =(N55*1034) -> 62898.22 | Q55: mmbtu | R55: 0.21 | S55: =(P55*R55) -> 13208.626 | T55: =(S55*V55)/2000/92 -> 0.0035893006 | U55: =(P55*V55)/2000 -> 1.5724555 | V55: =IF( M55="Natural Gas", 0.05, IF( AND(M55="Distillate Oil", H55>=25, H55<100), 0.12, IF( AND(M55="Distillate Oil", H55>=100), 0.9, V55 ) ) ) -> 0.05 | W55: =T55 -> 0.0035893006 | X55: =T55 -> 0.0035893006 | Y55: =T55 -> 0.0035893006 | Z55: =T55 -> 0.0035893006 | AA55: =A55 & C55 & L55 -> 10EUN-341 | AB55: =Y55 -> 0.0035893006
A56: 10 | B56: George Washington University | C56: EUN-35 | D56: Installed 1974; steam or hot water boiler (WT293X-CN1) | E56: Boiler | F56: OP | G56: 2020 | H56: 48.7 | I56: E6BTU/HR | J56: =VLOOKUP(K56, '[1]Units-SCCs'!$I:$J, 2, FALSE) -> External Combustion Boilers > Commercial/Institutional > Natural Gas > 10-100 Million BTU/hr | K56: 10300602 | L56: =IF(M56="natural gas",1,IF(ISNUMBER(SEARCH("distillate",M56)),2,"")) -> 1 | M56: Natural Gas | N56: 60.83 | O56: E6FT3S | P56: =(N56*1034) -> 62898.22 | Q56: mmbtu | R56: 0.21 | S56: =(P56*R56) -> 13208.626 | T56: =(S56*V56)/2000/92 -> 0.0035893006 | U56: =(P56*V56)/2000 -> 1.5724555 | V56: =IF( M56="Natural Gas", 0.05, IF( AND(M56="Distillate Oil", H56>=25, H56<100), 0.12, IF( AND(M56="Distillate Oil", H56>=100), 0.9, V56 ) ) ) -> 0.05 | W56: =T56 -> 0.0035893006 | X56: =T56 -> 0.0035893006 | Y56: =T56 -> 0.0035893006 | Z56: =T56 -> 0.0035893006 | AA56: =A56 & C56 & L56 -> 10EUN-351 | AB56: =Y56 -> 0.0035893006
A57: 13 | B57: Washington Navy Yard | C57: 5 | D57: Nebraska NS-F/S-76; installed/modified 1995 | E57: Boiler | F57: OP | G57: 1995 | H57: 101 | I57: E6BTU/HR | J57: =VLOOKUP(K57, '[1]Units-SCCs'!$I:$J, 2, FALSE) -> > 100 Million BTU/hr | K57: 10300601 | L57: =IF(M57="natural gas",1,IF(ISNUMBER(SEARCH("distillate",M57)),2,"")) -> 1 | M57: Natural Gas | N57: 81.03 | O57: E6FT3S | P57: =(N57*0.001034) -> 0.08378502 | Q57: mmbtu | R57: 0.01 | S57: =(P57*R57) -> 0.0008378502 | T57: =(S57*V57)/2000/92 -> 2.2767668e-10 | U57: =(P57*V57)/2000 -> 2.0946255e-06 | V57: =IF( M57="Natural Gas", 0.05, IF( AND(M57="Distillate Oil", H57>=25, H57<100), 0.12, IF( AND(M57="Distillate Oil", H57>=100), 0.9, V57 ) ) ) -> 0.05 | W57: =T57 -> 2.2767668e-10 | X57: =T57 -> 2.2767668e-10 | Y57: =T57 -> 2.2767668e-10 | Z57: =T57 -> 2.2767668e-10 | AA57: =A57 & C57 & L57 -> 1351 | AB57: =Y57 -> 2.2767668e-10
A58: 25 | B58: U.S. GSA Central Heating and Refrigeration Plant | C58: 001 | D58: 169849 | E58: Boiler | F58: OP | G58: 2021 | H58: 250 | I58: E6BTU/HR | J58: =VLOOKUP(K58, '[1]Units-SCCs'!$I:$J, 2, FALSE) -> External Combustion Boilers > Commercial/Institutional > Natural Gas > 10-100 Million BTU/hr | K58: 10300602 | L58: =IF(M58="natural gas",1,IF(ISNUMBER(SEARCH("distillate",M58)),2,"")) -> 1 | M58: Natural Gas | N58: 406964400 | O58: FT3SD | P58: =(N58*1034)/1000000 -> 420801.19 | Q58: mmbtu | R58: 0.01 | S58: =P58*R58 -> 4208.0119 | T58: =(S58*V58)/2000/92 -> 0.0011434815 | U58: =(P58*V58)/2000 -> 10.52003 | V58: =IF( M58="Natural Gas", 0.05, IF( AND(M58="Distillate Oil", H58>=25, H58<100), 0.12, IF( AND(M58="Distillate Oil", H58>=100), 0.9, V58 ) ) ) -> 0.05 | W58: =T58 -> 0.0011434815 | X58: =T58 -> 0.0011434815 | Y58: 0.0011434815 | Z58: 0.0011434815 | AA58: =A58 & C58 & L58 -> 250011 | AB58: =Y58 -> 0.0011434815
A59: 25 | B59: U.S. GSA Central Heating and Refrigeration Plant | C59: 002 | D59: 169838 | E59: Boiler | F59: OP | G59: 2021 | H59: 250 | I59: E6BTU/HR | J59: =VLOOKUP(K59, '[1]Units-SCCs'!$I:$J, 2, FALSE) -> External Combustion Boilers > Commercial/Institutional > Natural Gas > 10-100 Million BTU/hr | K59: 10300602 | L59: =IF(M59="natural gas",1,IF(ISNUMBER(SEARCH("distillate",M59)),2,"")) -> 1 | M59: Natural Gas | N59: 231251800 | O59: FT3SD | P59: =(N59*1034)/1000000 -> 239114.36 | Q59: mmbtu | R59: 0.39 | S59: =P59*R59 -> 93254.601 | T59: =(S59*V59)/2000/92 -> 0.025340924 | U59: =(P59*V59)/2000 -> 5.977859 | V59: =IF( M59="Natural Gas", 0.05, IF( AND(M59="Distillate Oil", H59>=25, H59<100), 0.12, IF( AND(M59="Distillate Oil", H59>=100), 0.9, V59 ) ) ) -> 0.05 | W59: =T59 -> 0.025340924 | X59: =T59 -> 0.025340924 | Y59: 0.016244182 | Z59: 0.016244182 | AA59: =A59 & C59 & L59 -> 250021 | AB59: =Y59 -> 0.016244182
A60: 25 | B60: U.S. GSA Central Heating and Refrigeration Plant | C60: 003 | D60: 169840 | E60: Boiler | F60: OP | G60: 2021 | H60: 500 | I60: E6BTU/HR | J60: =VLOOKUP(K60, '[1]Units-SCCs'!$I:$J, 2, FALSE) -> External Combustion Boilers > Commercial/Institutional > Natural Gas > 10-100 Million BTU/hr | K60: 10300602 | L60: =IF(M60="natural gas",1,IF(ISNUMBER(SEARCH("distillate",M60)),2,"")) -> 1 | M60: Natural Gas | N60: 548276600 | O60: FT3SD | P60: =(N60*1034)/1000000 -> 566918 | Q60: mmbtu | R60: 0 | S60: =P60*R60 -> 0 | T60: =(S60*V60)/2000/92 -> 0 | U60: =(P60*V60)/2000 -> 14.17295 | V60: =IF( M60="Natural Gas", 0.05, IF( AND(M60="Distillate Oil", H60>=25, H60<100), 0.12, IF( AND(M60="Distillate Oil", H60>=100), 0.9, V60 ) ) ) -> 0.05 | W60: =T60 -> 0 | X60: =T60 -> 0 | Y60: =T60 -> 0 | Z60: =T60 -> 0 | AA60: =A60 & C60 & L60 -> 250031 | AB60: =Y60 -> 0
A61: 13 | B61: Washington Navy Yard | C61: 5 | D61: Nebraska NS-F/S-76; installed/modified 1995 | E61: Boiler | F61: OP | G61: 1995 | H61: 101 | I61: E6BTU/HR | J61: =VLOOKUP(K61, '[1]Units-SCCs'!$I:$J, 2, FALSE) -> Distillate Oil - Grades 1 and 2: Boiler | K61: 10300501 | L61: =IF(M61="natural gas",1,IF(ISNUMBER(SEARCH("distillate",M61)),2,"")) -> 2 | M61: Distillate Oil | N61: 0 | O61: GAL | P61: =(N61*0.138) -> 0 | Q61: mmbtu | R61: 0.001 | S61: =P61*R61 -> 0 | T61: =(S61*V61)/2000/92 -> 0 | U61: =(P61*V61)/2000 -> 0 | V61: =IF( M61="Natural Gas", 0.05, IF( AND(M61="Distillate Oil", H61>=25, H61<100), 0.12, IF( AND(M61="Distillate Oil", H61>=100), 0.9, V61 ) ) ) -> 0.9 | W61: =T61 -> 0 | X61: =T61 -> 0 | Y61: =T61 -> 0 | Z61: =T61 -> 0 | AA61: =A61 & C61 & L61 -> 1352 | AB61: =Y61 -> 0
A62: 25 | B62: U.S. GSA Central Heating and Refrigeration Plant | C62: 005C | E62: Boiler | F62: OP | G62: 2021 | H62: 210 | I62: E6BTU/HR | J62: =VLOOKUP(K62, '[1]Units-SCCs'!$I:$J, 2, FALSE) -> Internal Combustion Engines > Industrial > Natural Gas > Turbine: Cogeneration | K62: 20200203 | L62: 1 | N62: 195238800 | O62: FT3SD | P62: =(N62*1034)/1000000 -> 201876.92 | Q62: mmbtu | R62: 0.365 | S62: =P62*R62 -> 73685.076 | T62: =(S62*V62)/2000/92 -> 0 | U62: =(P62*V62)/2000 -> 0 | V62: =IF( M62="Natural Gas", 0.05, IF( AND(M62="Distillate Oil", H62>=25, H62<100), 0.12, IF( AND(M62="Distillate Oil", H62>=100), 0.9, V62 ) ) ) -> 0.05 | W62: =T62 -> 0 | X62: =T62 -> 0 | Y62: =T62 -> 0 | Z62: =T62 -> 0 | AA62: =A62 & C62 & L62 -> 25005C1 | AB62: 0
A63: 25 | B63: U.S. GSA Central Heating and Refrigeration Plant | C63: 005C | E63: Boiler | F63: OP | G63: 2021 | H63: 210 | I63: E6BTU/HR | J63: =VLOOKUP(K63, '[1]Units-SCCs'!$I:$J, 2, FALSE) -> Internal Combustion Engines > Industrial > Natural Gas > Turbine: Cogeneration | K63: 20200203 | L63: 2 | N63: 0 | O63: FT3SD | P63: =(N63*1034)/1000000 -> 0 | Q63: mmbtu | R63: 0 | S63: =P63*R63 -> 0 | T63: =(S63*V63)/2000/92 -> 0 | U63: =(P63*V63)/2000 -> 0 | V63: =IF( M63="Natural Gas", 0.05, IF( AND(M63="Distillate Oil", H63>=25, H63<100), 0.12, IF( AND(M63="Distillate Oil", H63>=100), 0.9, V63 ) ) ) -> 0.05 | W63: 0 | X63: =T63 -> 0 | Y63: 0 | Z63: 0 | AA63: =A63 & C63 & L63 -> 25005C2 | AB63: 0
A64: 25 | B64: U.S. GSA Central Heating and Refrigeration Plant | C64: 006 | E64: Boiler | F64: OP | G64: 2021 | H64: 250 | I64: E6BTU/HR | J64: =VLOOKUP(K64, '[1]Units-SCCs'!$I:$J, 2, FALSE) -> > 100 Million BTU/hr | K64: 10300601 | L64: 1 | N64: 609623000 | O64: FT3SD | P64: =(N64*1034)/1000000 -> 630350.18 | Q64: mmbtu | R64: 25 | S64: =P64*R64 -> 15758755 | T64: =(S64*V64)/2000/92 -> 4.2822703 | U64: =(P64*V64)/2000 -> 15.758755 | V64: =IF( M64="Natural Gas", 0.05, IF( AND(M64="Distillate Oil", H64>=25, H64<100), 0.12, IF( AND(M64="Distillate Oil", H64>=100), 0.9, V64 ) ) ) -> 0.05 | W64: =T64 -> 4.2822703 | X64: =T64 -> 4.2822703 | Y64: 4.2822703 | Z64: 4.2822703 | AA64: =A64 & C64 & L64 -> 250061 | AB64: 0
A65: 25 | B65: U.S. GSA Central Heating and Refrigeration Plant | C65: 006 | E65: Boiler | F65: OP | G65: 2021 | H65: 250 | I65: E6BTU/HR | J65: =VLOOKUP(K65, '[1]Units-SCCs'!$I:$J, 2, FALSE) -> Distillate Oil - Grades 1 and 2: Boiler | K65: 10300501 | L65: 2 | N65: 0 | O65: FT3SD | P65: =(N65*1034)/1000000 -> 0 | Q65: mmbtu | R65: 0 | S65: =P65*R65 -> 0 | T65: =(S65*V65)/2000/92 -> 0 | U65: =(P65*V65)/2000 -> 0 | V65: =IF( M65="Natural Gas", 0.05, IF( AND(M65="Distillate Oil", H65>=25, H65<100), 0.12, IF( AND(M65="Distillate Oil", H65>=100), 0.9, V65 ) ) ) -> 0.05 | W65: 0 | X65: =T65 -> 0 | Y65: 0 | Z65: 0 | AA65: =A65 & C65 & L65 -> 250062 | AB65: 0
A66: 10 | B66: George Washington University | C66: 6618-C-R1-CT | E66: Co-Gen | F66: OP | G66: 2020 | H66: 52.9 | I66: E6BTU/HR | J66: =VLOOKUP(K66, '[1]Units-SCCs'!$I:$J, 2, FALSE) -> External Combustion > Industrial: Boilers > Natural Gas > Cogeneration | K66: 10200604 | L66: =IF(M66="natural gas",1,IF(ISNUMBER(SEARCH("distillate",M66)),2,"")) -> 1 | M66: Natural Gas | N66: 191.987 | O66: E6FT3S | P66: =(N66*1034) -> 198514.56 | Q66: mmbtu | R66: 0.286 | S66: =(P66*R66) -> 56775.164 | T66: =(S66*V66)/2000/92 -> 0.015428034 | U66: =(P66*V66)/2000 -> 4.962864 | V66: =IF( M66="Natural Gas", 0.05, IF( AND(M66="Distillate Oil", H66>=25, H66<100), 0.12, IF( AND(M66="Distillate Oil", H66>=100), 0.9, V66 ) ) ) -> 0.05 | W66: =T66 -> 0.015428034 | X66: =T66 -> 0.015428034 | Y66: =T66 -> 0.015428034 | Z66: =W66 -> 0.015428034 | AA66: =A66 & C66 & L66 -> 106618-C-R1-CT1 | AB66: =Y66 -> 0.015428034

Sheet Calculations
A1: Facility ID | B1: Facility | C1: Agency Unit ID | D1: Pollutant | E1: SCC | F1: Fuel | G1: Expected Compliance Year | H1: Compliant in 2022? | I1: Compliant in 2026? | J1: Compliant in 2032? | K1: Compliant in 2038? | L1: Base Year (2022 Emissions from CAERS) | M1: 2022 OSD | N1: 2026 OSTd | O1: 2032 OSTd (tons/day) | P1: 2038 OSTd (tons/day) | Q1: Unique | R1: NOX RACT Emissions
A2: 8 | B2: D.C. General Hospital | C2: CU-1 | D2: NOX | E2: 10300602 | F2: 1 | H2: no | I2: no | J2: yes | K2: yes | L2: =VLOOKUP(Q2,'OSD (R Studio)'!O:P, 2, FALSE) -> 0.00024233696 | M2: =IF($R2>=$L2,$L2,IF($H2="yes",$R2,$L2)) -> 0.00024233696 | N2: =IF($R2>=$L2,$L2,IF($I2="yes",$R2,$L2)) -> 0.00024233696 | O2: =IF($R2>=$L2,$L2,IF($J2="yes",$R2,$L2)) -> 0.00024233696 | P2: =IF($R2>=$L2,$L2,IF($K2="yes",$R2,$L2)) -> 0.00024233696 | Q2: =A2 & C2 & F2 -> 8CU-11 | R2: =VLOOKUP(Q2, 'NOX RACT Units'!$AA:$AB, 2, FALSE) -> 0.0022779698
A3: 8 | B3: D.C. General Hospital | C3: CU-4 | D3: NOX | E3: 10300602 | F3: 1 | H3: no | I3: no | J3: yes | K3: yes | L3: =VLOOKUP(Q3,'OSD (R Studio)'!O:P, 2, FALSE) -> 0.00024422283 | M3: =IF($R3>=$L3,$L3,IF($H3="yes",$R3,$L3)) -> 0.00024422283 | N3: =IF($R3>=$L3,$L3,IF($I3="yes",$R3,$L3)) -> 0.00024422283 | O3: =IF($R3>=$L3,$L3,IF($J3="yes",$R3,$L3)) -> 0.00024422283 | P3: =IF($R3>=$L3,$L3,IF($K3="yes",$R3,$L3)) -> 0.00024422283 | Q3: =A3 & C3 & F3 -> 8CU-41 | R3: =VLOOKUP(Q3, 'NOX RACT Units'!$AA:$AB, 2, FALSE) -> 0.0022956914
A4: 10 | B4: George Washington University | C4: 6618-C-R1-CT | D4: NOX | E4: 10200604 | F4: 1 | G4: in compliance | H4: yes | I4: yes | J4: yes | K4: yes | L4: =VLOOKUP(Q4,'OSD (R Studio)'!O:P, 2, FALSE) -> 1.2434783e-09 | M4: =IF($R4>=$L4,$L4,IF($H4="yes",$R4,$L4)) -> 1.2434783e-09 | N4: =IF($R4>=$L4,$L4,IF($I4="yes",$R4,$L4)) -> 1.2434783e-09 | O4: =IF($R4>=$L4,$L4,IF($J4="yes",$R4,$L4)) -> 1.2434783e-09 | P4: =IF($R4>=$L4,$L4,IF($K4="yes",$R4,$L4)) -> 1.2434783e-09 | Q4: =A4 & C4 & F4 -> 106618-C-R1-CT1 | R4: =VLOOKUP(Q4, 'NOX RACT Units'!$AA:$AB, 2, FALSE) -> 0.015428034
A5: 10 | B5: George Washington University | C5: EUN-34 | D5: NOX | E5: 10300502 | F5: 2 | G5: not in compliance | H5: No | I5: plan to retest/low-nox burners. Administrative order. In the meantime they cannot use the boilers over 25mmbtu threshold | J5: no | K5: no | L5: =VLOOKUP(Q5,'OSD (R Studio)'!O:P, 2, FALSE) -> 3.7336957e-07 | M5: =IF($R5>=$L5,$L5,IF($H5="yes",$R5,$L5)) -> 3.7336957e-07 | N5: =IF($R5>=$L5,$L5,IF($I5="yes",$R5,$L5)) -> 3.7336957e-07 | O5: =IF($R5>=$L5,$L5,IF($J5="yes",$R5,$L5)) -> 3.7336957e-07 | P5: =IF($R5>=$L5,$L5,IF($K5="yes",$R5,$L5)) -> 3.7336957e-07 | Q5: =A5 & C5 & F5 -> 10EUN-342 | R5: =VLOOKUP(Q5, 'NOX RACT Units'!$AA:$AB, 2, FALSE) -> 1.5435e-05
A6: 10 | B6: George Washington University | C6: EUN-35 | D6: NOX | E6: 10300502 | F6: 2 | G6: not in compliance | H6: No | I6: plan to retest/low-nox burners. Administrative order. In the meantime they cannot use the boilers over 25mmbtu threshold | J6: no | K6: no | L6: =VLOOKUP(Q6,'OSD (R Studio)'!O:P, 2, FALSE) -> 3.7336957e-07 | M6: =IF($R6>=$L6,$L6,IF($H6="yes",$R6,$L6)) -> 3.7336957e-07 | N6: =IF($R6>=$L6,$L6,IF($I6="yes",$R6,$L6)) -> 3.7336957e-07 | O6: =IF($R6>=$L6,$L6,IF($J6="yes",$R6,$L6)) -> 3.7336957e-07 | P6: =IF($R6>=$L6,$L6,IF($K6="yes",$R6,$L6)) -> 3.7336957e-07 | Q6: =A6 & C6 & F6 -> 10EUN-352 | R6: =VLOOKUP(Q6, 'NOX RACT Units'!$AA:$AB, 2, FALSE) -> 1.5435e-05
A7: 10 | B7: George Washington University | C7: EUN-34 | D7: NOX | E7: 10300602 | F7: 1 | G7: not in compliance | H7: No | I7: plan to retest/low-nox burners. Administrative order. In the meantime they cannot use the boilers over 25mmbtu threshold | J7: no | K7: no | L7: =VLOOKUP(Q7,'OSD (R Studio)'!O:P, 2, FALSE) -> 0.00019243099 | M7: =IF($R7>=$L7,$L7,IF($H7="yes",$R7,$L7)) -> 0.00019243099 | N7: =IF($R7>=$L7,$L7,IF($I7="yes",$R7,$L7)) -> 0.00019243099 | O7: =IF($R7>=$L7,$L7,IF($J7="yes",$R7,$L7)) -> 0.00019243099 | P7: =IF($R7>=$L7,$L7,IF($K7="yes",$R7,$L7)) -> 0.00019243099 | Q7: =A7 & C7 & F7 -> 10EUN-341 | R7: =VLOOKUP(Q7, 'NOX RACT Units'!$AA:$AB, 2, FALSE) -> 0.0035893006
A8: 10 | B8: George Washington University | C8: EUN-35 | D8: NOX | E8: 10300602 | F8: 1 | G8: not in compliance | H8: No | I8: plan to retest/low-nox burners. Administrative order. In the meantime they cannot use the boilers over 25mmbtu threshold | J8: no | K8: no | L8: =VLOOKUP(Q8,'OSD (R Studio)'!O:P, 2, FALSE) -> 0.00019243099 | M8: =IF($R8>=$L8,$L8,IF($H8="yes",$R8,$L8)) -> 0.00019243099 | N8: =IF($R8>=$L8,$L8,IF($I8="yes",$R8,$L8)) -> 0.00019243099 | O8: =IF($R8>=$L8,$L8,IF($J8="yes",$R8,$L8)) -> 0.00019243099 | P8: =IF($R8>=$L8,$L8,IF($K8="yes",$R8,$L8)) -> 0.00019243099 | Q8: =A8 & C8 & F8 -> 10EUN-351 | R8: =VLOOKUP(Q8, 'NOX RACT Units'!$AA:$AB, 2, FALSE) -> 0.0035893006
A9: 13 | B9: Washington Navy Yard | C9: 3 | D9: NOX | E9: 10300601 | F9: 1 | H9: yes | I9: yes | J9: yes | K9: yes | L9: =VLOOKUP(Q9,'OSD (R Studio)'!O:P, 2, FALSE) -> 1.0949538e-05 | M9: =IF($R9>=$L9,$L9,IF($H9="yes",$R9,$L9)) -> 1.0949538e-05 | N9: =IF($R9>=$L9,$L9,IF($I9="yes",$R9,$L9)) -> 1.0949538e-05 | O9: =IF($R9>=$L9,$L9,IF($J9="yes",$R9,$L9)) -> 1.0949538e-05 | P9: =IF($R9>=$L9,$L9,IF($K9="yes",$R9,$L9)) -> 1.0949538e-05 | Q9: =A9 & C9 & F9 -> 1331 | R9: =VLOOKUP(Q9, 'NOX RACT Units'!$AA:$AB, 2, FALSE) -> 0.0029299008
A10: 13 | B10: Washington Navy Yard | C10: 3 | D10: NOX | E10: 10300501 | F10: 2 | H10: yes | I10: yes | J10: yes | K10: yes | L10: =VLOOKUP(Q10,'OSD (R Studio)'!O:P, 2, FALSE) -> 2.3445652e-07 | M10: =IF($R10>=$L10,$L10,IF($H10="yes",$R10,$L10)) -> 2.3445652e-07 | N10: =IF($R10>=$L10,$L10,IF($I10="yes",$R10,$L10)) -> 2.3445652e-07 | O10: =IF($R10>=$L10,$L10,IF($J10="yes",$R10,$L10)) -> 2.3445652e-07 | P10: =IF($R10>=$L10,$L10,IF($K10="yes",$R10,$L10)) -> 2.3445652e-07 | Q10: =A10 & C10 & F10 -> 1332 | R10: =VLOOKUP(Q10, 'NOX RACT Units'!$AA:$AB, 2, FALSE) -> 3.726e-05
A11: 13 | B11: Washington Navy Yard | C11: 5 | D11: NOX | E11: 10300601 | F11: 1 | H11: yes | I11: yes | J11: yes | K11: yes | L11: =VLOOKUP(Q11,'OSD (R Studio)'!O:P, 2, FALSE) -> 3.7120761e-05 | M11: =IF($R11>=$L11,$L11,IF($H11="yes",$R11,$L11)) -> 2.2767668e-10 | N11: =IF($R11>=$L11,$L11,IF($I11="yes",$R11,$L11)) -> 2.2767668e-10 | O11: =IF($R11>=$L11,$L11,IF($J11="yes",$R11,$L11)) -> 2.2767668e-10 | P11: =IF($R11>=$L11,$L11,IF($K11="yes",$R11,$L11)) -> 2.2767668e-10 | Q11: =A11 & C11 & F11 -> 1351 | R11: =VLOOKUP(Q11, 'NOX RACT Units'!$AA:$AB, 2, FALSE) -> 2.2767668e-10
A12: 13 | B12: Washington Navy Yard | C12: 5 | D12: NOX | E12: 10300501 | F12: 2 | H12: yes | I12: yes | J12: yes | K12: yes | L12: =VLOOKUP(Q12,'OSD (R Studio)'!O:P, 2, FALSE) -> 0 | M12: =IF($R12>=$L12,$L12,IF($H12="yes",$R12,$L12)) -> 0 | N12: =IF($R12>=$L12,$L12,IF($I12="yes",$R12,$L12)) -> 0 | O12: =IF($R12>=$L12,$L12,IF($J12="yes",$R12,$L12)) -> 0 | P12: =IF($R12>=$L12,$L12,IF($K12="yes",$R12,$L12)) -> 0 | Q12: =A12 & C12 & F12 -> 1352 | R12: =VLOOKUP(Q12, 'NOX RACT Units'!$AA:$AB, 2, FALSE) -> 0
A13: 14 | B13: Washington Hospital Center | C13: 1 | D13: NOX | E13: 10300602 | F13: 1 | H13: yes | I13: yes | J13: yes | K13: yes | L13: =VLOOKUP(Q13,'OSD (R Studio)'!O:P, 2, FALSE) -> 0.00041895652 | M13: =IF($R13>=$L13,$L13,IF($H13="yes",$R13,$L13)) -> 0.00041895652 | N13: =IF($R13>=$L13,$L13,IF($I13="yes",$R13,$L13)) -> 0.00041895652 | O13: =IF($R13>=$L13,$L13,IF($J13="yes",$R13,$L13)) -> 0.00041895652 | P13: =IF($R13>=$L13,$L13,IF($K13="yes",$R13,$L13)) -> 0.00041895652 | Q13: =A13 & C13 & F13 -> 1411 | R13: =VLOOKUP(Q13, 'NOX RACT Units'!$AA:$AB, 2, FALSE) -> 0.0039381913
A14: 14 | B14: Washington Hospital Center | C14: 1 | D14: NOX | E14: 10300502 | F14: 2 | H14: yes | I14: yes | J14: yes | K14: yes | L14: =VLOOKUP(Q14,'OSD (R Studio)'!O:P, 2, FALSE) -> 0 | M14: =IF($R14>=$L14,$L14,IF($H14="yes",$R14,$L14)) -> 0 | N14: =IF($R14>=$L14,$L14,IF($I14="yes",$R14,$L14)) -> 0 | O14: =IF($R14>=$L14,$L14,IF($J14="yes",$R14,$L14)) -> 0 | P14: =IF($R14>=$L14,$L14,IF($K14="yes",$R14,$L14)) -> 0 | Q14: =A14 & C14 & F14 -> 1412 | R14: =VLOOKUP(Q14, 'NOX RACT Units'!$AA:$AB, 2, FALSE) -> 0
A15: 14 | B15: Washington Hospital Center | C15: 2 | D15: NOX | E15: 10300602 | F15: 1 | H15: yes | I15: yes | J15: yes | K15: yes | L15: =VLOOKUP(Q15,'OSD (R Studio)'!O:P, 2, FALSE) -> 0.00042106087 | M15: =IF($R15>=$L15,$L15,IF($H15="yes",$R15,$L15)) -> 0.00042106087 | N15: =IF($R15>=$L15,$L15,IF($I15="yes",$R15,$L15)) -> 0.00042106087 | O15: =IF($R15>=$L15,$L15,IF($J15="yes",$R15,$L15)) -> 0.00042106087 | P15: =IF($R15>=$L15,$L15,IF($K15="yes",$R15,$L15)) -> 0.00042106087 | Q15: =A15 & C15 & F15 -> 1421 | R15: =VLOOKUP(Q15, 'NOX RACT Units'!$AA:$AB, 2, FALSE) -> 0.0039579722
A16: 14 | B16: Washington Hospital Center | C16: 2 | D16: NOX | E16: 10300502 | F16: 2 | H16: yes | I16: yes | J16: yes | K16: yes | L16: =VLOOKUP(Q16,'OSD (R Studio)'!O:P, 2, FALSE) -> 0 | M16: =IF($R16>=$L16,$L16,IF($H16="yes",$R16,$L16)) -> 0 | N16: =IF($R16>=$L16,$L16,IF($I16="yes",$R16,$L16)) -> 0 | O16: =IF($R16>=$L16,$L16,IF($J16="yes",$R16,$L16)) -> 0 | P16: =IF($R16>=$L16,$L16,IF($K16="yes",$R16,$L16)) -> 0 | Q16: =A16 & C16 & F16 -> 1422 | R16: =VLOOKUP(Q16, 'NOX RACT Units'!$AA:$AB, 2, FALSE) -> 0
A17: 14 | B17: Washington Hospital Center | C17: 3 | D17: NOX | E17: 10300602 | F17: 1 | H17: yes | I17: yes | J17: yes | K17: yes | L17: =VLOOKUP(Q17,'OSD (R Studio)'!O:P, 2, FALSE) -> 0.00020693804 | M17: =IF($R17>=$L17,$L17,IF($H17="yes",$R17,$L17)) -> 0.00020693804 | N17: =IF($R17>=$L17,$L17,IF($I17="yes",$R17,$L17)) -> 0.00020693804 | O17: =IF($R17>=$L17,$L17,IF($J17="yes",$R17,$L17)) -> 0.00020693804 | P17: =IF($R17>=$L17,$L17,IF($K17="yes",$R17,$L17)) -> 0.00020693804 | Q17: =A17 & C17 & F17 -> 1431 | R17: =VLOOKUP(Q17, 'NOX RACT Units'!$AA:$AB, 2, FALSE) -> 0.0019452125
A18: 14 | B18: Washington Hospital Center | C18: 3 | D18: NOX | E18: 10300502 | F18: 2 | H18: yes | I18: yes | J18: yes | K18: yes | L18: =VLOOKUP(Q18,'OSD (R Studio)'!O:P, 2, FALSE) -> 5.2696304e-06 | M18: =IF($R18>=$L18,$L18,IF($H18="yes",$R18,$L18)) -> 5.2696304e-06 | N18: =IF($R18>=$L18,$L18,IF($I18="yes",$R18,$L18)) -> 5.2696304e-06 | O18: =IF($R18>=$L18,$L18,IF($J18="yes",$R18,$L18)) -> 5.2696304e-06 | P18: =IF($R18>=$L18,$L18,IF($K18="yes",$R18,$L18)) -> 5.2696304e-06 | Q18: =A18 & C18 & F18 -> 1432 | R18: =VLOOKUP(Q18, 'NOX RACT Units'!$AA:$AB, 2, FALSE) -> 0.000256662
A19: 14 | B19: Washington Hospital Center | C19: 5 | D19: NOX | E19: 10300602 | F19: 1 | H19: yes | I19: yes | J19: yes | K19: yes | L19: =VLOOKUP(Q19,'OSD (R Studio)'!O:P, 2, FALSE) -> 0.00032292174 | M19: =IF($R19>=$L19,$L19,IF($H19="yes",$R19,$L19)) -> 0.00032292174 | N19: =IF($R19>=$L19,$L19,IF($I19="yes",$R19,$L19)) -> 0.00032292174 | O19: =IF($R19>=$L19,$L19,IF($J19="yes",$R19,$L19)) -> 0.00032292174 | P19: =IF($R19>=$L19,$L19,IF($K19="yes",$R19,$L19)) -> 0.00032292174 | Q19: =A19 & C19 & F19 -> 1451 | R19: =VLOOKUP(Q19, 'NOX RACT Units'!$AA:$AB, 2, FALSE) -> 0.0030354643
A20: 14 | B20: Washington Hospital Center | C20: 6 | D20: NOX | E20: 10300602 | F20: 1 | H20: yes | I20: yes | J20: yes | K20: yes | L20: =VLOOKUP(Q20,'OSD (R Studio)'!O:P, 2, FALSE) -> 0.00035470217 | M20: =IF($R20>=$L20,$L20,IF($H20="yes",$R20,$L20)) -> 0.00035470217 | N20: =IF($R20>=$L20,$L20,IF($I20="yes",$R20,$L20)) -> 0.00035470217 | O20: =IF($R20>=$L20,$L20,IF($J20="yes",$R20,$L20)) -> 0.00035470217 | P20: =IF($R20>=$L20,$L20,IF($K20="yes",$R20,$L20)) -> 0.00035470217 | Q20: =A20 & C20 & F20 -> 1461 | R20: =VLOOKUP(Q20, 'NOX RACT Units'!$AA:$AB, 2, FALSE) -> 0.0033342004
A21: 21 | B21: Gallaudet University | C21: CU-1 | D21: NOX | E21: 10300602 | F21: 1 | H21: yes | I21: yes | J21: yes | K21: yes | L21: =VLOOKUP(Q21,'OSD (R Studio)'!O:P, 2, FALSE) -> 1.0869565e-05 | M21: =IF($R21>=$L21,$L21,IF($H21="yes",$R21,$L21)) -> 1.0869565e-05 | N21: =IF($R21>=$L21,$L21,IF($I21="yes",$R21,$L21)) -> 1.0869565e-05 | O21: =IF($R21>=$L21,$L21,IF($J21="yes",$R21,$L21)) -> 1.0869565e-05 | P21: =IF($R21>=$L21,$L21,IF($K21="yes",$R21,$L21)) -> 1.0869565e-05 | Q21: =A21 & C21 & F21 -> 21CU-11 | R21: =VLOOKUP(Q21, 'NOX RACT Units'!$AA:$AB, 2, FALSE) -> 0.0035750851
A22: 21 | B22: Gallaudet University | C22: CU-1 | D22: NOX | E22: 10300502 | F22: 2 | H22: no | I22: we will get the results from re-test in feb. | L22: =VLOOKUP(Q22,'OSD (R Studio)'!O:P, 2, FALSE) -> 0 | M22: =IF($R22>=$L22,$L22,IF($H22="yes",$R22,$L22)) -> 0 | N22: =IF($R22>=$L22,$L22,IF($I22="yes",$R22,$L22)) -> 0 | O22: =IF($R22>=$L22,$L22,IF($J22="yes",$R22,$L22)) -> 0 | P22: =IF($R22>=$L22,$L22,IF($K22="yes",$R22,$L22)) -> 0 | Q22: =A22 & C22 & F22 -> 21CU-12 | R22: =VLOOKUP(Q22, 'NOX RACT Units'!$AA:$AB, 2, FALSE) -> 0
A23: 21 | B23: Gallaudet University | C23: CU-2 | D23: NOX | E23: 10300602 | F23: 1 | H23: no | I23: we will get the results from re-test in feb. | L23: =VLOOKUP(Q23,'OSD (R Studio)'!O:P, 2, FALSE) -> 0 | M23: =IF($R23>=$L23,$L23,IF($H23="yes",$R23,$L23)) -> 0 | N23: =IF($R23>=$L23,$L23,IF($I23="yes",$R23,$L23)) -> 0 | O23: =IF($R23>=$L23,$L23,IF($J23="yes",$R23,$L23)) -> 0 | P23: =IF($R23>=$L23,$L23,IF($K23="yes",$R23,$L23)) -> 0 | Q23: =A23 & C23 & F23 -> 21CU-21 | R23: =VLOOKUP(Q23, 'NOX RACT Units'!$AA:$AB, 2, FALSE) -> 0.0035313279
A24: 21 | B24: Gallaudet University | C24: CU-2 | D24: NOX | E24: 10300502 | F24: 2 | H24: no | I24: we will get the results from re-test in feb. | L24: =VLOOKUP(Q24,'OSD (R Studio)'!O:P, 2, FALSE) -> 0 | M24: =IF($R24>=$L24,$L24,IF($H24="yes",$R24,$L24)) -> 0 | N24: =IF($R24>=$L24,$L24,IF($I24="yes",$R24,$L24)) -> 0 | O24: =IF($R24>=$L24,$L24,IF($J24="yes",$R24,$L24)) -> 0 | P24: =IF($R24>=$L24,$L24,IF($K24="yes",$R24,$L24)) -> 0 | Q24: =A24 & C24 & F24 -> 21CU-22 | R24: =VLOOKUP(Q24, 'NOX RACT Units'!$AA:$AB, 2, FALSE) -> 0
A25: 22 | B25: Howard University | C25: CU-19 | D25: NOX | E25: 10300602 | F25: 1 | H25: yes | I25: yes | J25: yes | K25: yes | L25: =VLOOKUP(Q25,'OSD (R Studio)'!O:P, 2, FALSE) -> 0 | M25: =IF($R25>=$L25,$L25,IF($H25="yes",$R25,$L25)) -> 0 | N25: =IF($R25>=$L25,$L25,IF($I25="yes",$R25,$L25)) -> 0 | O25: =IF($R25>=$L25,$L25,IF($J25="yes",$R25,$L25)) -> 0 | P25: =IF($R25>=$L25,$L25,IF($K25="yes",$R25,$L25)) -> 0 | Q25: =A25 & C25 & F25 -> 22CU-191 | R25: =VLOOKUP(Q25, 'NOX RACT Units'!$AA:$AB, 2, FALSE) -> 0
A26: 22 | B26: Howard University | C26: CU-20 | D26: NOX | E26: 10300602 | F26: 1 | H26: yes | I26: yes | J26: yes | K26: yes | L26: =VLOOKUP(Q26,'OSD (R Studio)'!O:P, 2, FALSE) -> 0.00010915435 | M26: =IF($R26>=$L26,$L26,IF($H26="yes",$R26,$L26)) -> 0 | N26: =IF($R26>=$L26,$L26,IF($I26="yes",$R26,$L26)) -> 0 | O26: =IF($R26>=$L26,$L26,IF($J26="yes",$R26,$L26)) -> 0 | P26: =IF($R26>=$L26,$L26,IF($K26="yes",$R26,$L26)) -> 0 | Q26: =A26 & C26 & F26 -> 22CU-201 | R26: =VLOOKUP(Q26, 'NOX RACT Units'!$AA:$AB, 2, FALSE) -> 0
A27: 22 | B27: Howard University | C27: CU-21 | D27: NOX | E27: 10300602 | F27: 1 | H27: yes | I27: yes | J27: yes | K27: yes | L27: =VLOOKUP(Q27,'OSD (R Studio)'!O:P, 2, FALSE) -> 0.00036870804 | M27: =IF($R27>=$L27,$L27,IF($H27="yes",$R27,$L27)) -> 0 | N27: =IF($R27>=$L27,$L27,IF($I27="yes",$R27,$L27)) -> 0 | O27: =IF($R27>=$L27,$L27,IF($J27="yes",$R27,$L27)) -> 0 | P27: =IF($R27>=$L27,$L27,IF($K27="yes",$R27,$L27)) -> 0 | Q27: =A27 & C27 & F27 -> 22CU-211 | R27: =VLOOKUP(Q27, 'NOX RACT Units'!$AA:$AB, 2, FALSE) -> 0
A28: 22 | B28: Howard University | C28: CU-22 | D28: NOX | E28: 10300602 | F28: 1 | H28: yes | I28: yes | J28: yes | K28: yes | L28: =VLOOKUP(Q28,'OSD (R Studio)'!O:P, 2, FALSE) -> 0 | M28: =IF($R28>=$L28,$L28,IF($H28="yes",$R28,$L28)) -> 0 | N28: =IF($R28>=$L28,$L28,IF($I28="yes",$R28,$L28)) -> 0 | O28: =IF($R28>=$L28,$L28,IF($J28="yes",$R28,$L28)) -> 0 | P28: =IF($R28>=$L28,$L28,IF($K28="yes",$R28,$L28)) -> 0 | Q28: =A28 & C28 & F28 -> 22CU-221 | R28: =VLOOKUP(Q28, 'NOX RACT Units'!$AA:$AB, 2, FALSE) -> 0
A29: 22 | B29: Howard University | C29: CU-23 | D29: NOX | E29: 10300602 | F29: 1 | H29: yes | I29: yes | J29: yes | K29: yes | L29: =VLOOKUP(Q29,'OSD (R Studio)'!O:P, 2, FALSE) -> 0.00014427913 | M29: =IF($R29>=$L29,$L29,IF($H29="yes",$R29,$L29)) -> 0 | N29: =IF($R29>=$L29,$L29,IF($I29="yes",$R29,$L29)) -> 0 | O29: =IF($R29>=$L29,$L29,IF($J29="yes",$R29,$L29)) -> 0 | P29: =IF($R29>=$L29,$L29,IF($K29="yes",$R29,$L29)) -> 0 | Q29: =A29 & C29 & F29 -> 22CU-231 | R29: =VLOOKUP(Q29, 'NOX RACT Units'!$AA:$AB, 2, FALSE) -> 0
A30: 33 | B30: Naval Research Laboratory | C30: 1 | D30: NOX | E30: 10300502 | F30: 2 | G30: was an alt. plan proposed but they changed their mind. It is likely that they will decomission the boilers | H30: no | I30: no | J30: no | K30: no | L30: =VLOOKUP(Q30,'OSD (R Studio)'!O:P, 2, FALSE) -> 1.0617391e-05 | M30: =IF($R30>=$L30,$L30,IF($H30="yes",$R30,$L30)) -> 1.0617391e-05 | N30: 1.0617391e-05 | O30: 0 | P30: 0 | Q30: =A30 & C30 & F30 -> 3312 | R30: =VLOOKUP(Q30, 'NOX RACT Units'!$AA:$AB, 2, FALSE) -> 3.51648e-05
A31: 33 | B31: Naval Research Laboratory | C31: 2 | D31: NOX | E31: 10300502 | F31: 2 | G31: was an alt. plan proposed but they changed their mind. It is likely that they will decomission the boilers | H31: no | I31: no | J31: no | K31: no | L31: =VLOOKUP(Q31,'OSD (R Studio)'!O:P, 2, FALSE) -> 4.2469565e-07 | M31: =IF($R31>=$L31,$L31,IF($H31="yes",$R31,$L31)) -> 4.2469565e-07 | N31: 4.2469565e-07 | O31: 0 | P31: 0 | Q31: =A31 & C31 & F31 -> 3322 | R31: =VLOOKUP(Q31, 'NOX RACT Units'!$AA:$AB, 2, FALSE) -> 3.51648e-05
A32: 33 | B32: Naval Research Laboratory | C32: 3 | D32: NOX | E32: 10300502 | F32: 2 | G32: was an alt. plan proposed but they changed their mind. It is likely that they will decomission the boilers | H32: no | I32: no | J32: no | K32: no | L32: =VLOOKUP(Q32,'OSD (R Studio)'!O:P, 2, FALSE) -> 7.4788043e-06 | M32: =IF($R32>=$L32,$L32,IF($H32="yes",$R32,$L32)) -> 7.4788043e-06 | N32: 7.4788043e-06 | O32: 0 | P32: 0 | Q32: =A32 & C32 & F32 -> 3332 | R32: =VLOOKUP(Q32, 'NOX RACT Units'!$AA:$AB, 2, FALSE) -> 2.47698e-05
A33: 33 | B33: Naval Research Laboratory | C33: 1 | D33: NOX | E33: 10300602 | F33: 1 | G33: was an alt. plan proposed but they changed their mind. It is likely that they will decomission the boilers | H33: no | I33: no | J33: no | K33: no | L33: =VLOOKUP(Q33,'OSD (R Studio)'!O:P, 2, FALSE) -> 0.0010904458 | M33: =IF($R33>=$L33,$L33,IF($H33="yes",$R33,$L33)) -> 0.0010904458 | N33: =IF($R33>=$L33,$L33,IF($H33="yes",$R33,$L33)) -> 0.0010904458 | O33: 0 | P33: 0 | Q33: =A33 & C33 & F33 -> 3311 | R33: =VLOOKUP(Q33, 'NOX RACT Units'!$AA:$AB, 2, FALSE) -> 0.010250184
A34: 33 | B34: Naval Research Laboratory | C34: 2 | D34: NOX | E34: 10300602 | F34: 1 | G34: was an alt. plan proposed but they changed their mind. It is likely that they will decomission the boilers | H34: no | I34: no | J34: no | K34: no | L34: =VLOOKUP(Q34,'OSD (R Studio)'!O:P, 2, FALSE) -> 0.0010904458 | M34: =IF($R34>=$L34,$L34,IF($H34="yes",$R34,$L34)) -> 0.0010904458 | N34: =IF($R34>=$L34,$L34,IF($H34="yes",$R34,$L34)) -> 0.0010904458 | O34: 0 | P34: 0 | Q34: =A34 & C34 & F34 -> 3321 | R34: =VLOOKUP(Q34, 'NOX RACT Units'!$AA:$AB, 2, FALSE) -> 0.010250184
A35: 33 | B35: Naval Research Laboratory | C35: 3 | D35: NOX | E35: 10300602 | F35: 1 | G35: was an alt. plan proposed but they changed their mind. It is likely that they will decomission the boilers | H35: no | I35: no | J35: no | K35: no | L35: =VLOOKUP(Q35,'OSD (R Studio)'!O:P, 2, FALSE) -> 0.00076805286 | M35: =IF($R35>=$L35,$L35,IF($H35="yes",$R35,$L35)) -> 0.00076805286 | N35: =IF($R35>=$L35,$L35,IF($H35="yes",$R35,$L35)) -> 0.00076805286 | O35: 0 | P35: 0 | Q35: =A35 & C35 & F35 -> 3331 | R35: =VLOOKUP(Q35, 'NOX RACT Units'!$AA:$AB, 2, FALSE) -> 0.0072196948
A36: 48 | B36: LEnfant Plaza | C36: CU-1 | D36: NOX | E36: 10300602 | F36: 1 | H36: yes | I36: yes | J36: yes | K36: yes | L36: =VLOOKUP(Q36,'OSD (R Studio)'!O:P, 2, FALSE) -> 1.8284185e-05 | M36: =IF($R36>=$L36,$L36,IF($H36="yes",$R36,$L36)) -> 1.8284185e-05 | N36: =IF($R36>=$L36,$L36,IF($I36="yes",$R36,$L36)) -> 1.8284185e-05 | O36: =IF($R36>=$L36,$L36,IF($J36="yes",$R36,$L36)) -> 1.8284185e-05 | P36: =IF($R36>=$L36,$L36,IF($K36="yes",$R36,$L36)) -> 1.8284185e-05 | Q36: =A36 & C36 & F36 -> 48CU-11 | R36: =VLOOKUP(Q36, 'NOX RACT Units'!$AA:$AB, 2, FALSE) -> 0.00017187142
A37: 48 | B37: LEnfant Plaza | C37: CU-2 | D37: NOX | E37: 10300602 | F37: 1 | H37: yes | I37: yes | J37: yes | K37: yes | L37: =VLOOKUP(Q37,'OSD (R Studio)'!O:P, 2, FALSE) -> 1.8284185e-05 | M37: =IF($R37>=$L37,$L37,IF($H37="yes",$R37,$L37)) -> 1.8284185e-05 | N37: =IF($R37>=$L37,$L37,IF($I37="yes",$R37,$L37)) -> 1.8284185e-05 | O37: =IF($R37>=$L37,$L37,IF($J37="yes",$R37,$L37)) -> 1.8284185e-05 | P37: =IF($R37>=$L37,$L37,IF($K37="yes",$R37,$L37)) -> 1.8284185e-05 | Q37: =A37 & C37 & F37 -> 48CU-21 | R37: =VLOOKUP(Q37, 'NOX RACT Units'!$AA:$AB, 2, FALSE) -> 0.00017187142
A38: 52 | B38: Providence Hospital | C38: 17035 | D38: NOX | E38: 10300602 | F38: 1 | G38: decomissioned | H38: no | I38: no | J38: no | K38: no | L38: =VLOOKUP(Q38,'OSD (R Studio)'!O:P, 2, FALSE) -> 1.771e-06 | M38: =IF($R38>=$L38,$L38,IF($H38="yes",$R38,$L38)) -> 1.771e-06 | N38: 0 | O38: 0 | P38: 0 | Q38: =A38 & C38 & F38 -> 52170351 | R38: =VLOOKUP(Q38, 'NOX RACT Units'!$AA:$AB, 2, FALSE) -> 0.00014053711
A39: 52 | B39: Providence Hospital | C39: 17035 | D39: NOX | E39: 10300502 | F39: 2 | G39: decomissioned | H39: no | I39: no | J39: no | K39: no | L39: =VLOOKUP(Q39,'OSD (R Studio)'!O:P, 2, FALSE) -> 0 | M39: =IF($R39>=$L39,$L39,IF($H39="yes",$R39,$L39)) -> 0 | N39: =IF($R39>=$L39,$L39,IF($I39="yes",$R39,$L39)) -> 0 | O39: =IF($R39>=$L39,$L39,IF($J39="yes",$R39,$L39)) -> 0 | P39: =IF($R39>=$L39,$L39,IF($K39="yes",$R39,$L39)) -> 0 | Q39: =A39 & C39 & F39 -> 52170352 | R39: =VLOOKUP(Q39, 'NOX RACT Units'!$AA:$AB, 2, FALSE) -> 0
A40: 54 | B40: Sibley Memorial Hospital | C40: CU-1 | D40: NOX | E40: 10300502 | F40: 2 | G40: not in compliance or operating unless it is below 25mmbtu. We gave them a permit to install low nox burners to meet nox ract requirements. | H40: no | I40: no | J40: yes | K40: yes | L40: 0 | M40: =IF($R40>=$L40,$L40,IF($H40="yes",$R40,$L40)) -> 0 | N40: =IF($R40>=$L40,$L40,IF($I40="yes",$R40,$L40)) -> 0 | O40: =IF($R40>=$L40,$L40,IF($J40="yes",$R40,$L40)) -> 0 | P40: =IF($R40>=$L40,$L40,IF($K40="yes",$R40,$L40)) -> 0 | Q40: =A40 & C40 & F40 -> 54CU-12 | R40: =VLOOKUP(Q40, 'NOX RACT Units'!$AA:$AB, 2, FALSE) -> 0
A41: 54 | B41: Sibley Memorial Hospital | C41: CU-1 | D41: NOX | E41: 10300602 | F41: 1 | G41: not in compliance or operating unless it is below 25mmbtu. We gave them a permit to install low nox burners to meet nox ract requirements. | H41: no | I41: no | J41: yes | K41: yes | L41: 0 | M41: =IF($R41>=$L41,$L41,IF($H41="yes",$R41,$L41)) -> 0 | N41: =IF($R41>=$L41,$L41,IF($I41="yes",$R41,$L41)) -> 0 | O41: =IF($R41>=$L41,$L41,IF($J41="yes",$R41,$L41)) -> 0 | P41: =IF($R41>=$L41,$L41,IF($K41="yes",$R41,$L41)) -> 0 | Q41: =A41 & C41 & F41 -> 54CU-11 | R41: =VLOOKUP(Q41, 'NOX RACT Units'!$AA:$AB, 2, FALSE) -> 0
A42: 54 | B42: Sibley Memorial Hospital | C42: CU-2 | D42: NOX | E42: 10300502 | F42: 2 | G42: installed low nox burner but have not tested to show compliance; alt. nox ract. | H42: no | I42: no | J42: no | K42: no | L42: 0 | M42: =IF($R42>=$L42,$L42,IF($H42="yes",$R42,$L42)) -> 0 | N42: =IF($R42>=$L42,$L42,IF($I42="yes",$R42,$L42)) -> 0 | O42: =IF($R42>=$L42,$L42,IF($J42="yes",$R42,$L42)) -> 0 | P42: =IF($R42>=$L42,$L42,IF($K42="yes",$R42,$L42)) -> 0 | Q42: =A42 & C42 & F42 -> 54CU-22 | R42: =VLOOKUP(Q42, 'NOX RACT Units'!$AA:$AB, 2, FALSE) -> 0
A43: 54 | B43: Sibley Memorial Hospital | C43: CU-2 | D43: NOX | E43: 10300602 | F43: 1 | G43: installed low nox burner but have not tested to show compliance; alt. nox ract. | H43: no | I43: no | J43: no | K43: no | L43: 0 | M43: =IF($R43>=$L43,$L43,IF($H43="yes",$R43,$L43)) -> 0 | N43: =IF($R43>=$L43,$L43,IF($I43="yes",$R43,$L43)) -> 0 | O43: =IF($R43>=$L43,$L43,IF($J43="yes",$R43,$L43)) -> 0 | P43: =IF($R43>=$L43,$L43,IF($K43="yes",$R43,$L43)) -> 0 | Q43: =A43 & C43 & F43 -> 54CU-21 | R43: =VLOOKUP(Q43, 'NOX RACT Units'!$AA:$AB, 2, FALSE) -> 0
A44: 59 | B44: Georgetown University | C44: EPN-2 | D44: NOX | E44: 10300601 | F44: 1 | G44: in compliance | H44: yes | I44: yes | J44: yes | K44: yes | L44: =VLOOKUP(Q44,'OSD (R Studio)'!O:P, 2, FALSE) -> 4.4303478e-05 | M44: =IF($R44>=$L44,$L44,IF($H44="yes",$R44,$L44)) -> 4.4303478e-05 | N44: =IF($R44>=$L44,$L44,IF($I44="yes",$R44,$L44)) -> 4.4303478e-05 | O44: =IF($R44>=$L44,$L44,IF($J44="yes",$R44,$L44)) -> 4.4303478e-05 | P44: =IF($R44>=$L44,$L44,IF($K44="yes",$R44,$L44)) -> 4.4303478e-05 | Q44: =A44 & C44 & F44 -> 59EPN-21 | R44: =VLOOKUP(Q44, 'NOX RACT Units'!$AA:$AB, 2, FALSE) -> 6.0691304e-05
A45: 59 | B45: Georgetown University | C45: EPN-2 | D45: NOX | E45: 10300501 | F45: 2 | G45: in compliance | H45: yes | I45: yes | J45: yes | K45: yes | L45: =VLOOKUP(Q45,'OSD (R Studio)'!O:P, 2, FALSE) -> 1.40375e-05 | M45: =IF($R45>=$L45,$L45,IF($H45="yes",$R45,$L45)) -> 1.40375e-05 | N45: =IF($R45>=$L45,$L45,IF($I45="yes",$R45,$L45)) -> 1.40375e-05 | O45: =IF($R45>=$L45,$L45,IF($J45="yes",$R45,$L45)) -> 1.40375e-05 | P45: =IF($R45>=$L45,$L45,IF($K45="yes",$R45,$L45)) -> 1.40375e-05 | Q45: =A45 & C45 & F45 -> 59EPN-22 | R45: =VLOOKUP(Q45, 'NOX RACT Units'!$AA:$AB, 2, FALSE) -> 0.0001419525
A46: 59 | B46: Georgetown University | C46: EPN-3 | D46: NOX | E46: 10300601 | F46: 1 | G46: we gave them a permit to install alt. nox in March 2022. They are in the process of completing the installation. They will re-test soon | H46: no | I46: no | J46: yes | K46: yes | L46: =VLOOKUP(Q46,'OSD (R Studio)'!O:P, 2, FALSE) -> 0.00074401304 | M46: =IF($R46>=$L46,$L46,IF($H46="yes",$R46,$L46)) -> 0.00074401304 | N46: =IF($R46>=$L46,$L46,IF($I46="yes",$R46,$L46)) -> 0.00074401304 | O46: =IF($R46>=$L46,$L46,IF($J46="yes",$R46,$L46)) -> 0.00074401304 | P46: =IF($R46>=$L46,$L46,IF($K46="yes",$R46,$L46)) -> 0.00074401304 | Q46: =A46 & C46 & F46 -> 59EPN-31 | R46: =VLOOKUP(Q46, 'NOX RACT Units'!$AA:$AB, 2, FALSE) -> 0.0070486207
A47: 59 | B47: Georgetown University | C47: EPN-3 | D47: NOX | E47: 10300501 | F47: 2 | G47: we gave them a permit to install alt. nox in March 2022. They are in the process of completing the installation.They will re-test soon. | H47: no | I47: no | J47: yes | K47: yes | L47: =VLOOKUP(Q47,'OSD (R Studio)'!O:P, 2, FALSE) -> 0 | M47: =IF($R47>=$L47,$L47,IF($H47="yes",$R47,$L47)) -> 0 | N47: =IF($R47>=$L47,$L47,IF($I47="yes",$R47,$L47)) -> 0 | O47: =IF($R47>=$L47,$L47,IF($J47="yes",$R47,$L47)) -> 0 | P47: =IF($R47>=$L47,$L47,IF($K47="yes",$R47,$L47)) -> 0 | Q47: =A47 & C47 & F47 -> 59EPN-32 | R47: =VLOOKUP(Q47, 'NOX RACT Units'!$AA:$AB, 2, FALSE) -> 0
A48: 59 | B48: Georgetown University | C48: EPN-4 | D48: NOX | E48: 10300601 | F48: 1 | G48: It is a new boiler; it was tested. | H48: yes | I48: yes | J48: yes | K48: yes | L48: =VLOOKUP(Q48,'OSD (R Studio)'!O:P, 2, FALSE) -> 0 | M48: =IF($R48>=$L48,$L48,IF($H48="yes",$R48,$L48)) -> 0 | N48: =IF($R48>=$L48,$L48,IF($I48="yes",$R48,$L48)) -> 0 | O48: =IF($R48>=$L48,$L48,IF($J48="yes",$R48,$L48)) -> 0 | P48: =IF($R48>=$L48,$L48,IF($K48="yes",$R48,$L48)) -> 0 | Q48: =A48 & C48 & F48 -> 59EPN-41 | R48: =VLOOKUP(Q48, 'NOX RACT Units'!$AA:$AB, 2, FALSE) -> 0
A49: 59 | B49: Georgetown University | C49: EPN-4 | D49: NOX | E49: 10300501 | F49: 2 | G49: It is a new boiler; it was tested. | H49: yes | I49: yes | J49: yes | K49: yes | L49: =VLOOKUP(Q49,'OSD (R Studio)'!O:P, 2, FALSE) -> 0 | M49: =IF($R49>=$L49,$L49,IF($H49="yes",$R49,$L49)) -> 0 | N49: =IF($R49>=$L49,$L49,IF($I49="yes",$R49,$L49)) -> 0 | O49: =IF($R49>=$L49,$L49,IF($J49="yes",$R49,$L49)) -> 0 | P49: =IF($R49>=$L49,$L49,IF($K49="yes",$R49,$L49)) -> 0 | Q49: =A49 & C49 & F49 -> 59EPN-42 | R49: =VLOOKUP(Q49, 'NOX RACT Units'!$AA:$AB, 2, FALSE) -> 0
A50: 142 | B50: Blue Plains Wastewater Treatment Plant | C50: AB | D50: NOX | E50: 10300602 | F50: 1 | G50: in compliance | H50: yes | I50: yes | J50: yes | K50: yes | L50: =VLOOKUP(Q50,'OSD (R Studio)'!O:P, 2, FALSE) -> 5.5959522e-05 | M50: =IF($R50>=$L50,$L50,IF($H50="yes",$R50,$L50)) -> 5.5959522e-05 | N50: =IF($R50>=$L50,$L50,IF($I50="yes",$R50,$L50)) -> 5.5959522e-05 | O50: =IF($R50>=$L50,$L50,IF($J50="yes",$R50,$L50)) -> 5.5959522e-05 | P50: =IF($R50>=$L50,$L50,IF($K50="yes",$R50,$L50)) -> 5.5959522e-05 | Q50: =A50 & C50 & F50 -> 142AB1 | R50: =VLOOKUP(Q50, 'NOX RACT Units'!$AA:$AB, 2, FALSE) -> 7.8831261e-05
A51: 142 | B51: Blue Plains Wastewater Treatment Plant | C51: AB | D51: NOX | E51: 10300701 | F51: 2 | G51: in compliance | H51: yes | I51: yes | J51: yes | K51: yes | L51: =VLOOKUP(Q51,'OSD (R Studio)'!O:P, 2, FALSE) -> 0.00059159461 | M51: =IF($R51>=$L51,$L51,IF($H51="yes",$R51,$L51)) -> 0.00059159461 | N51: =IF($R51>=$L51,$L51,IF($I51="yes",$R51,$L51)) -> 0.00059159461 | O51: =IF($R51>=$L51,$L51,IF($J51="yes",$R51,$L51)) -> 0.00059159461 | P51: =IF($R51>=$L51,$L51,IF($K51="yes",$R51,$L51)) -> 0.00059159461 | Q51: =A51 & C51 & F51 -> 142AB2 | R51: =VLOOKUP(Q51, 'NOX RACT Units'!$AA:$AB, 2, FALSE) -> 0.0035982946
A52: 5007 | B52: Fort Myer Plant #1 | C52: KB1 | D52: NOX | E52: 30500245 | F52: 1 | H52: yes | I52: yes | J52: yes | K52: yes | L52: =VLOOKUP(Q52,'OSD (R Studio)'!O:P, 2, FALSE) -> 0.065744091 | M52: =IF($R52>=$L52,$L52,IF($H52="yes",$R52,$L52)) -> 0.004108963 | N52: =IF($R52>=$L52,$L52,IF($I52="yes",$R52,$L52)) -> 0.004108963 | O52: =IF($R52>=$L52,$L52,IF($J52="yes",$R52,$L52)) -> 0.004108963 | P52: =IF($R52>=$L52,$L52,IF($K52="yes",$R52,$L52)) -> 0.004108963 | Q52: =A52 & C52 & F52 -> 5007KB11 | R52: =VLOOKUP(Q52, 'NOX RACT Units'!$AA:$AB, 2, FALSE) -> 0.004108963
A53: 5007 | B53: Fort Myer Plant #1 | C53: KB1 | D53: NOX | E53: 30500246 | F53: 2 | H53: yes | I53: yes | J53: yes | K53: yes | L53: =VLOOKUP(Q53,'OSD (R Studio)'!O:P, 2, FALSE) -> 0 | M53: =IF($R53>=$L53,$L53,IF($H53="yes",$R53,$L53)) -> 0 | N53: =IF($R53>=$L53,$L53,IF($I53="yes",$R53,$L53)) -> 0 | O53: =IF($R53>=$L53,$L53,IF($J53="yes",$R53,$L53)) -> 0 | P53: =IF($R53>=$L53,$L53,IF($K53="yes",$R53,$L53)) -> 0 | Q53: =A53 & C53 & F53 -> 5007KB12 | R53: =VLOOKUP(Q53, 'NOX RACT Units'!$AA:$AB, 2, FALSE) -> 0
A54: 8001 | B54: Washington Convention Center | C54: 1 | D54: NOX | E54: 10300602 | F54: 1 | G54: we sent them an administrative order. They have been told not to operate the boiler above 25mmbtu so they remain in compliance. | H54: no | I54: yes | J54: yes | K54: yes | L54: =VLOOKUP(Q54,'OSD (R Studio)'!O:P, 2, FALSE) -> 0 | M54: =IF($R54>=$L54,$L54,IF($H54="yes",$R54,$L54)) -> 0 | N54: =IF($R54>=$L54,$L54,IF($I54="yes",$R54,$L54)) -> 0 | O54: =IF($R54>=$L54,$L54,IF($J54="yes",$R54,$L54)) -> 0 | P54: =IF($R54>=$L54,$L54,IF($K54="yes",$R54,$L54)) -> 0 | Q54: =A54 & C54 & F54 -> 800111 | R54: =VLOOKUP(Q54, 'NOX RACT Units'!$AA:$AB, 2, FALSE) -> 0
A55: 8001 | B55: Washington Convention Center | C55: 1 | D55: NOX | E55: 10300502 | F55: 2 | G55: we sent them an administrative order. They have been told not to operate the boiler above 25mmbtu so they remain in compliance. | H55: yes | I55: yes | J55: yes | K55: yes | L55: =VLOOKUP(Q55,'OSD (R Studio)'!O:P, 2, FALSE) -> 3.5054348e-09 | M55: =IF($R55>=$L55,$L55,IF($H55="yes",$R55,$L55)) -> 3.5054348e-09 | N55: =IF($R55>=$L55,$L55,IF($I55="yes",$R55,$L55)) -> 3.5054348e-09 | O55: =IF($R55>=$L55,$L55,IF($J55="yes",$R55,$L55)) -> 3.5054348e-09 | P55: =IF($R55>=$L55,$L55,IF($K55="yes",$R55,$L55)) -> 3.5054348e-09 | Q55: =A55 & C55 & F55 -> 800112 | R55: =VLOOKUP(Q55, 'NOX RACT Units'!$AA:$AB, 2, FALSE) -> 8.415e-08
A56: 8001 | B56: Washington Convention Center | C56: 2 | D56: NOX | E56: 10300602 | F56: 1 | G56: we sent them an administrative order. They have been told not to operate the boiler above 25mmbtu so they remain in compliance. | H56: yes | I56: yes | J56: yes | K56: yes | L56: =VLOOKUP(Q56,'OSD (R Studio)'!O:P, 2, FALSE) -> 0 | M56: =IF($R56>=$L56,$L56,IF($H56="yes",$R56,$L56)) -> 0 | N56: =IF($R56>=$L56,$L56,IF($I56="yes",$R56,$L56)) -> 0 | O56: =IF($R56>=$L56,$L56,IF($J56="yes",$R56,$L56)) -> 0 | P56: =IF($R56>=$L56,$L56,IF($K56="yes",$R56,$L56)) -> 0 | Q56: =A56 & C56 & F56 -> 800121 | R56: =VLOOKUP(Q56, 'NOX RACT Units'!$AA:$AB, 2, FALSE) -> 0
A57: 8001 | B57: Washington Convention Center | C57: 2 | D57: NOX | E57: 10300502 | F57: 2 | G57: we sent them an administrative order. They have been told not to operate the boiler above 25mmbtu so they remain in compliance. | H57: yes | I57: yes | J57: yes | K57: yes | L57: =VLOOKUP(Q57,'OSD (R Studio)'!O:P, 2, FALSE) -> 0 | M57: =IF($R57>=$L57,$L57,IF($H57="yes",$R57,$L57)) -> 0 | N57: =IF($R57>=$L57,$L57,IF($I57="yes",$R57,$L57)) -> 0 | O57: =IF($R57>=$L57,$L57,IF($J57="yes",$R57,$L57)) -> 0 | P57: =IF($R57>=$L57,$L57,IF($K57="yes",$R57,$L57)) -> 0 | Q57: =A57 & C57 & F57 -> 800122 | R57: =VLOOKUP(Q57, 'NOX RACT Units'!$AA:$AB, 2, FALSE) -> 0
A58: 25 | B58: U.S. GSA | C58: 001 | D58: NOX | E58: 10300602 | F58: 1 | G58: have not tested yet; they might be in compliance but they need to do the testing at 90% operating capacity. Alt. NOX | H58: yes | I58: yes | J58: yes | K58: yes | L58: =VLOOKUP(Q58,'OSD (R Studio)'!O:P, 2, FALSE) -> 2.4456522e-06 | M58: =IF($R58>=$L58,$L58,IF($H58="yes",$R58,$L58)) -> 2.4456522e-06 | N58: =IF($R58>=$L58,$L58,IF($I58="yes",$R58,$L58)) -> 2.4456522e-06 | O58: =IF($R58>=$L58,$L58,IF($J58="yes",$R58,$L58)) -> 2.4456522e-06 | P58: =IF($R58>=$L58,$L58,IF($K58="yes",$R58,$L58)) -> 2.4456522e-06 | Q58: =A58 & C58 & F58 -> 250011 | R58: =VLOOKUP(Q58, 'NOX RACT Units'!$AA:$AB, 2, FALSE) -> 0.0011434815
A59: 25 | B59: U.S. GSA | C59: 002 | D59: NOX | E59: 10300602 | F59: 1 | G59: have not tested yet; they might be in compliance but they need to do the testing at 90% operating capacity. Alt. NOX | H59: yes | I59: yes | J59: yes | K59: yes | L59: =VLOOKUP(Q59,'OSD (R Studio)'!O:P, 2, FALSE) -> 0.034336957 | M59: =IF($R59>=$L59,$L59,IF($H59="yes",$R59,$L59)) -> 0.016244182 | N59: =IF($R59>=$L59,$L59,IF($I59="yes",$R59,$L59)) -> 0.016244182 | O59: =IF($R59>=$L59,$L59,IF($J59="yes",$R59,$L59)) -> 0.016244182 | P59: =IF($R59>=$L59,$L59,IF($K59="yes",$R59,$L59)) -> 0.016244182 | Q59: =A59 & C59 & F59 -> 250021 | R59: =VLOOKUP(Q59, 'NOX RACT Units'!$AA:$AB, 2, FALSE) -> 0.016244182
A60: 25 | B60: U.S. GSA | C60: 003 | D60: NOX | E60: 10300602 | F60: 1 | G60: have not tested yet; they might be in compliance but they need to do the testing at 90% operating capacity. Alt. NOX | H60: yes | I60: yes | J60: yes | K60: yes | L60: =VLOOKUP(Q60,'OSD (R Studio)'!O:P, 2, FALSE) -> 2.5543478e-06 | M60: =IF($R60>=$L60,$L60,IF($H60="yes",$R60,$L60)) -> 0 | N60: =IF($R60>=$L60,$L60,IF($I60="yes",$R60,$L60)) -> 0 | O60: =IF($R60>=$L60,$L60,IF($J60="yes",$R60,$L60)) -> 0 | P60: =IF($R60>=$L60,$L60,IF($K60="yes",$R60,$L60)) -> 0 | Q60: =A60 & C60 & F60 -> 250031 | R60: =VLOOKUP(Q60, 'NOX RACT Units'!$AA:$AB, 2, FALSE) -> 0
A61: 25 | B61: U.S. GSA | C61: 005C | D61: NOX | E61: 20300203 | F61: 1 | G61: co-gen; used to be a boiler. Will be tested in January 2026 | H61: yes | I61: yes | J61: yes | K61: yes | L61: =VLOOKUP(Q61,'OSD (R Studio)'!O:P, 2, FALSE) -> 0 | M61: =IF($R61>=$L61,$L61,IF($H61="yes",$R61,$L61)) -> 0 | N61: =IF($R61>=$L61,$L61,IF($I61="yes",$R61,$L61)) -> 0 | O61: =IF($R61>=$L61,$L61,IF($J61="yes",$R61,$L61)) -> 0 | P61: =IF($R61>=$L61,$L61,IF($K61="yes",$R61,$L61)) -> 0 | Q61: =A61 & C61 & F61 -> 25005C1 | R61: =VLOOKUP(Q61, 'NOX RACT Units'!$AA:$AB, 2, FALSE) -> 0
A62: 25 | B62: U.S. GSA | C62: 006 | D62: NOX | E62: 10300501 | F62: 2 | G62: They meet the requirements based on it being less than 90% of operating capacity. They will re-test in January 2026 at 90% on higher. | H62: yes | I62: yes | J62: yes | K62: yes | L62: 0 | M62: =IF($R62>=$L62,$L62,IF($H62="yes",$R62,$L62)) -> 0 | N62: =IF($R62>=$L62,$L62,IF($I62="yes",$R62,$L62)) -> 0 | O62: =IF($R62>=$L62,$L62,IF($J62="yes",$R62,$L62)) -> 0 | P62: =IF($R62>=$L62,$L62,IF($K62="yes",$R62,$L62)) -> 0 | Q62: =A62 & C62 & F62 -> 250062 | R62: =VLOOKUP(Q62, 'NOX RACT Units'!$AA:$AB, 2, FALSE) -> 0
A63: 25 | B63: U.S. GSA | C63: 006 | D63: NOX | E63: 10300601 | F63: 1 | G63: Tested on NG and passed. | H63: yes | I63: yes | J63: yes | K63: yes | L63: =VLOOKUP(Q63,'OSD (R Studio)'!O:P, 2, FALSE) -> 1.7934783e-06 | M63: =IF($R63>=$L63,$L63,IF($H63="yes",$R63,$L63)) -> 0 | N63: =IF($R63>=$L63,$L63,IF($I63="yes",$R63,$L63)) -> 0 | O63: =IF($R63>=$L63,$L63,IF($J63="yes",$R63,$L63)) -> 0 | P63: =IF($R63>=$L63,$L63,IF($K63="yes",$R63,$L63)) -> 0 | Q63: =A63 & C63 & F63 -> 250061 | R63: =VLOOKUP(Q63, 'NOX RACT Units'!$AA:$AB, 2, FALSE) -> 0

Sheet Conversion & Emissions Factors
B1: 1 Gal = 0.138 MMBtu | F1: Fuel Type | G1: Applicable Units
A2: 1,000 Gal | B2: E3GAL = 138 MMBtu | F2: Natural Gas | G2: Boilers subject to § 805.5 | H2: 0.05
B3: FT3SD = 0.001034 MMBtu/Day | F3: Fuel Oil or Fuel Oil + Natural Gas | G3: Boilers with heat input 25–100 MMBtu/hr | H3: 0.12
B4: E6FT3SD = 1034 MMBtu/Day | F4: Fuel Oil or Fuel Oil + Natural Gas | G4: Boilers with heat input ≥100 MMBtu/hr | H4: 0.9
B5: E6FT3SD= 1034 MMBtu
