Workbook

Sheet OSD (R Studio)
A1: EIS Facility ID | B1: Facility ID | C1: Column1 | D1: Agency Process ID | E1: Unit ID | F1: Pollutant Name | G1: Pollutant Code | H1: Total Emissions | I1: Emissions UOM | J1: Total Emissions in Tons | K1: Emissions Factor | L1: Emissions Numerator UOM | M1: Emissions Denominator UOM | N1: Percentage | O1: Unique | P1: ozone_szn_day | Q1: SCC
A2: 12622011 | B2: 21 | D2: 1 | E2: Appleby Bay#3 Heater | F2: Carbon Monoxide | G2: CO | H2: 0.00184472 | I2: TON | J2: 0.00184472 | K2: 84 | L2: LB | M2: E6FT3SD | N2: 0.25 | O2: =B2 & E2 & D2 -> 21Appleby Bay#3 Heater1 | P2: 5.0128261e-06 | Q2: 10300602
A3: 12622011 | B3: 21 | D3: 1 | E3: Appleby Bay#3 Heater | F3: Nitrogen Oxides | G3: NOX | H3: 0.0021961 | I3: TON | J3: 0.0021961 | K3: 100 | L3: LB | M3: E6FT3SD | N3: 0.25 | O3: =B3 & E3 & D3 -> 21Appleby Bay#3 Heater1 | P3: 5.967663e-06 | Q3: 10300602
A4: 12622011 | B4: 21 | D4: 1 | E4: Appleby Bay#3 Heater | F4: Volatile Organic Compounds | G4: VOC | H4: 0.000120786 | I4: TON | J4: 0.000120786 | K4: 5.5 | L4: LB | M4: E6FT3SD | N4: 0.25 | O4: =B4 & E4 & D4 -> 21Appleby Bay#3 Heater1 | P4: 3.2822283e-07 | Q4: 10300602
A5: 12622011 | B5: 21 | D5: 1 | E5: Appleby Bay#6 Heater | F5: Nitrogen Oxides | G5: NOX | H5: 0.0014 | I5: TON | J5: 0.0014 | K5: 5e-05 | L5: LB | M5: FT3SD | N5: 0.25 | O5: =B5 & E5 & D5 -> 21Appleby Bay#6 Heater1 | P5: 3.8043478e-06 | Q5: 10300602
A6: 12622011 | B6: 21 | D6: 1 | E6: Appleby Bay#6 Heater | F6: Carbon Monoxide | G6: CO | H6: 0.00239812 | I6: TON | J6: 0.00239812 | K6: 84 | L6: LB | M6: E6FT3SD | N6: 0.25 | O6: =B6 & E6 & D6 -> 21Appleby Bay#6 Heater1 | P6: 6.5166304e-06 | Q6: 10300602
A7: 12622011 | B7: 21 | D7: 1 | E7: Appleby Bay#6 Heater | F7: Volatile Organic Compounds | G7: VOC | H7: 0.00015702 | I7: TON | J7: 0.00015702 | K7: 5.5 | L7: LB | M7: E6FT3SD | N7: 0.25 | O7: =B7 & E7 & D7 -> 21Appleby Bay#6 Heater1 | P7: 4.2668478e-07 | Q7: 10300602
A8: 12622011 | B8: 21 | D8: 1 | E8: Appleby Bay#9 Heater | F8: Nitrogen Oxides | G8: NOX | H8: 0.0014 | I8: TON | J8: 0.0014 | K8: 5e-05 | L8: LB | M8: FT3SD | N8: 0.25 | O8: =B8 & E8 & D8 -> 21Appleby Bay#9 Heater1 | P8: 3.8043478e-06 | Q8: 10300602
A9: 12622011 | B9: 21 | D9: 1 | E9: Appleby Bay#9 Heater | F9: Carbon Monoxide | G9: CO | H9: 0.00239812 | I9: TON | J9: 0.00239812 | K9: 84 | L9: LB | M9: E6FT3SD | N9: 0.25 | O9: =B9 & E9 & D9 -> 21Appleby Bay#9 Heater1 | P9: 6.5166304e-06 | Q9: 10300602
A10: 12622011 | B10: 21 | D10: 1 | E10: Appleby Bay#9 Heater | F10: Volatile Organic Compounds | G10: VOC | H10: 0.00015702 | I10: TON | J10: 0.00015702 | K10: 5.5 | L10: LB | M10: E6FT3SD | N10: 0.25 | O10: =B10 & E10 & D10 -> 21Appleby Bay#9 Heater1 | P10: 4.2668478e-07 | Q10: 10300602
A11: 12622011 | B11: 21 | D11: 1 | E11: Appleby Boiler | F11: Nitrogen Oxides | G11: NOX | H11: 0.0058 | I11: TON | J11: 0.0058 | K11: 5e-05 | L11: LB | M11: FT3SD | N11: 0.25 | O11: =B11 & E11 & D11 -> 21Appleby Boiler1 | P11: 1.576087e-05 | Q11: 10200602
A12: 12622011 | B12: 21 | D12: 1 | E12: Appleby Boiler | F12: Carbon Monoxide | G12: CO | H12: 0.00971237 | I12: TON | J12: 0.00971237 | K12: 84 | L12: LB | M12: E6FT3SD | N12: 0.25 | O12: =B12 & E12 & D12 -> 21Appleby Boiler1 | P12: 2.639231e-05 | Q12: 10200602
A13: 12622011 | B13: 21 | D13: 1 | E13: Appleby Boiler | F13: Volatile Organic Compounds | G13: VOC | H13: 0.000635929 | I13: TON | J13: 0.000635929 | K13: 5.5 | L13: LB | M13: E6FT3SD | N13: 0.25 | O13: =B13 & E13 & D13 -> 21Appleby Boiler1 | P13: 1.7280679e-06 | Q13: 10200602
... A617: 17061511 | B617: 11003 | D617: 1 | E617: B5 | F617: Carbon Monoxide | G617: CO | H617: 0.016 | I617: TON | J617: 0.016 | K617: 0.00178 | L617: LB | M617: HR | N617: 0.325 | O617: =B617 & E617 & D617 -> 11003B51 | P617: 5.6521739e-05 | Q617: 10200602
A618: 17061511 | B618: 11003 | D618: 1 | E618: B5 | F618: Volatile Organic Compounds | G618: VOC | H618: 0 | I618: TON | J618: 0 | K618: 5.5 | L618: LB | M618: E6FT3SD | N618: 0.332 | O618: =B618 & E618 & D618 -> 11003B51 | P618: =(N618)/(92)/(2000) -> 1.8043478e-06 | Q618: 10200602
A619: 17061511 | B619: 11003 | D619: 2 | E619: B6 | F619: Nitrogen Oxides | G619: NOX | H619: 0.001 | I619: TON | J619: 0.001 | K619: 2.48 | L619: LB | M619: HR | N619: 0 | O619: =B619 & E619 & D619 -> 11003B62 | P619: 0 | Q619: 10300502
A620: 17061511 | B620: 11003 | D620: 2 | E620: B6 | F620: Carbon Monoxide | G620: CO | H620: 0.001 | I620: TON | J620: 0.001 | K620: 0.103 | L620: LB | M620: HR | N620: 0 | O620: =B620 & E620 & D620 -> 11003B62 | P620: 0 | Q620: 10300502
A621: 17061511 | B621: 11003 | D621: 2 | E621: B6 | F621: Volatile Organic Compounds | G621: VOC | H621: 0 | I621: TON | J621: 0 | K621: 0.34 | L621: LB | M621: E3GAL | N621: 0 | O621: =B621 & E621 & D621 -> 11003B62 | P621: 0 | Q621: 10300502
A622: 17061511 | B622: 11003 | D622: 1 | E622: B6 | F622: Nitrogen Oxides | G622: NOX | H622: 0.641 | I622: TON | J622: 0.641 | K622: 0.608 | L622: LB | M622: HR | N622: 0.075 | O622: =B622 & E622 & D622 -> 11003B61 | P622: 0.00052255435 | Q622: 10200602
A623: 17061511 | B623: 11003 | D623: 1 | E623: B6 | F623: Volatile Organic Compounds | G623: VOC | H623: 0.064 | I623: TON | J623: 0.064 | K623: 5.5 | L623: LB | M623: E6FT3SD | N623: 0.382 | O623: =B623 & E623 & D623 -> 11003B61 | P623: =(N623)/(92)/(2000) -> 2.076087e-06 | Q623: 10200602
A624: 17061511 | B624: 11003 | D624: 1 | E624: B6 | F624: Carbon Monoxide | G624: CO | H624: 0.002 | I624: TON | J624: 0.002 | K624: 0.00208 | L624: LB | M624: HR | N624: 0.075 | O624: =B624 & E624 & D624 -> 11003B61 | P624: 1.6304348e-06 | Q624: 10200602
A625: 17061511 | B625: 11003 | D625: 1 | E625: EG-1 | F625: Volatile Organic Compounds | G625: VOC | H625: 0.012 | I625: TON | J625: 0.012 | K625: 9.5e-05 | L625: LB | M625: KW-HR | N625: 0.276 | O625: =B625 & E625 & D625 -> 11003EG-11 | P625: 3.6e-05 | Q625: 20100102
A626: 17061511 | B626: 11003 | D626: 1 | E626: EG-1 | F626: Carbon Monoxide | G626: CO | H626: 0.098 | I626: TON | J626: 0.098 | K626: 3.5 | L626: G | M626: KW-HR | N626: 0.276 | O626: =B626 & E626 & D626 -> 11003EG-11 | P626: 0.000294 | Q626: 20100102
A627: 17061511 | B627: 11003 | D627: 1 | E627: EG-1 | F627: Nitrogen Oxides | G627: NOX | H627: 0.167 | I627: TON | J627: 0.167 | K627: 0.301315 | L627: LB | M627: KW-HR | N627: 0.276 | O627: =B627 & E627 & D627 -> 11003EG-11 | P627: 0.000501 | Q627: 20100102
A628: 17061511 | B628: 11003 | D628: 1 | E628: EG-10 | F628: Volatile Organic Compounds | G628: VOC | H628: 0.001 | I628: TON | J628: 0.001 | K628: 0.0183 | L628: G | M628: KW-HR | N628: 0.663 | O628: =B628 & E628 & D628 -> 11003EG-101 | P628: 7.2065217e-06 | Q628: 20100102
A629: 17061511 | B629: 11003 | D629: 1 | E629: EG-10 | F629: Carbon Monoxide | G629: CO | H629: 0.004 | I629: TON | J629: 0.004 | K629: 0.0537 | L629: G | M629: KW-HR | N629: 0.663 | O629: =B629 & E629 & D629 -> 11003EG-101 | P629: 2.8826087e-05 | Q629: 20100102
A630: 17061511 | B630: 11003 | D630: 1 | E630: EG-10 | F630: Nitrogen Oxides | G630: NOX | H630: 0.021 | I630: TON | J630: 0.021 | K630: 0.28 | L630: G | M630: KW-HR | N630: 0.663 | O630: =B630 & E630 & D630 -> 11003EG-101 | P630: 0.00015133696 | Q630: 20100102
A631: 17061511 | B631: 11003 | D631: 1 | E631: EG-11 | F631: Nitrogen Oxides | G631: NOX | H631: 0.014 | I631: TON | J631: 0.014 | K631: 0.23 | L631: G | M631: KW-HR | N631: 0.646 | O631: =B631 & E631 & D631 -> 11003EG-111 | P631: 9.8304348e-05 | Q631: 20100102
A632: 17061511 | B632: 11003 | D632: 1 | E632: EG-11 | F632: Carbon Monoxide | G632: CO | H632: 0.003 | I632: TON | J632: 0.003 | K632: 3.5 | L632: KG | M632: KW-HR | N632: 0.646 | O632: =B632 & E632 & D632 -> 11003EG-111 | P632: 2.1065217e-05 | Q632: 20100102
A633: 17061511 | B633: 11003 | D633: 1 | E633: EG-11 | F633: Volatile Organic Compounds | G633: VOC | H633: 0 | I633: TON | J633: 0 | K633: 0.00297 | L633: KG | M633: KW-HR | N633: 0.646 | O633: =B633 & E633 & D633 -> 11003EG-111 | P633: 0 | Q633: 20100102
A634: 17061511 | B634: 11003 | D634: 1 | E634: EG-12 | F634: Volatile Organic Compounds | G634: VOC | H634: 0 | I634: TON | J634: 0 | K634: 0.0105 | L634: G | M634: KW-HR | N634: 0.09 | O634: =B634 & E634 & D634 -> 11003EG-121 | P634: 0 | Q634: 20100102
A635: 17061511 | B635: 11003 | D635: 1 | E635: EG-12 | F635: Carbon Monoxide | G635: CO | H635: 0.002 | I635: TON | J635: 0.002 | K635: 0.0574 | L635: G | M635: KW-HR | N635: 0.09 | O635: =B635 & E635 & D635 -> 11003EG-121 | P635: 1.9565217e-06 | Q635: 20100102
... A945: 18304511 | B945: 142 | D945: 1 | E945: TDPS-EG1 | F945: Volatile Organic Compounds | G945: VOC | H945: 0.000808 | I945: TON | J945: 0.000808 | K945: NA | L945: NA | M945: NA | N945: 0 | O945: =B945 & E945 & D945 -> 142TDPS-EG11 | P945: 0 | Q945: 20100102
A946: 18304511 | B946: 142 | D946: 1 | E946: TDPS-EG1 | F946: Carbon Monoxide | G946: CO | H946: 0.00327015 | I946: TON | J946: 0.00327015 | K946: 0.45 | L946: G | M946: HP-HR | N946: 0.106 | O946: =B946 & E946 & D946 -> 142TDPS-EG11 | P946: =(N946)/(92)/(2000) -> 5.7608696e-07 | Q946: 20100102
A947: 18957611 | B947: 80502 | D947: Operation | E947: ADAMS | F947: Volatile Organic Compounds | G947: VOC | H947: 0.006483 | I947: TON | J947: 0.006483 | K947: 0.000705 | L947: G | M947: HP-HR | N947: 0.25 | O947: =B947 & E947 & D947 -> 80502ADAMSOperation | P947: 1.7616848e-05 | Q947: 20300101
A948: 18957611 | B948: 80502 | D948: Operation | E948: ADAMS | F948: Nitrogen Oxides | G948: NOX | H948: 0.10846 | I948: TON | J948: 0.10846 | K948: 27.45815623 | L948: LB | M948: HR | N948: 0.25 | O948: =B948 & E948 & D948 -> 80502ADAMSOperation | P948: 0.00029472826 | Q948: 20300101
A949: 18957611 | B949: 80502 | D949: Operation | E949: ADAMS | F949: Carbon Monoxide | G949: CO | H949: 0.0101364 | I949: TON | J949: 0.0101364 | K949: 2.566182825 | L949: LB | M949: HR | N949: 0.25 | O949: =B949 & E949 & D949 -> 80502ADAMSOperation | P949: 2.7544565e-05 | Q949: 20300101
A950: 18957611 | B950: 80502 | D950: Operation | E950: CHLD | F950: Carbon Monoxide | G950: CO | H950: 0.00205222 | I950: TON | J950: 0.00205222 | K950: 0.436642743 | L950: LB | M950: HR | N950: 0.25 | O950: =B950 & E950 & D950 -> 80502CHLDOperation | P950: 5.5766848e-06 | Q950: 20300101
A951: 18957611 | B951: 80502 | D951: Operation | E951: CHLD | F951: Volatile Organic Compounds | G951: VOC | H951: 0.000961979 | I951: TON | J951: 0.000961979 | K951: 0.204676286 | L951: LB | M951: HR | N951: 0.25 | O951: =B951 & E951 & D951 -> 80502CHLDOperation | P951: 2.6140734e-06 | Q951: 20300101
A952: 18957611 | B952: 80502 | D952: Operation | E952: CHLD | F952: Nitrogen Oxides | G952: NOX | H952: 0.0124052 | I952: TON | J952: 0.0124052 | K952: 2.6394 | L952: LB | M952: HR | N952: 0.25 | O952: =B952 & E952 & D952 -> 80502CHLDOperation | P952: 3.3709783e-05 | Q952: 20300101
...

Sheet NOX RACT Units
A1: Agency Facility ID | B1: Facility | C1: Agency Unit ID | D1: Unit Description | E1: Unit Type | F1: Unit Op Status Code | G1: Unit Op Status Year | H1: Unit Design Capacity | I1: Unit Design Capacity UOM | J1: SCC Description | K1: SCC | L1: Process ID | M1: Throughput Material | N1: Fuel Use Value | O1: Fuel Use UOM | P1: Converted Fuel Use Value (MMBTU) | Q1: Total Fuel Use Value EOM | R1: Summer Op. % | S1: Summer Fuel Use | T1: OSD NOx RACT 2022 | U1: Annual NOx RACT | V1: Emission Factor (lb/mmBTU) | W1: 2022* | X1: 2026* | Y1: 2032* | Z1: 2038* | AA1: Unique | AB1: 2022
A2: 8 | B2: D.C. General Hospital | C2: CU-1 | D2: Keeler Boiler: Model WWHS1014 | E2: Boiler | F2: OP | G2: 2021 | H2: 47 | I2: E6BTU/HR | J2: =VLOOKUP(K2, '[1]Units-SCCs'!$I:$J, 2, FALSE) -> External Combustion Boilers > Commercial/Institutional > Natural Gas > 10-100 Million BTU/hr | K2: 10300602 | L2: =IF(M2="natural gas",1,IF(ISNUMBER(SEARCH("distillate",M2)),2,"")) -> 1 | M2: Natural Gas | N2: 57.909153 | O2: E6FT3S | P2: =(N2*1034) -> 59878.064 | Q2: mmbtu | R2: 0.14 | S2: =(P2*R2) -> 8382.929 | T2: =(S2*V2)/2000/92 -> 0.0022779698 | U2: =(P2*V2)/2000 -> 1.4969516 | V2: =IF( M2="Natural Gas", 0.05, IF( AND(M2="Distillate Oil", H2>=25, H2<100), 0.12, IF( AND(M2="Distillate Oil", H2>=100), 0.9, V2 ) ) ) -> 0.05 | W2: =T2 -> 0.0022779698 | X2: =T2 -> 0.0022779698 | Y2: =T2 -> 0.0022779698 | Z2: =T2 -> 0.0022779698 | AA2: =A2 & C2 & L2 -> 8CU-11 | AB2: =Y2 -> 0.0022779698
A3: 8 | B3: D.C. General Hospital | C3: CU-4 | D3: Keeler Boiler: Model WWHS1014 | E3: Boiler | F3: OP | G3: 2021 | H3: 47 | I3: E6BTU/HR | J3: =VLOOKUP(K3, '[1]Units-SCCs'!$I:$J, 2, FALSE) -> External Combustion Boilers > Commercial/Institutional > Natural Gas > 10-100 Million BTU/hr | K3: 10300602 | L3: =IF(M3="natural gas",1,IF(ISNUMBER(SEARCH("distillate",M3)),2,"")) -> 1 | M3: Natural Gas | N3: 45.390846 | O3: E6FT3S | P3: =(N3*1034) -> 46934.135 | Q3: mmbtu | R3: 0.18 | S3: =(P3*R3) -> 8448.1443 | T3: =(S3*V3)/2000/92 -> 0.0022956914 | U3: =(P3*V3)/2000 -> 1.1733534 | V3: =IF( M3="Natural Gas", 0.05, IF( AND(M3="Distillate Oil", H3>=25, H3<100), 0.12, IF( AND(M3="Distillate Oil", H3>=100), 0.9, V3 ) ) ) -> 0.05 | W3: =T3 -> 0.0022956914 | X3: =T3 -> 0.0022956914 | Y3: =T3 -> 0.0022956914 | Z3: =T3 -> 0.0022956914 | AA3: =A3 & C3 & L3 -> 8CU-41 | AB3: =Y3 -> 0.0022956914
A4: 10 | B4: George Washington University | C4: EUN-34 | D4: Installed 1974; steam or hot water boiler (WT293X-CN1) | E4: Boiler | F4: OP | G4: 2020 | H4: 48.7 | I4: E6BTU/HR | J4: =VLOOKUP(K4, '[1]Units-SCCs'!$I:$J, 2, FALSE) -> External Combustion Boilers > Commercial/Institutional > Distillate Oil > 10-100 Million BTU/hr | K4: 10300502 | L4: =IF(M4="natural gas",1,IF(ISNUMBER(SEARCH("distillate",M4)),2,"")) -> 2 | M4: Distillate Oil | N4: 0.686 | O4: E3GAL | P4: =(N4*0.138)*1000 -> 94.668 | Q4: mmbtu | R4: 0.25 | S4: =(P4*R4) -> 23.667 | T4: =(S4*V4)/2000/92 -> 1.5435e-05 | U4: =(P4*V4)/2000 -> 0.00568008 | V4: =IF( M4="Natural Gas", 0.05, IF( AND(M4="Distillate Oil", H4>=25, H4<100), 0.12, IF( AND(M4="Distillate Oil", H4>=100), 0.9, V4 ) ) ) -> 0.12 | W4: =T4 -> 1.5435e-05 | X4: =T4 -> 1.5435e-05 | Y4: =T4 -> 1.5435e-05 | Z4: =T4 -> 1.5435e-05 | AA4: =A4 & C4 & L4 -> 10EUN-342 | AB4: =Y4 -> 1.5435e-05
A5: 10 | B5: George Washington University | C5: EUN-35 | D5: Installed 1974; steam or hot water boiler (WT293X-CN1) | E5: Boiler | F5: OP | G5: 2020 | H5: 48.7 | I5: E6BTU/HR | J5: =VLOOKUP(K5, '[1]Units-SCCs'!$I:$J, 2, FALSE) -> External Combustion Boilers > Commercial/Institutional > Distillate Oil > 10-100 Million BTU/hr | K5: 10300502 | L5: =IF(M5="natural gas",1,IF(ISNUMBER(SEARCH("distillate",M5)),2,"")) -> 2 | M5: Distillate Oil | N5: 0.686 | O5: E3GAL | P5: =(N5*0.138)*1000 -> 94.668 | Q5: mmbtu | R5: 0.25 | S5: =(P5*R5) -> 23.667 | T5: =(S5*V5)/2000/92 -> 1.5435e-05 | U5: =(P5*V5)/2000 -> 0.00568008 | V5: =IF( M5="Natural Gas", 0.05, IF( AND(M5="Distillate Oil", H5>=25, H5<100), 0.12, IF( AND(M5="Distillate Oil", H5>=100), 0.9, V5 ) ) ) -> 0.12 | W5: =T5 -> 1.5435e-05 | X5: =T5 -> 1.5435e-05 | Y5: =T5 -> 1.5435e-05 | Z5: =T5 -> 1.5435e-05 | AA5: =A5 & C5 & L5 -> 10EUN-352 | AB5: =Y5 -> 1.5435e-05
A6: 13 | B6: Washington Navy Yard | C6: 3 | D6: Nebraska NS-F/S-76; installed/modified 1995 | E6: Boiler | F6: OP | G6: 1995 | H6: 101 | I6: E6BTU/HR | J6: =VLOOKUP(K6, '[1]Units-SCCs'!$I:$J, 2, FALSE) -> > 100 Million BTU/hr | K6: 10300601 | L6: =IF(M6="natural gas",1,IF(ISNUMBER(SEARCH("distillate",M6)),2,"")) -> 1 | M6: Natural Gas | N6: 41.71 | O6: E6FT3S | P6: =(N6*1034) -> 43128.14 | Q6: mmbtu | R6: 0.25 | S6: =(P6*R6) -> 10782.035 | T6: =(S6*V6)/2000/92 -> 0.0029299008 | U6: =(P6*V6)/2000 -> 1.0782035 | V6: =IF( M6="Natural Gas", 0.05, IF( AND(M6="Distillate Oil", H6>=25, H6<100), 0.12, IF( AND(M6="Distillate Oil", H6>=100), 0.9, V6 ) ) ) -> 0.05 | W6: =T6 -> 0.0029299008 | X6: =T6 -> 0.0029299008 | Y6: =T6 -> 0.0029299008 | Z6: =T6 -> 0.0029299008 | AA6: =A6 & C6 & L6 -> 1331 | AB6: =Y6 -> 0.0029299008
A7: 13 | B7: Washington Navy Yard | C7: 3 | D7: Nebraska NS-F/S-76; installed/modified 1995 | E7: Boiler | F7: OP | G7: 1995 | H7: 101 | I7: E6BTU/HR | J7: =VLOOKUP(K7, '[1]Units-SCCs'!$I:$J, 2, FALSE) -> Distillate Oil - Grades 1 and 2: Boiler | K7: 10300501 | L7: =IF(M7="natural gas",1,IF(ISNUMBER(SEARCH("distillate",M7)),2,"")) -> 2 | M7: Distillate Oil | N7: 920 | O7: GAL | P7: =(N7*0.138) -> 126.96 | Q7: mmbtu | R7: 0.06 | S7: =(P7*R7) -> 7.6176 | T7: =(S7*V7)/2000/92 -> 3.726e-05 | U7: =(P7*V7)/2000 -> 0.057132 | V7: =IF( M7="Natural Gas", 0.05, IF( AND(M7="Distillate Oil", H7>=25, H7<100), 0.12, IF( AND(M7="Distillate Oil", H7>=100), 0.9, V7 ) ) ) -> 0.9 | W7: =T7 -> 3.726e-05 | X7: =T7 -> 3.726e-05 | Y7: =T7 -> 3.726e-05 | Z7: =T7 -> 3.726e-05 | AA7: =A7 & C7 & L7 -> 1332 | AB7: =Y7 -> 3.726e-05
A8: 14 | B8: Washington Hospital Center | C8: 1 | D8: Boiler #1 | E8: Boiler | F8: OP | G8: 1984 | H8: 56.8 | I8: E6BTU/HR | J8: =VLOOKUP(K8, '[1]Units-SCCs'!$I:$J, 2, FALSE) -> External Combustion Boilers > Commercial/Institutional > Natural Gas > 10-100 Million BTU/hr | K8: 10300602 | L8: =IF(M8="natural gas",1,IF(ISNUMBER(SEARCH("distillate",M8)),2,"")) -> 1 | M8: Natural Gas | N8: 87.6 | O8: E6FT3S | P8: =(N8*1034) -> 90578.4 | Q8: mmbtu | R8: 0.16 | S8: =(P8*R8) -> 14492.544 | T8: =(S8*V8)/2000/92 -> 0.0039381913 | U8: =(P8*V8)/2000 -> 2.26446 | V8: =IF( M8="Natural Gas", 0.05, IF( AND(M8="Distillate Oil", H8>=25, H8<100), 0.12, IF( AND(M8="Distillate Oil", H8>=100), 0.9, V8 ) ) ) -> 0.05 | W8: =T8 -> 0.0039381913 | X8: =T8 -> 0.0039381913 | Y8: =T8 -> 0.0039381913 | Z8: =T8 -> 0.0039381913 | AA8: =A8 & C8 & L8 -> 1411 | AB8: =Y8 -> 0.0039381913
A9: 14 | B9: Washington Hospital Center | C9: 1 | D9: Boiler #1 | E9: Boiler | F9: OP | G9: 1984 | H9: 56.8 | I9: E6BTU/HR | J9: =VLOOKUP(K9, '[1]Units-SCCs'!$I:$J, 2, FALSE) -> External Combustion Boilers > Commercial/Institutional > Distillate Oil > 10-100 Million BTU/hr | K9: 10300502 | L9: =IF(M9="natural gas",1,IF(ISNUMBER(SEARCH("distillate",M9)),2,"")) -> 2 | M9: Distillate Oil | N9: 3.35 | O9: E3GAL | P9: =(N9*0.138)*1000 -> 462.3 | Q9: mmbtu | R9: 0 | S9: =(P9*R9) -> 0 | T9: =(S9*V9)/2000/92 -> 0 | U9: =(P9*V9)/2000 -> 0.027738 | V9: =IF( M9="Natural Gas", 0.05, IF( AND(M9="Distillate Oil", H9>=25, H9<100), 0.12, IF( AND(M9="Distillate Oil", H9>=100), 0.9, V9 ) ) ) -> 0.12 | W9: =T9 -> 0 | X9: =T9 -> 0 | Y9: =T9 -> 0 | Z9: =T9 -> 0 | AA9: =A9 & C9 & L9 -> 1412 | AB9: =Y9 -> 0
A10: 14 | B10: Washington Hospital Center | C10: 2 | D10: Boiler #2 | E10: Boiler | F10: OP | G10: 2021 | H10: 56.8 | I10: E6BTU/HR | J10: =VLOOKUP(K10, '[1]Units-SCCs'!$I:$J, 2, FALSE) -> External Combustion Boilers > Commercial/Institutional > Natural Gas > 10-100 Million BTU/hr | K10: 10300602 | L10: =IF(M10="natural gas",1,IF(ISNUMBER(SEARCH("distillate",M10)),2,"")) -> 1 | M10: Natural Gas | N10: 88.04 | O10: E6FT3S | P10: =(N10*1034) -> 91033.36 | Q10: mmbtu | R10: 0.16 | S10: =(P10*R10) -> 14565.338 | T10: =(S10*V10)/2000/92 -> 0.0039579722 | U10: =(P10*V10)/2000 -> 2.275834 | V10: =IF( M10="Natural Gas", 0.05, IF( AND(M10="Distillate Oil", H10>=25, H10<100), 0.12, IF( AND(M10="Distillate Oil", H10>=100), 0.9, V10 ) ) ) -> 0.05 | W10: =T10 -> 0.0039579722 | X10: =T10 -> 0.0039579722 | Y10: =T10 -> 0.0039579722 | Z10: =T10 -> 0.0039579722 | AA10: =A10 & C10 & L10 -> 1421 | AB10: =Y10 -> 0.0039579722
A11: 14 | B11: Washington Hospital Center | C11: 2 | D11: Boiler #2 | E11: Boiler | F11: OP | G11: 2021 | H11: 56.8 | I11: E6BTU/HR | J11: =VLOOKUP(K11, '[1]Units-SCCs'!$I:$J, 2, FALSE) -> External Combustion Boilers > Commercial/Institutional > Distillate Oil > 10-100 Million BTU/hr | K11: 10300502 | L11: =IF(M11="natural gas",1,IF(ISNUMBER(SEARCH("distillate",M11)),2,"")) -> 2 | M11: Distillate Oil | N11: 3.24 | O11: E3GAL | P11: =(N11*0.138)*1000 -> 447.12 | Q11: mmbtu | R11: 0 | S11: =(P11*R11) -> 0 | T11: =(S11*V11)/2000/92 -> 0 | U11: =(P11*V11)/2000 -> 0.0268272 | V11: =IF( M11="Natural Gas", 0.05, IF( AND(M11="Distillate Oil", H11>=25, H11<100), 0.12, IF( AND(M11="Distillate Oil", H11>=100), 0.9, V11 ) ) ) -> 0.12 | W11: =T11 -> 0 | X11: =T11 -> 0 | Y11: =T11 -> 0 | Z11: =T11 -> 0 | AA11: =A11 & C11 & L11 -> 1422 | AB11: =Y11 -> 0
A12: 14 | B12: Washington Hospital Center | C12: 3 | D12: Boiler #3 | E12: Boiler | F12: OP | G12: 1984 | H12: 56.8 | I12: E6BTU/HR | J12: =VLOOKUP(K12, '[1]Units-SCCs'!$I:$J, 2, FALSE) -> External Combustion Boilers > Commercial/Institutional > Natural Gas > 10-100 Million BTU/hr | K12: 10300602 | L12: =IF(M12="natural gas",1,IF(ISNUMBER(SEARCH("distillate",M12)),2,"")) -> 1 | M12: Natural Gas | N12: 69.23 | O12: E6FT3S | P12: =(N12*1034) -> 71583.82 | Q12: mmbtu | R12: 0.1 | S12: =(P12*R12) -> 7158.382 | T12: =(S12*V12)/2000/92 -> 0.0019452125 | U12: =(P12*V12)/2000 -> 1.7895955 | V12: =IF( M12="Natural Gas", 0.05, IF( AND(M12="Distillate Oil", H12>=25, H12<100), 0.12, IF( AND(M12="Distillate Oil", H12>=100), 0.9, V12 ) ) ) -> 0.05 | W12: =T12 -> 0.0019452125 | X12: =T12 -> 0.0019452125 | Y12: =T12 -> 0.0019452125 | Z12: =T12 -> 0.0019452125 | AA12: =A12 & C12 & L12 -> 1431 | AB12: =Y12 -> 0.0019452125
A13: 14 | B13: Washington Hospital Center | C13: 3 | D13: Boiler #3 | E13: Boiler | F13: OP | G13: 1984 | H13: 56.8 | I13: E6BTU/HR | J13: =VLOOKUP(K13, '[1]Units-SCCs'!$I:$J, 2, FALSE) -> External Combustion Boilers > Commercial/Institutional > Distillate Oil > 10-100 Million BTU/hr | K13: 10300502 | L13: =IF(M13="natural gas",1,IF(ISNUMBER(SEARCH("distillate",M13)),2,"")) -> 2 | M13: Distillate Oil | N13: 5.82 | O13: E3GAL | P13: =(N13*0.138)*1000 -> 803.16 | Q13: mmbtu | R13: 0.49 | S13: =(P13*R13) -> 393.5484 | T13: =(S13*V13)/2000/92 -> 0.000256662 | U13: =(P13*V13)/2000 -> 0.0481896 | V13: =IF( M13="Natural Gas", 0.05, IF( AND(M13="Distillate Oil", H13>=25, H13<100), 0.12, IF( AND(M13="Distillate Oil", H13>=100), 0.9, V13 ) ) ) -> 0.12 | W13: =T13 -> 0.000256662 | X13: =T13 -> 0.000256662 | Y13: =T13 -> 0.000256662 | Z13: =T13 -> 0.000256662 | AA13: =A13 & C13 & L13 -> 1432 | AB13: =Y13 -> 0.000256662
A14: 14 | B14: Washington Hospital Center | C14: 5 | D14: Boiler #5 | E14: Boiler | F14: OP | G14: 1976 | H14: 57.3 | I14: E6BTU/HR | J14: =VLOOKUP(K14, '[1]Units-SCCs'!$I:$J, 2, FALSE) -> External Combustion Boilers > Commercial/Institutional > Natural Gas > 10-100 Million BTU/hr | K14: 10300602 | L14: =IF(M14="natural gas",1,IF(ISNUMBER(SEARCH("distillate",M14)),2,"")) -> 1 | M14: Natural Gas | N14: 16.88 | O14: E6FT3S | P14: =(N14*1034) -> 17453.92 | Q14: mmbtu | R14: 0.64 | S14: =(P14*R14) -> 11170.509 | T14: =(S14*V14)/2000/92 -> 0.0030354643 | U14: =(P14*V14)/2000 -> 0.436348 | V14: =IF( M14="Natural Gas", 0.05, IF( AND(M14="Distillate Oil", H14>=25, H14<100), 0.12, IF( AND(M14="Distillate Oil", H14>=100), 0.9, V14 ) ) ) -> 0.05 | W14: =T14 -> 0.0030354643 | X14: =T14 -> 0.0030354643 | Y14: =T14 -> 0.0030354643 | Z14: =T14 -> 0.0030354643 | AA14: =A14 & C14 & L14 -> 1451 | AB14: =Y14 -> 0.0030354643
A15: 14 | B15: Washington Hospital Center | C15: 6 | D15: Boiler #6 | E15: Boiler | F15: OP | G15: 1976 | H15: 57.3 | I15: E6BTU/HR | J15: =VLOOKUP(K15, '[1]Units-SCCs'!$I:$J, 2, FALSE) -> External Combustion Boilers > Commercial/Institutional > Natural Gas > 10-100 Million BTU/hr | K15: 10300602 | L15: =IF(M15="natural gas",1,IF(ISNUMBER(SEARCH("distillate",M15)),2,"")) -> 1 | M15: Natural Gas | N15: 22.82 | O15: E6FT3S | P15: =(N15*1034) -> 23595.88 | Q15: mmbtu | R15: 0.52 | S15: =(P15*R15) -> 12269.858 | T15: =(S15*V15)/2000/92 -> 0.0033342004 | U15: =(P15*V15)/2000 -> 0.589897 | V15: =IF( M15="Natural Gas", 0.05, IF( AND(M15="Distillate Oil", H15>=25, H15<100), 0.12, IF( AND(M15="Distillate Oil", H15>=100), 0.9, V15 ) ) ) -> 0.05 | W15: =T15 -> 0.0033342004 | X15: =T15 -> 0.0033342004 | Y15: =T15 -> 0.0033342004 | Z15: =T15 -> 0.0033342004 | AA15: =A15 & C15 & L15 -> 1461 | AB15: =Y15 -> 0.0033342004
A16: 21 | B16: Gallaudet University | C16: CU-1 | D16: Installed in 1980 | E16: Boiler | F16: OP | G16: 2020 | H16: 42 | I16: E6BTU/HR | J16: =VLOOKUP(K16, '[1]Units-SCCs'!$I:$J, 2, FALSE) -> External Combustion Boilers > Commercial/Institutional > Natural Gas > 10-100 Million BTU/hr | K16: 10300602 | L16: =IF(M16="natural gas",1,IF(ISNUMBER(SEARCH("distillate",M16)),2,"")) -> 1 | M16: Natural Gas | N16: 50894829 | O16: FT3SD | P16: =(N16*1034)/1000000 -> 52625.253 | Q16: mmbtu | R16: 0.25 | S16: =(P16*R16) -> 13156.313 | T16: =(S16*V16)/2000/92 -> 0.0035750851 | U16: =(P16*V16)/2000 -> 1.3156313 | V16: =IF( M16="Natural Gas", 0.05, IF( AND(M16="Distillate Oil", H16>=25, H16<100), 0.12, IF( AND(M16="Distillate Oil", H16>=100), 0.9, V16 ) ) ) -> 0.05 | W16: =T16 -> 0.0035750851 | X16: =T16 -> 0.0035750851 | Y16: =T16 -> 0.0035750851 | Z16: =T16 -> 0.0035750851 | AA16: =A16 & C16 & L16 -> 21CU-11 | AB16: =Y16 -> 0.0035750851
A17: 21 | B17: Gallaudet University | C17: CU-1 | D17: Installed in 1980 | E17: Boiler | F17: OP | G17: 2020 | H17: 42 | I17: E6BTU/HR | J17: =VLOOKUP(K17, '[1]Units-SCCs'!$I:$J, 2, FALSE) -> External Combustion Boilers > Commercial/Institutional > Distillate Oil > 10-100 Million BTU/hr | K17: 10300502 | L17: =IF(M17="natural gas",1,IF(ISNUMBER(SEARCH("distillate",M17)),2,"")) -> 2 | M17: Distillate Oil | N17: 446 | O17: GAL | P17: =(N17*0.138) -> 61.548 | Q17: mmbtu | R17: 0 | S17: =(P17*R17) -> 0 | T17: =(S17*V17)/2000/92 -> 0 | U17: =(P17*V17)/2000 -> 0.00369288 | V17: =IF( M17="Natural Gas", 0.05, IF( AND(M17="Distillate Oil", H17>=25, H17<100), 0.12, IF( AND(M17="Distillate Oil", H17>=100), 0.9, V17 ) ) ) -> 0.12 | W17: =T17 -> 0 | X17: =T17 -> 0 | Y17: =T17 -> 0 | Z17: =T17 -> 0 | AA17: =A17 & C17 & L17 -> 21CU-12 | AB17: =Y17 -> 0
A18: 21 | B18: Gallaudet University | C18: CU-2 | D18: Installed in 1980 | E18: Boiler | F18: OP | G18: 2020 | H18: 42 | I18: E6BTU/HR | J18: =VLOOKUP(K18, '[1]Units-SCCs'!$I:$J, 2, FALSE) -> External Combustion Boilers > Commercial/Institutional > Natural Gas > 10-100 Million BTU/hr | K18: 10300602 | L18: =IF(M18="natural gas",1,IF(ISNUMBER(SEARCH("distillate",M18)),2,"")) -> 1 | M18: Natural Gas | N18: 50271902 | O18: FT3SD | P18: =(N18*1034)/1000000 -> 51981.147 | Q18: mmbtu | R18: 0.25 | S18: =(P18*R18) -> 12995.287 | T18: =(S18*V18)/2000/92 -> 0.0035313279 | U18: =(P18*V18)/2000 -> 1.2995287 | V18: =IF( M18="Natural Gas", 0.05, IF( AND(M18="Distillate Oil", H18>=25, H18<100), 0.12, IF( AND(M18="Distillate Oil", H18>=100), 0.9, V18 ) ) ) -> 0.05 | W18: =T18 -> 0.0035313279 | X18: =T18 -> 0.0035313279 | Y18: =T18 -> 0.0035313279 | Z18: =T18 -> 0.0035313279 | AA18: =A18 & C18 & L18 -> 21CU-21 | AB18: =Y18 -> 0.0035313279
A19: 21 | B19: Gallaudet University | C19: CU-2 | D19: Installed in 1980 | E19: Boiler | F19: OP | G19: 2020 | H19: 42 | I19: E6BTU/HR | J19: =VLOOKUP(K19, '[1]Units-SCCs'!$I:$J, 2, FALSE) -> External Combustion Boilers > Commercial/Institutional > Distillate Oil > 10-100 Million BTU/hr | K19: 10300502 | L19: =IF(M19="natural gas",1,IF(ISNUMBER(SEARCH("distillate",M19)),2,"")) -> 2 | M19: Distillate Oil | N19: 426 | O19: GAL | P19: =(N19*0.138) -> 58.788 | Q19: mmbtu | R19: 0 | S19: =(P19*R19) -> 0 | T19: =(S19*V19)/2000/92 -> 0 | U19: =(P19*V19)/2000 -> 0.00352728 | V19: =IF( M19="Natural Gas", 0.05, IF( AND(M19="Distillate Oil", H19>=25, H19<100), 0.12, IF( AND(M19="Distillate Oil", H19>=100), 0.9, V19 ) ) ) -> 0.12 | W19: =T19 -> 0 | X19: =T19 -> 0 | Y19: =T19 -> 0 | Z19: =T19 -> 0 | AA19: =A19 & C19 & L19 -> 21CU-22 | AB19: =Y19 -> 0
A20: 22 | B20: Howard University | C20: CU-19 | D20: Temporary Boiler | E20: Boiler | F20: OP | G20: 2018 | H20: 37 | I20: E6BTU/HR | J20: =VLOOKUP(K20, '[1]Units-SCCs'!$I:$J, 2, FALSE) -> External Combustion Boilers > Commercial/Institutional > Natural Gas > 10-100 Million BTU/hr | K20: 10300602 | L20: =IF(M20="natural gas",1,IF(ISNUMBER(SEARCH("distillate",M20)),2,"")) -> 1 | M20: Natural Gas | N20: 37.86 | O20: E6FT3S | P20: =(N20*1034) -> 39147.24 | Q20: mmbtu | R20: 0 | S20: =(P20*R20) -> 0 | T20: =(S20*V20)/2000/92 -> 0 | U20: =(P20*V20)/2000 -> 0.978681 | V20: =IF( M20="Natural Gas", 0.05, IF( AND(M20="Distillate Oil", H20>=25, H20<100), 0.12, IF( AND(M20="Distillate Oil", H20>=100), 0.9, V20 ) ) ) -> 0.05 | W20: =T20 -> 0 | X20: 0 | Y20: 0 | Z20: 0 | AA20: =A20 & C20 & L20 -> 22CU-191 | AB20: =Y20 -> 0
A21: 22 | B21: Howard University | C21: CU-20 | D21: Temporary Boiler | E21: Boiler | F21: OP | G21: 2018 | H21: 37 | I21: E6BTU/HR | J21: =VLOOKUP(K21, '[1]Units-SCCs'!$I:$J, 2, FALSE) -> External Combustion Boilers > Commercial/Institutional > Natural Gas > 10-100 Million BTU/hr | K21: 10300602 | L21: =IF(M21="natural gas",1,IF(ISNUMBER(SEARCH("distillate",M21)),2,"")) -> 1 | M21: Natural Gas | N21: 52.62 | O21: E6FT3S | P21: =(N21*1034) -> 54409.08 | Q21: mmbtu | R21: 0.28 | S21: =(P21*R21) -> 15234.542 | T21: =(S21*V21)/2000/92 -> 0.0041398213 | U21: =(P21*V21)/2000 -> 1.360227 | V21: =IF( M21="Natural Gas", 0.05, IF( AND(M21="Distillate Oil", H21>=25, H21<100), 0.12, IF( AND(M21="Distillate Oil", H21>=100), 0.9, V21 ) ) ) -> 0.05 | W21: =T21 -> 0.0041398213 | X21: =T21 -> 0.0041398213 | Y21: 0 | Z21: 0 | AA21: =A21 & C21 & L21 -> 22CU-201 | AB21: =Y21 -> 0
A22: 22 | B22: Howard University | C22: CU-21 | D22: Temporary Boiler | E22: Boiler | F22: OP | G22: 2019 | H22: 37.8 | I22: E6BTU/HR | J22: =VLOOKUP(K22, '[1]Units-SCCs'!$I:$J, 2, FALSE) -> External Combustion Boilers > Commercial/Institutional > Natural Gas > 10-100 Million BTU/hr | K22: 10300602 | L22: =IF(M22="natural gas",1,IF(ISNUMBER(SEARCH("distillate",M22)),2,"")) -> 1 | M22: Natural Gas | N22: 62.47 | O22: E6FT3S | P22: =(N22*1034) -> 64593.98 | Q22: mmbtu | R22: 0.22 | S22: =(P22*R22) -> 14210.676 | T22: =(S22*V22)/2000/92 -> 0.0038615966 | U22: =(P22*V22)/2000 -> 1.6148495 | V22: =IF( M22="Natural Gas", 0.05, IF( AND(M22="Distillate Oil", H22>=25, H22<100), 0.12, IF( AND(M22="Distillate Oil", H22>=100), 0.9, V22 ) ) ) -> 0.05 | W22: =T22 -> 0.0038615966 | X22: =T22 -> 0.0038615966 | Y22: 0 | Z22: 0 | AA22: =A22 & C22 & L22 -> 22CU-211 | AB22: =Y22 -> 0
A23: 22 | B23: Howard University | C23: CU-22 | D23: Temporary Boiler | E23: Boiler | F23: OP | G23: 2019 | H23: 37 | I23: E6BTU/HR | J23: =VLOOKUP(K23, '[1]Units-SCCs'!$I:$J, 2, FALSE) -> External Combustion Boilers > Commercial/Institutional > Natural Gas > 10-100 Million BTU/hr | K23: 10300602 | L23: =IF(M23="natural gas",1,IF(ISNUMBER(SEARCH("distillate",M23)),2,"")) -> 1 | M23: Natural Gas | N23: 42.87 | O23: E6FT3S | P23: =(N23*1034) -> 44327.58 | Q23: mmbtu | R23: 0 | S23: =(P23*R23) -> 0 | T23: =(S23*V23)/2000/92 -> 0 | U23: =(P23*V23)/2000 -> 1.1081895 | V23: =IF( M23="Natural Gas", 0.05, IF( AND(M23="Distillate Oil", H23>=25, H23<100), 0.12, IF( AND(M23="Distillate Oil", H23>=100), 0.9, V23 ) ) ) -> 0.05 | W23: 0 | X23: 0 | Y23: 0 | Z23: 0 | AA23: =A23 & C23 & L23 -> 22CU-221 | AB23: 0
A24: 22 | B24: Howard University | C24: CU-23 | D24: Temporary Boiler | E24: Boiler | F24: OP | G24: 2018 | H24: 37 | I24: E6BTU/HR | J24: =VLOOKUP(K24, '[1]Units-SCCs'!$I:$J, 2, FALSE) -> External Combustion Boilers > Commercial/Institutional > Natural Gas > 10-100 Million BTU/hr | K24: 10300602 | L24: =IF(M24="natural gas",1,IF(ISNUMBER(SEARCH("distillate",M24)),2,"")) -> 1 | M24: Natural Gas | N24: 72.04 | O24: E6FT3S | P24: =(N24*1034) -> 74489.36 | Q24: mmbtu | R24: 0.08 | S24: =(P24*R24) -> 5959.1488 | T24: =(S24*V24)/2000/92 -> 0.0016193339 | U24: =(P24*V24)/2000 -> 1.862234 | V24: =IF( M24="Natural Gas", 0.05, IF( AND(M24="Distillate Oil", H24>=25, H24<100), 0.12, IF( AND(M24="Distillate Oil", H24>=100), 0.9, V24 ) ) ) -> 0.05 | W24: =T24 -> 0.0016193339 | X24: =T24 -> 0.0016193339 | Y24: 0 | Z24: 0 | AA24: =A24 & C24 & L24 -> 22CU-231 | AB24: =Y24 -> 0
A25: 33 | B25: Naval Research Laboratory | C25: 1 | D25: Nebraska NS-E-65; installed 1987 | E25: Boiler | F25: OP | G25: 1987 | H25: 80.5 | I25: E6BTU/HR | J25: =VLOOKUP(K25, '[1]Units-SCCs'!$I:$J, 2, FALSE) -> External Combustion Boilers > Commercial/Institutional > Distillate Oil > 10-100 Million BTU/hr | K25: 10300502 | L25: =IF(M25="natural gas",1,IF(ISNUMBER(SEARCH("distillate",M25)),2,"")) -> 2 | M25: Distillate Oil | N25: 5.92 | O25: E3GAL | P25: =(N25*0.138)*1000 -> 816.96 | Q25: mmbtu | R25: 0.066 | S25: =(P25*R25) -> 53.91936 | T25: =(S25*V25)/2000/92 -> 3.51648e-05 | U25: =(P25*V25)/2000 -> 0.0490176 | V25: =IF( M25="Natural Gas", 0.05, IF( AND(M25="Distillate Oil", H25>=25, H25<100), 0.12, IF( AND(M25="Distillate Oil", H25>=100), 0.9, V25 ) ) ) -> 0.12 | W25: =T25 -> 3.51648e-05 | X25: =T25 -> 3.51648e-05 | Y25: =T25 -> 3.51648e-05 | Z25: =T25 -> 3.51648e-05 | AA25: =A25 & C25 & L25 -> 3312 | AB25: =Y25 -> 3.51648e-05
A26: 33 | B26: Naval Research Laboratory | C26: 2 | D26: Nebraska NS-E-65; installed 1987 | E26: Boiler | F26: OP | G26: 1987 | H26: 80.5 | I26: E6BTU/HR | J26: =VLOOKUP(K26, '[1]Units-SCCs'!$I:$J, 2, FALSE) -> External Combustion Boilers > Commercial/Institutional > Distillate Oil > 10-100 Million BTU/hr | K26: 10300502 | L26: =IF(M26="natural gas",1,IF(ISNUMBER(SEARCH("distillate",M26)),2,"")) -> 2 | M26: Distillate Oil | N26: 5.92 | O26: E3GAL | P26: =(N26*0.138)*1000 -> 816.96 | Q26: mmbtu | R26: 0.066 | S26: =(P26*R26) -> 53.91936 | T26: =(S26*V26)/2000/92 -> 3.51648e-05 | U26: =(P26*V26)/2000 -> 0.0490176 | V26: =IF( M26="Natural Gas", 0.05, IF( AND(M26="Distillate Oil", H26>=25, H26<100), 0.12, IF( AND(M26="Distillate Oil", H26>=100), 0.9, V26 ) ) ) -> 0.12 | W26: =T26 -> 3.51648e-05 | X26: =T26 -> 3.51648e-05 | Y26: =T26 -> 3.51648e-05 | Z26: =T26 -> 3.51648e-05 | AA26: =A26 & C26 & L26 -> 3322 | AB26: =Y26 -> 3.51648e-05
A27: 33 | B27: Naval Research Laboratory | C27: 3 | D27: Nebraska NS-E-53; installed 1987 | E27: Boiler | F27: OP | G27: 1987 | H27: 56.7 | I27: E6BTU/HR | J27: =VLOOKUP(K27, '[1]Units-SCCs'!$I:$J, 2, FALSE) -> External Combustion Boilers > Commercial/Institutional > Distillate Oil > 10-100 Million BTU/hr | K27: 10300502 | L27: =IF(M27="natural gas",1,IF(ISNUMBER(SEARCH("distillate",M27)),2,"")) -> 2 | M27: Distillate Oil | N27: 4.17 | O27: E3GAL | P27: =(N27*0.138)*1000 -> 575.46 | Q27: mmbtu | R27: 0.066 | S27: =(P27*R27) -> 37.98036 | T27: =(S27*V27)/2000/92 -> 2.47698e-05 | U27: =(P27*V27)/2000 -> 0.0345276 | V27: =IF( M27="Natural Gas", 0.05, IF( AND(M27="Distillate Oil", H27>=25, H27<100), 0.12, IF( AND(M27="Distillate Oil", H27>=100), 0.9, V27 ) ) ) -> 0.12 | W27: =T27 -> 2.47698e-05 | X27: =T27 -> 2.47698e-05 | Y27: =T27 -> 2.47698e-05 | Z27: =T27 -> 2.47698e-05 | AA27: =A27 & C27 & L27 -> 3332 | AB27: =Y27 -> 2.47698e-05
A28: 33 | B28: Naval Research Laboratory | C28: 1 | D28: Nebraska NS-E-65; installed 1987 | E28: Boiler | F28: OP | G28: 1987 | H28: 80.5 | I28: E6BTU/HR | J28: =VLOOKUP(K28, '[1]Units-SCCs'!$I:$J, 2, FALSE) -> External Combustion Boilers > Commercial/Institutional > Natural Gas > 10-100 Million BTU/hr | K28: 10300602 | L28: =IF(M28="natural gas",1,IF(ISNUMBER(SEARCH("distillate",M28)),2,"")) -> 1 | M28: Natural Gas | N28: 193017701 | O28: FT3SD | P28: =(N28*1034)/1000000 -> 199580.3 | Q28: mmbtu | R28: 0.189 | S28: =(P28*R28) -> 37720.677 | T28: =(S28*V28)/2000/92 -> 0.010250184 | U28: =(P28*V28)/2000 -> 4.9895076 | V28: =IF( M28="Natural Gas", 0.05, IF( AND(M28="Distillate Oil", H28>=25, H28<100), 0.12, IF( AND(M28="Distillate Oil", H28>=100), 0.9, V28 ) ) ) -> 0.05 | W28: =T28 -> 0.010250184 | X28: =T28 -> 0.010250184 | Y28: =T28 -> 0.010250184 | Z28: =T28 -> 0.010250184 | AA28: =A28 & C28 & L28 -> 3311 | AB28: =Y28 -> 0.010250184
A29: 33 | B29: Naval Research Laboratory | C29: 2 | D29: Nebraska NS-E-65; installed 1987 | E29: Boiler | F29: OP | G29: 1987 | H29: 80.5 | I29: E6BTU/HR | J29: =VLOOKUP(K29, '[1]Units-SCCs'!$I:$J, 2, FALSE) -> External Combustion Boilers > Commercial/Institutional > Natural Gas > 10-100 Million BTU/hr | K29: 10300602 | L29: =IF(M29="natural gas",1,IF(ISNUMBER(SEARCH("distillate",M29)),2,"")) -> 1 | M29: Natural Gas | N29: 193017701 | O29: FT3SD | P29: =(N29*1034)/1000000 -> 199580.3 | Q29: mmbtu | R29: 0.189 | S29: =(P29*R29) -> 37720.677 | T29: =(S29*V29)/2000/92 -> 0.010250184 | U29: =(P29*V29)/2000 -> 4.9895076 | V29: =IF( M29="Natural Gas", 0.05, IF( AND(M29="Distillate Oil", H29>=25, H29<100), 0.12, IF( AND(M29="Distillate Oil", H29>=100), 0.9, V29 ) ) ) -> 0.05 | W29: =T29 -> 0.010250184 | X29: =T29 -> 0.010250184 | Y29: =T29 -> 0.010250184 | Z29: =T29 -> 0.010250184 | AA29: =A29 & C29 & L29 -> 3321 | AB29: =Y29 -> 0.010250184
A30: 33 | B30: Naval Research Laboratory | C30: 3 | D30: Nebraska NS-E-53; installed 1987 | E30: Boiler | F30: OP | G30: 1987 | H30: 56.7 | I30: E6BTU/HR | J30: =VLOOKUP(K30, '[1]Units-SCCs'!$I:$J, 2, FALSE) -> External Combustion Boilers > Commercial/Institutional > Natural Gas > 10-100 Million BTU/hr | K30: 10300602 | L30: =IF(M30="natural gas",1,IF(ISNUMBER(SEARCH("distillate",M30)),2,"")) -> 1 | M30: Natural Gas | N30: 1.359516e+08 | O30: FT3SD | P30: =(N30*1034)/1000000 -> 140573.95 | Q30: mmbtu | R30: 0.189 | S30: =(P30*R30) -> 26568.477 | T30: =(S30*V30)/2000/92 -> 0.0072196948 | U30: =(P30*V30)/2000 -> 3.5143488 | V30: =IF( M30="Natural Gas", 0.05, IF( AND(M30="Distillate Oil", H30>=25, H30<100), 0.12, IF( AND(M30="Distillate Oil", H30>=100), 0.9, V30 ) ) ) -> 0.05 | W30: =T30 -> 0.0072196948 | X30: =T30 -> 0.0072196948 | Y30: =T30 -> 0.0072196948 | Z30: =T30 -> 0.0072196948 | AA30: =A30 & C30 & L30 -> 3331 | AB30: =Y30 -> 0.0072196948
A31: 48 | B31: LEnfant Plaza | C31: CU-1 | D31: East Bldg Boiler 1 | E31: Boiler | F31: OP | G31: 1971 | H31: 25.106 | I31: E6BTU/HR | J31: =VLOOKUP(K31, '[1]Units-SCCs'!$I:$J, 2, FALSE) -> External Combustion Boilers > Commercial/Institutional > Natural Gas > 10-100 Million BTU/hr | K31: 10300602 | L31: =IF(M31="natural gas",1,IF(ISNUMBER(SEARCH("distillate",M31)),2,"")) -> 1 | M31: Natural Gas | N31: 12.233788 | O31: E6FT3SD | P31: =(N31*1034) -> 12649.737 | Q31: mmbtu | R31: 0.05 | S31: =(P31*R31) -> 632.48684 | T31: =(S31*V31)/2000/92 -> 0.00017187142 | U31: =(P31*V31)/2000 -> 0.31624342 | V31: =IF( M31="Natural Gas", 0.05, IF( AND(M31="Distillate Oil", H31>=25, H31<100), 0.12, IF( AND(M31="Distillate Oil", H31>=100), 0.9, V31 ) ) ) -> 0.05 | W31: =T31 -> 0.00017187142 | X31: =T31 -> 0.00017187142 | Y31: =T31 -> 0.00017187142 | Z31: =T31 -> 0.00017187142 | AA31: =A31 & C31 & L31 -> 48CU-11 | AB31: =Y31 -> 0.00017187142
A32: 48 | B32: LEnfant Plaza | C32: CU-2 | D32: East Bldg Boiler 2 | E32: Boiler | F32: OP | G32: 1971 | H32: 25.106 | I32: E6BTU/HR | J32: =VLOOKUP(K32, '[1]Units-SCCs'!$I:$J, 2, FALSE) -> External Combustion Boilers > Commercial/Institutional > Natural Gas > 10-100 Million BTU/hr | K32: 10300602 | L32: =IF(M32="natural gas",1,IF(ISNUMBER(SEARCH("distillate",M32)),2,"")) -> 1 | M32: Natural Gas | N32: 12.233788 | O32: E6FT3SD | P32: =(N32*1034) -> 12649.737 | Q32: mmbtu | R32: 0.05 | S32: =(P32*R32) -> 632.48684 | T32: =(S32*V32)/2000/92 -> 0.00017187142 | U32: =(P32*V32)/2000 -> 0.31624342 | V32: =IF( M32="Natural Gas", 0.05, IF( AND(M32="Distillate Oil", H32>=25, H32<100), 0.12, IF( AND(M32="Distillate Oil", H32>=100), 0.9, V32 ) ) ) -> 0.05 | W32: =T32 -> 0.00017187142 | X32: =T32 -> 0.00017187142 | Y32: =T32 -> 0.00017187142 | Z32: =T32 -> 0.00017187142 | AA32: =A32 & C32 & L32 -> 48CU-21 | AB32: =Y32 -> 0.00017187142
A33: 52 | B33: Providence Hospital | C33: 17035 | D33: Boiler 2 | E33: Boiler | F33: OP | G33: 1977 | H33: 33.2 | I33: E6BTU/HR | J33: =VLOOKUP(K33, '[1]Units-SCCs'!$I:$J, 2, FALSE) -> External Combustion Boilers > Commercial/Institutional > Natural Gas > 10-100 Million BTU/hr | K33: 10300602 | L33: =IF(M33="natural gas",1,IF(ISNUMBER(SEARCH("distillate",M33)),2,"")) -> 1 | M33: Natural Gas | N33: 2000683 | O33: FT3SD | P33: =(N33*1034)/1000000 -> 2068.7062 | Q33: mmbtu | R33: 0.25 | S33: =(P33*R33) -> 517.17656 | T33: =(S33*V33)/2000/92 -> 0.00014053711 | U33: =(P33*V33)/2000 -> 0.051717656 | V33: =IF( M33="Natural Gas", 0.05, IF( AND(M33="Distillate Oil", H33>=25, H33<100), 0.12, IF( AND(M33="Distillate Oil", H33>=100), 0.9, V33 ) ) ) -> 0.05 | W33: =T33 -> 0.00014053711 | X33: =T33 -> 0.00014053711 | Y33: =T33 -> 0.00014053711 | Z33: =T33 -> 0.00014053711 | AA33: =A33 & C33 & L33 -> 52170351 | AB33: =Y33 -> 0.00014053711
A34: 52 | B34: Providence Hospital | C34: 17035 | D34: Boiler 2 | E34: Boiler | F34: OP | G34: 1977 | H34: 33.2 | I34: E6BTU/HR | J34: =VLOOKUP(K34, '[1]Units-SCCs'!$I:$J, 2, FALSE) -> External Combustion Boilers > Commercial/Institutional > Distillate Oil > 10-100 Million BTU/hr | K34: 10300502 | L34: =IF(M34="natural gas",1,IF(ISNUMBER(SEARCH("distillate",M34)),2,"")) -> 2 | M34: Distillate Oil | N34: 24 | O34: GAL | P34: =(N34*0.138) -> 3.312 | Q34: mmbtu | R34: 0 | S34: =(P34*R34) -> 0 | T34: =(S34*V34)/2000/92 -> 0 | U34: =(P34*V34)/2000 -> 0.00019872 | V34: =IF( M34="Natural Gas", 0.05, IF( AND(M34="Distillate Oil", H34>=25, H34<100), 0.12, IF( AND(M34="Distillate Oil", H34>=100), 0.9, V34 ) ) ) -> 0.12 | W34: =T34 -> 0 | X34: =T34 -> 0 | Y34: =T34 -> 0 | Z34: =T34 -> 0 | AA34: =A34 & C34 & L34 -> 52170352 | AB34: =Y34 -> 0
A35: 54 | B35: Sibley Memorial Hospital | C35: CU-1 | D35: Cleaver Brooks Water Tube Boiler | E35: Boiler | F35: OP | G35: 1996 | H35: 38.5 | I35: E6BTU/HR | J35: =VLOOKUP(K35, '[1]Units-SCCs'!$I:$J, 2, FALSE) -> External Combustion Boilers > Commercial/Institutional > Distillate Oil > 10-100 Million BTU/hr | K35: 10300502 | L35: =IF(M35="natural gas",1,IF(ISNUMBER(SEARCH("distillate",M35)),2,"")) -> 2 | M35: Distillate Oil | N35: 1877 | O35: GAL | P35: =(N35*0.138) -> 259.026 | Q35: mmbtu | R35: 0 | S35: =(P35*R35) -> 0 | T35: =(S35*V35)/2000/92 -> 0 | U35: =(P35*V35)/2000 -> 0.01554156 | V35: =IF( M35="Natural Gas", 0.05, IF( AND(M35="Distillate Oil", H35>=25, H35<100), 0.12, IF( AND(M35="Distillate Oil", H35>=100), 0.9, V35 ) ) ) -> 0.12 | W35: =T35 -> 0 | X35: =T35 -> 0 | Y35: =T35 -> 0 | Z35: =T35 -> 0 | AA35: =A35 & C35 & L35 -> 54CU-12 | AB35: =Y35 -> 0
A36: 54 | B36: Sibley Memorial Hospital | C36: CU-1 | D36: Cleaver Brooks Water Tube Boiler | E36: Boiler | F36: OP | G36: 1996 | H36: 38.5 | I36: E6BTU/HR | J36: =VLOOKUP(K36, '[1]Units-SCCs'!$I:$J, 2, FALSE) -> External Combustion Boilers > Commercial/Institutional > Natural Gas > 10-100 Million BTU/hr | K36: 10300602 | L36: =IF(M36="natural gas",1,IF(ISNUMBER(SEARCH("distillate",M36)),2,"")) -> 1 | M36: Natural Gas | N36: 2.782031 | O36: E6FT3S | P36: =(N36*1034) -> 2876.6201 | Q36: mmbtu | R36: 0 | S36: =(P36*R36) -> 0 | T36: =(S36*V36)/2000/92 -> 0 | U36: =(P36*V36)/2000 -> 0.071915501 | V36: =IF( M36="Natural Gas", 0.05, IF( AND(M36="Distillate Oil", H36>=25, H36<100), 0.12, IF( AND(M36="Distillate Oil", H36>=100), 0.9, V36 ) ) ) -> 0.05 | W36: =T36 -> 0 | X36: =T36 -> 0 | Y36: =T36 -> 0 | Z36: =T36 -> 0 | AA36: =A36 & C36 & L36 -> 54CU-11 | AB36: =Y36 -> 0
A37: 54 | B37: Sibley Memorial Hospital | C37: CU-2 | D37: Cleaver Brooks Water Tube Boiler | E37: Boiler | F37: OP | G37: 1996 | H37: 38.5 | I37: E6BTU/HR | J37: =VLOOKUP(K37, '[1]Units-SCCs'!$I:$J, 2, FALSE) -> External Combustion Boilers > Commercial/Institutional > Distillate Oil > 10-100 Million BTU/hr | K37: 10300502 | L37: =IF(M37="natural gas",1,IF(ISNUMBER(SEARCH("distillate",M37)),2,"")) -> 2 | M37: Distillate Oil | N37: 1912 | O37: GAL | P37: =(N37*0.138) -> 263.856 | Q37: mmbtu | R37: 0 | S37: =(P37*R37) -> 0 | T37: =(S37*V37)/2000/92 -> 0 | U37: =(P37*V37)/2000 -> 0.01583136 | V37: =IF( M37="Natural Gas", 0.05, IF( AND(M37="Distillate Oil", H37>=25, H37<100), 0.12, IF( AND(M37="Distillate Oil", H37>=100), 0.9, V37 ) ) ) -> 0.12 | W37: =T37 -> 0 | X37: =T37 -> 0 | Y37: =T37 -> 0 | Z37: =T37 -> 0 | AA37: =A37 & C37 & L37 -> 54CU-22 | AB37: =Y37 -> 0
A38: 54 | B38: Sibley Memorial Hospital | C38: CU-2 | D38: Cleaver Brooks Water Tube Boiler | E38: Boiler | F38: OP | G38: 1996 | H38: 38.5 | I38: E6BTU/HR | J38: =VLOOKUP(K38, '[1]Units-SCCs'!$I:$J, 2, FALSE) -> External Combustion Boilers > Commercial/Institutional > Natural Gas > 10-100 Million BTU/hr | K38: 10300602 | L38: =IF(M38="natural gas",1,IF(ISNUMBER(SEARCH("distillate",M38)),2,"")) -> 1 | M38: Natural Gas | N38: 1.287753 | O38: E6FT3S | P38: =(N38*1034) -> 1331.5366 | Q38: mmbtu | R38: 0 | S38: =(P38*R38) -> 0 | T38: =(S38*V38)/2000/92 -> 0 | U38: =(P38*V38)/2000 -> 0.033288415 | V38: =IF( M38="Natural Gas", 0.05, IF( AND(M38="Distillate Oil", H38>=25, H38<100), 0.12, IF( AND(M38="Distillate Oil", H38>=100), 0.9, V38 ) ) ) -> 0.05 | W38: =T38 -> 0 | X38: =T38 -> 0 | Y38: =T38 -> 0 | Z38: =T38 -> 0 | AA38: =A38 & C38 & L38 -> 54CU-21 | AB38: =Y38 -> 0
A39: 59 | B39: Georgetown University | C39: EPN-1 | D39: NG/FO Boiler 1 | E39: Boiler | F39: OP | G39: 1969 | H39: 127 | I39: E6BTU/HR | J39: =VLOOKUP(K39, '[1]Units-SCCs'!$I:$J, 2, FALSE) -> > 100 Million BTU/hr | K39: 10300601 | L39: =IF(M39="natural gas",1,IF(ISNUMBER(SEARCH("distillate",M39)),2,"")) -> 1 | M39: Natural Gas | N39: 268.16 | O39: E6FT3S | P39: =(N39*1034) -> 277277.44 | Q39: mmbtu | R39: 0.1 | S39: =(P39*R39) -> 27727.744 | T39: =(S39*V39)/2000/92 -> 0.007534713 | U39: =(P39*V39)/2000 -> 6.931936 | V39: =IF( M39="Natural Gas", 0.05, IF( AND(M39="Distillate Oil", H39>=25, H39<100), 0.12, IF( AND(M39="Distillate Oil", H39>=100), 0.9, V39 ) ) ) -> 0.05 | W39: =T39 -> 0.007534713 | X39: =T39 -> 0.007534713 | Y39: =T39 -> 0.007534713 | Z39: =T39 -> 0.007534713 | AA39: =A39 & C39 & L39 -> 59EPN-11 | AB39: =Y39 -> 0.007534713
A40: 59 | B40: Georgetown University | C40: EPN-1 | D40: NG/FO Boiler 1 | E40: Boiler | F40: OP | G40: 1969 | H40: 127 | I40: E6BTU/HR | J40: =VLOOKUP(K40, '[1]Units-SCCs'!$I:$J, 2, FALSE) -> Distillate Oil - Grades 1 and 2: Boiler | K40: 10300501 | L40: =IF(M40="natural gas",1,IF(ISNUMBER(SEARCH("distillate",M40)),2,"")) -> 2 | M40: Distillate Oil | N40: 0 | O40: E3GAL | P40: =(N40*0.138)*1000 -> 0 | Q40: mmbtu | R40: 0.1 | S40: =(P40*R40) -> 0 | T40: =(S40*V40)/2000/92 -> 0 | U40: =(P40*V40)/2000 -> 0 | V40: =IF( M40="Natural Gas", 0.05, IF( AND(M40="Distillate Oil", H40>=25, H40<100), 0.12, IF( AND(M40="Distillate Oil", H40>=100), 0.9, V40 ) ) ) -> 0.9 | W40: =T40 -> 0 | X40: =T40 -> 0 | Y40: =T40 -> 0 | Z40: =T40 -> 0 | AA40: =A40 & C40 & L40 -> 59EPN-12 | AB40: =Y40 -> 0
...

Sheet Calculations
A1: Facility ID | B1: Facility | C1: Agency Unit ID | D1: Pollutant | E1: SCC | F1: Fuel | G1: Expected Compliance Year | H1: Compliant in 2022? | I1: Compliant in 2026? | J1: Compliant in 2032? | K1: Compliant in 2038? | L1: Base Year (2022 Emissions from CAERS) | M1: 2022 OSD | N1: 2026 OSTd | O1: 2032 OSTd (tons/day) | P1: 2038 OSTd (tons/day) | Q1: Unique | R1: NOX RACT Emissions
A2: 8 | B2: D.C. General Hospital | C2: CU-1 | D2: NOX | E2: 10300602 | F2: 1 | H2: no | I2: no | J2: yes | K2: yes | L2: =VLOOKUP(Q2,'OSD (R Studio)'!O:P, 2, FALSE) -> 0.00024233696 | M2: =IF($R2>=$L2,$L2,IF($H2="yes",$R2,$L2)) -> 0.00024233696 | N2: =IF($R2>=$L2,$L2,IF($I2="yes",$R2,$L2)) -> 0.00024233696 | O2: =IF($R2>=$L2,$L2,IF($J2="yes",$R2,$L2)) -> 0.00024233696 | P2: =IF($R2>=$L2,$L2,IF($K2="yes",$R2,$L2)) -> 0.00024233696 | Q2: =A2 & C2 & F2 -> 8CU-11 | R2: =VLOOKUP(Q2, 'NOX RACT Units'!$AA:$AB, 2, FALSE) -> 0.0022779698
A3: 8 | B3: D.C. General Hospital | C3: CU-4 | D3: NOX | E3: 10300602 | F3: 1 | H3: no | I3: no | J3: yes | K3: yes | L3: =VLOOKUP(Q3,'OSD (R Studio)'!O:P, 2, FALSE) -> 0.00024422283 | M3: =IF($R3>=$L3,$L3,IF($H3="yes",$R3,$L3)) -> 0.00024422283 | N3: =IF($R3>=$L3,$L3,IF($I3="yes",$R3,$L3)) -> 0.00024422283 | O3: =IF($R3>=$L3,$L3,IF($J3="yes",$R3,$L3)) -> 0.00024422283 | P3: =IF($R3>=$L3,$L3,IF($K3="yes",$R3,$L3)) -> 0.00024422283 | Q3: =A3 & C3 & F3 -> 8CU-41 | R3: =VLOOKUP(Q3, 'NOX RACT Units'!$AA:$AB, 2, FALSE) -> 0.0022956914
A4: 10 | B4: George Washington University | C4: 6618-C-R1-CT | D4: NOX | E4: 10200604 | F4: 1 | G4: in compliance | H4: yes | I4: yes | J4: yes | K4: yes | L4: =VLOOKUP(Q4,'OSD (R Studio)'!O:P, 2, FALSE) -> 1.2434783e-09 | M4: =IF($R4>=$L4,$L4,IF($H4="yes",$R4,$L4)) -> 1.2434783e-09 | N4: =IF($R4>=$L4,$L4,IF($I4="yes",$R4,$L4)) -> 1.2434783e-09 | O4: =IF($R4>=$L4,$L4,IF($J4="yes",$R4,$L4)) -> 1.2434783e-09 | P4: =IF($R4>=$L4,$L4,IF($K4="yes",$R4,$L4)) -> 1.2434783e-09 | Q4: =A4 & C4 & F4 -> 106618-C-R1-CT1 | R4: =VLOOKUP(Q4, 'NOX RACT Units'!$AA:$AB, 2, FALSE) -> 0.015428034
A5: 10 | B5: George Washington University | C5: EUN-34 | D5: NOX | E5: 10300502 | F5: 2 | G5: not in compliance | H5: No | I5: plan to retest/low-nox burners. Administrative order. In the meantime they cannot use the boilers over 25mmbtu threshold | J5: no | K5: no | L5: =VLOOKUP(Q5,'OSD (R Studio)'!O:P, 2, FALSE) -> 3.7336957e-07 | M5: =IF($R5>=$L5,$L5,IF($H5="yes",$R5,$L5)) -> 3.7336957e-07 | N5: =IF($R5>=$L5,$L5,IF($I5="yes",$R5,$L5)) -> 3.7336957e-07 | O5: =IF($R5>=$L5,$L5,IF($J5="yes",$R5,$L5)) -> 3.7336957e-07 | P5: =IF($R5>=$L5,$L5,IF($K5="yes",$R5,$L5)) -> 3.7336957e-07 | Q5: =A5 & C5 & F5 -> 10EUN-342 | R5: =VLOOKUP(Q5, 'NOX RACT Units'!$AA:$AB, 2, FALSE) -> 1.5435e-05
A6: 10 | B6: George Washington University | C6: EUN-35 | D6: NOX | E6: 10300502 | F6: 2 | G6: not in compliance | H6: No | I6: plan to retest/low-nox burners. Administrative order. In the meantime they cannot use the boilers over 25mmbtu threshold | J6: no | K6: no | L6: =VLOOKUP(Q6,'OSD (R Studio)'!O:P, 2, FALSE) -> 3.7336957e-07 | M6: =IF($R6>=$L6,$L6,IF($H6="yes",$R6,$L6)) -> 3.7336957e-07 | N6: =IF($R6>=$L6,$L6,IF($I6="yes",$R6,$L6)) -> 3.7336957e-07 | O6: =IF($R6>=$L6,$L6,IF($J6="yes",$R6,$L6)) -> 3.7336957e-07 | P6: =IF($R6>=$L6,$L6,IF($K6="yes",$R6,$L6)) -> 3.7336957e-07 | Q6: =A6 & C6 & F6 -> 10EUN-352 | R6: =VLOOKUP(Q6, 'NOX RACT Units'!$AA:$AB, 2, FALSE) -> 1.5435e-05
A7: 10 | B7: George Washington University | C7: EUN-34 | D7: NOX | E7: 10300602 | F7: 1 | G7: not in compliance | H7: No | I7: plan to retest/low-nox burners. Administrative order. In the meantime they cannot use the boilers over 25mmbtu threshold | J7: no | K7: no | L7: =VLOOKUP(Q7,'OSD (R Studio)'!O:P, 2, FALSE) -> 0.00019243099 | M7: =IF($R7>=$L7,$L7,IF($H7="yes",$R7,$L7)) -> 0.00019243099 | N7: =IF($R7>=$L7,$L7,IF($I7="yes",$R7,$L7)) -> 0.00019243099 | O7: =IF($R7>=$L7,$L7,IF($J7="yes",$R7,$L7)) -> 0.00019243099 | P7: =IF($R7>=$L7,$L7,IF($K7="yes",$R7,$L7)) -> 0.00019243099 | Q7: =A7 & C7 & F7 -> 10EUN-341 | R7: =VLOOKUP(Q7, 'NOX RACT Units'!$AA:$AB, 2, FALSE) -> 0.0035893006
A8: 10 | B8: George Washington University | C8: EUN-35 | D8: NOX | E8: 10300602 | F8: 1 | G8: not in compliance | H8: No | I8: plan to retest/low-nox burners. Administrative order. In the meantime they cannot use the boilers over 25mmbtu threshold | J8: no | K8: no | L8: =VLOOKUP(Q8,'OSD (R Studio)'!O:P, 2, FALSE) -> 0.00019243099 | M8: =IF($R8>=$L8,$L8,IF($H8="yes",$R8,$L8)) -> 0.00019243099 | N8: =IF($R8>=$L8,$L8,IF($I8="yes",$R8,$L8)) -> 0.00019243099 | O8: =IF($R8>=$L8,$L8,IF($J8="yes",$R8,$L8)) -> 0.00019243099 | P8: =IF($R8>=$L8,$L8,IF($K8="yes",$R8,$L8)) -> 0.00019243099 | Q8: =A8 & C8 & F8 -> 10EUN-351 | R8: =VLOOKUP(Q8, 'NOX RACT Units'!$AA:$AB, 2, FALSE) -> 0.0035893006
A9: 13 | B9: Washington Navy Yard | C9: 3 | D9: NOX | E9: 10300601 | F9: 1 | H9: yes | I9: yes | J9: yes | K9: yes | L9: =VLOOKUP(Q9,'OSD (R Studio)'!O:P, 2, FALSE) -> 1.0949538e-05 | M9: =IF($R9>=$L9,$L9,IF($H9="yes",$R9,$L9)) -> 1.0949538e-05 | N9: =IF($R9>=$L9,$L9,IF($I9="yes",$R9,$L9)) -> 1.0949538e-05 | O9: =IF($R9>=$L9,$L9,IF($J9="yes",$R9,$L9)) -> 1.0949538e-05 | P9: =IF($R9>=$L9,$L9,IF($K9="yes",$R9,$L9)) -> 1.0949538e-05 | Q9: =A9 & C9 & F9 -> 1331 | R9: =VLOOKUP(Q9, 'NOX RACT Units'!$AA:$AB, 2, FALSE) -> 0.0029299008
A10: 13 | B10: Washington Navy Yard | C10: 3 | D10: NOX | E10: 10300501 | F10: 2 | H10: yes | I10: yes | J10: yes | K10: yes | L10: =VLOOKUP(Q10,'OSD (R Studio)'!O:P, 2, FALSE) -> 2.3445652e-07 | M10: =IF($R10>=$L10,$L10,IF($H10="yes",$R10,$L10)) -> 2.3445652e-07 | N10: =IF($R10>=$L10,$L10,IF($I10="yes",$R10,$L10)) -> 2.3445652e-07 | O10: =IF($R10>=$L10,$L10,IF($J10="yes",$R10,$L10)) -> 2.3445652e-07 | P10: =IF($R10>=$L10,$L10,IF($K10="yes",$R10,$L10)) -> 2.3445652e-07 | Q10: =A10 & C10 & F10 -> 1332 | R10: =VLOOKUP(Q10, 'NOX RACT Units'!$AA:$AB, 2, FALSE) -> 3.726e-05
A11: 13 | B11: Washington Navy Yard | C11: 5 | D11: NOX | E11: 10300601 | F11: 1 | H11: yes | I11: yes | J11: yes | K11: yes | L11: =VLOOKUP(Q11,'OSD (R Studio)'!O:P, 2, FALSE) -> 3.7120761e-05 | M11: =IF($R11>=$L11,$L11,IF($H11="yes",$R11,$L11)) -> 2.2767668e-10 | N11: =IF($R11>=$L11,$L11,IF($I11="yes",$R11,$L11)) -> 2.2767668e-10 | O11: =IF($R11>=$L11,$L11,IF($J11="yes",$R11,$L11)) -> 2.2767668e-10 | P11: =IF($R11>=$L11,$L11,IF($K11="yes",$R11,$L11)) -> 2.2767668e-10 | Q11: =A11 & C11 & F11 -> 1351 | R11: =VLOOKUP(Q11, 'NOX RACT Units'!$AA:$AB, 2, FALSE) -> 2.2767668e-10
A12: 13 | B12: Washington Navy Yard | C12: 5 | D12: NOX | E12: 10300501 | F12: 2 | H12: yes | I12: yes | J12: yes | K12: yes | L12: =VLOOKUP(Q12,'OSD (R Studio)'!O:P, 2, FALSE) -> 0 | M12: =IF($R12>=$L12,$L12,IF($H12="yes",$R12,$L12)) -> 0 | N12: =IF($R12>=$L12,$L12,IF($I12="yes",$R12,$L12)) -> 0 | O12: =IF($R12>=$L12,$L12,IF($J12="yes",$R12,$L12)) -> 0 | P12: =IF($R12>=$L12,$L12,IF($K12="yes",$R12,$L12)) -> 0 | Q12: =A12 & C12 & F12 -> 1352 | R12: =VLOOKUP(Q12, 'NOX RACT Units'!$AA:$AB, 2, FALSE) -> 0
A13: 14 | B13: Washington Hospital Center | C13: 1 | D13: NOX | E13: 10300602 | F13: 1 | H13: yes | I13: yes | J13: yes | K13: yes | L13: =VLOOKUP(Q13,'OSD (R Studio)'!O:P, 2, FALSE) -> 0.00041895652 | M13: =IF($R13>=$L13,$L13,IF($H13="yes",$R13,$L13)) -> 0.00041895652 | N13: =IF($R13>=$L13,$L13,IF($I13="yes",$R13,$L13)) -> 0.00041895652 | O13: =IF($R13>=$L13,$L13,IF($J13="yes",$R13,$L13)) -> 0.00041895652 | P13: =IF($R13>=$L13,$L13,IF($K13="yes",$R13,$L13)) -> 0.00041895652 | Q13: =A13 & C13 & F13 -> 1411 | R13: =VLOOKUP(Q13, 'NOX RACT Units'!$AA:$AB, 2, FALSE) -> 0.0039381913
A14: 14 | B14: Washington Hospital Center | C14: 1 | D14: NOX | E14: 10300502 | F14: 2 | H14: yes | I14: yes | J14: yes | K14: yes | L14: =VLOOKUP(Q14,'OSD (R Studio)'!O:P, 2, FALSE) -> 0 | M14: =IF($R14>=$L14,$L14,IF($H14="yes",$R14,$L14)) -> 0 | N14: =IF($R14>=$L14,$L14,IF($I14="yes",$R14,$L14)) -> 0 | O14: =IF($R14>=$L14,$L14,IF($J14="yes",$R14,$L14)) -> 0 | P14: =IF($R14>=$L14,$L14,IF($K14="yes",$R14,$L14)) -> 0 | Q14: =A14 & C14 & F14 -> 1412 | R14: =VLOOKUP(Q14, 'NOX RACT Units'!$AA:$AB, 2, FALSE) -> 0
A15: 14 | B15: Washington Hospital Center | C15: 2 | D15: NOX | E15: 10300602 | F15: 1 | H15: yes | I15: yes | J15: yes | K15: yes | L15: =VLOOKUP(Q15,'OSD (R Studio)'!O:P, 2, FALSE) -> 0.00042106087 | M15: =IF($R15>=$L15,$L15,IF($H15="yes",$R15,$L15)) -> 0.00042106087 | N15: =IF($R15>=$L15,$L15,IF($I15="yes",$R15,$L15)) -> 0.00042106087 | O15: =IF($R15>=$L15,$L15,IF($J15="yes",$R15,$L15)) -> 0.00042106087 | P15: =IF($R15>=$L15,$L15,IF($K15="yes",$R15,$L15)) -> 0.00042106087 | Q15: =A15 & C15 & F15 -> 1421 | R15: =VLOOKUP(Q15, 'NOX RACT Units'!$AA:$AB, 2, FALSE) -> 0.0039579722
A16: 14 | B16: Washington Hospital Center | C16: 2 | D16: NOX | E16: 10300502 | F16: 2 | H16: yes | I16: yes | J16: yes | K16: yes | L16: =VLOOKUP(Q16,'OSD (R Studio)'!O:P, 2, FALSE) -> 0 | M16: =IF($R16>=$L16,$L16,IF($H16="yes",$R16,$L16)) -> 0 | N16: =IF($R16>=$L16,$L16,IF($I16="yes",$R16,$L16)) -> 0 | O16: =IF($R16>=$L16,$L16,IF($J16="yes",$R16,$L16)) -> 0 | P16: =IF($R16>=$L16,$L16,IF($K16="yes",$R16,$L16)) -> 0 | Q16: =A16 & C16 & F16 -> 1422 | R16: =VLOOKUP(Q16, 'NOX RACT Units'!$AA:$AB, 2, FALSE) -> 0
A17: 14 | B17: Washington Hospital Center | C17: 3 | D17: NOX | E17: 10300602 | F17: 1 | H17: yes | I17: yes | J17: yes | K17: yes | L17: =VLOOKUP(Q17,'OSD (R Studio)'!O:P, 2, FALSE) -> 0.00020693804 | M17: =IF($R17>=$L17,$L17,IF($H17="yes",$R17,$L17)) -> 0.00020693804 | N17: =IF($R17>=$L17,$L17,IF($I17="yes",$R17,$L17)) -> 0.00020693804 | O17: =IF($R17>=$L17,$L17,IF($J17="yes",$R17,$L17)) -> 0.00020693804 | P17: =IF($R17>=$L17,$L17,IF($K17="yes",$R17,$L17)) -> 0.00020693804 | Q17: =A17 & C17 & F17 -> 1431 | R17: =VLOOKUP(Q17, 'NOX RACT Units'!$AA:$AB, 2, FALSE) -> 0.0019452125
A18: 14 | B18: Washington Hospital Center | C18: 3 | D18: NOX | E18: 10300502 | F18: 2 | H18: yes | I18: yes | J18: yes | K18: yes | L18: =VLOOKUP(Q18,'OSD (R Studio)'!O:P, 2, FALSE) -> 5.2696304e-06 | M18: =IF($R18>=$L18,$L18,IF($H18="yes",$R18,$L18)) -> 5.2696304e-06 | N18: =IF($R18>=$L18,$L18,IF($I18="yes",$R18,$L18)) -> 5.2696304e-06 | O18: =IF($R18>=$L18,$L18,IF($J18="yes",$R18,$L18)) -> 5.2696304e-06 | P18: =IF($R18>=$L18,$L18,IF($K18="yes",$R18,$L18)) -> 5.2696304e-06 | Q18: =A18 & C18 & F18 -> 1432 | R18: =VLOOKUP(Q18, 'NOX RACT Units'!$AA:$AB, 2, FALSE) -> 0.000256662
A19: 14 | B19: Washington Hospital Center | C19: 5 | D19: NOX | E19: 10300602 | F19: 1 | H19: yes | I19: yes | J19: yes | K19: yes | L19: =VLOOKUP(Q19,'OSD (R Studio)'!O:P, 2, FALSE) -> 0.00032292174 | M19: =IF($R19>=$L19,$L19,IF($H19="yes",$R19,$L19)) -> 0.00032292174 | N19: =IF($R19>=$L19,$L19,IF($I19="yes",$R19,$L19)) -> 0.00032292174 | O19: =IF($R19>=$L19,$L19,IF($J19="yes",$R19,$L19)) -> 0.00032292174 | P19: =IF($R19>=$L19,$L19,IF($K19="yes",$R19,$L19)) -> 0.00032292174 | Q19: =A19 & C19 & F19 -> 1451 | R19: =VLOOKUP(Q19, 'NOX RACT Units'!$AA:$AB, 2, FALSE) -> 0.0030354643
A20: 14 | B20: Washington Hospital Center | C20: 6 | D20: NOX | E20: 10300602 | F20: 1 | H20: yes | I20: yes | J20: yes | K20: yes | L20: =VLOOKUP(Q20,'OSD (R Studio)'!O:P, 2, FALSE) -> 0.00035470217 | M20: =IF($R20>=$L20,$L20,IF($H20="yes",$R20,$L20)) -> 0.00035470217 | N20: =IF($R20>=$L20,$L20,IF($I20="yes",$R20,$L20)) -> 0.00035470217 | O20: =IF($R20>=$L20,$L20,IF($J20="yes",$R20,$L20)) -> 0.00035470217 | P20: =IF($R20>=$L20,$L20,IF($K20="yes",$R20,$L20)) -> 0.00035470217 | Q20: =A20 & C20 & F20 -> 1461 | R20: =VLOOKUP(Q20, 'NOX RACT Units'!$AA:$AB, 2, FALSE) -> 0.0033342004
A21: 21 | B21: Gallaudet University | C21: CU-1 | D21: NOX | E21: 10300602 | F21: 1 | H21: yes | I21: yes | J21: yes | K21: yes | L21: =VLOOKUP(Q21,'OSD (R Studio)'!O:P, 2, FALSE) -> 1.0869565e-05 | M21: =IF($R21>=$L21,$L21,IF($H21="yes",$R21,$L21)) -> 1.0869565e-05 | N21: =IF($R21>=$L21,$L21,IF($I21="yes",$R21,$L21)) -> 1.0869565e-05 | O21: =IF($R21>=$L21,$L21,IF($J21="yes",$R21,$L21)) -> 1.0869565e-05 | P21: =IF($R21>=$L21,$L21,IF($K21="yes",$R21,$L21)) -> 1.0869565e-05 | Q21: =A21 & C21 & F21 -> 21CU-11 | R21: =VLOOKUP(Q21, 'NOX RACT Units'!$AA:$AB, 2, FALSE) -> 0.0035750851
A22: 21 | B22: Gallaudet University | C22: CU-1 | D22: NOX | E22: 10300502 | F22: 2 | H22: no | I22: we will get the results from re-test in feb. | L22: =VLOOKUP(Q22,'OSD (R Studio)'!O:P, 2, FALSE) -> 0 | M22: =IF($R22>=$L22,$L22,IF($H22="yes",$R22,$L22)) -> 0 | N22: =IF($R22>=$L22,$L22,IF($I22="yes",$R22,$L22)) -> 0 | O22: =IF($R22>=$L22,$L22,IF($J22="yes",$R22,$L22)) -> 0 | P22: =IF($R22>=$L22,$L22,IF($K22="yes",$R22,$L22)) -> 0 | Q22: =A22 & C22 & F22 -> 21CU-12 | R22: =VLOOKUP(Q22, 'NOX RACT Units'!$AA:$AB, 2, FALSE) -> 0
A23: 21 | B23: Gallaudet University | C23: CU-2 | D23: NOX | E23: 10300602 | F23: 1 | H23: no | I23: we will get the results from re-test in feb. | L23: =VLOOKUP(Q23,'OSD (R Studio)'!O:P, 2, FALSE) -> 0 | M23: =IF($R23>=$L23,$L23,IF($H23="yes",$R23,$L23)) -> 0 | N23: =IF($R23>=$L23,$L23,IF($I23="yes",$R23,$L23)) -> 0 | O23: =IF($R23>=$L23,$L23,IF($J23="yes",$R23,$L23)) -> 0 | P23: =IF($R23>=$L23,$L23,IF($K23="yes",$R23,$L23)) -> 0 | Q23: =A23 & C23 & F23 -> 21CU-21 | R23: =VLOOKUP(Q23, 'NOX RACT Units'!$AA:$AB, 2, FALSE) -> 0.0035313279
A24: 21 | B24: Gallaudet University | C24: CU-2 | D24: NOX | E24: 10300502 | F24: 2 | H24: no | I24: we will get the results from re-test in feb. | L24: =VLOOKUP(Q24,'OSD (R Studio)'!O:P, 2, FALSE) -> 0 | M24: =IF($R24>=$L24,$L24,IF($H24="yes",$R24,$L24)) -> 0 | N24: =IF($R24>=$L24,$L24,IF($I24="yes",$R24,$L24)) -> 0 | O24: =IF($R24>=$L24,$L24,IF($J24="yes",$R24,$L24)) -> 0 | P24: =IF($R24>=$L24,$L24,IF($K24="yes",$R24,$L24)) -> 0 | Q24: =A24 & C24 & F24 -> 21CU-22 | R24: =VLOOKUP(Q24, 'NOX RACT Units'!$AA:$AB, 2, FALSE) -> 0
