Workbook

Sheet Summary by County
B3: Carbon Monoxide | H3: Nitrogen Oxide | N3: Volatile Organic Compounds
B4: 2022, tpy | C4: 2022, OSTD | D4: 2032, tpy | E4: 2032, OSTD | F4: 2038, tpy | G4: 2038, OSTD | H4: 2022, tpy | I4: 2022, OSTD | J4: 2032, tpy | K4: 2032, OSTD | L4: 2038, tpy | M4: 2038, OSTD | N4: 2022, tpy | O4: 2022, OSTD | P4: 2032, tpy | Q4: 2032, OSTD | R4: 2038, tpy | S4: 2038, OSTD
A5: Alexandria City | B5: 51.399975 | C5: 0.15149974 | D5: 51.404087 | E5: 0.15151186 | F5: 51.404087 | G5: 0.15151186 | H5: 275.5446 | I5: 0.81303283 | J5: 275.56664 | K5: 0.81309788 | L5: 275.56664 | M5: 0.81309788 | N5: 0.1928392 | O5: 0.0005642211 | P5: 0.19285463 | Q5: 0.00056426624 | R5: 0.19285463 | S5: 0.00056426624
A6: Fairfax City | B6: 19.611 | C6: 0.055252657 | D6: 21.790282 | E6: 0.061392634 | F6: 23.163184 | G6: 0.065260695 | H6: 7.867 | I6: 0.02216345 | J6: 8.741224 | K6: 0.024626374 | L6: 9.2919674 | M6: 0.026177966 | N6: 123.94436 | O6: 0.33751764 | P6: 104.16438 | Q6: 0.29231647 | R6: 104.51803 | S6: 0.29326407
A7: Fairfax County | B7: 250.11172 | C7: 3.829896 | D7: 249.45112 | E7: 3.6679015 | F7: 251.97721 | G7: 3.7361478 | H7: 1123.6989 | I7: 5.4876599 | J7: 1188.0189 | K7: 5.6530945 | L7: 1191.4079 | M7: 5.7124915 | N7: 131.20826 | O7: 0.54505808 | P7: 116.46136 | Q7: 0.50099041 | R7: 116.0854 | S7: 0.50268203
A8: Loudoun County | B8: 93.862025 | C8: 0.30763998 | D8: 112.16603 | E8: 0.36105251 | F8: 123.81932 | G8: 0.39134098 | H8: 319.25562 | I8: 1.0216484 | J8: 368.4336 | K8: 1.1868326 | L8: 377.76688 | M8: 1.148766 | N8: 19.396143 | O8: 0.071326005 | P8: 21.120799 | Q8: 0.075860065 | R8: 23.251889 | S8: 0.076484883
A9: Manassas City | B9: 32.955151 | C9: 0.11915507 | D9: 39.143782 | E9: 0.14155691 | F9: 42.09279 | G9: 0.1522215 | H9: 44.926146 | I9: 0.22445325 | J9: 51.618395 | K9: 0.25824399 | L9: 55.962938 | M9: 0.27997949 | N9: 36.056801 | O9: 0.10057609 | P9: 41.008392 | Q9: 0.11440572 | R9: 44.591587 | S9: 0.12440216
A10: Prince William County | B10: 436.06092 | C10: 1.4958414 | D10: 219.24894 | E10: 0.80609596 | F10: 228.19017 | G10: 0.83895453 | H10: 299.07814 | I10: 1.8576787 | J10: 259.03596 | K10: 1.821004 | L10: 239.75198 | M10: 1.7182463 | N10: 83.84695 | O10: 0.3528 | P10: 44.866156 | Q10: 0.23063296 | R10: 44.764222 | S10: 0.22839861
A11: Totals: | B11: 884.00079 | C11: 5.9592849 | D11: 693.20424 | E11: 5.1895114 | F11: 720.64676 | G11: 5.3354373 | H11: 2070.3704 | I11: 9.4266365 | J11: 2151.4147 | K11: 9.7568994 | L11: 2149.7483 | M11: 9.6987591 | N11: 394.64536 | O11: 1.407842 | P11: 327.81394 | Q11: 1.2147699 | R11: 333.40398 | S11: 1.225796

Sheet Virginia NoVA Inventory
A1: CMS Category | B1: Emission Year | C1: Registration No | D1: Federal EIS Id | E1: Site Name | F1: FIPS County City Description | G1: FIPS County City Code | H1: Federal Id | I1: Release Point Number | J1: Facility Release Point Number | K1: Unit Description | L1: Unit Number | M1: Facility Unit Number | N1: Days Per Week | O1: Hours Per Day | P1: Hours Per Year | Q1: Process Number | R1: Facility Process Number | S1: Process Description | T1: Source Classification Code | U1: SCC Units | V1: Throughput Units | W1: Pollutant | X1: Avg. Throughput Activity Dec to Feb | Y1: Avg. Throughput Activity Jun to Aug | Z1: Avg. Throughput Activity Mar to May | AA1: Avg. Throughput Activity Sep to Nov | AB1: Sum of Actual Annual Throughput | AC1: 2022 Emission, tpy | AD1: In 2022 EMP Point Source Data? (EIS Facility ID Match) | AE1: Yo | AF1: 2022 OSTD | AG1: 2032 tpy | AH1: 2032 OSTD | AI1: 2038 tpy | AJ1: 2038 OSTD | AK1: Data Sources
A2: Title V Major Odd | B2: 2022 | C2: 70087 | D2: 6423411 | E2: Kinder Morgan Newington Terminal #1 | F2: Fairfax County | G2: 059 | H2: VA0000005105900034 | I2: 1 | J2: 1 | K2: Gasoline Storage Tanks w/ Internal Floating Roofs (A1, A2, A3, A4, A5, A6, A17, A23 & A31) | L2: 1 | M2: 1 | N2: 7 | O2: 24 | P2: 8760 | Q2: 1 | R2: 1 | S2: RFG & Ethanol Tank Breathing Losses | T2: 40400111 | U2: 1000 Gallons Storage Capacity | V2: 1000 Gallons Storage Capacity | W2: Volatile Organic Compounds | X2: 25 | Y2: 25 | Z2: 25 | AA2: 25 | AB2: 17607 | AC2: 25.87 | AD2: Y | AE2: =IF(Y2=0,0,P2/(O2*N2)*Y2/100) -> 13.035714 | AF2: =IF(AE2=0,"n/a",IF(AE2>13,(AC2*Y2/100)/(13*N2),(AC2*Y2/100/(AE2*N2)))) -> 0.071071429 | AG2: =AC2*'2022 EMP Fac Data Metro DC-NoVA'!$AT$6 -> 22.778399 | AH2: =AG2*$AF2/$AC2 -> 0.06257802 | AI2: =AC2*'2022 EMP Fac Data Metro DC-NoVA'!$AU$6 -> 22.986198 | AJ2: =AI2*$AF2/$AC2 -> 0.063148895 | AK2: VA CEDS for 2022 emissions by facility and SCC. 2022 OSTD calculated per federal guidance. Data grown to 2032 and 2038 using EPA's facility level 2022 EMP emissions estimates for 2032 and 2038.
A3: Title V Major Odd | B3: 2022 | C3: 70087 | D3: 6423411 | E3: Kinder Morgan Newington Terminal #1 | F3: Fairfax County | G3: 059 | H3: VA0000005105900034 | I3: 1 | J3: 1 | K3: Gasoline Storage Tanks w/ Internal Floating Roofs (A1, A2, A3, A4, A5, A6, A17, A23 & A31) | L3: 1 | M3: 1 | N3: 7 | O3: 24 | P3: 8760 | Q3: 2 | R3: 2 | S3: RFG & Ethanol Tank Working & Landing Losses | T3: 40400116 | U3: 1000 Gallons Throughput | V3: 1000 Gallons Throughput | W3: Volatile Organic Compounds | X3: 24 | Y3: 26 | Z3: 25 | AA3: 25 | AB3: 277457 | AC3: 0 | AD3: Y | AE3: =IF(Y3=0,0,P3/(O3*N3)*Y3/100) -> 13.557143 | AF3: =IF(AE3=0,"n/a",IF(AE3>13,(AC3*Y3/100)/(13*N3),(AC3*Y3/100/(AE3*N3)))) -> 0 | AG3: 0 | AH3: 0 | AI3: 0 | AJ3: 0 | AK3: VA CEDS for 2022 emissions by facility and SCC. 2022 OSTD calculated per federal guidance. Data grown to 2032 and 2038 using EPA's facility level 2022 EMP emissions estimates for 2032 and 2038.
A4: Title V Major Odd | B4: 2022 | C4: 70087 | D4: 6423411 | E4: Kinder Morgan Newington Terminal #1 | F4: Fairfax County | G4: 059 | H4: VA0000005105900034 | I4: 2 | J4: 2 | K4: Gasoline Tank Truck Loading via Loading Rack | L4: 2 | M4: 2 | N4: 7 | O4: 24 | P4: 8760 | Q4: 1 | R4: 1 | S4: Gasoline Tank Truck Loading via Loading Rack | T4: 40600141 | U4: 1000 Gallons Transferred | V4: 1000 Gallons Transferred | W4: Carbon Monoxide | X4: 24 | Y4: 26 | Z4: 25 | AA4: 25 | AB4: 272728 | AC4: 0 | AD4: Y | AE4: =IF(Y4=0,0,P4/(O4*N4)*Y4/100) -> 13.557143 | AF4: =IF(AE4=0,"n/a",IF(AE4>13,(AC4*Y4/100)/(13*N4),(AC4*Y4/100/(AE4*N4)))) -> 0 | AG4: 0 | AH4: 0 | AI4: 0 | AJ4: 0 | AK4: VA CEDS for 2022 emissions by facility and SCC. 2022 OSTD calculated per federal guidance. Data grown to 2032 and 2038 using EPA's facility level 2022 EMP emissions estimates for 2032 and 2038.
A5: Title V Major Odd | B5: 2022 | C5: 70087 | D5: 6423411 | E5: Kinder Morgan Newington Terminal #1 | F5: Fairfax County | G5: 059 | H5: VA0000005105900034 | I5: 2 | J5: 2 | K5: Gasoline Tank Truck Loading via Loading Rack | L5: 2 | M5: 2 | N5: 7 | O5: 24 | P5: 8760 | Q5: 1 | R5: 1 | S5: Gasoline Tank Truck Loading via Loading Rack | T5: 40600141 | U5: 1000 Gallons Transferred | V5: 1000 Gallons Transferred | W5: Nitrogen Oxide | X5: 24 | Y5: 26 | Z5: 25 | AA5: 25 | AB5: 272728 | AC5: 0 | AD5: Y | AE5: =IF(Y5=0,0,P5/(O5*N5)*Y5/100) -> 13.557143 | AF5: =IF(AE5=0,"n/a",IF(AE5>13,(AC5*Y5/100)/(13*N5),(AC5*Y5/100/(AE5*N5)))) -> 0 | AG5: 0 | AH5: 0 | AI5: 0 | AJ5: 0 | AK5: VA CEDS for 2022 emissions by facility and SCC. 2022 OSTD calculated per federal guidance. Data grown to 2032 and 2038 using EPA's facility level 2022 EMP emissions estimates for 2032 and 2038.
A6: Title V Major Odd | B6: 2022 | C6: 70087 | D6: 6423411 | E6: Kinder Morgan Newington Terminal #1 | F6: Fairfax County | G6: 059 | H6: VA0000005105900034 | I6: 2 | J6: 2 | K6: Gasoline Tank Truck Loading via Loading Rack | L6: 2 | M6: 2 | N6: 7 | O6: 24 | P6: 8760 | Q6: 1 | R6: 1 | S6: Gasoline Tank Truck Loading via Loading Rack | T6: 40600141 | U6: 1000 Gallons Transferred | V6: 1000 Gallons Transferred | W6: Particulate Matter 10 | X6: 24 | Y6: 26 | Z6: 25 | AA6: 25 | AB6: 272728 | AC6: 0 | AD6: Y | AE6: =IF(Y6=0,0,P6/(O6*N6)*Y6/100) -> 13.557143 | AF6: =IF(AE6=0,"n/a",IF(AE6>13,(AC6*Y6/100)/(13*N6),(AC6*Y6/100/(AE6*N6)))) -> 0 | AG6: 0 | AH6: 0 | AI6: 0 | AJ6: 0 | AK6: VA CEDS for 2022 emissions by facility and SCC. 2022 OSTD calculated per federal guidance. Data grown to 2032 and 2038 using EPA's facility level 2022 EMP emissions estimates for 2032 and 2038.
A7: Title V Major Odd | B7: 2022 | C7: 70087 | D7: 6423411 | E7: Kinder Morgan Newington Terminal #1 | F7: Fairfax County | G7: 059 | H7: VA0000005105900034 | I7: 2 | J7: 2 | K7: Gasoline Tank Truck Loading via Loading Rack | L7: 2 | M7: 2 | N7: 7 | O7: 24 | P7: 8760 | Q7: 1 | R7: 1 | S7: Gasoline Tank Truck Loading via Loading Rack | T7: 40600141 | U7: 1000 Gallons Transferred | V7: 1000 Gallons Transferred | W7: Particulate Matter 2.5 | X7: 24 | Y7: 26 | Z7: 25 | AA7: 25 | AB7: 272728 | AC7: 0 | AD7: Y | AE7: =IF(Y7=0,0,P7/(O7*N7)*Y7/100) -> 13.557143 | AF7: =IF(AE7=0,"n/a",IF(AE7>13,(AC7*Y7/100)/(13*N7),(AC7*Y7/100/(AE7*N7)))) -> 0 | AG7: 0 | AH7: 0 | AI7: 0 | AJ7: 0 | AK7: VA CEDS for 2022 emissions by facility and SCC. 2022 OSTD calculated per federal guidance. Data grown to 2032 and 2038 using EPA's facility level 2022 EMP emissions estimates for 2032 and 2038.
A8: Title V Major Odd | B8: 2022 | C8: 70087 | D8: 6423411 | E8: Kinder Morgan Newington Terminal #1 | F8: Fairfax County | G8: 059 | H8: VA0000005105900034 | I8: 2 | J8: 2 | K8: Gasoline Tank Truck Loading via Loading Rack | L8: 2 | M8: 2 | N8: 7 | O8: 24 | P8: 8760 | Q8: 1 | R8: 1 | S8: Gasoline Tank Truck Loading via Loading Rack | T8: 40600141 | U8: 1000 Gallons Transferred | V8: 1000 Gallons Transferred | W8: Sulfur Dioxide | X8: 24 | Y8: 26 | Z8: 25 | AA8: 25 | AB8: 272728 | AC8: 0 | AD8: Y | AE8: =IF(Y8=0,0,P8/(O8*N8)*Y8/100) -> 13.557143 | AF8: =IF(AE8=0,"n/a",IF(AE8>13,(AC8*Y8/100)/(13*N8),(AC8*Y8/100/(AE8*N8)))) -> 0 | AG8: 0 | AH8: 0 | AI8: 0 | AJ8: 0 | AK8: VA CEDS for 2022 emissions by facility and SCC. 2022 OSTD calculated per federal guidance. Data grown to 2032 and 2038 using EPA's facility level 2022 EMP emissions estimates for 2032 and 2038.
A9: Title V Major Odd | B9: 2022 | C9: 70087 | D9: 6423411 | E9: Kinder Morgan Newington Terminal #1 | F9: Fairfax County | G9: 059 | H9: VA0000005105900034 | I9: 2 | J9: 2 | K9: Gasoline Tank Truck Loading via Loading Rack | L9: 2 | M9: 2 | N9: 7 | O9: 24 | P9: 8760 | Q9: 1 | R9: 1 | S9: Gasoline Tank Truck Loading via Loading Rack | T9: 40600141 | U9: 1000 Gallons Transferred | V9: 1000 Gallons Transferred | W9: Volatile Organic Compounds | X9: 24 | Y9: 26 | Z9: 25 | AA9: 25 | AB9: 272728 | AC9: 18.16 | AD9: Y | AE9: =IF(Y9=0,0,P9/(O9*N9)*Y9/100) -> 13.557143 | AF9: =IF(AE9=0,"n/a",IF(AE9>13,(AC9*Y9/100)/(13*N9),(AC9*Y9/100/(AE9*N9)))) -> 0.051885714 | AG9: =AC9*'2022 EMP Fac Data Metro DC-NoVA'!$AT$6 -> 15.989785 | AH9: =AG9*$AF9/$AC9 -> 0.045685099 | AI9: =AC9*'2022 EMP Fac Data Metro DC-NoVA'!$AU$6 -> 16.135653 | AJ9: =AI9*$AF9/$AC9 -> 0.046101867 | AK9: VA CEDS for 2022 emissions by facility and SCC. 2022 OSTD calculated per federal guidance. Data grown to 2032 and 2038 using EPA's facility level 2022 EMP emissions estimates for 2032 and 2038.
A10: Title V Major Odd | B10: 2022 | C10: 70087 | D10: 6423411 | E10: Kinder Morgan Newington Terminal #1 | F10: Fairfax County | G10: 059 | H10: VA0000005105900034 | I10: 3 | J10: 3 | K10: Jet T/T Loading | L10: 3 | M10: 3 | N10: 7 | O10: 24 | P10: 8760 | Q10: 1 | R10: 1 | S10: JET T/T LOAD SUBM/NORMAL | T10: 40600134 | U10: 1000 Gallons Transferred | V10: 1000 Gallons Transferred | W10: Volatile Organic Compounds | X10: 20 | Y10: 18 | Z10: 46 | AA10: 16 | AB10: 1807 | AC10: 0.01 | AD10: Y | AE10: =IF(Y10=0,0,P10/(O10*N10)*Y10/100) -> 9.3857143 | AF10: =IF(AE10=0,"n/a",IF(AE10>13,(AC10*Y10/100)/(13*N10),(AC10*Y10/100/(AE10*N10)))) -> 2.739726e-05 | AG10: 0 | AH10: 0 | AI10: 0 | AJ10: 0 | AK10: VA CEDS for 2022 emissions by facility and SCC. 2022 OSTD calculated per federal guidance. Data grown to 2032 and 2038 using EPA's facility level 2022 EMP emissions estimates for 2032 and 2038.
A11: Title V Major Odd | B11: 2022 | C11: 70087 | D11: 6423411 | E11: Kinder Morgan Newington Terminal #1 | F11: Fairfax County | G11: 059 | H11: VA0000005105900034 | I11: 3 | J11: 3 | K11: Jet T/T Loading | L11: 3 | M11: 3 | N11: 7 | O11: 24 | P11: 8760 | Q11: 2 | R11: 2 | S11: Distillate Load SUBM/NORMAL | T11: 40600135 | U11: 1000 Gallons Transferred | V11: 1000 Gallons Transferred | W11: Volatile Organic Compounds | X11: 23 | Y11: 26 | Z11: 27 | AA11: 24 | AB11: 28372 | AC11: 0.009 | AD11: Y | AE11: =IF(Y11=0,0,P11/(O11*N11)*Y11/100) -> 13.557143 | AF11: =IF(AE11=0,"n/a",IF(AE11>13,(AC11*Y11/100)/(13*N11),(AC11*Y11/100/(AE11*N11)))) -> 2.5714286e-05 | AG11: 0 | AH11: 0 | AI11: 0 | AJ11: 0 | AK11: VA CEDS for 2022 emissions by facility and SCC. 2022 OSTD calculated per federal guidance. Data grown to 2032 and 2038 using EPA's facility level 2022 EMP emissions estimates for 2032 and 2038.
A12: Title V Major Odd | B12: 2022 | C12: 70087 | D12: 6423411 | E12: Kinder Morgan Newington Terminal #1 | F12: Fairfax County | G12: 059 | H12: VA0000005105900034 | I12: 4 | J12: 4 | K12: Jet Kero and Distillate Tanks Breathing/Working Losses | L12: 4 | M12: 4 | N12: 7 | O12: 24 | P12: 8760 | Q12: 1 | R12: 1 | S12: JET KER-BREATHING (A7, A12, A14, A16, A19) | T12: 40301016 | U12: 1000 Gallons Storage Capacity | V12: 1000 Gallons Storage Capacity | W12: Volatile Organic Compounds | X12: 25 | Y12: 25 | Z12: 25 | AA12: 25 | AB12: 13287 | AC12: 3.725 | AD12: Y | AE12: =IF(Y12=0,0,P12/(O12*N12)*Y12/100) -> 13.035714 | AF12: =IF(AE12=0,"n/a",IF(AE12>13,(AC12*Y12/100)/(13*N12),(AC12*Y12/100/(AE12*N12)))) -> 0.010233516 | AG12: =AC12*'2022 EMP Fac Data Metro DC-NoVA'!$AT$6 -> 3.2798429 | AH12: =AG12*$AF12/$AC12 -> 0.0090105575 | AI12: =AC12*'2022 EMP Fac Data Metro DC-NoVA'!$AU$6 -> 3.3097637 | AJ12: =AI12*$AF12/$AC12 -> 0.0090927574 | AK12: VA CEDS for 2022 emissions by facility and SCC. 2022 OSTD calculated per federal guidance. Data grown to 2032 and 2038 using EPA's facility level 2022 EMP emissions estimates for 2032 and 2038.
A13: Title V Major Odd | B13: 2022 | C13: 70087 | D13: 6423411 | E13: Kinder Morgan Newington Terminal #1 | F13: Fairfax County | G13: 059 | H13: VA0000005105900034 | I13: 4 | J13: 4 | K13: Jet Kero and Distillate Tanks Breathing/Working Losses | L13: 4 | M13: 4 | N13: 7 | O13: 24 | P13: 8760 | Q13: 2 | R13: 2 | S13: JET KER-WORKING (A7, A12, A14, A16, A19) | T13: 40301018 | U13: 1000 Gallons Throughput | V13: 1000 Gallons Throughput | W13: Volatile Organic Compounds | X13: 27 | Y13: 24 | Z13: 25 | AA13: 24 | AB13: 194138 | AC13: 0 | AD13: Y | AE13: =IF(Y13=0,0,P13/(O13*N13)*Y13/100) -> 12.514286 | AF13: =IF(AE13=0,"n/a",IF(AE13>13,(AC13*Y13/100)/(13*N13),(AC13*Y13/100/(AE13*N13)))) -> 0 | AG13: 0 | AH13: 0 | AI13: 0 | AJ13: 0 | AK13: VA CEDS for 2022 emissions by facility and SCC. 2022 OSTD calculated per federal guidance. Data grown to 2032 and 2038 using EPA's facility level 2022 EMP emissions estimates for 2032 and 2038.
A14: Title V Major Odd | B14: 2022 | C14: 70087 | D14: 6423411 | E14: Kinder Morgan Newington Terminal #1 | F14: Fairfax County | G14: 059 | H14: VA0000005105900034 | I14: 4 | J14: 4 | K14: Jet Kero and Distillate Tanks Breathing/Working Losses | L14: 4 | M14: 4 | N14: 7 | O14: 24 | P14: 8760 | Q14: 3 | R14: 3 | S14: Distillate Fuel Oil Storage Tanks - Storage Capacity (A11, A15, A16, A18, A19, A23) | T14: 40301019 | U14: 1000 Gallons Storage Capacity | V14: 1000 Gallons Storage Capacity | W14: Volatile Organic Compounds | X14: 25 | Y14: 25 | Z14: 25 | AA14: 25 | AB14: 2010 | AC14: 0.529 | AD14: Y | AE14: =IF(Y14=0,0,P14/(O14*N14)*Y14/100) -> 13.035714 | AF14: =IF(AE14=0,"n/a",IF(AE14>13,(AC14*Y14/100)/(13*N14),(AC14*Y14/100/(AE14*N14)))) -> 0.0014532967 | AG14: =AC14*'2022 EMP Fac Data Metro DC-NoVA'!$AT$6 -> 0.46578172 | AH14: =AG14*$AF14/$AC14 -> 0.0012796201 | AI14: =AC14*'2022 EMP Fac Data Metro DC-NoVA'!$AU$6 -> 0.47003087 | AJ14: =AI14*$AF14/$AC14 -> 0.0012912936 | AK14: VA CEDS for 2022 emissions by facility and SCC. 2022 OSTD calculated per federal guidance. Data grown to 2032 and 2038 using EPA's facility level 2022 EMP emissions estimates for 2032 and 2038.
A15: Title V Major Odd | B15: 2022 | C15: 70087 | D15: 6423411 | E15: Kinder Morgan Newington Terminal #1 | F15: Fairfax County | G15: 059 | H15: VA0000005105900034 | I15: 4 | J15: 4 | K15: Jet Kero and Distillate Tanks Breathing/Working Losses | L15: 4 | M15: 4 | N15: 7 | O15: 24 | P15: 8760 | Q15: 4 | R15: 4 | S15: Distillate Fuel Oil Storage Tanks - Withdrawal (A11, A15, A16, A18, A19, A23) | T15: 40301021 | U15: 1000 Gallons Throughput | V15: 1000 Gallons Throughput | W15: Volatile Organic Compounds | X15: 21 | Y15: 26 | Z15: 29 | AA15: 24 | AB15: 28968 | AC15: 0 | AD15: Y | AE15: =IF(Y15=0,0,P15/(O15*N15)*Y15/100) -> 13.557143 | AF15: =IF(AE15=0,"n/a",IF(AE15>13,(AC15*Y15/100)/(13*N15),(AC15*Y15/100/(AE15*N15)))) -> 0 | AG15: 0 | AH15: 0 | AI15: 0 | AJ15: 0 | AK15: VA CEDS for 2022 emissions by facility and SCC. 2022 OSTD calculated per federal guidance. Data grown to 2032 and 2038 using EPA's facility level 2022 EMP emissions estimates for 2032 and 2038.
A16: Title V Major Odd | B16: 2022 | C16: 70087 | D16: 6423411 | E16: Kinder Morgan Newington Terminal #1 | F16: Fairfax County | G16: 059 | H16: VA0000005105900034 | I16: 4 | J16: 4 | K16: Jet Kero and Distillate Tanks Breathing/Working Losses | L16: 4 | M16: 4 | N16: 7 | O16: 24 | P16: 8760 | Q16: 5 | R16: 5 | S16: MISC TANK AS GAS - BREATHING LOSS | T16: 40301102 | U16: 1000 Gallons Storage Capacity | V16: 1000 Gallons Storage Capacity | W16: Volatile Organic Compounds | X16: 25 | Y16: 25 | Z16: 25 | AA16: 25 | AB16: 0 | AC16: 0.000265 | AD16: Y | AE16: =IF(Y16=0,0,P16/(O16*N16)*Y16/100) -> 13.035714 | AF16: =IF(AE16=0,"n/a",IF(AE16>13,(AC16*Y16/100)/(13*N16),(AC16*Y16/100/(AE16*N16)))) -> 7.2802198e-07 | AG16: 0 | AH16: 0 | AI16: 0 | AJ16: 0 | AK16: VA CEDS for 2022 emissions by facility and SCC. 2022 OSTD calculated per federal guidance. Data grown to 2032 and 2038 using EPA's facility level 2022 EMP emissions estimates for 2032 and 2038.
A17: Title V Major Odd | B17: 2022 | C17: 70087 | D17: 6423411 | E17: Kinder Morgan Newington Terminal #1 | F17: Fairfax County | G17: 059 | H17: VA0000005105900034 | I17: 4 | J17: 4 | K17: Jet Kero and Distillate Tanks Breathing/Working Losses | L17: 4 | M17: 4 | N17: 7 | O17: 24 | P17: 8760 | Q17: 6 | R17: 6 | S17: MISC TANK AS GAS - WORKING LOSS | T17: 40301107 | U17: 1000 Gallons Throughput | V17: 1000 Gallons Throughput | W17: Volatile Organic Compounds | X17: 25 | Y17: 25 | Z17: 25 | AA17: 25 | AB17: 0 | AC17: 5e-06 | AD17: Y | AE17: =IF(Y17=0,0,P17/(O17*N17)*Y17/100) -> 13.035714 | AF17: =IF(AE17=0,"n/a",IF(AE17>13,(AC17*Y17/100)/(13*N17),(AC17*Y17/100/(AE17*N17)))) -> 1.3736264e-08 | AG17: 0 | AH17: 0 | AI17: 0 | AJ17: 0 | AK17: VA CEDS for 2022 emissions by facility and SCC. 2022 OSTD calculated per federal guidance. Data grown to 2032 and 2038 using EPA's facility level 2022 EMP emissions estimates for 2032 and 2038.
A18: Title V Major Odd | B18: 2022 | C18: 70087 | D18: 6423411 | E18: Kinder Morgan Newington Terminal #1 | F18: Fairfax County | G18: 059 | H18: VA0000005105900034 | I18: 5 | J18: 5 | K18: Fugitive Emissions | L18: 5 | M18: 5 | N18: 7 | O18: 24 | P18: 8760 | Q18: 1 | R18: 1 | S18: FUG.LOSS/TRANSFER PROC. | T18: 40400151 | U18: 1000 Gallons Transferred | V18: 1000 Gallons Transferred | W18: Volatile Organic Compounds | X18: 25 | Y18: 25 | Z18: 26 | AA18: 24 | AB18: 500639 | AC18: 0.1946 | AD18: Y | AE18: =IF(Y18=0,0,P18/(O18*N18)*Y18/100) -> 13.035714 | AF18: =IF(AE18=0,"n/a",IF(AE18>13,(AC18*Y18/100)/(13*N18),(AC18*Y18/100/(AE18*N18)))) -> 0.00053461538 | AG18: =AC18*'2022 EMP Fac Data Metro DC-NoVA'!$AT$6 -> 0.17134428 | AH18: =AG18*$AF18/$AC18 -> 0.00047072604 | AI18: =AC18*'2022 EMP Fac Data Metro DC-NoVA'!$AU$6 -> 0.17290739 | AJ18: =AI18*$AF18/$AC18 -> 0.00047502029 | AK18: VA CEDS for 2022 emissions by facility and SCC. 2022 OSTD calculated per federal guidance. Data grown to 2032 and 2038 using EPA's facility level 2022 EMP emissions estimates for 2032 and 2038.
A19: Title V Major Odd | B19: 2022 | C19: 70087 | D19: 6423411 | E19: Kinder Morgan Newington Terminal #1 | F19: Fairfax County | G19: 059 | H19: VA0000005105900034 | I19: 6 | J19: 6 | K19: Mogas Additive | L19: 6 | M19: 6 | N19: 7 | O19: 24 | P19: 8760 | Q19: 1 | R19: 1 | S19: MOGAS ADDITIVE/BREATHNG | T19: 40301097 | U19: 1000 Gallons Storage Capacity | V19: 1000 Gallons Storage Capacity | W19: Volatile Organic Compounds | X19: 25 | Y19: 25 | Z19: 25 | AA19: 25 | AB19: 39 | AC19: 0.00125 | AD19: Y | AE19: =IF(Y19=0,0,P19/(O19*N19)*Y19/100) -> 13.035714 | AF19: =IF(AE19=0,"n/a",IF(AE19>13,(AC19*Y19/100)/(13*N19),(AC19*Y19/100/(AE19*N19)))) -> 3.4340659e-06 | AG19: 0 | AH19: 0 | AI19: 0 | AJ19: 0 | AK19: VA CEDS for 2022 emissions by facility and SCC. 2022 OSTD calculated per federal guidance. Data grown to 2032 and 2038 using EPA's facility level 2022 EMP emissions estimates for 2032 and 2038.
A20: Title V Major Odd | B20: 2022 | C20: 70087 | D20: 6423411 | E20: Kinder Morgan Newington Terminal #1 | F20: Fairfax County | G20: 059 | H20: VA0000005105900034 | I20: 6 | J20: 6 | K20: Mogas Additive | L20: 6 | M20: 6 | N20: 7 | O20: 24 | P20: 8760 | Q20: 2 | R20: 2 | S20: MOGAS ADDITIVE/WORKING | T20: 40301099 | U20: 1000 Gallons Throughput | V20: 1000 Gallons Throughput | W20: Volatile Organic Compounds | X20: 14 | Y20: 35 | Z20: 31 | AA20: 20 | AB20: 77 | AC20: 0 | AD20: Y | AE20: =IF(Y20=0,0,P20/(O20*N20)*Y20/100) -> 18.25 | AF20: =IF(AE20=0,"n/a",IF(AE20>13,(AC20*Y20/100)/(13*N20),(AC20*Y20/100/(AE20*N20)))) -> 0 | AG20: 0 | AH20: 0 | AI20: 0 | AJ20: 0 | AK20: VA CEDS for 2022 emissions by facility and SCC. 2022 OSTD calculated per federal guidance. Data grown to 2032 and 2038 using EPA's facility level 2022 EMP emissions estimates for 2032 and 2038.
A21: Title V Major Odd | B21: 2022 | C21: 70220 | D21: 6632911 | E21: Buckeye Terminals, LLC - Fairfax Terminal | F21: Fairfax City | G21: 600 | H21: VA0000005160000061 | I21: 1 | J21: 1 | K21: Tank 1, Internal Floating Roof (Gasoline) | L21: 1 | M21: 1 | N21: 7 | O21: 24 | P21: 8760 | Q21: 1 | R21: 1 | S21: Tank 1 Standing Losses, Gasoline | T21: 40400111 | U21: 1000 Gallons Storage Capacity | V21: 1000 Gallons Storage Capacity | W21: Volatile Organic Compounds | X21: 25 | Y21: 25 | Z21: 25 | AA21: 25 | AB21: 3696.41 | AC21: 2.2786 | AD21: Y | AE21: =IF(Y21=0,0,P21/(O21*N21)*Y21/100) -> 13.035714 | AF21: =IF(AE21=0,"n/a",IF(AE21>13,(AC21*Y21/100)/(13*N21),(AC21*Y21/100/(AE21*N21)))) -> 0.0062598901 | AG21: =AC21*'2022 EMP Fac Data Metro DC-NoVA'!$AT$11 -> 2.1060747 | AH21: =AG21*$AF21/$AC21 -> 0.0057859194 | AI21: =AC21*'2022 EMP Fac Data Metro DC-NoVA'!$AU$11 -> 2.1814083 | AJ21: =AI21*$AF21/$AC21 -> 0.0059928798 | AK21: VA CEDS for 2022 emissions by facility and SCC. 2022 OSTD calculated per federal guidance. Data grown to 2032 and 2038 using EPA's facility level 2022 EMP emissions estimates for 2032 and 2038.
A22: Title V Major Odd | B22: 2022 | C22: 70220 | D22: 6632911 | E22: Buckeye Terminals, LLC - Fairfax Terminal | F22: Fairfax City | G22: 600 | H22: VA0000005160000061 | I22: 1 | J22: 1 | K22: Tank 1, Internal Floating Roof (Gasoline) | L22: 1 | M22: 1 | N22: 7 | O22: 24 | P22: 8760 | Q22: 2 | R22: 2 | S22: Tank 1 Working Losses, Gasoline | T22: 40400116 | U22: 1000 Gallons Throughput | V22: 1000 Gallons Throughput | W22: Volatile Organic Compounds | X22: 24 | Y22: 23 | Z22: 25 | AA22: 28 | AB22: 58853.685 | AC22: 0.0537 | AD22: Y | AE22: =IF(Y22=0,0,P22/(O22*N22)*Y22/100) -> 11.992857 | AF22: =IF(AE22=0,"n/a",IF(AE22>13,(AC22*Y22/100)/(13*N22),(AC22*Y22/100/(AE22*N22)))) -> 0.00014712329 | AG22: =AC22*'2022 EMP Fac Data Metro DC-NoVA'!$AT$11 -> 0.049634078 | AH22: =AG22*$AF22/$AC22 -> 0.00013598378 | AI22: =AC22*'2022 EMP Fac Data Metro DC-NoVA'!$AU$11 -> 0.051409472 | AJ22: =AI22*$AF22/$AC22 -> 0.00014084787 | AK22: VA CEDS for 2022 emissions by facility and SCC. 2022 OSTD calculated per federal guidance. Data grown to 2032 and 2038 using EPA's facility level 2022 EMP emissions estimates for 2032 and 2038.
A23: Title V Major Odd | B23: 2022 | C23: 70220 | D23: 6632911 | E23: Buckeye Terminals, LLC - Fairfax Terminal | F23: Fairfax City | G23: 600 | H23: VA0000005160000061 | I23: 2 | J23: 2 | K23: Tank 2, Internal Floating Roof (Gasoline) | L23: 2 | M23: 2 | N23: 7 | O23: 24 | P23: 8760 | Q23: 1 | R23: 1 | S23: Tank 2 Standing Losses, Gasoline | T23: 40400111 | U23: 1000 Gallons Storage Capacity | V23: 1000 Gallons Storage Capacity | W23: Volatile Organic Compounds | X23: 25 | Y23: 25 | Z23: 25 | AA23: 25 | AB23: 3054.885 | AC23: 1.5618 | AD23: Y | AE23: =IF(Y23=0,0,P23/(O23*N23)*Y23/100) -> 13.035714 | AF23: =IF(AE23=0,"n/a",IF(AE23>13,(AC23*Y23/100)/(13*N23),(AC23*Y23/100/(AE23*N23)))) -> 0.0042906593 | AG23: =AC23*'2022 EMP Fac Data Metro DC-NoVA'!$AT$11 -> 1.4435475 | AH23: =AG23*$AF23/$AC23 -> 0.00396579 | AI23: =AC23*'2022 EMP Fac Data Metro DC-NoVA'!$AU$11 -> 1.4951827 | AJ23: =AI23*$AF23/$AC23 -> 0.0041076449 | AK23: VA CEDS for 2022 emissions by facility and SCC. 2022 OSTD calculated per federal guidance. Data grown to 2032 and 2038 using EPA's facility level 2022 EMP emissions estimates for 2032 and 2038.
A24: Title V Major Odd | B24: 2022 | C24: 70220 | D24: 6632911 | E24: Buckeye Terminals, LLC - Fairfax Terminal | F24: Fairfax City | G24: 600 | H24: VA0000005160000061 | I24: 2 | J24: 2 | K24: Tank 2, Internal Floating Roof (Gasoline) | L24: 2 | M24: 2 | N24: 7 | O24: 24 | P24: 8760 | Q24: 2 | R24: 2 | S24: Tank 2 Working Losses, Gasoline | T24: 40400116 | U24: 1000 Gallons Throughput | V24: 1000 Gallons Throughput | W24: Volatile Organic Compounds | X24: 22 | Y24: 26 | Z24: 30 | AA24: 22 | AB24: 41657.677 | AC24: 0.0396 | AD24: Y | AE24: =IF(Y24=0,0,P24/(O24*N24)*Y24/100) -> 13.557143 | AF24: =IF(AE24=0,"n/a",IF(AE24>13,(AC24*Y24/100)/(13*N24),(AC24*Y24/100/(AE24*N24)))) -> 0.00011314286 | AG24: =AC24*'2022 EMP Fac Data Metro DC-NoVA'!$AT$11 -> 0.036601666 | AH24: =AG24*$AF24/$AC24 -> 0.00010457619 | AI24: =AC24*'2022 EMP Fac Data Metro DC-NoVA'!$AU$11 -> 0.037910896 | AJ24: =AI24*$AF24/$AC24 -> 0.00010831684 | AK24: VA CEDS for 2022 emissions by facility and SCC. 2022 OSTD calculated per federal guidance. Data grown to 2032 and 2038 using EPA's facility level 2022 EMP emissions estimates for 2032 and 2038.
A25: Title V Major Odd | B25: 2022 | C25: 70220 | D25: 6632911 | E25: Buckeye Terminals, LLC - Fairfax Terminal | F25: Fairfax City | G25: 600 | H25: VA0000005160000061 | I25: 3 | J25: 3 | K25: Tank 3, Internal Floating Roof (Ethanol) | L25: 3 | M25: 3 | N25: 7 | O25: 24 | P25: 8760 | Q25: 1 | R25: 1 | S25: Tank 3, Standing Losses, Ethanol | T25: 40400111 | U25: 1000 Gallons Storage Capacity | V25: 1000 Gallons Storage Capacity | W25: Volatile Organic Compounds | X25: 25 | Y25: 25 | Z25: 25 | AA25: 25 | AB25: 1015.162 | AC25: 0.1163 | AD25: Y | AE25: =IF(Y25=0,0,P25/(O25*N25)*Y25/100) -> 13.035714 | AF25: =IF(AE25=0,"n/a",IF(AE25>13,(AC25*Y25/100)/(13*N25),(AC25*Y25/100/(AE25*N25)))) -> 0.00031950549 | AG25: =AC25*'2022 EMP Fac Data Metro DC-NoVA'!$AT$11 -> 0.10749429 | AH25: =AG25*$AF25/$AC25 -> 0.00029531398 | AI25: =AC25*'2022 EMP Fac Data Metro DC-NoVA'!$AU$11 -> 0.11133932 | AJ25: =AI25*$AF25/$AC25 -> 0.00030587726 | AK25: VA CEDS for 2022 emissions by facility and SCC. 2022 OSTD calculated per federal guidance. Data grown to 2032 and 2038 using EPA's facility level 2022 EMP emissions estimates for 2032 and 2038.
A26: Title V Major Odd | B26: 2022 | C26: 70220 | D26: 6632911 | E26: Buckeye Terminals, LLC - Fairfax Terminal | F26: Fairfax City | G26: 600 | H26: VA0000005160000061 | I26: 3 | J26: 3 | K26: Tank 3, Internal Floating Roof (Ethanol) | L26: 3 | M26: 3 | N26: 7 | O26: 24 | P26: 8760 | Q26: 2 | R26: 2 | S26: Tank 3, Working Losses, Ethanol | T26: 40400116 | U26: 1000 Gallons Throughput | V26: 1000 Gallons Throughput | W26: Volatile Organic Compounds | X26: 24 | Y26: 25 | Z26: 25 | AA26: 26 | AB26: 40416.407 | AC26: 0.0736 | AD26: Y | AE26: =IF(Y26=0,0,P26/(O26*N26)*Y26/100) -> 13.035714 | AF26: =IF(AE26=0,"n/a",IF(AE26>13,(AC26*Y26/100)/(13*N26),(AC26*Y26/100/(AE26*N26)))) -> 0.0002021978 | AG26: =AC26*'2022 EMP Fac Data Metro DC-NoVA'!$AT$11 -> 0.06802734 | AH26: =AG26*$AF26/$AC26 -> 0.0001868883 | AI26: =AC26*'2022 EMP Fac Data Metro DC-NoVA'!$AU$11 -> 0.070460655 | AJ26: =AI26*$AF26/$AC26 -> 0.00019357323 | AK26: VA CEDS for 2022 emissions by facility and SCC. 2022 OSTD calculated per federal guidance. Data grown to 2032 and 2038 using EPA's facility level 2022 EMP emissions estimates for 2032 and 2038.
A27: Title V Major Odd | B27: 2022 | C27: 70220 | D27: 6632911 | E27: Buckeye Terminals, LLC - Fairfax Terminal | F27: Fairfax City | G27: 600 | H27: VA0000005160000061 | I27: 4 | J27: 4 | K27: Tank 4, Internal Floating Roof (Gasoline) | L27: 4 | M27: 4 | N27: 7 | O27: 24 | P27: 8760 | Q27: 1 | R27: 1 | S27: Tank 4, Standing Losses, Gasoline | T27: 40400111 | U27: 1000 Gallons Storage Capacity | V27: 1000 Gallons Storage Capacity | W27: Volatile Organic Compounds | X27: 25 | Y27: 25 | Z27: 25 | AA27: 25 | AB27: 5063.401 | AC27: 1.9007 | AD27: Y | AE27: =IF(Y27=0,0,P27/(O27*N27)*Y27/100) -> 13.035714 | AF27: =IF(AE27=0,"n/a",IF(AE27>13,(AC27*Y27/100)/(13*N27),(AC27*Y27/100/(AE27*N27)))) -> 0.0052217033 | AG27: =AC27*'2022 EMP Fac Data Metro DC-NoVA'!$AT$11 -> 1.7567876 | AH27: =AG27*$AF27/$AC27 -> 0.0048263395 | AI27: =AC27*'2022 EMP Fac Data Metro DC-NoVA'!$AU$11 -> 1.8196273 | AJ27: =AI27*$AF27/$AC27 -> 0.004998976 | AK27: VA CEDS for 2022 emissions by facility and SCC. 2022 OSTD calculated per federal guidance. Data grown to 2032 and 2038 using EPA's facility level 2022 EMP emissions estimates for 2032 and 2038.
A28: Title V Major Odd | B28: 2022 | C28: 70220 | D28: 6632911 | E28: Buckeye Terminals, LLC - Fairfax Terminal | F28: Fairfax City | G28: 600 | H28: VA0000005160000061 | I28: 4 | J28: 4 | K28: Tank 4, Internal Floating Roof (Gasoline) | L28: 4 | M28: 4 | N28: 7 | O28: 24 | P28: 8760 | Q28: 2 | R28: 2 | S28: Tank 4, Working Losses, Gasoline | T28: 40400116 | U28: 1000 Gallons Throughput | V28: 1000 Gallons Throughput | W28: Volatile Organic Compounds | X28: 26 | Y28: 23 | Z28: 24 | AA28: 27 | AB28: 241827.23 | AC28: 0.1905 | AD28: Y | AE28: =IF(Y28=0,0,P28/(O28*N28)*Y28/100) -> 11.992857 | AF28: =IF(AE28=0,"n/a",IF(AE28>13,(AC28*Y28/100)/(13*N28),(AC28*Y28/100/(AE28*N28)))) -> 0.00052191781 | AG28: =AC28*'2022 EMP Fac Data Metro DC-NoVA'!$AT$11 -> 0.1760762 | AH28: =AG28*$AF28/$AC28 -> 0.00048240054 | AI28: =AC28*'2022 EMP Fac Data Metro DC-NoVA'!$AU$11 -> 0.18237438 | AJ28: =AI28*$AF28/$AC28 -> 0.00049965585 | AK28: VA CEDS for 2022 emissions by facility and SCC. 2022 OSTD calculated per federal guidance. Data grown to 2032 and 2038 using EPA's facility level 2022 EMP emissions estimates for 2032 and 2038.
A29: Title V Major Odd | B29: 2022 | C29: 70220 | D29: 6632911 | E29: Buckeye Terminals, LLC - Fairfax Terminal | F29: Fairfax City | G29: 600 | H29: VA0000005160000061 | I29: 5 | J29: 5 | K29: Tank 5, Internal Floating Roof (Ethanol) | L29: 5 | M29: 5 | N29: 7 | O29: 24 | P29: 8760 | Q29: 1 | R29: 1 | S29: Tank 5, Standing Losses, Ethanol | T29: 40400270 | U29: 1000 GALLONS STORAGE CAPACITY | V29: 1000 GALLONS STORAGE CAPACITY | W29: Volatile Organic Compounds | X29: 25 | Y29: 25 | Z29: 25 | AA29: 25 | AB29: 1804.732 | AC29: 0.9573 | AD29: Y | AE29: =IF(Y29=0,0,P29/(O29*N29)*Y29/100) -> 13.035714 | AF29: =IF(AE29=0,"n/a",IF(AE29>13,(AC29*Y29/100)/(13*N29),(AC29*Y29/100/(AE29*N29)))) -> 0.0026299451 | AG29: =AC29*'2022 EMP Fac Data Metro DC-NoVA'!$AT$11 -> 0.88481756 | AH29: =AG29*$AF29/$AC29 -> 0.0024308175 | AI29: =AC29*'2022 EMP Fac Data Metro DC-NoVA'!$AU$11 -> 0.91646718 | AJ29: =AI29*$AF29/$AC29 -> 0.002517767 | AK29: VA CEDS for 2022 emissions by facility and SCC. 2022 OSTD calculated per federal guidance. Data grown to 2032 and 2038 using EPA's facility level 2022 EMP emissions estimates for 2032 and 2038.
A30: Title V Major Odd | B30: 2022 | C30: 70220 | D30: 6632911 | E30: Buckeye Terminals, LLC - Fairfax Terminal | F30: Fairfax City | G30: 600 | H30: VA0000005160000061 | I30: 5 | J30: 5 | K30: Tank 5, Internal Floating Roof (Ethanol) | L30: 5 | M30: 5 | N30: 7 | O30: 24 | P30: 8760 | Q30: 2 | R30: 2 | S30: Tank 5, Working Losses, Ethanol | T30: 40400279 | U30: 1000 GALLONS TRANSFERRED | V30: 1000 GALLONS TRANSFERRED | W30: Volatile Organic Compounds | X30: 0 | Y30: 42 | Z30: 36 | AA30: 22 | AB30: 21333.302 | AC30: 0.0255 | AD30: Y | AE30: =IF(Y30=0,0,P30/(O30*N30)*Y30/100) -> 21.9 | AF30: =IF(AE30=0,"n/a",IF(AE30>13,(AC30*Y30/100)/(13*N30),(AC30*Y30/100/(AE30*N30)))) -> 0.00011769231 | AG30: =AC30*'2022 EMP Fac Data Metro DC-NoVA'!$AT$11 -> 0.023569255 | AH30: =AG30*$AF30/$AC30 -> 0.00010878118 | AI30: =AC30*'2022 EMP Fac Data Metro DC-NoVA'!$AU$11 -> 0.024412319 | AJ30: =AI30*$AF30/$AC30 -> 0.00011267224 | AK30: VA CEDS for 2022 emissions by facility and SCC. 2022 OSTD calculated per federal guidance. Data grown to 2032 and 2038 using EPA's facility level 2022 EMP emissions estimates for 2032 and 2038.
A31: Title V Major Odd | B31: 2022 | C31: 70220 | D31: 6632911 | E31: Buckeye Terminals, LLC - Fairfax Terminal | F31: Fairfax City | G31: 600 | H31: VA0000005160000061 | I31: 6 | J31: 6 | K31: Tank 6, Internal Floating Roof (Distillate) | L31: 6 | M31: 6 | N31: 7 | O31: 24 | P31: 8760 | Q31: 1 | R31: 1 | S31: Tank 6, Standing Losses, Distillate | T31: 40301115 | U31: 1000 Gallons Storage Capacity | V31: 1000 Gallons Storage Capacity | W31: Volatile Organic Compounds | X31: 25 | Y31: 25 | Z31: 25 | AA31: 25 | AB31: 3412.071 | AC31: 0.0071 | AD31: Y | AE31: =IF(Y31=0,0,P31/(O31*N31)*Y31/100) -> 13.035714 | AF31: =IF(AE31=0,"n/a",IF(AE31>13,(AC31*Y31/100)/(13*N31),(AC31*Y31/100/(AE31*N31)))) -> 1.9505495e-05 | AG31: =AC31*'2022 EMP Fac Data Metro DC-NoVA'!$AT$11 -> 0.00656242 | AH31: =AG31*$AF31/$AC31 -> 1.8028626e-05 | AI31: =AC31*'2022 EMP Fac Data Metro DC-NoVA'!$AU$11 -> 0.0067971555 | AJ31: =AI31*$AF31/$AC31 -> 1.8673504e-05 | AK31: VA CEDS for 2022 emissions by facility and SCC. 2022 OSTD calculated per federal guidance. Data grown to 2032 and 2038 using EPA's facility level 2022 EMP emissions estimates for 2032 and 2038.
A32: Title V Major Odd | B32: 2022 | C32: 70220 | D32: 6632911 | E32: Buckeye Terminals, LLC - Fairfax Terminal | F32: Fairfax City | G32: 600 | H32: VA0000005160000061 | I32: 6 | J32: 6 | K32: Tank 6, Internal Floating Roof (Distillate) | L32: 6 | M32: 6 | N32: 7 | O32: 24 | P32: 8760 | Q32: 2 | R32: 2 | S32: Tank 6, Working Losses, Distillate | T32: 40301120 | U32: 1000 Gallons Throughput | V32: 1000 Gallons Throughput | W32: Volatile Organic Compounds | X32: 25 | Y32: 26 | Z32: 24 | AA32: 25 | AB32: 56034.282 | AC32: 0.0648 | AD32: Y | AE32: =IF(Y32=0,0,P32/(O32*N32)*Y32/100) -> 13.557143 | AF32: =IF(AE32=0,"n/a",IF(AE32>13,(AC32*Y32/100)/(13*N32),(AC32*Y32/100/(AE32*N32)))) -> 0.00018514286 | AG32: =AC32*'2022 EMP Fac Data Metro DC-NoVA'!$AT$11 -> 0.059893636 | AH32: =AG32*$AF32/$AC32 -> 0.00017112467 | AI32: =AC32*'2022 EMP Fac Data Metro DC-NoVA'!$AU$11 -> 0.062036011 | AJ32: =AI32*$AF32/$AC32 -> 0.00017724575 | AK32: VA CEDS for 2022 emissions by facility and SCC. 2022 OSTD calculated per federal guidance. Data grown to 2032 and 2038 using EPA's facility level 2022 EMP emissions estimates for 2032 and 2038.
A33: Title V Major Odd | B33: 2022 | C33: 70220 | D33: 6632911 | E33: Buckeye Terminals, LLC - Fairfax Terminal | F33: Fairfax City | G33: 600 | H33: VA0000005160000061 | I33: 7 | J33: 7 | K33: Gas Loading Racks | L33: 7 | M33: 7 | N33: 7 | O33: 24 | P33: 8760 | Q33: 1 | R33: 1 | S33: Gasoline Loading Rack (VRU & VCU) & Fugitive Tanker Truck Emissions | T33: 40600141 | U33: 1000 Gallons Transferred | V33: 1000 Gallons Transferred | W33: Carbon Monoxide | X33: 23 | Y33: 23 | Z33: 24 | AA33: 30 | AB33: 420763.06 | AC33: 6.071 | AD33: Y | AE33: =IF(Y33=0,0,P33/(O33*N33)*Y33/100) -> 11.992857 | AF33: =IF(AE33=0,"n/a",IF(AE33>13,(AC33*Y33/100)/(13*N33),(AC33*Y33/100/(AE33*N33)))) -> 0.016632877 | AG33: =AC33*'2022 EMP Fac Data Metro DC-NoVA'!$AE$11 -> 6.7456427 | AH33: =AG33*$AF33/$AC33 -> 0.018481213 | AI33: =AC33*'2022 EMP Fac Data Metro DC-NoVA'!$AF$11 -> 7.1706539 | AJ33: =AI33*$AF33/$AC33 -> 0.019645627 | AK33: VA CEDS for 2022 emissions by facility and SCC. 2022 OSTD calculated per federal guidance. Data grown to 2032 and 2038 using EPA's facility level 2022 EMP emissions estimates for 2032 and 2038.
A34: Title V Major Odd | B34: 2022 | C34: 70220 | D34: 6632911 | E34: Buckeye Terminals, LLC - Fairfax Terminal | F34: Fairfax City | G34: 600 | H34: VA0000005160000061 | I34: 7 | J34: 7 | K34: Gas Loading Racks | L34: 7 | M34: 7 | N34: 7 | O34: 24 | P34: 8760 | Q34: 1 | R34: 1 | S34: Gasoline Loading Rack (VRU & VCU) & Fugitive Tanker Truck Emissions | T34: 40600141 | U34: 1000 Gallons Transferred | V34: 1000 Gallons Transferred | W34: Nitrogen Oxide | X34: 23 | Y34: 23 | Z34: 24 | AA34: 30 | AB34: 420763.06 | AC34: 2.447 | AD34: Y | AE34: =IF(Y34=0,0,P34/(O34*N34)*Y34/100) -> 11.992857 | AF34: =IF(AE34=0,"n/a",IF(AE34>13,(AC34*Y34/100)/(13*N34),(AC34*Y34/100/(AE34*N34)))) -> 0.0067041096 | AG34: =AC34*'2022 EMP Fac Data Metro DC-NoVA'!$AK$11 -> 2.718924 | AH34: =AG34*$AF34/$AC34 -> 0.0074491069 | AI34: =AC34*'2022 EMP Fac Data Metro DC-NoVA'!$AL$11 -> 2.8902306 | AJ34: =AI34*$AF34/$AC34 -> 0.00791844 | AK34: VA CEDS for 2022 emissions by facility and SCC. 2022 OSTD calculated per federal guidance. Data grown to 2032 and 2038 using EPA's facility level 2022 EMP emissions estimates for 2032 and 2038.
A35: Title V Major Odd | B35: 2022 | C35: 70220 | D35: 6632911 | E35: Buckeye Terminals, LLC - Fairfax Terminal | F35: Fairfax City | G35: 600 | H35: VA0000005160000061 | I35: 7 | J35: 7 | K35: Gas Loading Racks | L35: 7 | M35: 7 | N35: 7 | O35: 24 | P35: 8760 | Q35: 1 | R35: 1 | S35: Gasoline Loading Rack (VRU & VCU) & Fugitive Tanker Truck Emissions | T35: 40600141 | U35: 1000 Gallons Transferred | V35: 1000 Gallons Transferred | W35: Particulate Matter 10 | X35: 23 | Y35: 23 | Z35: 24 | AA35: 30 | AB35: 420763.06 | AC35: 0.1469 | AD35: Y | AE35: =IF(Y35=0,0,P35/(O35*N35)*Y35/100) -> 11.992857 | AF35: =IF(AE35=0,"n/a",IF(AE35>13,(AC35*Y35/100)/(13*N35),(AC35*Y35/100/(AE35*N35)))) -> 0.00040246575 | AG35: =AC35*'2022 EMP Fac Data Metro DC-NoVA'!$AN$11 -> 0.16322433 | AH35: =AG35*$AF35/$AC35 -> 0.00044718995 | AI35: =AC35*'2022 EMP Fac Data Metro DC-NoVA'!$AO$11 -> 0.17350833 | AJ35: =AI35*$AF35/$AC35 -> 0.00047536528 | AK35: VA CEDS for 2022 emissions by facility and SCC. 2022 OSTD calculated per federal guidance. Data grown to 2032 and 2038 using EPA's facility level 2022 EMP emissions estimates for 2032 and 2038.
A36: Title V Major Odd | B36: 2022 | C36: 70220 | D36: 6632911 | E36: Buckeye Terminals, LLC - Fairfax Terminal | F36: Fairfax City | G36: 600 | H36: VA0000005160000061 | I36: 7 | J36: 7 | K36: Gas Loading Racks | L36: 7 | M36: 7 | N36: 7 | O36: 24 | P36: 8760 | Q36: 1 | R36: 1 | S36: Gasoline Loading Rack (VRU & VCU) & Fugitive Tanker Truck Emissions | T36: 40600141 | U36: 1000 Gallons Transferred | V36: 1000 Gallons Transferred | W36: Sulfur Dioxide | X36: 23 | Y36: 23 | Z36: 24 | AA36: 30 | AB36: 420763.06 | AC36: 0.004 | AD36: Y | AE36: =IF(Y36=0,0,P36/(O36*N36)*Y36/100) -> 11.992857 | AF36: =IF(AE36=0,"n/a",IF(AE36>13,(AC36*Y36/100)/(13*N36),(AC36*Y36/100/(AE36*N36)))) -> 1.0958904e-05 | AG36: =AC36*'2022 EMP Fac Data Metro DC-NoVA'!$AQ$11 -> 0.0044445019 | AH36: =AG36*$AF36/$AC36 -> 1.2176717e-05 | AI36: =AC36*'2022 EMP Fac Data Metro DC-NoVA'!$AR$11 -> 0.004724529 | AJ36: =AI36*$AF36/$AC36 -> 1.2943915e-05 | AK36: VA CEDS for 2022 emissions by facility and SCC. 2022 OSTD calculated per federal guidance. Data grown to 2032 and 2038 using EPA's facility level 2022 EMP emissions estimates for 2032 and 2038.
A37: Title V Major Odd | B37: 2022 | C37: 70220 | D37: 6632911 | E37: Buckeye Terminals, LLC - Fairfax Terminal | F37: Fairfax City | G37: 600 | H37: VA0000005160000061 | I37: 7 | J37: 7 | K37: Gas Loading Racks | L37: 7 | M37: 7 | N37: 7 | O37: 24 | P37: 8760 | Q37: 1 | R37: 1 | S37: Gasoline Loading Rack (VRU & VCU) & Fugitive Tanker Truck Emissions | T37: 40600141 | U37: 1000 Gallons Transferred | V37: 1000 Gallons Transferred | W37: Volatile Organic Compounds | X37: 23 | Y37: 23 | Z37: 24 | AA37: 30 | AB37: 420763.06 | AC37: 21.0229 | AD37: Y | AE37: =IF(Y37=0,0,P37/(O37*N37)*Y37/100) -> 11.992857 | AF37: =IF(AE37=0,"n/a",IF(AE37>13,(AC37*Y37/100)/(13*N37),(AC37*Y37/100/(AE37*N37)))) -> 0.057596986 | AG37: =AC37*'2022 EMP Fac Data Metro DC-NoVA'!$AT$11 -> 19.431141 | AH37: =AG37*$AF37/$AC37 -> 0.053236002 | AI37: =AC37*'2022 EMP Fac Data Metro DC-NoVA'!$AU$11 -> 20.126186 | AJ37: =AI37*$AF37/$AC37 -> 0.055140236 | AK37: VA CEDS for 2022 emissions by facility and SCC. 2022 OSTD calculated per federal guidance. Data grown to 2032 and 2038 using EPA's facility level 2022 EMP emissions estimates for 2032 and 2038.
A38: Title V Major Odd | B38: 2022 | C38: 70220 | D38: 6632911 | E38: Buckeye Terminals, LLC - Fairfax Terminal | F38: Fairfax City | G38: 600 | H38: VA0000005160000061 | I38: 8 | J38: 8 | K38: Distillate Loading Racks | L38: 8 | M38: 8 | N38: 7 | O38: 24 | P38: 8760 | Q38: 1 | R38: 1 | S38: Distillate Loading Rack (VRU & VCU) | T38: 40600135 | U38: 1000 Gallons Transferred | V38: 1000 Gallons Transferred | W38: Volatile Organic Compounds | X38: 25 | Y38: 26 | Z38: 24 | AA38: 25 | AB38: 56049.929 | AC38: 0.3218 | AD38: Y | AE38: =IF(Y38=0,0,P38/(O38*N38)*Y38/100) -> 13.557143 | AF38: =IF(AE38=0,"n/a",IF(AE38>13,(AC38*Y38/100)/(13*N38),(AC38*Y38/100/(AE38*N38)))) -> 0.00091942857 | AG38: =AC38*'2022 EMP Fac Data Metro DC-NoVA'!$AT$11 -> 0.29743475 | AH38: =AG38*$AF38/$AC38 -> 0.00084981358 | AI38: =AC38*'2022 EMP Fac Data Metro DC-NoVA'!$AU$11 -> 0.30807389 | AJ38: =AI38*$AF38/$AC38 -> 0.00088021113 | AK38: VA CEDS for 2022 emissions by facility and SCC. 2022 OSTD calculated per federal guidance. Data grown to 2032 and 2038 using EPA's facility level 2022 EMP emissions estimates for 2032 and 2038.
A39: Title V Major Odd | B39: 2022 | C39: 70220 | D39: 6632911 | E39: Buckeye Terminals, LLC - Fairfax Terminal | F39: Fairfax City | G39: 600 | H39: VA0000005160000061 | I39: 9 | J39: 9 | K39: Fugitive Emissions from Valves, Pump Seals, Fittings & Other Equipment | L39: 9 | M39: 9 | N39: 7 | O39: 24 | P39: 8760 | Q39: 1 | R39: 1 | S39: Fugitive Emissions from Valves, Pump Seals, Fittings & Other Equipment | T39: 40400151 | U39: 1000 Gallons Transferred | V39: 1000 Gallons Transferred | W39: Volatile Organic Compounds | X39: 25 | Y39: 24 | Z39: 25 | AA39: 26 | AB39: 407638.47 | AC39: 0.4915 | AD39: Y | AE39: =IF(Y39=0,0,P39/(O39*N39)*Y39/100) -> 12.514286 | AF39: =IF(AE39=0,"n/a",IF(AE39>13,(AC39*Y39/100)/(13*N39),(AC39*Y39/100/(AE39*N39)))) -> 0.0013465753 | AG39: =AC39*'2022 EMP Fac Data Metro DC-NoVA'!$AT$11 -> 0.45428584 | AH39: =AG39*$AF39/$AC39 -> 0.0012446187 | AI39: =AC39*'2022 EMP Fac Data Metro DC-NoVA'!$AU$11 -> 0.47053549 | AJ39: =AI39*$AF39/$AC39 -> 0.0012891383 | AK39: VA CEDS for 2022 emissions by facility and SCC. 2022 OSTD calculated per federal guidance. Data grown to 2032 and 2038 using EPA's facility level 2022 EMP emissions estimates for 2032 and 2038.
A40: Title V Major Odd | B40: 2022 | C40: 70220 | D40: 6632911 | E40: Buckeye Terminals, LLC - Fairfax Terminal | F40: Fairfax City | G40: 600 | H40: VA0000005160000061 | I40: 9 | J40: 9 | K40: Fugitive Emissions from Valves, Pump Seals, Fittings & Other Equipment | L40: 9 | M40: 9 | N40: 7 | O40: 24 | P40: 8760 | Q40: 2 | R40: 2 | S40: Tank Cleaning/Roof Landing Emissions | T40: 40400150 | U40: 1000 GALLONS TRANSFERRED | V40: tons | W40: Volatile Organic Compounds | X40: 0 | Y40: 0 | Z40: 100 | AA40: 0 | AB40: 1.889 | AC40: 1.9944 | AD40: Y | AE40: =IF(Y40=0,0,P40/(O40*N40)*Y40/100) -> 0 | AF40: =IF(AE40=0,"n/a",IF(AE40>13,(AC40*Y40/100)/(13*N40),(AC40*Y40/100/(AE40*N40)))) -> n/a | AG40: 0 | AH40: 0 | AI40: 0 | AJ40: 0 | AK40: VA CEDS for 2022 emissions by facility and SCC. 2022 OSTD calculated per federal guidance. Data grown to 2032 and 2038 using EPA's facility level 2022 EMP emissions estimates for 2032 and 2038.
A41: Title V Major Odd | B41: 2022 | C41: 70224 | D41: 6633011 | E41: CITGO Petroleum Corporation Fairfax Terminal | F41: Fairfax City | G41: 600 | H41: VA0000005160000063 | I41: 1 | J41: 1 | K41: Gas Tanks 1,2,3,5,6,7 | L41: 1 | M41: 1 | N41: 7 | O41: 24 | P41: 8760 | Q41: 1 | R41: 1 | S41: Tanks 1-3 & 5-7 Gas Storage Losses | T41: 40400111 | U41: 1000 Gallons Storage Capacity | V41: 1000 Gallons Storage Capacity | W41: Volatile Organic Compounds | X41: 25 | Y41: 25 | Z41: 25 | AA41: 25 | AB41: 24528.83 | AC41: 12.26 | AD41: Y | AE41: =IF(Y41=0,0,P41/(O41*N41)*Y41/100) -> 13.035714 | AF41: =IF(AE41=0,"n/a",IF(AE41>13,(AC41*Y41/100)/(13*N41),(AC41*Y41/100/(AE41*N41)))) -> 0.033681319 | AG41: =AC41*'2022 EMP Fac Data Metro DC-NoVA'!$AT$12 -> 10.732615 | AH41: =AG41*$AF41/$AC41 -> 0.029485207 | AI41: =AC41*'2022 EMP Fac Data Metro DC-NoVA'!$AU$12 -> 10.823681 | AJ41: =AI41*$AF41/$AC41 -> 0.029735388 | AK41: VA CEDS for 2022 emissions by facility and SCC. 2022 OSTD calculated per federal guidance. Data grown to 2032 and 2038 using EPA's facility level 2022 EMP emissions estimates for 2032 and 2038.
A42: Title V Major Odd | B42: 2022 | C42: 70224 | D42: 6633011 | E42: CITGO Petroleum Corporation Fairfax Terminal | F42: Fairfax City | G42: 600 | H42: VA0000005160000063 | I42: 1 | J42: 1 | K42: Gas Tanks 1,2,3,5,6,7 | L42: 1 | M42: 1 | N42: 7 | O42: 24 | P42: 8760 | Q42: 2 | R42: 2 | S42: Tanks 1-3 & 5-7 Gas Withdrawal Losses | T42: 40400116 | U42: 1000 Gallons Throughput | V42: 1000 Gallons Throughput | W42: Volatile Organic Compounds | X42: 21 | Y42: 27 | Z42: 26 | AA42: 26 | AB42: 815.77 | AC42: 0.41 | AD42: Y | AE42: =IF(Y42=0,0,P42/(O42*N42)*Y42/100) -> 14.078571 | AF42: =IF(AE42=0,"n/a",IF(AE42>13,(AC42*Y42/100)/(13*N42),(AC42*Y42/100/(AE42*N42)))) -> 0.0012164835 | AG42: =AC42*'2022 EMP Fac Data Metro DC-NoVA'!$AT$12 -> 0.35892106 | AH42: =AG42*$AF42/$AC42 -> 0.0010649306 | AI42: =AC42*'2022 EMP Fac Data Metro DC-NoVA'!$AU$12 -> 0.3619665 | AJ42: =AI42*$AF42/$AC42 -> 0.0010739665 | AK42: VA CEDS for 2022 emissions by facility and SCC. 2022 OSTD calculated per federal guidance. Data grown to 2032 and 2038 using EPA's facility level 2022 EMP emissions estimates for 2032 and 2038.
A43: Title V Major Odd | B43: 2022 | C43: 70224 | D43: 6633011 | E43: CITGO Petroleum Corporation Fairfax Terminal | F43: Fairfax City | G43: 600 | H43: VA0000005160000063 | I43: 2 | J43: 2 | K43: Distillate Tanks 4 | L43: 2 | M43: 2 | N43: 7 | O43: 24 | P43: 8760 | Q43: 1 | R43: 1 | S43: Tanks 4, Breathing Losses | T43: 40301019 | U43: 1000 Gallons Storage Capacity | V43: 1000 Gallons Storage Capacity | W43: Volatile Organic Compounds | X43: 25 | Y43: 25 | Z43: 25 | AA43: 25 | AB43: 735.34 | AC43: 0.37 | AD43: Y | AE43: =IF(Y43=0,0,P43/(O43*N43)*Y43/100) -> 13.035714 | AF43: =IF(AE43=0,"n/a",IF(AE43>13,(AC43*Y43/100)/(13*N43),(AC43*Y43/100/(AE43*N43)))) -> 0.0010164835 | AG43: =AC43*'2022 EMP Fac Data Metro DC-NoVA'!$AT$12 -> 0.32390437 | AH43: =AG43*$AF43/$AC43 -> 0.00088984718 | AI43: =AC43*'2022 EMP Fac Data Metro DC-NoVA'!$AU$12 -> 0.3266527 | AJ43: =AI43*$AF43/$AC43 -> 0.00089739752 | AK43: VA CEDS for 2022 emissions by facility and SCC. 2022 OSTD calculated per federal guidance. Data grown to 2032 and 2038 using EPA's facility level 2022 EMP emissions estimates for 2032 and 2038.
A44: Title V Major Odd | B44: 2022 | C44: 70224 | D44: 6633011 | E44: CITGO Petroleum Corporation Fairfax Terminal | F44: Fairfax City | G44: 600 | H44: VA0000005160000063 | I44: 2 | J44: 2 | K44: Distillate Tanks 4 | L44: 2 | M44: 2 | N44: 7 | O44: 24 | P44: 8760 | Q44: 2 | R44: 2 | S44: Tanks 4, Working Losses | T44: 40301021 | U44: 1000 Gallons Throughput | V44: 1000 Gallons Throughput | W44: Volatile Organic Compounds | X44: 22 | Y44: 26 | Z44: 23 | AA44: 29 | AB44: 1419.48 | AC44: 0.71 | AD44: Y | AE44: =IF(Y44=0,0,P44/(O44*N44)*Y44/100) -> 13.557143 | AF44: =IF(AE44=0,"n/a",IF(AE44>13,(AC44*Y44/100)/(13*N44),(AC44*Y44/100/(AE44*N44)))) -> 0.0020285714 | AG44: =AC44*'2022 EMP Fac Data Metro DC-NoVA'!$AT$12 -> 0.62154623 | AH44: =AG44*$AF44/$AC44 -> 0.0017758464 | AI44: =AC44*'2022 EMP Fac Data Metro DC-NoVA'!$AU$12 -> 0.62682004 | AJ44: =AI44*$AF44/$AC44 -> 0.0017909144 | AK44: VA CEDS for 2022 emissions by facility and SCC. 2022 OSTD calculated per federal guidance. Data grown to 2032 and 2038 using EPA's facility level 2022 EMP emissions estimates for 2032 and 2038.
A45: Title V Major Odd | B45: 2022 | C45: 70224 | D45: 6633011 | E45: CITGO Petroleum Corporation Fairfax Terminal | F45: Fairfax City | G45: 600 | H45: VA0000005160000063 | I45: 3 | J45: 3 | K45: Loading Racks | L45: 3 | M45: 3 | N45: 7 | O45: 24 | P45: 8760 | Q45: 1 | R45: 1 | S45: Gasoline Loading Rack, SV-GASO GAS-SUBM-BAL SER | T45: 40600141 | U45: 1000 Gallons Transferred | V45: 1000 Gallons Transferred | W45: Carbon Monoxide | X45: 21 | Y45: 27 | Z45: 26 | AA45: 26 | AB45: 142549 | AC45: 6.47 | AD45: Y | AE45: =IF(Y45=0,0,P45/(O45*N45)*Y45/100) -> 14.078571 | AF45: =IF(AE45=0,"n/a",IF(AE45>13,(AC45*Y45/100)/(13*N45),(AC45*Y45/100/(AE45*N45)))) -> 0.019196703 | AG45: =AC45*'2022 EMP Fac Data Metro DC-NoVA'!$AE$12 -> 7.1889818 | AH45: =AG45*$AF45/$AC45 -> 0.021329946 | AI45: =AC45*'2022 EMP Fac Data Metro DC-NoVA'!$AF$12 -> 7.6419256 | AJ45: =AI45*$AF45/$AC45 -> 0.022673845 | AK45: VA CEDS for 2022 emissions by facility and SCC. 2022 OSTD calculated per federal guidance. Data grown to 2032 and 2038 using EPA's facility level 2022 EMP emissions estimates for 2032 and 2038.
A46: Title V Major Odd | B46: 2022 | C46: 70224 | D46: 6633011 | E46: CITGO Petroleum Corporation Fairfax Terminal | F46: Fairfax City | G46: 600 | H46: VA0000005160000063 | I46: 3 | J46: 3 | K46: Loading Racks | L46: 3 | M46: 3 | N46: 7 | O46: 24 | P46: 8760 | Q46: 1 | R46: 1 | S46: Gasoline Loading Rack, SV-GASO GAS-SUBM-BAL SER | T46: 40600141 | U46: 1000 Gallons Transferred | V46: 1000 Gallons Transferred | W46: Nitrogen Oxide | X46: 21 | Y46: 27 | Z46: 26 | AA46: 26 | AB46: 142549 | AC46: 2.59 | AD46: Y | AE46: =IF(Y46=0,0,P46/(O46*N46)*Y46/100) -> 14.078571 | AF46: =IF(AE46=0,"n/a",IF(AE46>13,(AC46*Y46/100)/(13*N46),(AC46*Y46/100/(AE46*N46)))) -> 0.0076846154 | AG46: =AC46*'2022 EMP Fac Data Metro DC-NoVA'!$AK$12 -> 2.877815 | AH46: =AG46*$AF46/$AC46 -> 0.0085385719 | AI46: =AC46*'2022 EMP Fac Data Metro DC-NoVA'!$AL$12 -> 3.0591325 | AJ46: =AI46*$AF46/$AC46 -> 0.009076547 | AK46: VA CEDS for 2022 emissions by facility and SCC. 2022 OSTD calculated per federal guidance. Data grown to 2032 and 2038 using EPA's facility level 2022 EMP emissions estimates for 2032 and 2038.
A47: Title V Major Odd | B47: 2022 | C47: 70224 | D47: 6633011 | E47: CITGO Petroleum Corporation Fairfax Terminal | F47: Fairfax City | G47: 600 | H47: VA0000005160000063 | I47: 3 | J47: 3 | K47: Loading Racks | L47: 3 | M47: 3 | N47: 7 | O47: 24 | P47: 8760 | Q47: 1 | R47: 1 | S47: Gasoline Loading Rack, SV-GASO GAS-SUBM-BAL SER | T47: 40600141 | U47: 1000 Gallons Transferred | V47: 1000 Gallons Transferred | W47: Volatile Organic Compounds | X47: 21 | Y47: 27 | Z47: 26 | AA47: 26 | AB47: 142549 | AC47: 11 | AD47: Y | AE47: =IF(Y47=0,0,P47/(O47*N47)*Y47/100) -> 14.078571 | AF47: =IF(AE47=0,"n/a",IF(AE47>13,(AC47*Y47/100)/(13*N47),(AC47*Y47/100/(AE47*N47)))) -> 0.032637363 | AG47: =AC47*'2022 EMP Fac Data Metro DC-NoVA'!$AT$12 -> 9.6295895 | AH47: =AG47*$AF47/$AC47 -> 0.028571309 | AI47: =AC47*'2022 EMP Fac Data Metro DC-NoVA'!$AU$12 -> 9.7112964 | AJ47: =AI47*$AF47/$AC47 -> 0.028813737 | AK47: VA CEDS for 2022 emissions by facility and SCC. 2022 OSTD calculated per federal guidance. Data grown to 2032 and 2038 using EPA's facility level 2022 EMP emissions estimates for 2032 and 2038.
A48: Title V Major Odd | B48: 2022 | C48: 70224 | D48: 6633011 | E48: CITGO Petroleum Corporation Fairfax Terminal | F48: Fairfax City | G48: 600 | H48: VA0000005160000063 | I48: 3 | J48: 3 | K48: Loading Racks | L48: 3 | M48: 3 | N48: 7 | O48: 24 | P48: 8760 | Q48: 2 | R48: 2 | S48: Distillate Loading Rack, SV-GASO GAS-SUBM-BAL SER | T48: 40600135 | U48: 1000 Gallons Transferred | V48: 1000 Gallons Transferred | W48: Volatile Organic Compounds | X48: 22 | Y48: 26 | Z48: 23 | AA48: 29 | AB48: 73138 | AC48: 0.72 | AD48: Y | AE48: =IF(Y48=0,0,P48/(O48*N48)*Y48/100) -> 13.557143 | AF48: =IF(AE48=0,"n/a",IF(AE48>13,(AC48*Y48/100)/(13*N48),(AC48*Y48/100/(AE48*N48)))) -> 0.0020571429 | AG48: =AC48*'2022 EMP Fac Data Metro DC-NoVA'!$AT$12 -> 0.6303004 | AH48: =AG48*$AF48/$AC48 -> 0.0018008583 | AI48: =AC48*'2022 EMP Fac Data Metro DC-NoVA'!$AU$12 -> 0.63564849 | AJ48: =AI48*$AF48/$AC48 -> 0.0018161386 | AK48: VA CEDS for 2022 emissions by facility and SCC. 2022 OSTD calculated per federal guidance. Data grown to 2032 and 2038 using EPA's facility level 2022 EMP emissions estimates for 2032 and 2038.
A49: Title V Major Odd | B49: 2022 | C49: 70224 | D49: 6633011 | E49: CITGO Petroleum Corporation Fairfax Terminal | F49: Fairfax City | G49: 600 | H49: VA0000005160000063 | I49: 3 | J49: 3 | K49: Loading Racks | L49: 3 | M49: 3 | N49: 7 | O49: 24 | P49: 8760 | Q49: 3 | S49: Loading Rack, SV-GASO GAS-SUBM-BAL SER, Fugitive Emissions | T49: 40600135 | U49: 1000 Gallons Transferred | V49: 1000 gallons transferred | W49: Volatile Organic Compounds | X49: 25 | Y49: 25 | Z49: 25 | AA49: 25 | AB49: 10203 | AC49: 0 | AD49: Y | AE49: =IF(Y49=0,0,P49/(O49*N49)*Y49/100) -> 13.035714 | AF49: =IF(AE49=0,"n/a",IF(AE49>13,(AC49*Y49/100)/(13*N49),(AC49*Y49/100/(AE49*N49)))) -> 0 | AG49: 0 | AH49: 0 | AI49: 0 | AJ49: 0 | AK49: VA CEDS for 2022 emissions by facility and SCC. 2022 OSTD calculated per federal guidance. Data grown to 2032 and 2038 using EPA's facility level 2022 EMP emissions estimates for 2032 and 2038.
A50: Title V Major Odd | B50: 2022 | C50: 70224 | D50: 6633011 | E50: CITGO Petroleum Corporation Fairfax Terminal | F50: Fairfax City | G50: 600 | H50: VA0000005160000063 | I50: 4 | J50: 4 | K50: Fugitive Emissions | L50: 4 | M50: 4 | N50: 7 | O50: 24 | P50: 8760 | Q50: 1 | R50: 1 | S50: FUG. LOSS/EQUIP.2 PROCESS | T50: 40400151 | U50: 1000 Gallons Transferred | V50: pounds | W50: Volatile Organic Compounds | X50: 25 | Y50: 25 | Z50: 25 | AA50: 25 | AB50: 1.5 | AC50: 1.5 | AD50: Y | AE50: =IF(Y50=0,0,P50/(O50*N50)*Y50/100) -> 13.035714 | AF50: =IF(AE50=0,"n/a",IF(AE50>13,(AC50*Y50/100)/(13*N50),(AC50*Y50/100/(AE50*N50)))) -> 0.0041208791 | AG50: =AC50*'2022 EMP Fac Data Metro DC-NoVA'!$AT$12 -> 1.3131258 | AH50: =AG50*$AF50/$AC50 -> 0.0036074886 | AI50: =AC50*'2022 EMP Fac Data Metro DC-NoVA'!$AU$12 -> 1.3242677 | AJ50: =AI50*$AF50/$AC50 -> 0.0036380981 | AK50: VA CEDS for 2022 emissions by facility and SCC. 2022 OSTD calculated per federal guidance. Data grown to 2032 and 2038 using EPA's facility level 2022 EMP emissions estimates for 2032 and 2038.
A51: Title V Major Odd | B51: 2022 | C51: 70224 | D51: 6633011 | E51: CITGO Petroleum Corporation Fairfax Terminal | F51: Fairfax City | G51: 600 | H51: VA0000005160000063 | I51: 4 | J51: 4 | K51: Fugitive Emissions - Tank Cleaning | L51: 5 | N51: 7 | O51: 24 | P51: 8760 | Q51: 2 | S51: FUG. LOSS/TANK CLEANING | T51: 40400116 | U51: 1000 Gallons Throughput | V51: pounds | W51: Volatile Organic Compounds | X51: 0 | Y51: 0 | Z51: 0 | AA51: 0 | AB51: 0 | AC51: 0 | AD51: Y | AE51: =IF(Y51=0,0,P51/(O51*N51)*Y51/100) -> 0 | AF51: =IF(AE51=0,"n/a",IF(AE51>13,(AC51*Y51/100)/(13*N51),(AC51*Y51/100/(AE51*N51)))) -> n/a | AG51: 0 | AH51: 0 | AI51: 0 | AJ51: 0 | AK51: VA CEDS for 2022 emissions by facility and SCC. 2022 OSTD calculated per federal guidance. Data grown to 2032 and 2038 using EPA's facility level 2022 EMP emissions estimates for 2032 and 2038.
A52: Title V Major Even | B52: 2022 | C52: 70225 | D52: 7520511 | E52: Dominion - Possum Point Power Station | F52: Prince William County | G52: 153 | H52: VA0000005115300002 | I52: 5 | J52: 5 | K52: Unit 5 - Combustion Engineering, 8500 MMBtu/hr heat input rating | L52: 5 | M52: 5 | N52: 7 | O52: 24 | P52: 8760 | Q52: 1 | R52: 1 | S52: Unit 5 Combustion Eng - No 6 Oil | T52: 10100404 | U52: 1000 Gallons Burned | V52: 1000 Gallons Burned | W52: Ammonia | X52: 0 | Y52: 0 | Z52: 0 | AA52: 0 | AB52: 0 | AC52: 0 | AD52: Y | AE52: =IF(Y52=0,0,P52/(O52*N52)*Y52/100) -> 0 | AF52: =IF(AE52=0,"n/a",IF(AE52>13,(AC52*Y52/100)/(13*N52),(AC52*Y52/100/(AE52*N52)))) -> n/a | AG52: 0 | AH52: 0 | AI52: 0 | AJ52: 0 | AK52: VA CEDS for 2022 emissions by facility and SCC. 2022 OSTD calculated per federal guidance. Data grown to 2032 and 2038 using EPA's facility level 2022 EMP emissions estimates for 2032 and 2038.
A53: Title V Major Even | B53: 2022 | C53: 70225 | D53: 7520511 | E53: Dominion - Possum Point Power Station | F53: Prince William County | G53: 153 | H53: VA0000005115300002 | I53: 5 | J53: 5 | K53: Unit 5 - Combustion Engineering, 8500 MMBtu/hr heat input rating | L53: 5 | M53: 5 | N53: 7 | O53: 24 | P53: 8760 | Q53: 1 | R53: 1 | S53: Unit 5 Combustion Eng - No 6 Oil | T53: 10100404 | U53: 1000 Gallons Burned | V53: 1000 Gallons Burned | W53: Carbon Monoxide | X53: 0 | Y53: 0 | Z53: 0 | AA53: 0 | AB53: 0 | AC53: 0 | AD53: Y | AE53: =IF(Y53=0,0,P53/(O53*N53)*Y53/100) -> 0 | AF53: =IF(AE53=0,"n/a",IF(AE53>13,(AC53*Y53/100)/(13*N53),(AC53*Y53/100/(AE53*N53)))) -> n/a | AG53: 0 | AH53: 0 | AI53: 0 | AJ53: 0 | AK53: VA CEDS for 2022 emissions by facility and SCC. 2022 OSTD calculated per federal guidance. Data grown to 2032 and 2038 using EPA's facility level 2022 EMP emissions estimates for 2032 and 2038.
A54: Title V Major Even | B54: 2022 | C54: 70225 | D54: 7520511 | E54: Dominion - Possum Point Power Station | F54: Prince William County | G54: 153 | H54: VA0000005115300002 | I54: 5 | J54: 5 | K54: Unit 5 - Combustion Engineering, 8500 MMBtu/hr heat input rating | L54: 5 | M54: 5 | N54: 7 | O54: 24 | P54: 8760 | Q54: 1 | R54: 1 | S54: Unit 5 Combustion Eng - No 6 Oil | T54: 10100404 | U54: 1000 Gallons Burned | V54: 1000 Gallons Burned | W54: Nitrogen Oxide | X54: 0 | Y54: 0 | Z54: 0 | AA54: 0 | AB54: 0 | AC54: 0 | AD54: Y | AE54: =IF(Y54=0,0,P54/(O54*N54)*Y54/100) -> 0 | AF54: =IF(AE54=0,"n/a",IF(AE54>13,(AC54*Y54/100)/(13*N54),(AC54*Y54/100/(AE54*N54)))) -> n/a | AG54: 0 | AH54: 0 | AI54: 0 | AJ54: 0 | AK54: VA CEDS for 2022 emissions by facility and SCC. 2022 OSTD calculated per federal guidance. Data grown to 2032 and 2038 using EPA's facility level 2022 EMP emissions estimates for 2032 and 2038.
A55: Title V Major Even | B55: 2022 | C55: 70225 | D55: 7520511 | E55: Dominion - Possum Point Power Station | F55: Prince William County | G55: 153 | H55: VA0000005115300002 | I55: 5 | J55: 5 | K55: Unit 5 - Combustion Engineering, 8500 MMBtu/hr heat input rating | L55: 5 | M55: 5 | N55: 7 | O55: 24 | P55: 8760 | Q55: 1 | R55: 1 | S55: Unit 5 Combustion Eng - No 6 Oil | T55: 10100404 | U55: 1000 Gallons Burned | V55: 1000 Gallons Burned | W55: Particulate Matter 10 | X55: 0 | Y55: 0 | Z55: 0 | AA55: 0 | AB55: 0 | AC55: 0 | AD55: Y | AE55: =IF(Y55=0,0,P55/(O55*N55)*Y55/100) -> 0 | AF55: =IF(AE55=0,"n/a",IF(AE55>13,(AC55*Y55/100)/(13*N55),(AC55*Y55/100/(AE55*N55)))) -> n/a | AG55: 0 | AH55: 0 | AI55: 0 | AJ55: 0 | AK55: VA CEDS for 2022 emissions by facility and SCC. 2022 OSTD calculated per federal guidance. Data grown to 2032 and 2038 using EPA's facility level 2022 EMP emissions estimates for 2032 and 2038.
A56: Title V Major Even | B56: 2022 | C56: 70225 | D56: 7520511 | E56: Dominion - Possum Point Power Station | F56: Prince William County | G56: 153 | H56: VA0000005115300002 | I56: 5 | J56: 5 | K56: Unit 5 - Combustion Engineering, 8500 MMBtu/hr heat input rating | L56: 5 | M56: 5 | N56: 7 | O56: 24 | P56: 8760 | Q56: 1 | R56: 1 | S56: Unit 5 Combustion Eng - No 6 Oil | T56: 10100404 | U56: 1000 Gallons Burned | V56: 1000 Gallons Burned | W56: Particulate Matter 2.5 | X56: 0 | Y56: 0 | Z56: 0 | AA56: 0 | AB56: 0 | AC56: 0 | AD56: Y | AE56: =IF(Y56=0,0,P56/(O56*N56)*Y56/100) -> 0 | AF56: =IF(AE56=0,"n/a",IF(AE56>13,(AC56*Y56/100)/(13*N56),(AC56*Y56/100/(AE56*N56)))) -> n/a | AG56: 0 | AH56: 0 | AI56: 0 | AJ56: 0 | AK56: VA CEDS for 2022 emissions by facility and SCC. 2022 OSTD calculated per federal guidance. Data grown to 2032 and 2038 using EPA's facility level 2022 EMP emissions estimates for 2032 and 2038.
A57: Title V Major Even | B57: 2022 | C57: 70225 | D57: 7520511 | E57: Dominion - Possum Point Power Station | F57: Prince William County | G57: 153 | H57: VA0000005115300002 | I57: 5 | J57: 5 | K57: Unit 5 - Combustion Engineering, 8500 MMBtu/hr heat input rating | L57: 5 | M57: 5 | N57: 7 | O57: 24 | P57: 8760 | Q57: 1 | R57: 1 | S57: Unit 5 Combustion Eng - No 6 Oil | T57: 10100404 | U57: 1000 Gallons Burned | V57: 1000 Gallons Burned | W57: Sulfur Dioxide | X57: 0 | Y57: 0 | Z57: 0 | AA57: 0 | AB57: 0 | AC57: 0 | AD57: Y | AE57: =IF(Y57=0,0,P57/(O57*N57)*Y57/100) -> 0 | AF57: =IF(AE57=0,"n/a",IF(AE57>13,(AC57*Y57/100)/(13*N57),(AC57*Y57/100/(AE57*N57)))) -> n/a | AG57: 0 | AH57: 0 | AI57: 0 | AJ57: 0 | AK57: VA CEDS for 2022 emissions by facility and SCC. 2022 OSTD calculated per federal guidance. Data grown to 2032 and 2038 using EPA's facility level 2022 EMP emissions estimates for 2032 and 2038.
A58: Title V Major Even | B58: 2022 | C58: 70225 | D58: 7520511 | E58: Dominion - Possum Point Power Station | F58: Prince William County | G58: 153 | H58: VA0000005115300002 | I58: 5 | J58: 5 | K58: Unit 5 - Combustion Engineering, 8500 MMBtu/hr heat input rating | L58: 5 | M58: 5 | N58: 7 | O58: 24 | P58: 8760 | Q58: 1 | R58: 1 | S58: Unit 5 Combustion Eng - No 6 Oil | T58: 10100404 | U58: 1000 Gallons Burned | V58: 1000 Gallons Burned | W58: Volatile Organic Compounds | X58: 0 | Y58: 0 | Z58: 0 | AA58: 0 | AB58: 0 | AC58: 0 | AD58: Y | AE58: =IF(Y58=0,0,P58/(O58*N58)*Y58/100) -> 0 | AF58: =IF(AE58=0,"n/a",IF(AE58>13,(AC58*Y58/100)/(13*N58),(AC58*Y58/100/(AE58*N58)))) -> n/a | AG58: 0 | AH58: 0 | AI58: 0 | AJ58: 0 | AK58: VA CEDS for 2022 emissions by facility and SCC. 2022 OSTD calculated per federal guidance. Data grown to 2032 and 2038 using EPA's facility level 2022 EMP emissions estimates for 2032 and 2038.
A59: Title V Major Even | B59: 2022 | C59: 70225 | D59: 7520511 | E59: Dominion - Possum Point Power Station | F59: Prince William County | G59: 153 | H59: VA0000005115300002 | I59: 5 | J59: 5 | K59: Unit 5 - Combustion Engineering, 8500 MMBtu/hr heat input rating | L59: 5 | M59: 5 | N59: 7 | O59: 24 | P59: 8760 | Q59: 2 | R59: 2 | S59: Unit 5 Combustion Eng - No 2 Oil (860 MMBtu/hr guns) | T59: 10100501 | U59: 1000 Gallons Burned | V59: 1000 Gallons Burned | W59: Ammonia | X59: 0 | Y59: 0 | Z59: 0 | AA59: 0 | AB59: 0 | AC59: 0 | AD59: Y | AE59: =IF(Y59=0,0,P59/(O59*N59)*Y59/100) -> 0 | AF59: =IF(AE59=0,"n/a",IF(AE59>13,(AC59*Y59/100)/(13*N59),(AC59*Y59/100/(AE59*N59)))) -> n/a | AG59: 0 | AH59: 0 | AI59: 0 | AJ59: 0 | AK59: VA CEDS for 2022 emissions by facility and SCC. 2022 OSTD calculated per federal guidance. Data grown to 2032 and 2038 using EPA's facility level 2022 EMP emissions estimates for 2032 and 2038.
A60: Title V Major Even | B60: 2022 | C60: 70225 | D60: 7520511 | E60: Dominion - Possum Point Power Station | F60: Prince William County | G60: 153 | H60: VA0000005115300002 | I60: 5 | J60: 5 | K60: Unit 5 - Combustion Engineering, 8500 MMBtu/hr heat input rating | L60: 5 | M60: 5 | N60: 7 | O60: 24 | P60: 8760 | Q60: 2 | R60: 2 | S60: Unit 5 Combustion Eng - No 2 Oil (860 MMBtu/hr guns) | T60: 10100501 | U60: 1000 Gallons Burned | V60: 1000 Gallons Burned | W60: Carbon Monoxide | X60: 0 | Y60: 0 | Z60: 0 | AA60: 0 | AB60: 0 | AC60: 0 | AD60: Y | AE60: =IF(Y60=0,0,P60/(O60*N60)*Y60/100) -> 0 | AF60: =IF(AE60=0,"n/a",IF(AE60>13,(AC60*Y60/100)/(13*N60),(AC60*Y60/100/(AE60*N60)))) -> n/a | AG60: 0 | AH60: 0 | AI60: 0 | AJ60: 0 | AK60: VA CEDS for 2022 emissions by facility and SCC. 2022 OSTD calculated per federal guidance. Data grown to 2032 and 2038 using EPA's facility level 2022 EMP emissions estimates for 2032 and 2038.
A61: Title V Major Even | B61: 2022 | C61: 70225 | D61: 7520511 | E61: Dominion - Possum Point Power Station | F61: Prince William County | G61: 153 | H61: VA0000005115300002 | I61: 5 | J61: 5 | K61: Unit 5 - Combustion Engineering, 8500 MMBtu/hr heat input rating | L61: 5 | M61: 5 | N61: 7 | O61: 24 | P61: 8760 | Q61: 2 | R61: 2 | S61: Unit 5 Combustion Eng - No 2 Oil (860 MMBtu/hr guns) | T61: 10100501 | U61: 1000 Gallons Burned | V61: 1000 Gallons Burned | W61: Nitrogen Oxide | X61: 0 | Y61: 0 | Z61: 0 | AA61: 0 | AB61: 0 | AC61: 0 | AD61: Y | AE61: =IF(Y61=0,0,P61/(O61*N61)*Y61/100) -> 0 | AF61: =IF(AE61=0,"n/a",IF(AE61>13,(AC61*Y61/100)/(13*N61),(AC61*Y61/100/(AE61*N61)))) -> n/a | AG61: 0 | AH61: 0 | AI61: 0 | AJ61: 0 | AK61: VA CEDS for 2022 emissions by facility and SCC. 2022 OSTD calculated per federal guidance. Data grown to 2032 and 2038 using EPA's facility level 2022 EMP emissions estimates for 2032 and 2038.
A62: Title V Major Even | B62: 2022 | C62: 70225 | D62: 7520511 | E62: Dominion - Possum Point Power Station | F62: Prince William County | G62: 153 | H62: VA0000005115300002 | I62: 5 | J62: 5 | K62: Unit 5 - Combustion Engineering, 8500 MMBtu/hr heat input rating | L62: 5 | M62: 5 | N62: 7 | O62: 24 | P62: 8760 | Q62: 2 | R62: 2 | S62: Unit 5 Combustion Eng - No 2 Oil (860 MMBtu/hr guns) | T62: 10100501 | U62: 1000 Gallons Burned | V62: 1000 Gallons Burned | W62: Particulate Matter 10 | X62: 0 | Y62: 0 | Z62: 0 | AA62: 0 | AB62: 0 | AC62: 0 | AD62: Y | AE62: =IF(Y62=0,0,P62/(O62*N62)*Y62/100) -> 0 | AF62: =IF(AE62=0,"n/a",IF(AE62>13,(AC62*Y62/100)/(13*N62),(AC62*Y62/100/(AE62*N62)))) -> n/a | AG62: 0 | AH62: 0 | AI62: 0 | AJ62: 0 | AK62: VA CEDS for 2022 emissions by facility and SCC. 2022 OSTD calculated per federal guidance. Data grown to 2032 and 2038 using EPA's facility level 2022 EMP emissions estimates for 2032 and 2038.
A63: Title V Major Even | B63: 2022 | C63: 70225 | D63: 7520511 | E63: Dominion - Possum Point Power Station | F63: Prince William County | G63: 153 | H63: VA0000005115300002 | I63: 5 | J63: 5 | K63: Unit 5 - Combustion Engineering, 8500 MMBtu/hr heat input rating | L63: 5 | M63: 5 | N63: 7 | O63: 24 | P63: 8760 | Q63: 2 | R63: 2 | S63: Unit 5 Combustion Eng - No 2 Oil (860 MMBtu/hr guns) | T63: 10100501 | U63: 1000 Gallons Burned | V63: 1000 Gallons Burned | W63: Particulate Matter 2.5 | X63: 0 | Y63: 0 | Z63: 0 | AA63: 0 | AB63: 0 | AC63: 0 | AD63: Y | AE63: =IF(Y63=0,0,P63/(O63*N63)*Y63/100) -> 0 | AF63: =IF(AE63=0,"n/a",IF(AE63>13,(AC63*Y63/100)/(13*N63),(AC63*Y63/100/(AE63*N63)))) -> n/a | AG63: 0 | AH63: 0 | AI63: 0 | AJ63: 0 | AK63: VA CEDS for 2022 emissions by facility and SCC. 2022 OSTD calculated per federal guidance. Data grown to 2032 and 2038 using EPA's facility level 2022 EMP emissions estimates for 2032 and 2038.
... A65: Title V Major Even | B65: 2022 | C65: 70225 | D65: 7520511 | E65: Dominion - Possum Point Power Station | F65: Prince William County | G65: 153 | H65: VA0000005115300002 | I65: 5 | J65: 5 | K65: Unit 5 - Combustion Engineering, 8500 MMBtu/hr heat input rating | L65: 5 | M65: 5 | N65: 7 | O65: 24 | P65: 8760 | Q65: 2 | R65: 2 | S65: Unit 5 Combustion Eng - No 2 Oil (860 MMBtu/hr guns) | T65: 10100501 | U65: 1000 Gallons Burned | V65: 1000 Gallons Burned | W65: Volatile Organic Compounds | X65: 0 | Y65: 0 | Z65: 0 | AA65: 0 | AB65: 0 | AC65: 0 | AD65: Y | AE65: =IF(Y65=0,0,P65/(O65*N65)*Y65/100) -> 0 | AF65: =IF(AE65=0,"n/a",IF(AE65>13,(AC65*Y65/100)/(13*N65),(AC65*Y65/100/(AE65*N65)))) -> n/a | AG65: 0 | AH65: 0 | AI65: 0 | AJ65: 0 | AK65: VA CEDS for 2022 emissions by facility and SCC. 2022 OSTD calculated per federal guidance. Data grown to 2032 and 2038 using EPA's facility level 2022 EMP emissions estimates for 2032 and 2038.
A66: Title V Major Even | B66: 2022 | C66: 70225 | D66: 7520511 | E66: Dominion - Possum Point Power Station | F66: Prince William County | G66: 153 | H66: VA0000005115300002 | I66: 6 | J66: 6 | K66: Unit 6 - No. 2 Oil-fired GE Combustion Turbine, 245 MMBtu/hr heat input capacity @ 80 F inlet temp | L66: 6 | M66: 6 | N66: 7 | O66: 24 | P66: 8760 | Q66: 1 | R66: 1 | S66: 6 GEN ELECTRIC PB5191 | T66: 20100101 | U66: Million BTUs Fuel Input | V66: Million BTUs Fuel Input | W66: Carbon Monoxide | X66: 0 | Y66: 90 | Z66: 10 | AA66: 0 | AB66: 10651 | AC66: 0.01757415 | AD66: Y | AE66: =IF(Y66=0,0,P66/(O66*N66)*Y66/100) -> 46.928571 | AF66: =IF(AE66=0,"n/a",IF(AE66>13,(AC66*Y66/100)/(13*N66),(AC66*Y66/100/(AE66*N66)))) -> 0.00017381027 | AG66: =AC66*'2022 EMP Fac Data Metro DC-NoVA'!$AE$19 -> 0.019298358 | AH66: =AG66*$AF66/$AC66 -> 0.00019086289 | AI66: =AC66*'2022 EMP Fac Data Metro DC-NoVA'!$AF$19 -> 0.010252735 | AJ66: =AI66*$AF66/$AC66 -> 0.00010140068 | AK66: VA CEDS for 2022 emissions by facility and SCC. 2022 OSTD calculated per federal guidance. Data grown to 2032 and 2038 using EPA's facility level 2022 EMP emissions estimates for 2032 and 2038.
A67: Title V Major Even | B67: 2022 | C67: 70225 | D67: 7520511 | E67: Dominion - Possum Point Power Station | F67: Prince William County | G67: 153 | H67: VA0000005115300002 | I67: 6 | J67: 6 | K67: Unit 6 - No. 2 Oil-fired GE Combustion Turbine, 245 MMBtu/hr heat input capacity @ 80 F inlet temp | L67: 6 | M67: 6 | N67: 7 | O67: 24 | P67: 8760 | Q67: 1 | R67: 1 | S67: 6 GEN ELECTRIC PB5191 | T67: 20100101 | U67: Million BTUs Fuel Input | V67: Million BTUs Fuel Input | W67: Nitrogen Oxide | X67: 0 | Y67: 90 | Z67: 10 | AA67: 0 | AB67: 10651 | AC67: 4.68644 | AD67: Y | AE67: =IF(Y67=0,0,P67/(O67*N67)*Y67/100) -> 46.928571 | AF67: =IF(AE67=0,"n/a",IF(AE67>13,(AC67*Y67/100)/(13*N67),(AC67*Y67/100/(AE67*N67)))) -> 0.046349407 | AG67: =AC67*'2022 EMP Fac Data Metro DC-NoVA'!$AK$19 -> 3.5534364 | AH67: =AF67/AC67*AG67 -> 0.035143876 | AI67: =AC67*'2022 EMP Fac Data Metro DC-NoVA'!$AL$19 -> 1.877549 | AJ67: =AI67*AF67/AC67 -> 0.018569166 | AK67: VA CEDS for 2022 emissions by facility and SCC. 2022 OSTD calculated per federal guidance. Data grown to 2032 and 2038 using EPA's facility level 2022 EMP emissions estimates for 2032 and 2038.
A68: Title V Major Even | B68: 2022 | C68: 70225 | D68: 7520511 | E68: Dominion - Possum Point Power Station | F68: Prince William County | G68: 153 | H68: VA0000005115300002 | I68: 6 | J68: 6 | K68: Unit 6 - No. 2 Oil-fired GE Combustion Turbine, 245 MMBtu/hr heat input capacity @ 80 F inlet temp | L68: 6 | M68: 6 | N68: 7 | O68: 24 | P68: 8760 | Q68: 1 | R68: 1 | S68: 6 GEN ELECTRIC PB5191 | T68: 20100101 | U68: Million BTUs Fuel Input | V68: Million BTUs Fuel Input | W68: Particulate Matter 10 | X68: 0 | Y68: 90 | Z68: 10 | AA68: 0 | AB68: 10651 | AC68: 0.063906 | AD68: Y | AE68: =IF(Y68=0,0,P68/(O68*N68)*Y68/100) -> 46.928571 | AF68: =IF(AE68=0,"n/a",IF(AE68>13,(AC68*Y68/100)/(13*N68),(AC68*Y68/100/(AE68*N68)))) -> 0.00063203736 | AG68: =AC68*'2022 EMP Fac Data Metro DC-NoVA'!$AN$19 -> 0.071543953 | AH68: =AG68*$AF68/$AC68 -> 0.00070757755 | AI68: =AC68*'2022 EMP Fac Data Metro DC-NoVA'!$AO$19 -> 0.045471154 | AJ68: =AI68*$AF68/$AC68 -> 0.00044971471 | AK68: VA CEDS for 2022 emissions by facility and SCC. 2022 OSTD calculated per federal guidance. Data grown to 2032 and 2038 using EPA's facility level 2022 EMP emissions estimates for 2032 and 2038.
A69: Title V Major Even | B69: 2022 | C69: 70225 | D69: 7520511 | E69: Dominion - Possum Point Power Station | F69: Prince William County | G69: 153 | H69: VA0000005115300002 | I69: 6 | J69: 6 | K69: Unit 6 - No. 2 Oil-fired GE Combustion Turbine, 245 MMBtu/hr heat input capacity @ 80 F inlet temp | L69: 6 | M69: 6 | N69: 7 | O69: 24 | P69: 8760 | Q69: 1 | R69: 1 | S69: 6 GEN ELECTRIC PB5191 | T69: 20100101 | U69: Million BTUs Fuel Input | V69: Million BTUs Fuel Input | W69: Particulate Matter 2.5 | X69: 0 | Y69: 90 | Z69: 10 | AA69: 0 | AB69: 10651 | AC69: 0.063906 | AD69: Y | AE69: =IF(Y69=0,0,P69/(O69*N69)*Y69/100) -> 46.928571 | AF69: =IF(AE69=0,"n/a",IF(AE69>13,(AC69*Y69/100)/(13*N69),(AC69*Y69/100/(AE69*N69)))) -> 0.00063203736 | AG69: =AC69*'2022 EMP Fac Data Metro DC-NoVA'!$AN$19 -> 0.071543953 | AH69: =AG69*$AF69/$AC69 -> 0.00070757755 | AI69: =AC69*'2022 EMP Fac Data Metro DC-NoVA'!$AO$19 -> 0.045471154 | AJ69: =AI69*$AF69/$AC69 -> 0.00044971471 | AK69: VA CEDS for 2022 emissions by facility and SCC. 2022 OSTD calculated per federal guidance. Data grown to 2032 and 2038 using EPA's facility level 2022 EMP emissions estimates for 2032 and 2038.
A70: Title V Major Even | B70: 2022 | C70: 70225 | D70: 7520511 | E70: Dominion - Possum Point Power Station | F70: Prince William County | G70: 153 | H70: VA0000005115300002 | I70: 6 | J70: 6 | K70: Unit 6 - No. 2 Oil-fired GE Combustion Turbine, 245 MMBtu/hr heat input capacity @ 80 F inlet temp | L70: 6 | M70: 6 | N70: 7 | O70: 24 | P70: 8760 | Q70: 1 | R70: 1 | S70: 6 GEN ELECTRIC PB5191 | T70: 20100101 | U70: Million BTUs Fuel Input | V70: Million BTUs Fuel Input | W70: Sulfur Dioxide | X70: 0 | Y70: 90 | Z70: 10 | AA70: 0 | AB70: 10651 | AC70: 0.266275 | AD70: Y | AE70: =IF(Y70=0,0,P70/(O70*N70)*Y70/100) -> 46.928571 | AF70: =IF(AE70=0,"n/a",IF(AE70>13,(AC70*Y70/100)/(13*N70),(AC70*Y70/100/(AE70*N70)))) -> 0.002633489 | AG70: =AC70*'2022 EMP Fac Data Metro DC-NoVA'!$AQ$19 -> 0.00074682898 | AH70: =AG70*$AF70/$AC70 -> 7.3862207e-06 | AI70: =AC70*'2022 EMP Fac Data Metro DC-NoVA'!$AR$19 -> 0.00070952285 | AJ70: =AI70*$AF70/$AC70 -> 7.017259e-06 | AK70: VA CEDS for 2022 emissions by facility and SCC. 2022 OSTD calculated per federal guidance. Data grown to 2032 and 2038 using EPA's facility level 2022 EMP emissions estimates for 2032 and 2038.
A71: Title V Major Even | B71: 2022 | C71: 70225 | D71: 7520511 | E71: Dominion - Possum Point Power Station | F71: Prince William County | G71: 153 | H71: VA0000005115300002 | I71: 6 | J71: 6 | K71: Unit 6 - No. 2 Oil-fired GE Combustion Turbine, 245 MMBtu/hr heat input capacity @ 80 F inlet temp | L71: 6 | M71: 6 | N71: 7 | O71: 24 | P71: 8760 | Q71: 1 | R71: 1 | S71: 6 GEN ELECTRIC PB5191 | T71: 20100101 | U71: Million BTUs Fuel Input | V71: Million BTUs Fuel Input | W71: Volatile Organic Compounds | X71: 0 | Y71: 90 | Z71: 10 | AA71: 0 | AB71: 10651 | AC71: 0.002183455 | AD71: Y | AE71: =IF(Y71=0,0,P71/(O71*N71)*Y71/100) -> 46.928571 | AF71: =IF(AE71=0,"n/a",IF(AE71>13,(AC71*Y71/100)/(13*N71),(AC71*Y71/100/(AE71*N71)))) -> 2.159461e-05 | AG71: =AC71*'2022 EMP Fac Data Metro DC-NoVA'!$AT$19 -> 0.0024141339 | AH71: =AG71*$AF71/$AC71 -> 2.3876049e-05 | AI71: =AC71*'2022 EMP Fac Data Metro DC-NoVA'!$AU$19 -> 0.0014669137 | AJ71: =AI71*$AF71/$AC71 -> 1.4507938e-05 | AK71: VA CEDS for 2022 emissions by facility and SCC. 2022 OSTD calculated per federal guidance. Data grown to 2032 and 2038 using EPA's facility level 2022 EMP emissions estimates for 2032 and 2038.
A72: Title V Major Even | B72: 2022 | C72: 70225 | D72: 7520511 | E72: Dominion - Possum Point Power Station | F72: Prince William County | G72: 153 | H72: VA0000005115300002 | I72: 6 | J72: 6 | K72: Unit 7 - No. 2 Oil-fired GE Combustion Turbine, 245 MMBtu/hr heat input capacity @ 80 F inlet temp | L72: 7 | M72: 7 | N72: 7 | O72: 24 | P72: 8760 | Q72: 1 | R72: 1 | S72: 7 GEN ELECTRIC PB5191 | T72: 20100101 | U72: Million BTUs Fuel Input | V72: Million BTUs Fuel Input | W72: Carbon Monoxide | X72: 0 | Y72: 89 | Z72: 11 | AA72: 0 | AB72: 10312 | AC72: 0.0170148 | AD72: Y | AE72: =IF(Y72=0,0,P72/(O72*N72)*Y72/100) -> 46.407143 | AF72: =IF(AE72=0,"n/a",IF(AE72>13,(AC72*Y72/100)/(13*N72),(AC72*Y72/100/(AE72*N72)))) -> 0.00016640848 | AG72: =AC72*'2022 EMP Fac Data Metro DC-NoVA'!$AE$19 -> 0.01868413 | AH72: =AG72*$AF72/$AC72 -> 0.0001827349 | AI72: =AC72*'2022 EMP Fac Data Metro DC-NoVA'!$AF$19 -> 0.0099264113 | AJ72: =AI72*$AF72/$AC72 -> 9.7082485e-05 | AK72: VA CEDS for 2022 emissions by facility and SCC. 2022 OSTD calculated per federal guidance. Data grown to 2032 and 2038 using EPA's facility level 2022 EMP emissions estimates for 2032 and 2038.
A73: Title V Major Even | B73: 2022 | C73: 70225 | D73: 7520511 | E73: Dominion - Possum Point Power Station | F73: Prince William County | G73: 153 | H73: VA0000005115300002 | I73: 6 | J73: 6 | K73: Unit 7 - No. 2 Oil-fired GE Combustion Turbine, 245 MMBtu/hr heat input capacity @ 80 F inlet temp | L73: 7 | M73: 7 | N73: 7 | O73: 24 | P73: 8760 | Q73: 1 | R73: 1 | S73: 7 GEN ELECTRIC PB5191 | T73: 20100101 | U73: Million BTUs Fuel Input | V73: Million BTUs Fuel Input | W73: Nitrogen Oxide | X73: 0 | Y73: 89 | Z73: 11 | AA73: 0 | AB73: 10312 | AC73: 4.53728 | AD73: Y | AE73: =IF(Y73=0,0,P73/(O73*N73)*Y73/100) -> 46.407143 | AF73: =IF(AE73=0,"n/a",IF(AE73>13,(AC73*Y73/100)/(13*N73),(AC73*Y73/100/(AE73*N73)))) -> 0.044375596 | AG73: =AC73*'2022 EMP Fac Data Metro DC-NoVA'!$AK$19 -> 3.4403376 | AH73: =AF73/AC73*AG73 -> 0.033647258 | AI73: =AC73*'2022 EMP Fac Data Metro DC-NoVA'!$AL$19 -> 1.8177904 | AJ73: =AI73*AF73/AC73 -> 0.01777839 | AK73: VA CEDS for 2022 emissions by facility and SCC. 2022 OSTD calculated per federal guidance. Data grown to 2032 and 2038 using EPA's facility level 2022 EMP emissions estimates for 2032 and 2038.
A74: Title V Major Even | B74: 2022 | C74: 70225 | D74: 7520511 | E74: Dominion - Possum Point Power Station | F74: Prince William County | G74: 153 | H74: VA0000005115300002 | I74: 6 | J74: 6 | K74: Unit 7 - No. 2 Oil-fired GE Combustion Turbine, 245 MMBtu/hr heat input capacity @ 80 F inlet temp | L74: 7 | M74: 7 | N74: 7 | O74: 24 | P74: 8760 | Q74: 1 | R74: 1 | S74: 7 GEN ELECTRIC PB5191 | T74: 20100101 | U74: Million BTUs Fuel Input | V74: Million BTUs Fuel Input | W74: Particulate Matter 10 | X74: 0 | Y74: 89 | Z74: 11 | AA74: 0 | AB74: 10312 | AC74: 0.061872 | AD74: Y | AE74: =IF(Y74=0,0,P74/(O74*N74)*Y74/100) -> 46.407143 | AF74: =IF(AE74=0,"n/a",IF(AE74>13,(AC74*Y74/100)/(13*N74),(AC74*Y74/100/(AE74*N74)))) -> 0.00060512176 | AG74: =AC74*'2022 EMP Fac Data Metro DC-NoVA'!$AN$19 -> 0.069266852 | AH74: =AG74*$AF74/$AC74 -> 0.00067744504 | AI74: =AC74*'2022 EMP Fac Data Metro DC-NoVA'!$AO$19 -> 0.044023899 | AJ74: =AI74*$AF74/$AC74 -> 0.0004305634 | AK74: VA CEDS for 2022 emissions by facility and SCC. 2022 OSTD calculated per federal guidance. Data grown to 2032 and 2038 using EPA's facility level 2022 EMP emissions estimates for 2032 and 2038.
A75: Title V Major Even | B75: 2022 | C75: 70225 | D75: 7520511 | E75: Dominion - Possum Point Power Station | F75: Prince William County | G75: 153 | H75: VA0000005115300002 | I75: 6 | J75: 6 | K75: Unit 7 - No. 2 Oil-fired GE Combustion Turbine, 245 MMBtu/hr heat input capacity @ 80 F inlet temp | L75: 7 | M75: 7 | N75: 7 | O75: 24 | P75: 8760 | Q75: 1 | R75: 1 | S75: 7 GEN ELECTRIC PB5191 | T75: 20100101 | U75: Million BTUs Fuel Input | V75: Million BTUs Fuel Input | W75: Particulate Matter 2.5 | X75: 0 | Y75: 89 | Z75: 11 | AA75: 0 | AB75: 10312 | AC75: 0.061872 | AD75: Y | AE75: =IF(Y75=0,0,P75/(O75*N75)*Y75/100) -> 46.407143 | AF75: =IF(AE75=0,"n/a",IF(AE75>13,(AC75*Y75/100)/(13*N75),(AC75*Y75/100/(AE75*N75)))) -> 0.00060512176 | AG75: =AC75*'2022 EMP Fac Data Metro DC-NoVA'!$AN$19 -> 0.069266852 | AH75: =AG75*$AF75/$AC75 -> 0.00067744504 | AI75: =AC75*'2022 EMP Fac Data Metro DC-NoVA'!$AO$19 -> 0.044023899 | AJ75: =AI75*$AF75/$AC75 -> 0.0004305634 | AK75: VA CEDS for 2022 emissions by facility and SCC. 2022 OSTD calculated per federal guidance. Data grown to 2032 and 2038 using EPA's facility level 2022 EMP emissions estimates for 2032 and 2038.
A76: Title V Major Even | B76: 2022 | C76: 70225 | D76: 7520511 | E76: Dominion - Possum Point Power Station | F76: Prince William County | G76: 153 | H76: VA0000005115300002 | I76: 6 | J76: 6 | K76: Unit 7 - No. 2 Oil-fired GE Combustion Turbine, 245 MMBtu/hr heat input capacity @ 80 F inlet temp | L76: 7 | M76: 7 | N76: 7 | O76: 24 | P76: 8760 | Q76: 1 | R76: 1 | S76: 7 GEN ELECTRIC PB5191 | T76: 20100101 | U76: Million BTUs Fuel Input | V76: Million BTUs Fuel Input | W76: Sulfur Dioxide | X76: 0 | Y76: 89 | Z76: 11 | AA76: 0 | AB76: 10312 | AC76: 0.2578 | AD76: Y | AE76: =IF(Y76=0,0,P76/(O76*N76)*Y76/100) -> 46.407143 | AF76: =IF(AE76=0,"n/a",IF(AE76>13,(AC76*Y76/100)/(13*N76),(AC76*Y76/100/(AE76*N76)))) -> 0.0025213407 | AG76: =AC76*'2022 EMP Fac Data Metro DC-NoVA'!$AQ$19 -> 0.00072305891 | AH76: =AG76*$AF76/$AC76 -> 7.0716751e-06 | AI76: =AC76*'2022 EMP Fac Data Metro DC-NoVA'!$AR$19 -> 0.00068694016 | AJ76: =AI76*$AF76/$AC76 -> 6.7184257e-06 | AK76: VA CEDS for 2022 emissions by facility and SCC. 2022 OSTD calculated per federal guidance. Data grown to 2032 and 2038 using EPA's facility level 2022 EMP emissions estimates for 2032 and 2038.
A77: Title V Major Even | B77: 2022 | C77: 70225 | D77: 7520511 | E77: Dominion - Possum Point Power Station | F77: Prince William County | G77: 153 | H77: VA0000005115300002 | I77: 6 | J77: 6 | K77: Unit 7 - No. 2 Oil-fired GE Combustion Turbine, 245 MMBtu/hr heat input capacity @ 80 F inlet temp | L77: 7 | M77: 7 | N77: 7 | O77: 24 | P77: 8760 | Q77: 1 | R77: 1 | S77: 7 GEN ELECTRIC PB5191 | T77: 20100101 | U77: Million BTUs Fuel Input | V77: Million BTUs Fuel Input | W77: Volatile Organic Compounds | X77: 0 | Y77: 89 | Z77: 11 | AA77: 0 | AB77: 10312 | AC77: 0.00211396 | AD77: Y | AE77: =IF(Y77=0,0,P77/(O77*N77)*Y77/100) -> 46.407143 | AF77: =IF(AE77=0,"n/a",IF(AE77>13,(AC77*Y77/100)/(13*N77),(AC77*Y77/100/(AE77*N77)))) -> 2.0674993e-05 | AG77: =AC77*'2022 EMP Fac Data Metro DC-NoVA'!$AT$19 -> 0.0023372968 | AH77: =AG77*$AF77/$AC77 -> 2.2859277e-05 | AI77: =AC77*'2022 EMP Fac Data Metro DC-NoVA'!$AU$19 -> 0.0014202248 | AJ77: =AI77*$AF77/$AC77 -> 1.3890111e-05 | AK77: VA CEDS for 2022 emissions by facility and SCC. 2022 OSTD calculated per federal guidance. Data grown to 2032 and 2038 using EPA's facility level 2022 EMP emissions estimates for 2032 and 2038.
A78: Title V Major Even | B78: 2022 | C78: 70225 | D78: 7520511 | E78: Dominion - Possum Point Power Station | F78: Prince William County | G78: 153 | H78: VA0000005115300002 | I78: 6 | J78: 6 | K78: Unit 8 - No. 2 Oil-fired GE Combustion Turbine, 245 MMBtu/hr heat input capacity @ 80 F inlet temp | L78: 8 | M78: 8 | N78: 7 | O78: 24 | P78: 8760 | Q78: 1 | R78: 1 | S78: 8 GEN ELECTRIC PB5191 | T78: 20100101 | U78: Million BTUs Fuel Input | V78: Million BTUs Fuel Input | W78: Carbon Monoxide | X78: 28 | Y78: 64 | Z78: 8 | AA78: 0 | AB78: 14219 | AC78: 0.02346135 | AD78: Y | AE78: =IF(Y78=0,0,P78/(O78*N78)*Y78/100) -> 33.371429 | AF78: =IF(AE78=0,"n/a",IF(AE78>13,(AC78*Y78/100)/(13*N78),(AC78*Y78/100/(AE78*N78)))) -> 0.0001650029 | AG78: =AC78*'2022 EMP Fac Data Metro DC-NoVA'!$AE$19 -> 0.025763155 | AH78: =AG78*$AF78/$AC78 -> 0.00018119142 | AI78: =AC78*'2022 EMP Fac Data Metro DC-NoVA'!$AF$19 -> 0.01368732 | AJ78: =AI78*$AF78/$AC78 -> 9.626247e-05 | AK78: VA CEDS for 2022 emissions by facility and SCC. 2022 OSTD calculated per federal guidance. Data grown to 2032 and 2038 using EPA's facility level 2022 EMP emissions estimates for 2032 and 2038.
A79: Title V Major Even | B79: 2022 | C79: 70225 | D79: 7520511 | E79: Dominion - Possum Point Power Station | F79: Prince William County | G79: 153 | H79: VA0000005115300002 | I79: 6 | J79: 6 | K79: Unit 8 - No. 2 Oil-fired GE Combustion Turbine, 245 MMBtu/hr heat input capacity @ 80 F inlet temp | L79: 8 | M79: 8 | N79: 7 | O79: 24 | P79: 8760 | Q79: 1 | R79: 1 | S79: 8 GEN ELECTRIC PB5191 | T79: 20100101 | U79: Million BTUs Fuel Input | V79: Million BTUs Fuel Input | W79: Nitrogen Oxide | X79: 28 | Y79: 64 | Z79: 8 | AA79: 0 | AB79: 14219 | AC79: 6.25636 | AD79: Y | AE79: =IF(Y79=0,0,P79/(O79*N79)*Y79/100) -> 33.371429 | AF79: =IF(AE79=0,"n/a",IF(AE79>13,(AC79*Y79/100)/(13*N79),(AC79*Y79/100/(AE79*N79)))) -> 0.044000774 | AG79: =AC79*'2022 EMP Fac Data Metro DC-NoVA'!$AK$19 -> 4.7438092 | AH79: =AF79/AC79*AG79 -> 0.033363054 | AI79: =AC79*'2022 EMP Fac Data Metro DC-NoVA'!$AL$19 -> 2.506513 | AJ79: =AI79*AF79/AC79 -> 0.017628223 | AK79: VA CEDS for 2022 emissions by facility and SCC. 2022 OSTD calculated per federal guidance. Data grown to 2032 and 2038 using EPA's facility level 2022 EMP emissions estimates for 2032 and 2038.
A80: Title V Major Even | B80: 2022 | C80: 70225 | D80: 7520511 | E80: Dominion - Possum Point Power Station | F80: Prince William County | G80: 153 | H80: VA0000005115300002 | I80: 6 | J80: 6 | K80: Unit 8 - No. 2 Oil-fired GE Combustion Turbine, 245 MMBtu/hr heat input capacity @ 80 F inlet temp | L80: 8 | M80: 8 | N80: 7 | O80: 24 | P80: 8760 | Q80: 1 | R80: 1 | S80: 8 GEN ELECTRIC PB5191 | T80: 20100101 | U80: Million BTUs Fuel Input | V80: Million BTUs Fuel Input | W80: Particulate Matter 10 | X80: 28 | Y80: 64 | Z80: 8 | AA80: 0 | AB80: 14219 | AC80: 0.085314 | AD80: Y | AE80: =IF(Y80=0,0,P80/(O80*N80)*Y80/100) -> 33.371429 | AF80: =IF(AE80=0,"n/a",IF(AE80>13,(AC80*Y80/100)/(13*N80),(AC80*Y80/100/(AE80*N80)))) -> 0.00060001055 | AG80: =AC80*'2022 EMP Fac Data Metro DC-NoVA'!$AN$19 -> 0.095510606 | AH80: =AG80*$AF80/$AC80 -> 0.00067172294 | AI80: =AC80*'2022 EMP Fac Data Metro DC-NoVA'!$AO$19 -> 0.060703628 | AJ80: =AI80*$AF80/$AC80 -> 0.00042692662 | AK80: VA CEDS for 2022 emissions by facility and SCC. 2022 OSTD calculated per federal guidance. Data grown to 2032 and 2038 using EPA's facility level 2022 EMP emissions estimates for 2032 and 2038.
A81: Title V Major Even | B81: 2022 | C81: 70225 | D81: 7520511 | E81: Dominion - Possum Point Power Station | F81: Prince William County | G81: 153 | H81: VA0000005115300002 | I81: 6 | J81: 6 | K81: Unit 8 - No. 2 Oil-fired GE Combustion Turbine, 245 MMBtu/hr heat input capacity @ 80 F inlet temp | L81: 8 | M81: 8 | N81: 7 | O81: 24 | P81: 8760 | Q81: 1 | R81: 1 | S81: 8 GEN ELECTRIC PB5191 | T81: 20100101 | U81: Million BTUs Fuel Input | V81: Million BTUs Fuel Input | W81: Particulate Matter 2.5 | X81: 28 | Y81: 64 | Z81: 8 | AA81: 0 | AB81: 14219 | AC81: 0.085314 | AD81: Y | AE81: =IF(Y81=0,0,P81/(O81*N81)*Y81/100) -> 33.371429 | AF81: =IF(AE81=0,"n/a",IF(AE81>13,(AC81*Y81/100)/(13*N81),(AC81*Y81/100/(AE81*N81)))) -> 0.00060001055 | AG81: =AC81*'2022 EMP Fac Data Metro DC-NoVA'!$AN$19 -> 0.095510606 | AH81: =AG81*$AF81/$AC81 -> 0.00067172294 | AI81: =AC81*'2022 EMP Fac Data Metro DC-NoVA'!$AO$19 -> 0.060703628 | AJ81: =AI81*$AF81/$AC81 -> 0.00042692662 | AK81: VA CEDS for 2022 emissions by facility and SCC. 2022 OSTD calculated per federal guidance. Data grown to 2032 and 2038 using EPA's facility level 2022 EMP emissions estimates for 2032 and 2038.
A82: Title V Major Even | B82: 2022 | C82: 70225 | D82: 7520511 | E82: Dominion - Possum Point Power Station | F82: Prince William County | G82: 153 | H82: VA0000005115300002 | I82: 6 | J82: 6 | K82: Unit 8 - No. 2 Oil-fired GE Combustion Turbine, 245 MMBtu/hr heat input capacity @ 80 F inlet temp | L82: 8 | M82: 8 | N82: 7 | O82: 24 | P82: 8760 | Q82: 1 | R82: 1 | S82: 8 GEN ELECTRIC PB5191 | T82: 20100101 | U82: Million BTUs Fuel Input | V82: Million BTUs Fuel Input | W82: Sulfur Dioxide | X82: 28 | Y82: 64 | Z82: 8 | AA82: 0 | AB82: 14219 | AC82: 0.35902975 | AD82: Y | AE82: =IF(Y82=0,0,P82/(O82*N82)*Y82/100) -> 33.371429 | AF82: =IF(AE82=0,"n/a",IF(AE82>13,(AC82*Y82/100)/(13*N82),(AC82*Y82/100/(AE82*N82)))) -> 0.0025250444 | AG82: =AC82*'2022 EMP Fac Data Metro DC-NoVA'!$AQ$19 -> 0.0010069808 | AH82: =AG82*$AF82/$AC82 -> 7.082063e-06 | AI82: =AC82*'2022 EMP Fac Data Metro DC-NoVA'!$AR$19 -> 0.00095667942 | AJ82: =AI82*$AF82/$AC82 -> 6.7282948e-06 | AK82: VA CEDS for 2022 emissions by facility and SCC. 2022 OSTD calculated per federal guidance. Data grown to 2032 and 2038 using EPA's facility level 2022 EMP emissions estimates for 2032 and 2038.
A83: Title V Major Even | B83: 2022 | C83: 70225 | D83: 7520511 | E83: Dominion - Possum Point Power Station | F83: Prince William County | G83: 153 | H83: VA0000005115300002 | I83: 6 | J83: 6 | K83: Unit 8 - No. 2 Oil-fired GE Combustion Turbine, 245 MMBtu/hr heat input capacity @ 80 F inlet temp | L83: 8 | M83: 8 | N83: 7 | O83: 24 | P83: 8760 | Q83: 1 | R83: 1 | S83: 8 GEN ELECTRIC PB5191 | T83: 20100101 | U83: Million BTUs Fuel Input | V83: Million BTUs Fuel Input | W83: Volatile Organic Compounds | X83: 28 | Y83: 64 | Z83: 8 | AA83: 0 | AB83: 14219 | AC83: 0.002914895 | AD83: Y | AE83: =IF(Y83=0,0,P83/(O83*N83)*Y83/100) -> 33.371429 | AF83: =IF(AE83=0,"n/a",IF(AE83>13,(AC83*Y83/100)/(13*N83),(AC83*Y83/100/(AE83*N83)))) -> 2.050036e-05 | AG83: =AC83*'2022 EMP Fac Data Metro DC-NoVA'!$AT$19 -> 0.0032228495 | AH83: =AG83*$AF83/$AC83 -> 2.2666194e-05 | AI83: =AC83*'2022 EMP Fac Data Metro DC-NoVA'!$AU$19 -> 0.0019583181 | AJ83: =AI83*$AF83/$AC83 -> 1.3772787e-05 | AK83: VA CEDS for 2022 emissions by facility and SCC. 2022 OSTD calculated per federal guidance. Data grown to 2032 and 2038 using EPA's facility level 2022 EMP emissions estimates for 2032 and 2038.
A84: Title V Major Even | B84: 2022 | C84: 70225 | D84: 7520511 | E84: Dominion - Possum Point Power Station | F84: Prince William County | G84: 153 | H84: VA0000005115300002 | I84: 6 | J84: 6 | K84: Unit 9 - No. 2 Oil-fired GE Combustion Turbine, 245 MMBtu/hr heat input capacity @ 80 F inlet temp. | L84: 9 | M84: 9 | N84: 7 | O84: 24 | P84: 8760 | Q84: 1 | R84: 1 | S84: 9 GEN ELECTRIC PB5191 | T84: 20100101 | U84: Million BTUs Fuel Input | V84: Million BTUs Fuel Input | W84: Carbon Monoxide | X84: 5 | Y84: 81 | Z84: 14 | AA84: 0 | AB84: 7725 | AC84: 0.01274625 | AD84: Y | AE84: =IF(Y84=0,0,P84/(O84*N84)*Y84/100) -> 42.235714 | AF84: =IF(AE84=0,"n/a",IF(AE84>13,(AC84*Y84/100)/(13*N84),(AC84*Y84/100/(AE84*N84)))) -> 0.00011345563 | AG84: =AC84*'2022 EMP Fac Data Metro DC-NoVA'!$AE$19 -> 0.013996791 | AH84: =AG84*$AF84/$AC84 -> 0.00012458682 | AI84: =AC84*'2022 EMP Fac Data Metro DC-NoVA'!$AF$19 -> 0.007436145 | AJ84: =AI84*$AF84/$AC84 -> 6.6189862e-05 | AK84: VA CEDS for 2022 emissions by facility and SCC. 2022 OSTD calculated per federal guidance. Data grown to 2032 and 2038 using EPA's facility level 2022 EMP emissions estimates for 2032 and 2038.
A85: Title V Major Even | B85: 2022 | C85: 70225 | D85: 7520511 | E85: Dominion - Possum Point Power Station | F85: Prince William County | G85: 153 | H85: VA0000005115300002 | I85: 6 | J85: 6 | K85: Unit 9 - No. 2 Oil-fired GE Combustion Turbine, 245 MMBtu/hr heat input capacity @ 80 F inlet temp. | L85: 9 | M85: 9 | N85: 7 | O85: 24 | P85: 8760 | Q85: 1 | R85: 1 | S85: 9 GEN ELECTRIC PB5191 | T85: 20100101 | U85: Million BTUs Fuel Input | V85: Million BTUs Fuel Input | W85: Nitrogen Oxide | X85: 5 | Y85: 81 | Z85: 14 | AA85: 0 | AB85: 7725 | AC85: 3.399 | AD85: Y | AE85: =IF(Y85=0,0,P85/(O85*N85)*Y85/100) -> 42.235714 | AF85: =IF(AE85=0,"n/a",IF(AE85>13,(AC85*Y85/100)/(13*N85),(AC85*Y85/100/(AE85*N85)))) -> 0.030254835 | AG85: =AC85*'2022 EMP Fac Data Metro DC-NoVA'!$AK$19 -> 2.5772506 | AH85: =AF85/AC85*AG85 -> 0.022940362 | AI85: =AC85*'2022 EMP Fac Data Metro DC-NoVA'!$AL$19 -> 1.3617563 | AJ85: =AI85*AF85/AC85 -> 0.012121127 | AK85: VA CEDS for 2022 emissions by facility and SCC. 2022 OSTD calculated per federal guidance. Data grown to 2032 and 2038 using EPA's facility level 2022 EMP emissions estimates for 2032 and 2038.
A86: Title V Major Even | B86: 2022 | C86: 70225 | D86: 7520511 | E86: Dominion - Possum Point Power Station | F86: Prince William County | G86: 153 | H86: VA0000005115300002 | I86: 6 | J86: 6 | K86: Unit 9 - No. 2 Oil-fired GE Combustion Turbine, 245 MMBtu/hr heat input capacity @ 80 F inlet temp. | L86: 9 | M86: 9 | N86: 7 | O86: 24 | P86: 8760 | Q86: 1 | R86: 1 | S86: 9 GEN ELECTRIC PB5191 | T86: 20100101 | U86: Million BTUs Fuel Input | V86: Million BTUs Fuel Input | W86: Particulate Matter 10 | X86: 5 | Y86: 81 | Z86: 14 | AA86: 0 | AB86: 7725 | AC86: 0.04635 | AD86: Y | AE86: =IF(Y86=0,0,P86/(O86*N86)*Y86/100) -> 42.235714 | AF86: =IF(AE86=0,"n/a",IF(AE86>13,(AC86*Y86/100)/(13*N86),(AC86*Y86/100/(AE86*N86)))) -> 0.00041256593 | AG86: =AC86*'2022 EMP Fac Data Metro DC-NoVA'!$AN$19 -> 0.051889685 | AH86: =AG86*$AF86/$AC86 -> 0.00046187522 | AI86: =AC86*'2022 EMP Fac Data Metro DC-NoVA'!$AO$19 -> 0.032979501 | AJ86: =AI86*$AF86/$AC86 -> 0.0002935538 | AK86: VA CEDS for 2022 emissions by facility and SCC. 2022 OSTD calculated per federal guidance. Data grown to 2032 and 2038 using EPA's facility level 2022 EMP emissions estimates for 2032 and 2038.
A87: Title V Major Even | B87: 2022 | C87: 70225 | D87: 7520511 | E87: Dominion - Possum Point Power Station | F87: Prince William County | G87: 153 | H87: VA0000005115300002 | I87: 6 | J87: 6 | K87: Unit 9 - No. 2 Oil-fired GE Combustion Turbine, 245 MMBtu/hr heat input capacity @ 80 F inlet temp. | L87: 9 | M87: 9 | N87: 7 | O87: 24 | P87: 8760 | Q87: 1 | R87: 1 | S87: 9 GEN ELECTRIC PB5191 | T87: 20100101 | U87: Million BTUs Fuel Input | V87: Million BTUs Fuel Input | W87: Particulate Matter 2.5 | X87: 5 | Y87: 81 | Z87: 14 | AA87: 0 | AB87: 7725 | AC87: 0.04635 | AD87: Y | AE87: =IF(Y87=0,0,P87/(O87*N87)*Y87/100) -> 42.235714 | AF87: =IF(AE87=0,"n/a",IF(AE87>13,(AC87*Y87/100)/(13*N87),(AC87*Y87/100/(AE87*N87)))) -> 0.00041256593 | AG87: =AC87*'2022 EMP Fac Data Metro DC-NoVA'!$AN$19 -> 0.051889685 | AH87: =AG87*$AF87/$AC87 -> 0.00046187522 | AI87: =AC87*'2022 EMP Fac Data Metro DC-NoVA'!$AO$19 -> 0.032979501 | AJ87: =AI87*$AF87/$AC87 -> 0.0002935538 | AK87: VA CEDS for 2022 emissions by facility and SCC. 2022 OSTD calculated per federal guidance. Data grown to 2032 and 2038 using EPA's facility level 2022 EMP emissions estimates for 2032 and 2038.
A88: Title V Major Even | B88: 2022 | C88: 70225 | D88: 7520511 | E88: Dominion - Possum Point Power Station | F88: Prince William County | G88: 153 | H88: VA0000005115300002 | I88: 6 | J88: 6 | K88: Unit 9 - No. 2 Oil-fired GE Combustion Turbine, 245 MMBtu/hr heat input capacity @ 80 F inlet temp. | L88: 9 | M88: 9 | N88: 7 | O88: 24 | P88: 8760 | Q88: 1 | R88: 1 | S88: 9 GEN ELECTRIC PB5191 | T88: 20100101 | U88: Million BTUs Fuel Input | V88: Million BTUs Fuel Input | W88: Sulfur Dioxide | X88: 5 | Y88: 81 | Z88: 14 | AA88: 0 | AB88: 7725 | AC88: 0.19505625 | AD88: Y | AE88: =IF(Y88=0,0,P88/(O88*N88)*Y88/100) -> 42.235714 | AF88: =IF(AE88=0,"n/a",IF(AE88>13,(AC88*Y88/100)/(13*N88),(AC88*Y88/100/(AE88*N88)))) -> 0.001736215 | AG88: =AC88*'2022 EMP Fac Data Metro DC-NoVA'!$AQ$19 -> 0.00054707975 | AH88: =AG88*$AF88/$AC88 -> 4.869611e-06 | AI88: =AC88*'2022 EMP Fac Data Metro DC-NoVA'!$AR$19 -> 0.00051975163 | AJ88: =AI88*$AF88/$AC88 -> 4.6263607e-06 | AK88: VA CEDS for 2022 emissions by facility and SCC. 2022 OSTD calculated per federal guidance. Data grown to 2032 and 2038 using EPA's facility level 2022 EMP emissions estimates for 2032 and 2038.
A89: Title V Major Even | B89: 2022 | C89: 70225 | D89: 7520511 | E89: Dominion - Possum Point Power Station | F89: Prince William County | G89: 153 | H89: VA0000005115300002 | I89: 6 | J89: 6 | K89: Unit 9 - No. 2 Oil-fired GE Combustion Turbine, 245 MMBtu/hr heat input capacity @ 80 F inlet temp. | L89: 9 | M89: 9 | N89: 7 | O89: 24 | P89: 8760 | Q89: 1 | R89: 1 | S89: 9 GEN ELECTRIC PB5191 | T89: 20100101 | U89: Million BTUs Fuel Input | V89: Million BTUs Fuel Input | W89: Volatile Organic Compounds | X89: 5 | Y89: 81 | Z89: 14 | AA89: 0 | AB89: 7725 | AC89: 0.001583625 | AD89: Y | AE89: =IF(Y89=0,0,P89/(O89*N89)*Y89/100) -> 42.235714 | AF89: =IF(AE89=0,"n/a",IF(AE89>13,(AC89*Y89/100)/(13*N89),(AC89*Y89/100/(AE89*N89)))) -> 1.4096003e-05 | AG89: =AC89*'2022 EMP Fac Data Metro DC-NoVA'!$AT$19 -> 0.0017509327 | AH89: =AG89*$AF89/$AC89 -> 1.5585225e-05 | AI89: =AC89*'2022 EMP Fac Data Metro DC-NoVA'!$AU$19 -> 0.0010639291 | AJ89: =AI89*$AF89/$AC89 -> 9.4701379e-06 | AK89: VA CEDS for 2022 emissions by facility and SCC. 2022 OSTD calculated per federal guidance. Data grown to 2032 and 2038 using EPA's facility level 2022 EMP emissions estimates for 2032 and 2038.
A90: Title V Major Even | B90: 2022 | C90: 70225 | D90: 7520511 | E90: Dominion - Possum Point Power Station | F90: Prince William County | G90: 153 | H90: VA0000005115300002 | I90: 6 | J90: 6 | K90: Unit 10 - No. 2 Oil-fired GE Combustion Turbine, 245 MMBtu/hr heat input capacity @ 80 F inlet temp | L90: 10 | M90: 10 | N90: 7 | O90: 24 | P90: 8760 | Q90: 1 | R90: 1 | S90: 10 GEN ELECTRIC MS5001L | T90: 20100101 | U90: Million BTUs Fuel Input | V90: Million BTUs Fuel Input | W90: Carbon Monoxide | X90: 0 | Y90: 90 | Z90: 10 | AA90: 0 | AB90: 10441 | AC90: 0.01722765 | AD90: Y | AE90: =IF(Y90=0,0,P90/(O90*N90)*Y90/100) -> 46.928571 | AF90: =IF(AE90=0,"n/a",IF(AE90>13,(AC90*Y90/100)/(13*N90),(AC90*Y90/100/(AE90*N90)))) -> 0.00017038335 | AG90: =AC90*'2022 EMP Fac Data Metro DC-NoVA'!$AE$19 -> 0.018917863 | AH90: =AG90*$AF90/$AC90 -> 0.00018709975 | AI90: =AC90*'2022 EMP Fac Data Metro DC-NoVA'!$AF$19 -> 0.010050588 | AJ90: =AI90*$AF90/$AC90 -> 9.9401417e-05 | AK90: VA CEDS for 2022 emissions by facility and SCC. 2022 OSTD calculated per federal guidance. Data grown to 2032 and 2038 using EPA's facility level 2022 EMP emissions estimates for 2032 and 2038.
A91: Title V Major Even | B91: 2022 | C91: 70225 | D91: 7520511 | E91: Dominion - Possum Point Power Station | F91: Prince William County | G91: 153 | H91: VA0000005115300002 | I91: 6 | J91: 6 | K91: Unit 10 - No. 2 Oil-fired GE Combustion Turbine, 245 MMBtu/hr heat input capacity @ 80 F inlet temp | L91: 10 | M91: 10 | N91: 7 | O91: 24 | P91: 8760 | Q91: 1 | R91: 1 | S91: 10 GEN ELECTRIC MS5001L | T91: 20100101 | U91: Million BTUs Fuel Input | V91: Million BTUs Fuel Input | W91: Nitrogen Oxide | X91: 0 | Y91: 90 | Z91: 10 | AA91: 0 | AB91: 10441 | AC91: 4.59404 | AD91: Y | AE91: =IF(Y91=0,0,P91/(O91*N91)*Y91/100) -> 46.928571 | AF91: =IF(AE91=0,"n/a",IF(AE91>13,(AC91*Y91/100)/(13*N91),(AC91*Y91/100/(AE91*N91)))) -> 0.04543556 | AG91: =AC91*'2022 EMP Fac Data Metro DC-NoVA'!$AK$19 -> 3.4833752 | AH91: =AF91/AC91*AG91 -> 0.034450963 | AI91: =AC91*'2022 EMP Fac Data Metro DC-NoVA'!$AL$19 -> 1.8405304 | AJ91: =AI91*AF91/AC91 -> 0.018203048 | AK91: VA CEDS for 2022 emissions by facility and SCC. 2022 OSTD calculated per federal guidance. Data grown to 2032 and 2038 using EPA's facility level 2022 EMP emissions estimates for 2032 and 2038.
A92: Title V Major Even | B92: 2022 | C92: 70225 | D92: 7520511 | E92: Dominion - Possum Point Power Station | F92: Prince William County | G92: 153 | H92: VA0000005115300002 | I92: 6 | J92: 6 | K92: Unit 10 - No. 2 Oil-fired GE Combustion Turbine, 245 MMBtu/hr heat input capacity @ 80 F inlet temp | L92: 10 | M92: 10 | N92: 7 | O92: 24 | P92: 8760 | Q92: 1 | R92: 1 | S92: 10 GEN ELECTRIC MS5001L | T92: 20100101 | U92: Million BTUs Fuel Input | V92: Million BTUs Fuel Input | W92: Particulate Matter 10 | X92: 0 | Y92: 90 | Z92: 10 | AA92: 0 | AB92: 10441 | AC92: 0.062646 | AD92: Y | AE92: =IF(Y92=0,0,P92/(O92*N92)*Y92/100) -> 46.928571 | AF92: =IF(AE92=0,"n/a",IF(AE92>13,(AC92*Y92/100)/(13*N92),(AC92*Y92/100/(AE92*N92)))) -> 0.00061957582 | AG92: =AC92*'2022 EMP Fac Data Metro DC-NoVA'!$AN$19 -> 0.070133359 | AH92: =AG92*$AF92/$AC92 -> 0.00069362663 | AI92: =AC92*'2022 EMP Fac Data Metro DC-NoVA'!$AO$19 -> 0.044574624 | AJ92: =AI92*$AF92/$AC92 -> 0.00044084793 | AK92: VA CEDS for 2022 emissions by facility and SCC. 2022 OSTD calculated per federal guidance. Data grown to 2032 and 2038 using EPA's facility level 2022 EMP emissions estimates for 2032 and 2038.
A93: Title V Major Even | B93: 2022 | C93: 70225 | D93: 7520511 | E93: Dominion - Possum Point Power Station | F93: Prince William County | G93: 153 | H93: VA0000005115300002 | I93: 6 | J93: 6 | K93: Unit 10 - No. 2 Oil-fired GE Combustion Turbine, 245 MMBtu/hr heat input capacity @ 80 F inlet temp | L93: 10 | M93: 10 | N93: 7 | O93: 24 | P93: 8760 | Q93: 1 | R93: 1 | S93: 10 GEN ELECTRIC MS5001L | T93: 20100101 | U93: Million BTUs Fuel Input | V93: Million BTUs Fuel Input | W93: Particulate Matter 2.5 | X93: 0 | Y93: 90 | Z93: 10 | AA93: 0 | AB93: 10441 | AC93: 0.062646 | AD93: Y | AE93: =IF(Y93=0,0,P93/(O93*N93)*Y93/100) -> 46.928571 | AF93: =IF(AE93=0,"n/a",IF(AE93>13,(AC93*Y93/100)/(13*N93),(AC93*Y93/100/(AE93*N93)))) -> 0.00061957582 | AG93: =AC93*'2022 EMP Fac Data Metro DC-NoVA'!$AN$19 -> 0.070133359 | AH93: =AG93*$AF93/$AC93 -> 0.00069362663 | AI93: =AC93*'2022 EMP Fac Data Metro DC-NoVA'!$AO$19 -> 0.044574624 | AJ93: =AI93*$AF93/$AC93 -> 0.00044084793 | AK93: VA CEDS for 2022 emissions by facility and SCC. 2022 OSTD calculated per federal guidance. Data grown to 2032 and 2038 using EPA's facility level 2022 EMP emissions estimates for 2032 and 2038.
A94: Title V Major Even | B94: 2022 | C94: 70225 | D94: 7520511 | E94: Dominion - Possum Point Power Station | F94: Prince William County | G94: 153 | H94: VA0000005115300002 | I94: 6 | J94: 6 | K94: Unit 10 - No. 2 Oil-fired GE Combustion Turbine, 245 MMBtu/hr heat input capacity @ 80 F inlet temp | L94: 10 | M94: 10 | N94: 7 | O94: 24 | P94: 8760 | Q94: 1 | R94: 1 | S94: 10 GEN ELECTRIC MS5001L | T94: 20100101 | U94: Million BTUs Fuel Input | V94: Million BTUs Fuel Input | W94: Sulfur Dioxide | X94: 0 | Y94: 90 | Z94: 10 | AA94: 0 | AB94: 10441 | AC94: 0.261025 | AD94: Y | AE94: =IF(Y94=0,0,P94/(O94*N94)*Y94/100) -> 46.928571 | AF94: =IF(AE94=0,"n/a",IF(AE94>13,(AC94*Y94/100)/(13*N94),(AC94*Y94/100/(AE94*N94)))) -> 0.0025815659 | AG94: =AC94*'2022 EMP Fac Data Metro DC-NoVA'!$AQ$19 -> 0.00073210416 | AH94: =AG94*$AF94/$AC94 -> 7.2405906e-06 | AI94: =AC94*'2022 EMP Fac Data Metro DC-NoVA'!$AR$19 -> 0.00069553357 | AJ94: =AI94*$AF94/$AC94 -> 6.8789035e-06 | AK94: VA CEDS for 2022 emissions by facility and SCC. 2022 OSTD calculated per federal guidance. Data grown to 2032 and 2038 using EPA's facility level 2022 EMP emissions estimates for 2032 and 2038.
A95: Title V Major Even | B95: 2022 | C95: 70225 | D95: 7520511 | E95: Dominion - Possum Point Power Station | F95: Prince William County | G95: 153 | H95: VA0000005115300002 | I95: 6 | J95: 6 | K95: Unit 10 - No. 2 Oil-fired GE Combustion Turbine, 245 MMBtu/hr heat input capacity @ 80 F inlet temp | L95: 10 | M95: 10 | N95: 7 | O95: 24 | P95: 8760 | Q95: 1 | R95: 1 | S95: 10 GEN ELECTRIC MS5001L | T95: 20100101 | U95: Million BTUs Fuel Input | V95: Million BTUs Fuel Input | W95: Volatile Organic Compounds | X95: 0 | Y95: 90 | Z95: 10 | AA95: 0 | AB95: 10441 | AC95: 0.002140405 | AD95: Y | AE95: =IF(Y95=0,0,P95/(O95*N95)*Y95/100) -> 46.928571 | AF95: =IF(AE95=0,"n/a",IF(AE95>13,(AC95*Y95/100)/(13*N95),(AC95*Y95/100/(AE95*N95)))) -> 2.1168841e-05 | AG95: =AC95*'2022 EMP Fac Data Metro DC-NoVA'!$AT$19 -> 0.0023665357 | AH95: =AG95*$AF95/$AC95 -> 2.3405298e-05 | AI95: =AC95*'2022 EMP Fac Data Metro DC-NoVA'!$AU$19 -> 0.0014379914 | AJ95: =AI95*$AF95/$AC95 -> 1.4221893e-05 | AK95: VA CEDS for 2022 emissions by facility and SCC. 2022 OSTD calculated per federal guidance. Data grown to 2032 and 2038 using EPA's facility level 2022 EMP emissions estimates for 2032 and 2038.
A96: Title V Major Even | B96: 2022 | C96: 70225 | D96: 7520511 | E96: Dominion - Possum Point Power Station | F96: Prince William County | G96: 153 | H96: VA0000005115300002 | I96: 6 | J96: 6 | K96: Unit 11 - No. 2 Oil-fired GE Combustion Turbine, 245 MMBtu/hr heat input capacity @ 80 F inlet temp | L96: 11 | M96: 11 | N96: 7 | O96: 24 | P96: 8760 | Q96: 1 | R96: 1 | S96: 11 GEN ELECTRIC PB5191 | T96: 20100101 | U96: Million BTUs Fuel Input | V96: Million BTUs Fuel Input | W96: Carbon Monoxide | X96: 4 | Y96: 86 | Z96: 10 | AA96: 0 | AB96: 10985 | AC96: 0.01812525 | AD96: Y | AE96: =IF(Y96=0,0,P96/(O96*N96)*Y96/100) -> 44.842857 | AF96: =IF(AE96=0,"n/a",IF(AE96>13,(AC96*Y96/100)/(13*N96),(AC96*Y96/100/(AE96*N96)))) -> 0.00017129357 | AG96: =AC96*'2022 EMP Fac Data Metro DC-NoVA'!$AE$19 -> 0.019903527 | AH96: =AG96*$AF96/$AC96 -> 0.00018809927 | AI96: =AC96*'2022 EMP Fac Data Metro DC-NoVA'!$AF$19 -> 0.010574246 | AJ96: =AI96*$AF96/$AC96 -> 9.9932438e-05 | AK96: VA CEDS for 2022 emissions by facility and SCC. 2022 OSTD calculated per federal guidance. Data grown to 2032 and 2038 using EPA's facility level 2022 EMP emissions estimates for 2032 and 2038.
A97: Title V Major Even | B97: 2022 | C97: 70225 | D97: 7520511 | E97: Dominion - Possum Point Power Station | F97: Prince William County | G97: 153 | H97: VA0000005115300002 | I97: 6 | J97: 6 | K97: Unit 11 - No. 2 Oil-fired GE Combustion Turbine, 245 MMBtu/hr heat input capacity @ 80 F inlet temp | L97: 11 | M97: 11 | N97: 7 | O97: 24 | P97: 8760 | Q97: 1 | R97: 1 | S97: 11 GEN ELECTRIC PB5191 | T97: 20100101 | U97: Million BTUs Fuel Input | V97: Million BTUs Fuel Input | W97: Nitrogen Oxide | X97: 4 | Y97: 86 | Z97: 10 | AA97: 0 | AB97: 10985 | AC97: 4.8334 | AD97: Y | AE97: =IF(Y97=0,0,P97/(O97*N97)*Y97/100) -> 44.842857 | AF97: =IF(AE97=0,"n/a",IF(AE97>13,(AC97*Y97/100)/(13*N97),(AC97*Y97/100/(AE97*N97)))) -> 0.045678286 | AG97: =AC97*'2022 EMP Fac Data Metro DC-NoVA'!$AK$19 -> 3.664867 | AH97: =AF97/AC97*AG97 -> 0.034635007 | AI97: =AC97*'2022 EMP Fac Data Metro DC-NoVA'!$AL$19 -> 1.9364262 | AJ97: =AI97*AF97/AC97 -> 0.018300292 | AK97: VA CEDS for 2022 emissions by facility and SCC. 2022 OSTD calculated per federal guidance. Data grown to 2032 and 2038 using EPA's facility level 2022 EMP emissions estimates for 2032 and 2038.
A98: Title V Major Even | B98: 2022 | C98: 70225 | D98: 7520511 | E98: Dominion - Possum Point Power Station | F98: Prince William County | G98: 153 | H98: VA0000005115300002 | I98: 6 | J98: 6 | K98: Unit 11 - No. 2 Oil-fired GE Combustion Turbine, 245 MMBtu/hr heat input capacity @ 80 F inlet temp | L98: 11 | M98: 11 | N98: 7 | O98: 24 | P98: 8760 | Q98: 1 | R98: 1 | S98: 11 GEN ELECTRIC PB5191 | T98: 20100101 | U98: Million BTUs Fuel Input | V98: Million BTUs Fuel Input | W98: Particulate Matter 10 | X98: 4 | Y98: 86 | Z98: 10 | AA98: 0 | AB98: 10985 | AC98: 0.06591 | AD98: Y | AE98: =IF(Y98=0,0,P98/(O98*N98)*Y98/100) -> 44.842857 | AF98: =IF(AE98=0,"n/a",IF(AE98>13,(AC98*Y98/100)/(13*N98),(AC98*Y98/100/(AE98*N98)))) -> 0.00062288571 | AG98: =AC98*'2022 EMP Fac Data Metro DC-NoVA'!$AN$19 -> 0.073787468 | AH98: =AG98*$AF98/$AC98 -> 0.00069733211 | AI98: =AC98*'2022 EMP Fac Data Metro DC-NoVA'!$AO$19 -> 0.046897064 | AJ98: =AI98*$AF98/$AC98 -> 0.00044320302 | AK98: VA CEDS for 2022 emissions by facility and SCC. 2022 OSTD calculated per federal guidance. Data grown to 2032 and 2038 using EPA's facility level 2022 EMP emissions estimates for 2032 and 2038.
A99: Title V Major Even | B99: 2022 | C99: 70225 | D99: 7520511 | E99: Dominion - Possum Point Power Station | F99: Prince William County | G99: 153 | H99: VA0000005115300002 | I99: 6 | J99: 6 | K99: Unit 11 - No. 2 Oil-fired GE Combustion Turbine, 245 MMBtu/hr heat input capacity @ 80 F inlet temp | L99: 11 | M99: 11 | N99: 7 | O99: 24 | P99: 8760 | Q99: 1 | R99: 1 | S99: 11 GEN ELECTRIC PB5191 | T99: 20100101 | U99: Million BTUs Fuel Input | V99: Million BTUs Fuel Input | W99: Particulate Matter 2.5 | X99: 4 | Y99: 86 | Z99: 10 | AA99: 0 | AB99: 10985 | AC99: 0.06591 | AD99: Y | AE99: =IF(Y99=0,0,P99/(O99*N99)*Y99/100) -> 44.842857 | AF99: =IF(AE99=0,"n/a",IF(AE99>13,(AC99*Y99/100)/(13*N99),(AC99*Y99/100/(AE99*N99)))) -> 0.00062288571 | AG99: =AC99*'2022 EMP Fac Data Metro DC-NoVA'!$AN$19 -> 0.073787468 | AH99: =AG99*$AF99/$AC99 -> 0.00069733211 | AI99: =AC99*'2022 EMP Fac Data Metro DC-NoVA'!$AO$19 -> 0.046897064 | AJ99: =AI99*$AF99/$AC99 -> 0.00044320302 | AK99: VA CEDS for 2022 emissions by facility and SCC. 2022 OSTD calculated per federal guidance. Data grown to 2032 and 2038 using EPA's facility level 2022 EMP emissions estimates for 2032 and 2038.
A100: Title V Major Even | B100: 2022 | C100: 70225 | D100: 7520511 | E100: Dominion - Possum Point Power Station | F100: Prince William County | G100: 153 | H100: VA0000005115300002 | I100: 6 | J100: 6 | K100: Unit 11 - No. 2 Oil-fired GE Combustion Turbine, 245 MMBtu/hr heat input capacity @ 80 F inlet temp | L100: 11 | M100: 11 | N100: 7 | O100: 24 | P100: 8760 | Q100: 1 | R100: 1 | S100: 11 GEN ELECTRIC PB5191 | T100: 20100101 | U100: Million BTUs Fuel Input | V100: Million BTUs Fuel Input | W100: Sulfur Dioxide | X100: 4 | Y100: 86 | Z100: 10 | AA100: 0 | AB100: 10985 | AC100: 0.274625 | AD100: Y | AE100: =IF(Y100=0,0,P100/(O100*N100)*Y100/100) -> 44.842857 | AF100: =IF(AE100=0,"n/a",IF(AE100>13,(AC100*Y100/100)/(13*N100),(AC100*Y100/100/(AE100*N100)))) -> 0.0025953571 | AG100: =AC100*'2022 EMP Fac Data Metro DC-NoVA'!$AQ$19 -> 0.00077024846 | AH100: =AG100*$AF100/$AC100 -> 7.2792712e-06 | AI100: =AC100*'2022 EMP Fac Data Metro DC-NoVA'!$AR$19 -> 0.00073177246 | AJ100: =AI100*$AF100/$AC100 -> 6.9156519e-06 | AK100: VA CEDS for 2022 emissions by facility and SCC. 2022 OSTD calculated per federal guidance. Data grown to 2032 and 2038 using EPA's facility level 2022 EMP emissions estimates for 2032 and 2038.
A101: Title V Major Even | B101: 2022 | C101: 70225 | D101: 7520511 | E101: Dominion - Possum Point Power Station | F101: Prince William County | G101: 153 | H101: VA0000005115300002 | I101: 6 | J101: 6 | K101: Unit 11 - No. 2 Oil-fired GE Combustion Turbine, 245 MMBtu/hr heat input capacity @ 80 F inlet temp | L101: 11 | M101: 11 | N101: 7 | O101: 24 | P101: 8760 | Q101: 1 | R101: 1 | S101: 11 GEN ELECTRIC PB5191 | T101: 20100101 | U101: Million BTUs Fuel Input | V101: Million BTUs Fuel Input | W101: Volatile Organic Compounds | X101: 4 | Y101: 86 | Z101: 10 | AA101: 0 | AB101: 10985 | AC101: 0.002251925 | AD101: Y | AE101: =IF(Y101=0,0,P101/(O101*N101)*Y101/100) -> 44.842857 | AF101: =IF(AE101=0,"n/a",IF(AE101>13,(AC101*Y101/100)/(13*N101),(AC101*Y101/100/(AE101*N101)))) -> 2.1281929e-05 | AG101: =AC101*'2022 EMP Fac Data Metro DC-NoVA'!$AT$19 -> 0.0024898376 | AH101: =AG101*$AF101/$AC101 -> 2.3530334e-05 | AI101: =AC101*'2022 EMP Fac Data Metro DC-NoVA'!$AU$19 -> 0.001512914 | AJ101: =AI101*$AF101/$AC101 -> 1.4297869e-05 | AK101: VA CEDS for 2022 emissions by facility and SCC. 2022 OSTD calculated per federal guidance. Data grown to 2032 and 2038 using EPA's facility level 2022 EMP emissions estimates for 2032 and 2038.
...

Sheet Quasi-Pt Airports-2022EMP
A1: State | B1: State-County | C1: EIS Facility ID | D1: Facility Name | E1: CO 2022 tpy | F1: CO 2026 tpy | G1: CO 2032 tpy | H1: CO 2038 tpy | I1: NH3 2022 tpy | J1: NH3 2026 tpy | K1: NH3 2032 tpy | L1: NH3 2038 tpy | M1: NOx 2022 tpy | N1: NOx 2026 tpy | O1: NOx 2032 tpy | P1: NOx 2038 tpy | Q1: PM2.5 2022 pty | R1: PM2.5 2026 tpy | S1: PM2.5 2032 tpy | T1: PM2.5 2038 tpy | U1: SO2 2022 tpy | V1: SO2 2026 tpy | W1: SO2 2032 tpy | X1: SO2 2038 tpy | Y1: VOC 2022 tpy | Z1: VOC 2026 tpy | AA1: VOC 2032 tpy | AB1: VOC 2038 tpy | AC1: In CEDS download? | AD1: CO 2026/2022 | AE1: CO 2032/2022 | AF1: CO 2038/2022 | AG1: NH3 2026/2022 | AH1: NH3 2032/2022 | AI1: NH3 2038/2022 | AJ1: NOx 2026/2022 | AK1: NOx 2032/2022 | AL1: NOx 2038/2022 | AM1: PM2.5 2026/2022 | AN1: PM2.5 2032/2022 | AO1: PM2.5 2038/2022 | AP1: SO2 2026/2022 | AQ1: SO2 2032/2022 | AR1: SO2 2038/2022 | AS1: VOC 2026/2022 | AT1: VOC 2032/2022 | AU1: VOC 2038/2022
A2: VA | B2: VA-Arlington | C2: 9046811 | D2: Ronald Reagan Washingto (Major Airport/Quasi Point Source) | E2: 1395.8448 | F2: 1404.3032 | G2: 1439.2459 | H2: 1439.7887 | M2: 897.37569 | N2: 896.03688 | O2: 917.9739 | P2: 917.98247 | Q2: 16.52417 | R2: 16.82149 | S2: 17.235179 | T2: 17.24381 | U2: 103.79478 | V2: 103.76577 | W2: 106.31367 | X2: 106.31535 | Y2: 146.64428 | Z2: 147.24113 | AA2: 150.80121 | AB2: 150.81649 | AC2: No | AD2: =IFERROR(F2/$E2,"") -> 1.0060597 | AE2: =IFERROR(G2/$E2,"") -> 1.031093 | AF2: =IFERROR(H2/$E2,"") -> 1.0314819 | AG2: =IFERROR(J2/$I2,"") | AH2: =IFERROR(K2/$I2,"") | AI2: =IFERROR(L2/$I2,"") | AJ2: =IFERROR(N2/$M2,"") -> 0.99850808 | AK2: =IFERROR(O2/$M2,"") -> 1.0229538 | AL2: =IFERROR(P2/$M2,"") -> 1.0229634 | AM2: =IFERROR(R2/$Q2,"") -> 1.017993 | AN2: =IFERROR(S2/$Q2,"") -> 1.0430284 | AO2: =IFERROR(T2/$Q2,"") -> 1.0435507 | AP2: =IFERROR(V2/$U2,"") -> 0.99972051 | AQ2: =IFERROR(W2/$U2,"") -> 1.024268 | AR2: =IFERROR(X2/$U2,"") -> 1.0242842 | AS2: =IFERROR(Z2/$Y2,"") -> 1.0040701 | AT2: =IFERROR(AA2/$Y2,"") -> 1.028347 | AU2: =IFERROR(AB2/$Y2,"") -> 1.0284512
A3: VA | B3: VA-Loudoun | C3: 9063811 | D3: Washington Dulles Inter (Major Airport/Quasi Point Source) | E3: 1571.9651 | F3: 2059.8488 | G3: 2310.4355 | H3: 2552.3428 | M3: 1054.4027 | N3: 1480.6201 | O3: 1675.7658 | P3: 1859.776 | Q3: 21.453304 | R3: 25.186182 | S3: 27.963469 | T3: 30.788988 | U3: 102.89542 | V3: 142.18579 | W3: 160.70508 | X3: 178.26833 | Y3: 187.83391 | Z3: 251.70359 | AA3: 283.55703 | AB3: 314.09345 | AC3: No | AD3: =IFERROR(F3/$E3,"") -> 1.3103655 | AE3: =IFERROR(G3/$E3,"") -> 1.4697753 | AF3: =IFERROR(H3/$E3,"") -> 1.6236639 | AG3: =IFERROR(J3/$I3,"") | AH3: =IFERROR(K3/$I3,"") | AI3: =IFERROR(L3/$I3,"") | AJ3: =IFERROR(N3/$M3,"") -> 1.4042264 | AK3: =IFERROR(O3/$M3,"") -> 1.5893034 | AL3: =IFERROR(P3/$M3,"") -> 1.7638194 | AM3: =IFERROR(R3/$Q3,"") -> 1.1740001 | AN3: =IFERROR(S3/$Q3,"") -> 1.3034575 | AO3: =IFERROR(T3/$Q3,"") -> 1.435163 | AP3: =IFERROR(V3/$U3,"") -> 1.3818477 | AQ3: =IFERROR(W3/$U3,"") -> 1.5618293 | AR3: =IFERROR(X3/$U3,"") -> 1.7325197 | AS3: =IFERROR(Z3/$Y3,"") -> 1.3400327 | AT3: =IFERROR(AA3/$Y3,"") -> 1.5096157 | AU3: =IFERROR(AB3/$Y3,"") -> 1.6721871

Sheet Other Airports-2022EMP
A1: State | B1: State-County | C1: EIS Facility ID | D1: Facility Name | E1: CO 2022 tpy | F1: CO 2026 tpy | G1: CO 2032 tpy | H1: CO 2038 tpy | I1: NH3 2022 tpy | J1: NH3 2026 tpy | K1: NH3 2032 tpy | L1: NH3 2038 tpy | M1: NOx 2022 tpy | N1: NOx 2026 tpy | O1: NOx 2032 tpy | P1: NOx 2038 tpy | Q1: PM2.5 2022 pty | R1: PM2.5 2026 tpy | S1: PM2.5 2032 tpy | T1: PM2.5 2038 tpy | U1: SO2 2022 tpy | V1: SO2 2026 tpy | W1: SO2 2032 tpy | X1: SO2 2038 tpy | Y1: VOC 2022 tpy | Z1: VOC 2026 tpy | AA1: VOC 2032 tpy | AB1: VOC 2038 tpy | AC1: In CEDS download? | AD1: CO 2026/2022 | AE1: CO 2032/2022 | AF1: CO 2038/2022 | AG1: NH3 2026/2022 | AH1: NH3 2032/2022 | AI1: NH3 2038/2022 | AJ1: NOx 2026/2022 | AK1: NOx 2032/2022 | AL1: NOx 2038/2022 | AM1: PM2.5 2026/2022 | AN1: PM2.5 2032/2022 | AO1: PM2.5 2038/2022 | AP1: SO2 2026/2022 | AQ1: SO2 2032/2022 | AR1: SO2 2038/2022 | AS1: VOC 2026/2022 | AT1: VOC 2032/2022 | AU1: VOC 2038/2022
A2: VA | B2: VA-Loudoun | C2: 11736011 | D2: GLASCOCK | E2: 1.7889962 | F2: 1.7889962 | G2: 1.7889962 | H2: 1.7889962 | M2: 0.02789843 | N2: 0.02789843 | O2: 0.02789843 | P2: 0.02789843 | Q2: 0.03107564 | R2: 0.03107564 | S2: 0.03107564 | T2: 0.03107564 | U2: 0.005884657 | V2: 0.005884657 | W2: 0.005884657 | X2: 0.005884657 | Y2: 0.06056593 | Z2: 0.06056593 | AA2: 0.06056593 | AB2: 0.06056593 | AC2: No | AD2: =IFERROR(F2/$E2,"") -> 1 | AE2: =IFERROR(G2/$E2,"") -> 1 | AF2: =IFERROR(H2/$E2,"") -> 1 | AG2: =IFERROR(J2/$I2,"") | AH2: =IFERROR(K2/$I2,"") | AI2: =IFERROR(L2/$I2,"") | AJ2: =IFERROR(N2/$M2,"") -> 1 | AK2: =IFERROR(O2/$M2,"") -> 1 | AL2: =IFERROR(P2/$M2,"") -> 1 | AM2: =IFERROR(R2/$Q2,"") -> 1 | AN2: =IFERROR(S2/$Q2,"") -> 1 | AO2: =IFERROR(T2/$Q2,"") -> 1 | AP2: =IFERROR(V2/$U2,"") -> 1 | AQ2: =IFERROR(W2/$U2,"") -> 1 | AR2: =IFERROR(X2/$U2,"") -> 1 | AS2: =IFERROR(Z2/$Y2,"") -> 1 | AT2: =IFERROR(AA2/$Y2,"") -> 1 | AU2: =IFERROR(AB2/$Y2,"") -> 1
A3: VA | B3: VA-Fairfax | C3: 14469011 | D3: LORTON | E3: 2.1735506 | F3: 2.084435 | G3: 2.0192285 | H3: 2.0692202 | I3: 0.006509087 | J3: 0.0062422144 | K3: 0.0060469418 | L3: 0.0061966508 | M3: 13.77047 | N3: 13.205881 | O3: 12.792767 | P3: 13.109488 | Q3: 0.34438694 | R3: 0.33026708 | S3: 0.31993547 | T3: 0.32785637 | U3: 0.007337374 | V3: 0.0070365417 | W3: 0.0068164204 | X3: 0.00698518 | Y3: 0.89422523 | Z3: 0.857562 | AA3: 0.83073524 | AB3: 0.85130242 | AC3: No | AD3: =IFERROR(F3/$E3,"") -> 0.959 | AE3: =IFERROR(G3/$E3,"") -> 0.929 | AF3: =IFERROR(H3/$E3,"") -> 0.952 | AG3: =IFERROR(J3/$I3,"") -> 0.959 | AH3: =IFERROR(K3/$I3,"") -> 0.929 | AI3: =IFERROR(L3/$I3,"") -> 0.952 | AJ3: =IFERROR(N3/$M3,"") -> 0.959 | AK3: =IFERROR(O3/$M3,"") -> 0.929 | AL3: =IFERROR(P3/$M3,"") -> 0.952 | AM3: =IFERROR(R3/$Q3,"") -> 0.959 | AN3: =IFERROR(S3/$Q3,"") -> 0.929 | AO3: =IFERROR(T3/$Q3,"") -> 0.952 | AP3: =IFERROR(V3/$U3,"") -> 0.959 | AQ3: =IFERROR(W3/$U3,"") -> 0.929 | AR3: =IFERROR(X3/$U3,"") -> 0.952 | AS3: =IFERROR(Z3/$Y3,"") -> 0.959 | AT3: =IFERROR(AA3/$Y3,"") -> 0.929 | AU3: =IFERROR(AB3/$Y3,"") -> 0.952
A4: VA | B4: VA-Prince William | C4: 38040000 | D4: Possum Point | E4: 0 | F4: 0 | G4: 53.362276 | H4: 27.682054 | I4: 0 | J4: 0 | K4: 17.175231 | L4: 8.909771 | M4: 0 | N4: 0 | O4: 50.795737 | P4: 26.350644 | Q4: 0 | R4: 0 | S4: 34.456554 | T4: 17.874578 | Y4: 0 | Z4: 0 | AA4: 3.0456232 | AB4: 1.5799383 | AC4: No | AD4: =IFERROR(F4/$E4,"") | AE4: =IFERROR(G4/$E4,"") | AF4: =IFERROR(H4/$E4,"") | AG4: =IFERROR(J4/$I4,"") | AH4: =IFERROR(K4/$I4,"") | AI4: =IFERROR(L4/$I4,"") | AJ4: =IFERROR(N4/$M4,"") | AK4: =IFERROR(O4/$M4,"") | AL4: =IFERROR(P4/$M4,"")
A5: VA | B5: VA-Loudoun | C5: 9063711 | D5: Leesburg Executive | E5: 308.32147 | F5: 327.85019 | G5: 370.692 | H5: 419.48077 | M5: 11.99739 | N5: 12.30187 | O5: 12.969655 | P5: 13.730137 | Q5: 5.920425 | R5: 6.2595586 | S5: 7.0035877 | T5: 7.850897 | U5: 1.7193264 | V5: 1.7835297 | W5: 1.9243865 | X5: 2.0847959 | Y5: 13.982336 | Z5: 14.644761 | AA5: 16.097888 | AB5: 17.752726 | AC5: No | AD5: 1.0633388 | AE5: 1.2022906 | AF5: 1.3605305 | AJ5: 1.0253789 | AK5: 1.0810397 | AL5: 1.144427 | AM5: 1.057282 | AN5: 1.1829535 | AO5: 1.3260698 | AP5: 1.0373421 | AQ5: 1.1192677 | AR5: 1.2125655 | AS5: 1.0473759 | AT5: 1.1513017 | AU5: 1.2696538
A6: VA | B6: VA-Manassas | C6: 9072411 | D6: Manassas Regional/Harry | E6: 269.29737 | F6: 248.35426 | G6: 252.19508 | H6: 256.47445 | M6: 17.552688 | N6: 17.990583 | O6: 18.377149 | P6: 18.807854 | Q6: 6.6451806 | R6: 6.8638641 | S6: 7.1795132 | T6: 7.5312039 | U6: 2.3394754 | V6: 2.4274543 | W6: 2.507115 | X6: 2.5958716 | Y6: 16.517816 | Z6: 16.672192 | AA6: 17.17106 | AB6: 17.726889 | AC6: No | AD6: 0.92223053 | AE6: 0.93649289 | AF6: 0.95238377 | AJ6: 1.0249475 | AK6: 1.0469706 | AL6: 1.0715085 | AM6: 1.0329086 | AN6: 1.080409 | AO6: 1.1333332 | AP6: 1.0376063 | AQ6: 1.0716569 | AR6: 1.1095956 | AS6: 1.009346 | AT6: 1.0395478 | AU6: 1.0731981
A7: VA | B7: VA-Prince William | C7: 38040000 | D7: Possum Point | E7: 0 | F7: 0 | G7: 53.362276 | H7: 27.682054 | I7: 0 | J7: 0 | K7: 17.175231 | L7: 8.909771 | M7: 0 | N7: 0 | O7: 50.795737 | P7: 26.350644 | Q7: 0 | R7: 0 | S7: 34.456554 | T7: 17.874578 | Y7: 0 | Z7: 0 | AA7: 3.0456232 | AB7: 1.5799383 | AC7: No | AD7: =IFERROR(F7/$E7,"") | AE7: =IFERROR(G7/$E7,"") | AF7: =IFERROR(H7/$E7,"") | AG7: =IFERROR(J7/$I7,"") | AH7: =IFERROR(K7/$I7,"") | AI7: =IFERROR(L7/$I7,"") | AJ7: =IFERROR(N7/$M7,"") | AK7: =IFERROR(O7/$M7,"") | AL7: =IFERROR(P7/$M7,"")

Sheet C3.0CONUSv22.0 Results
H1: From C3.0CONUSv22.0_2026, NOx | R1: From C3.0CONUSv22.0_2032, NOx | W1: From C3.0CONUSv22.0_2038, NOx
A2: state | B2: FIPS | C2: oris | D2: Federal EIS ID | E2: VA Reg # | F2: facility name | G2: unit id | H2: 2022 weekday May-Sep total | I2: 2022 weekday May-Sept count of activity | J2: 2022 weekday May-Sept ave OSTD | K2: 2022 May-Sept | L2: 2022 annual | M2: 2026 weekday May-Sep total | N2: 2026 weekday May-Sep count | O2: 2026 weekday May-Sep ave OSTD | P2: 2026 annual | Q2: 2026 May-Sept | R2: 2032 weekday May-Sep total | S2: 2032 weekday May-Sep count | T2: 2032 weekday May-Sep ave OSTD | U2: 2032 annual | V2: 2032 May-Sept | W2: 2038 weekday May-Sep total | X2: 2038 weekday May-Sep count | Y2: 2038 weekday May-Sep ave OSTD | Z2: 2038 annual | AA2: 2038 May-Sept
A3: DC | B3: 11001 | C3: 880004 | D3: 2701211 | E3: n/a | F3: GSA Central Heating | G3: 3 | K3: 0 | L3: 39.069954 | P3: 39.079646 | Q3: 0 | U3: 39.079646 | Z3: 39.079646 | AA3: 0
A4: DC | B4: 11001 | C4: 880004 | D4: 2701211 | E4: n/a | F4: GSA Central Heating | G4: 4 | K4: 0 | L4: 0.007309 | P4: 0.0073680126 | Q4: 0 | U4: 0.0073680126 | Z4: 0.0073680126 | AA4: 0
A5: DC | B5: 11001 | C5: 880004 | D5: 2701211 | E5: n/a | F5: GSA Central Heating | G5: 5C | H5: 2.381605 | I5: 21 | J5: 0.11340976 | K5: 3.271705 | L5: 10.56318 | M5: 2.6585601 | N5: 21 | O5: 0.1265981 | P5: 10.635781 | Q5: 3.6857404 | R5: 2.6585601 | S5: 21 | T5: 0.1265981 | U5: 10.635781 | V5: 3.6917465 | W5: 2.6585601 | X5: 21 | Y5: 0.1265981 | Z5: 10.635781 | AA5: 3.6857404
A6: MD | B6: 24033 | C6: 1571 | D6: 6011911 | E6: n/a | F6: Chalk Point | G6: **GT3 | H6: 0.97035 | I6: 5 | J6: 0.19407 | K6: 0.97035 | L6: 1.4365 | M6: 1.0810754 | N6: 5 | O6: 0.21621507 | P6: 1.6205593 | Q6: 1.0810754 | R6: 1.1055577 | S6: 5 | T6: 0.22111154 | U6: 1.7322559 | V6: 1.1055577 | W6: 1.1122613 | X6: 5 | Y6: 0.22245226 | Z6: 1.5617654 | AA6: 1.1122613
A7: MD | B7: 24033 | C7: 1571 | D7: 6011911 | E7: n/a | F7: Chalk Point | G7: **GT4 | H7: 1.43605 | I7: 5 | J7: 0.28721 | K7: 1.5531 | L7: 4.63345 | M7: 1.5740261 | N7: 5 | O7: 0.31480523 | P7: 4.8945593 | Q7: 1.6961409 | R7: 1.6237895 | S7: 5 | T7: 0.3247579 | U7: 5.0761443 | V7: 1.7516825 | W7: 1.6339121 | X7: 5 | Y7: 0.32678242 | Z7: 4.9234152 | AA7: 1.7626396
A8: MD | B8: 24033 | C8: 1571 | D8: 6011911 | E8: n/a | F8: Chalk Point | G8: **GT5 | H8: 4.18315 | I8: 7 | J8: 0.59759286 | K8: 4.18315 | L8: 4.9495 | M8: 4.4651304 | N8: 7 | O8: 0.63787577 | P8: 5.1924276 | Q8: 4.4651304 | R8: 4.5433825 | S8: 7 | T8: 0.64905464 | U8: 5.4098924 | V8: 4.5433825 | W8: 4.5605867 | X8: 7 | Y8: 0.65151238 | Z8: 5.2540898 | AA8: 4.5605867
A9: MD | B9: 24033 | C9: 1571 | D9: 6011911 | E9: n/a | F9: Chalk Point | G9: **GT6 | H9: 2.65995 | I9: 6 | J9: 0.443325 | K9: 2.65995 | L9: 3.6392 | M9: 2.791745 | N9: 6 | O9: 0.46529083 | P9: 3.7043769 | Q9: 2.791745 | R9: 2.8234132 | S9: 6 | T9: 0.47056886 | U9: 3.968659 | V9: 2.8234132 | W9: 2.8269 | X9: 6 | Y9: 0.47115 | Z9: 3.7158698 | AA9: 2.8269
A10: MD | B10: 24033 | C10: 1571 | D10: 6011911 | E10: n/a | F10: Chalk Point | G10: 3 | H10: 46.513377 | I10: 15 | J10: 3.1008918 | K10: 46.513377 | L10: 89.777966 | M10: 23.024703 | N10: 15 | O10: 1.5349802 | P10: 32.046371 | Q10: 23.024703 | R10: 18.947347 | S10: 10 | T10: 1.8947347 | U10: 27.827273 | V10: 18.947347 | W10: 19.078754 | X10: 10 | Y10: 1.9078754 | Z10: 28.02 | AA10: 19.078754
A11: MD | B11: 24033 | C11: 1571 | D11: 6011911 | E11: n/a | F11: Chalk Point | G11: 4 | H11: 64.578401 | I11: 19 | J11: 3.3988632 | K11: 69.524694 | L11: 69.524694 | M11: 21.464695 | N11: 11 | O11: 1.9513359 | P11: 22.182915 | Q11: 22.182915 | R11: 14.771641 | S11: 6 | T11: 2.4619402 | U11: 14.875468 | V11: 14.875468 | W11: 14.834546 | X11: 6 | Y11: 2.4724244 | Z11: 14.939554 | AA11: 14.939554
A12: MD | B12: 24033 | C12: 1571 | D12: 6011911 | E12: n/a | F12: Chalk Point | G12: GT2 | H12: 2.15875 | I12: 4 | J12: 0.5396875 | K12: 2.15875 | L12: 2.7936 | M12: 0.24426557 | N12: 4 | O12: 0.061066393 | P12: 0.37558295 | Q12: 0.24426557 | R12: 0.1509015 | S12: 4 | T12: 0.037725375 | U12: 0.25236237 | V12: 0.1509015 | W12: 0.12272077 | X12: 4 | Y12: 0.030680194 | Z12: 0.21367272 | AA12: 0.12272077
A13: MD | B13: 24033 | C13: 1571 | D13: 6011911 | E13: n/a | F13: Chalk Point | G13: SMECO | H13: 2.45915 | I13: 7 | J13: 0.35130714 | K13: 2.45915 | L13: 2.59345 | M13: 2.5350522 | N13: 7 | O13: 0.36215032 | P13: 2.66418 | Q13: 2.5350522 | R13: 2.5956054 | S13: 7 | T13: 0.37080077 | U13: 2.7274332 | V13: 2.5956054 | W13: 2.6055116 | X13: 7 | Y13: 0.37221595 | Z13: 2.7377294 | AA13: 2.6055116
A14: MD | B14: 24031 | C14: 1572 | D14: 5998011 | E14: n/a | F14: Dickerson | G14: GT2 | H14: 16.836392 | I14: 40 | J14: 0.42090981 | K14: 18.13025 | L14: 35.836896 | M14: 17.133469 | N14: 40 | O14: 0.42833673 | P14: 36.723015 | Q14: 18.480316 | R14: 17.634948 | S14: 40 | T14: 0.4408737 | U14: 37.931831 | V14: 19.011021 | W14: 17.705868 | X14: 40 | Y14: 0.44264671 | Z14: 37.885806 | AA14: 19.084405
A15: MD | B15: 24031 | C15: 1572 | D15: 5998011 | E15: n/a | F15: Dickerson | G15: GT3 | H15: 14.36964 | I15: 45 | J15: 0.31932533 | K15: 15.1358 | L15: 29.679009 | M15: 14.644576 | N15: 45 | O15: 0.32543503 | P15: 30.508824 | Q15: 15.433574 | R15: 15.020383 | S15: 45 | T15: 0.33378628 | U15: 31.771838 | V15: 15.836081 | W15: 15.076683 | X15: 45 | Y15: 0.3350374 | Z15: 31.416944 | AA15: 15.89582
A16: MD | B16: 24017 | C16: 1573 | D16: 6011511 | E16: n/a | F16: Morgantown | G16: 1 | H16: 40.074109 | I16: 19 | J16: 2.1091636 | K16: 51.661253 | L16: 191.22331 | P16: 0 | Q16: 0 | U16: 0 | Z16: 0 | AA16: 0
A17: MD | B17: 24017 | C17: 1573 | D17: 6011511 | E17: n/a | F17: Morgantown | G17: 2 | H17: 4.8363625 | I17: 4 | J17: 1.2090906 | K17: 6.4328625 | L17: 128.97629 | P17: 0 | Q17: 0 | U17: 0 | Z17: 0 | AA17: 0
A18: MD | B18: 24017 | C18: 1573 | D18: 6011511 | E18: n/a | F18: Morgantown | G18: GT3 | H18: 2.94435 | I18: 5 | J18: 0.58887 | K18: 2.94435 | L18: 6.59895 | M18: 0.40914532 | N18: 5 | O18: 0.081829065 | P18: 1.1277276 | Q18: 0.40914532 | R18: 0.29151669 | S18: 5 | T18: 0.058303337 | U18: 0.84672105 | V18: 0.29151669 | W18: 0.25329099 | X18: 5 | Y18: 0.050658197 | Z18: 0.75098942 | AA18: 0.25329099
A19: MD | B19: 24017 | C19: 1573 | D19: 6011511 | E19: n/a | F19: Morgantown | G19: GT4 | H19: 1.85095 | I19: 3 | J19: 0.61698333 | K19: 1.85095 | L19: 9.53515 | M19: 0.28933311 | N19: 3 | O19: 0.096444369 | P19: 1.7919665 | Q19: 0.28933311 | R19: 0.21863168 | S19: 3 | T19: 0.072877225 | U19: 1.3796241 | V19: 0.21863168 | W19: 0.19634281 | X19: 3 | Y19: 0.065447602 | Z19: 1.2370841 | AA19: 0.19634281
A20: MD | B20: 24017 | C20: 1573 | D20: 6011511 | E20: n/a | F20: Morgantown | G20: GT5 | H20: 4.07205 | I20: 5 | J20: 0.81441 | K20: 4.07205 | L20: 4.07205 | M20: 0.51816856 | N20: 5 | O20: 0.10363371 | P20: 0.51816856 | Q20: 0.51816856 | R20: 0.36938086 | S20: 5 | T20: 0.073876171 | U20: 0.36938086 | V20: 0.36938086 | W20: 0.32291894 | X20: 5 | Y20: 0.064583788 | Z20: 0.32291894 | AA20: 0.32291894
A21: MD | B21: 24017 | C21: 1573 | D21: 6011511 | E21: n/a | F21: Morgantown | G21: GT6 | H21: 3.05515 | I21: 4 | J21: 0.7637875 | K21: 3.05515 | L21: 3.05515 | M21: 0.44604422 | N21: 4 | O21: 0.11151106 | P21: 0.44604422 | Q21: 0.44604422 | R21: 0.33236695 | S21: 4 | T21: 0.083091737 | U21: 0.33236695 | V21: 0.33236695 | W21: 0.29882977 | X21: 4 | Y21: 0.074707442 | Z21: 0.29882977 | AA21: 0.29882977
A22: MD | B22: 24033 | C22: 54832 | D22: 6413611 | E22: n/a | F22: Brandywine Power Facility | G22: 1 | H22: 14.991142 | I22: 97 | J22: 0.15454786 | K22: 19.000855 | L22: 33.601326 | M22: 15.308572 | N22: 97 | O22: 0.15782033 | P22: 19.257545 | Q22: 33.725759 | R22: 16.104561 | S22: 97 | T22: 0.1660264 | U22: 35.531582 | V22: 20.180431 | W22: 15.534609 | X22: 97 | Y22: 0.16015061 | Z22: 34.290222 | AA22: 19.471214
A23: MD | B23: 24033 | C23: 54832 | D23: 6413611 | E23: n/a | F23: Brandywine Power Facility | G23: 2 | H23: 13.23183 | I23: 97 | J23: 0.13641062 | K23: 16.737235 | L23: 31.405842 | M23: 13.514902 | N23: 97 | O23: 0.13932888 | P23: 16.925484 | Q23: 31.554536 | R23: 14.256754 | S23: 97 | T23: 0.14697685 | U23: 33.344974 | V23: 17.785702 | W23: 13.74737 | X23: 97 | Y23: 0.14172547 | Z23: 32.178347 | AA23: 17.1564
A24: MD | B24: 24031 | C24: 56668 | D24: 5998211 | E24: n/a | F24: NIH Cogeneration Facility | G24: CGTC | H24: 5.2414 | I24: 46 | J24: 0.11394348 | K24: 7.193234 | L24: 33.284442 | P24: 0 | Q24: 2.2350026 | U24: 2.2350026 | Z24: 2.2350026 | AA24: 0
A25: MD | B25: 24017 | C25: 56846 | D25: 17878111 | E25: n/a | F25: CPV St. Charles Energy Center | G25: GT1 | H25: 10.779782 | I25: 100 | J25: 0.10779782 | K25: 13.981204 | L25: 32.615309 | M25: 10.746732 | N25: 100 | O25: 0.10746732 | P25: 13.875914 | Q25: 32.686084 | R25: 11.113732 | S25: 100 | T25: 0.11113732 | U25: 33.980092 | V25: 14.310447 | W25: 10.809859 | X25: 100 | Y25: 0.10809859 | Z25: 32.863634 | AA25: 13.908555
A26: MD | B26: 24017 | C26: 56846 | D26: 17878111 | E26: n/a | F26: CPV St. Charles Energy Center | G26: GT2 | H26: 9.1377905 | I26: 100 | J26: 0.091377905 | K26: 12.04175 | L26: 27.832701 | M26: 9.221353 | N26: 100 | O26: 0.09221353 | P26: 11.993759 | Q26: 27.86568 | R26: 9.5616741 | S26: 100 | T26: 0.095616741 | U26: 29.260126 | V26: 12.402358 | W26: 9.2876682 | X26: 100 | Y26: 0.092876682 | Z26: 28.121929 | AA26: 12.04492
A27: MD | B27: 24009 | C27: 59073 | D27: 5169611 | E27: n/a | F27: Cove Point LNG Terminal | G27: 214JA | H27: 4.1657559 | I27: 56 | J27: 0.074388499 | K27: 5.7193069 | L27: 18.381935 | M27: 4.057919 | N27: 56 | O27: 0.07246284 | P27: 5.6306181 | Q27: 18.380335 | R27: 4.057919 | S27: 56 | T27: 0.07246284 | U27: 18.380335 | V27: 5.6344015 | W27: 4.057919 | X27: 56 | Y27: 0.07246284 | Z27: 18.380335 | AA27: 5.6306181
A28: MD | B28: 24009 | C28: 59073 | D28: 5169611 | E28: n/a | F28: Cove Point LNG Terminal | G28: 214JB | H28: 1.1949822 | I28: 47 | J28: 0.025425154 | K28: 1.7387372 | L28: 4.8519497 | M28: 1.220802 | N28: 47 | O28: 0.02597451 | P28: 1.7200668 | Q28: 4.8689674 | R28: 1.220802 | S28: 47 | T28: 0.02597451 | U28: 4.8689674 | V28: 1.7200668 | W28: 1.220802 | X28: 47 | Y28: 0.02597451 | Z28: 4.8689674 | AA28: 1.7200668
A29: MD | B29: 24009 | C29: 59073 | D29: 5169611 | E29: n/a | F29: Cove Point LNG Terminal | G29: B921A | H29: 1.200524 | I29: 110 | J29: 0.010913855 | K29: 1.646524 | L29: 3.4413436 | M29: 1.2014111 | N29: 110 | O29: 0.010921919 | P29: 1.6453957 | Q29: 3.4428423 | R29: 1.2014111 | S29: 110 | T29: 0.010921919 | U29: 3.4428423 | V29: 1.6457918 | W29: 1.2014111 | X29: 110 | Y29: 0.010921919 | Z29: 3.4428423 | AA29: 1.6453957
A30: MD | B30: 24009 | C30: 59073 | D30: 5169611 | E30: n/a | F30: Cove Point LNG Terminal | G30: B921B | H30: 1.2420735 | I30: 110 | J30: 0.011291577 | K30: 1.7048735 | L30: 3.6091065 | M30: 1.2381088 | N30: 110 | O30: 0.011255534 | P30: 1.6958503 | Q30: 3.6092116 | R30: 1.2381088 | S30: 110 | T30: 0.011255534 | U30: 3.6092116 | V30: 1.6962642 | W30: 1.2381088 | X30: 110 | Y30: 0.011255534 | Z30: 3.6092116 | AA30: 1.6958503
A31: MD | B31: 24009 | C31: 59073 | D31: 5169611 | E31: n/a | F31: Cove Point LNG Terminal | G31: GT501A | H31: 9.2120105 | I31: 110 | J31: 0.08374555 | K31: 12.863011 | L31: 29.460336 | M31: 9.5151474 | N31: 110 | O31: 0.08650134 | P31: 13.285443 | Q31: 29.963432 | R31: 9.5151474 | S31: 110 | T31: 0.08650134 | U31: 29.963432 | V31: 13.289312 | W31: 9.5151474 | X31: 110 | Y31: 0.08650134 | Z31: 29.963432 | AA31: 13.285443
A32: MD | B32: 24009 | C32: 59073 | D32: 5169611 | E32: n/a | F32: Cove Point LNG Terminal | G32: GT501B | H32: 9.203381 | I32: 109 | J32: 0.084434688 | K32: 12.911281 | L32: 29.303113 | M32: 9.2280843 | N32: 109 | O32: 0.084661324 | P32: 12.954874 | Q32: 29.403326 | R32: 9.2280843 | S32: 109 | T32: 0.084661324 | U32: 29.403326 | V32: 12.958778 | W32: 9.2280843 | X32: 109 | Y32: 0.084661324 | Z32: 29.403326 | AA32: 12.954874
A33: MD | B33: 24033 | C33: 60302 | D33: 17878311 | E33: n/a | F33: Keys Energy Center | G33: 11 | H33: 16.888231 | I33: 110 | J33: 0.15352937 | K33: 23.2318 | L33: 47.762492 | M33: 16.796683 | N33: 110 | O33: 0.15269711 | P33: 48.270743 | Q33: 23.134331 | R33: 17.543519 | S33: 110 | T33: 0.15948654 | U33: 51.191363 | V33: 24.062687 | W33: 16.951361 | X33: 110 | Y33: 0.15410328 | Z33: 48.711415 | AA33: 23.249341
A34: MD | B34: 24033 | C34: 60302 | D34: 17878311 | E34: n/a | F34: Keys Energy Center | G34: 12 | H34: 16.905072 | I34: 110 | J34: 0.15368248 | K34: 23.327873 | L34: 47.943997 | M34: 16.795583 | N34: 110 | O34: 0.15268711 | P34: 48.404891 | Q34: 23.166972 | R34: 17.547146 | S34: 110 | T34: 0.15951951 | U34: 52.30545 | V34: 24.103368 | W34: 16.950934 | X34: 110 | Y34: 0.1540994 | Z34: 49.315981 | AA34: 23.282108
A35: VA | B35: 51153 | C35: 3804 | D35: 7520511 | E35: 70225 | F35: Possum Point Power Station | G35: 6A | H35: 14.23198 | I35: 84 | J35: 0.16942833 | K35: 19.086885 | L35: 33.750871 | M35: 16.290625 | N35: 84 | O35: 0.19393602 | P35: 36.105913 | Q35: 21.881781 | R35: 15.34958 | S35: 84 | T35: 0.1827331 | U35: 33.976608 | V35: 20.637016 | W35: 10.961876 | X35: 84 | Y35: 0.13049853 | Z35: 24.265015 | AA35: 14.737862
A36: VA | B36: 51153 | C36: 3804 | D36: 7520511 | E36: 70225 | F36: Possum Point Power Station | G36: 6B | H36: 14.031936 | I36: 87 | J36: 0.16128663 | K36: 18.503214 | L36: 35.805232 | M36: 16.071709 | N36: 87 | O36: 0.18473229 | P36: 37.744447 | Q36: 21.402043 | R36: 15.147665 | S36: 87 | T36: 0.1741111 | U36: 35.521277 | V36: 20.188299 | W36: 10.817676 | X36: 87 | Y36: 0.12434111 | Z36: 25.368217 | AA36: 14.41741
A37: VA | B37: 51107 | C37: 59004 | D37: 17856211 | E37: 73826 | F37: Potomac Energy Center, LLC | G37: CT1 | H37: 8.310644 | I37: 62 | J37: 0.13404265 | K37: 11.439787 | L37: 29.012802 | M37: 9.0940376 | N37: 70 | O37: 0.12991482 | P37: 31.736629 | Q37: 12.49827 | R37: 8.404108 | S37: 62 | T37: 0.13555013 | U37: 29.540277 | V37: 11.585361 | W37: 6.001786 | X37: 62 | Y37: 0.096803 | Z37: 21.088717 | AA37: 8.2736558
A38: VA | B38: 51107 | C38: 59004 | D38: 17856211 | E38: 73826 | F38: Potomac Energy Center, LLC | G38: CT2 | H38: 10.225066 | I38: 84 | J38: 0.12172698 | K38: 14.296416 | L38: 35.281536 | M38: 11.482268 | N38: 97 | O38: 0.11837389 | P38: 39.005469 | Q38: 16.055994 | R38: 10.161747 | S38: 84 | T38: 0.12097317 | U38: 35.924451 | V38: 14.352766 | W38: 7.2569185 | X38: 84 | Y38: 0.086391887 | Z38: 25.650725 | AA38: 10.249906

Sheet C3.0CONUSv22.0 Notes
A1: Notes
A3: * 2022 Base Year data run using HIZG=F for all regions/fuel unit types except CONUS.
A4: * 2026, 2032, 2038 Future Year data run using HIZG=F for all regions/fuel unit types except CONUS.
A5: *May-September data (May 1 through Sept 30) data included.
A6: *Weekday (Monday-Friday) data included.
A7: *Data from C3.0CONUSv22.0_2026, C3.0CONUSv22.0_2032, and C3.0CONUSv22.0_2038.
A8: *Fields with zero activity and emissions were set to blanks.
A10: Data Item | B10: Units | C10: Description | D10: Data Source
A11: 2022 weekday May-Sep total | B11: tons | C11: The sum of Mon-Friday NOx emissions, May 1 through Sept 30, for 2022. | D11: C3.0CONUSv22.0_2026, daily_unit_activity_summary.csv, column "BY nox mass (Tons)"
A12: 2022 weekday May-Sept count of activity | B12: number of days | C12: The number of days when the unit had NOx emissions greater than zero in 2022. | D12: C3.0CONUSv22.0_2026, daily_unit_activity_summary.csv, column "BY nox mass (Tons)"
A13: 2022 weekday May-Sept ave OSTD | B13: tons/day | C13: The average of the Mon-Friday NOx emissions, May 1 through Sept 30 (May-Sep total/May-Sept count), in 2022. | D13: C3.0CONUSv22.0_2026, daily_unit_activity_summary.csv, column "BY nox mass (Tons)"
A14: 2022 May-Sept | B14: tons | C14: The sum of NOx emissions from all days, May 1 through Sept 30, in 2022. | D14: C3.0CONUSv22.0_2026, C3.0CONUSv22.0_2026_annual_unit_level_summary_w_other_pollutants.csv, column BY OS NOx (tons)".
A15: 2022 annual | B15: tons/year | C15: The sum of NOx emissions from all days in 2022 | D15: C3.0CONUSv22.0_2026, C3.0CONUSv22.0_2026_annual_unit_level_summary_w_other_pollutants.csv, column "BY Annual NOx (tons)".
A16: 2026 weekday May-Sep total | B16: tons | C16: The sum of Mon-Friday NOx emissions, May 1 through Sept 30, for 2026 | D16: C3.0CONUSv22.0_2026, daily_unit_activity_summary.csv, column "FY nox mass (Tons)"
A17: 2026 weekday May-Sep count | B17: number of days | C17: The number of days when the unit had NOx emissions greater than zero in 2026. | D17: C3.0CONUSv22.0_2026, daily_unit_activity_summary.csv, column "FY nox mass (Tons)"
A18: 2026 weekday May-Sep ave OSTD | B18: tons/day | C18: The average of the Mon-Friday NOx emissions, May 1 through Sept 30 (May-Sep total/May-Sept count), in 2026 | D18: C3.0CONUSv22.0_2026, daily_unit_activity_summary.csv, column "FY nox mass (Tons)"
A19: 2026 annual | B19: tons | C19: The sum of NOx emissions from all days, May 1 through Sept 30, in 2022. | D19: C3.0CONUSv22.0_2026, C3.0CONUSv22.0_2026_annual_unit_level_summary_w_other_pollutants.csv, column "FY OS NOx (tons)".
A20: 2026 May-Sept | B20: tons/year | C20: The sum of NOx emissions from all days in 2022 | D20: C3.0CONUSv22.0_2026, C3.0CONUSv22.0_2026_annual_unit_level_summary_w_other_pollutants.csv, column "FY Annual NOx (tons)".
A21: 2032 weekday May-Sep total | B21: tons | C21: The sum of Mon-Friday NOx emissions, May 1 through Sept 30, for 2032. | D21: C3.0CONUSv22.0_2032, daily_unit_activity_summary.csv, column "FY nox mass (Tons)"
... A30: 2038 May-Sept | B30: tons/year | C30: The sum of NOx emissions from all days in 2038. | D30: C3.0CONUSv22.0_2038, C3.0CONUSv22.0_2038_annual_unit_level_summary_w_other_pollutants.csv, column "FY Annual NOx (tons)".
A34: *List of facilities and unit IDs:
A36: state | B36: oris | C36: facility name | D36: unit id
A37: DC | B37: 880004 | C37: GSA Central Heating | D37: 3
A38: DC | B38: 880004 | C38: GSA Central Heating | D38: 4
A39: DC | B39: 880004 | C39: GSA Central Heating | D39: 5C
A40: MD | B40: 1571 | C40: Chalk Point | D40: **GT3
A41: MD | B41: 1571 | C41: Chalk Point | D41: **GT4
A42: MD | B42: 1571 | C42: Chalk Point | D42: **GT5
A43: MD | B43: 1571 | C43: Chalk Point | D43: **GT6
A44: MD | B44: 1571 | C44: Chalk Point | D44: 3
A45: MD | B45: 1571 | C45: Chalk Point | D45: 4
A46: MD | B46: 1571 | C46: Chalk Point | D46: GT2
A47: MD | B47: 1571 | C47: Chalk Point | D47: SMECO
A48: MD | B48: 1572 | C48: Dickerson | D48: GT2
... A72: VA | B72: 59004 | C72: Potomac Energy Center, LLC | D72: CT2

Sheet 2022 EMP Fac Data Metro DC-NoVA
A1: State | B1: State-County | C1: EIS Facility ID | D1: Facility Name | E1: CO 2022 tpy | F1: CO 2026 tpy | G1: CO 2032 tpy | H1: CO 2038 tpy | I1: NH3 2022 tpy | J1: NH3 2026 tpy | K1: NH3 2032 tpy | L1: NH3 2038 tpy | M1: NOx 2022 tpy | N1: NOx 2026 tpy | O1: NOx 2032 tpy | P1: NOx 2038 tpy | Q1: PM2.5 2022 pty | R1: PM2.5 2026 tpy | S1: PM2.5 2032 tpy | T1: PM2.5 2038 tpy | U1: SO2 2022 tpy | V1: SO2 2026 tpy | W1: SO2 2032 tpy | X1: SO2 2038 tpy | Y1: VOC 2022 tpy | Z1: VOC 2026 tpy | AA1: VOC 2032 tpy | AB1: VOC 2038 tpy | AC1: In CEDS download? | AD1: CO 2026/2022 | AE1: CO 2032/2022 | AF1: CO 2038/2022 | AG1: NH3 2026/2022 | AH1: NH3 2032/2022 | AI1: NH3 2038/2022 | AJ1: NOx 2026/2022 | AK1: NOx 2032/2022 | AL1: NOx 2038/2022 | AM1: PM2.5 2026/2022 | AN1: PM2.5 2032/2022 | AO1: PM2.5 2038/2022 | AP1: SO2 2026/2022 | AQ1: SO2 2032/2022 | AR1: SO2 2038/2022 | AS1: VOC 2026/2022 | AT1: VOC 2032/2022 | AU1: VOC 2038/2022
A2: VA | B2: VA-Alexandria | C2: 4195111 | D2: Covanta Alexandria/Arlington Inc | E2: 51.399975 | F2: 51.399975 | G2: 59.88587 | H2: 59.88587 | I2: 12.645197 | J2: 12.645197 | K2: 14.732778 | L2: 14.732778 | M2: 275.54464 | N2: 275.54464 | O2: 430.2621 | P2: 430.2621 | Q2: 6.6643543 | R2: 6.6643543 | S2: 7.7647486 | T2: 7.7647486 | U2: 4.5194139 | V2: 4.5194139 | W2: 5.5754067 | X2: 5.5754067 | Y2: 0.19283917 | Z2: 0.19283917 | AA2: 1.9313251 | AB2: 1.9313251 | AC2: Yes | AD2: =IFERROR(F2/$E2,"") -> 1 | AE2: =IFERROR(G2/$E2,"") -> 1.1650953 | AF2: =IFERROR(H2/$E2,"") -> 1.1650953 | AG2: =IFERROR(J2/$I2,"") -> 1 | AH2: =IFERROR(K2/$I2,"") -> 1.1650888 | AI2: =IFERROR(L2/$I2,"") -> 1.1650888 | AJ2: =IFERROR(N2/$M2,"") -> 1 | AK2: =IFERROR(O2/$M2,"") -> 1.5614969 | AL2: =IFERROR(P2/$M2,"") -> 1.5614969 | AM2: =IFERROR(R2/$Q2,"") -> 1 | AN2: =IFERROR(S2/$Q2,"") -> 1.1651164 | AO2: =IFERROR(T2/$Q2,"") -> 1.1651164 | AP2: =IFERROR(V2/$U2,"") -> 1 | AQ2: =IFERROR(W2/$U2,"") -> 1.233657 | AR2: =IFERROR(X2/$U2,"") -> 1.233657 | AS2: =IFERROR(Z2/$Y2,"") -> 1 | AT2: =IFERROR(AA2/$Y2,"") -> 10.015212 | AU2: =IFERROR(AB2/$Y2,"") -> 10.015212
A3: VA | B3: VA-Fairfax | C3: 4944311 | D3: US Army - Fort Belvoir | E3: 11.292944 | F3: 11.444703 | G3: 11.829787 | H3: 11.976789 | M3: 11.288354 | N3: 11.60651 | O3: 12.274723 | P3: 12.815282 | Q3: 1.0534128 | R3: 1.0684109 | S3: 1.1057284 | T3: 1.1210151 | U3: 0.1094441 | V3: 0.1120786 | W3: 0.11767373 | X3: 0.12124561 | Y3: 1.4845 | Z3: 1.5498665 | AA3: 1.6729603 | AB3: 1.7853646 | AC3: Yes | AD3: =IFERROR(F3/$E3,"") -> 1.0134384 | AE3: =IFERROR(G3/$E3,"") -> 1.047538 | AF3: =IFERROR(H3/$E3,"") -> 1.060555 | AG3: =IFERROR(J3/$I3,"") | AH3: =IFERROR(K3/$I3,"") | AI3: =IFERROR(L3/$I3,"") | AJ3: =IFERROR(N3/$M3,"") -> 1.0281844 | AK3: =IFERROR(O3/$M3,"") -> 1.0873793 | AL3: =IFERROR(P3/$M3,"") -> 1.1352658 | AM3: =IFERROR(R3/$Q3,"") -> 1.0142376 | AN3: =IFERROR(S3/$Q3,"") -> 1.049663 | AO3: =IFERROR(T3/$Q3,"") -> 1.0641745 | AP3: =IFERROR(V3/$U3,"") -> 1.0240717 | AQ3: =IFERROR(W3/$U3,"") -> 1.0751948 | AR3: =IFERROR(X3/$U3,"") -> 1.1078314 | AS3: =IFERROR(Z3/$Y3,"") -> 1.0440327 | AT3: =IFERROR(AA3/$Y3,"") -> 1.1269521 | AU3: =IFERROR(AB3/$Y3,"") -> 1.2026707
A4: VA | B4: VA-Loudoun | C4: 5023311 | D4: Dominion - Leesburg Compressor Station | E4: 6.83203 | F4: 6.7407577 | G4: 6.9037291 | H4: 7.2921758 | M4: 10.083248 | N4: 9.5583175 | O4: 9.0759328 | P4: 8.8465002 | Q4: 1.3233585 | R4: 1.3170599 | S4: 1.3693731 | T4: 1.4674259 | U4: 0.12107863 | V4: 0.12050235 | W4: 0.12528866 | X4: 0.13425985 | Y4: 3.8695163 | Z4: 3.6925178 | AA4: 2.4297152 | AB4: 2.5865202 | AC4: Yes | AD4: =IFERROR(F4/$E4,"") -> 0.98664053 | AE4: =IFERROR(G4/$E4,"") -> 1.0104946 | AF4: =IFERROR(H4/$E4,"") -> 1.0673513 | AG4: =IFERROR(J4/$I4,"") | AH4: =IFERROR(K4/$I4,"") | AI4: =IFERROR(L4/$I4,"") | AJ4: =IFERROR(N4/$M4,"") -> 0.94794033 | AK4: =IFERROR(O4/$M4,"") -> 0.90010012 | AL4: =IFERROR(P4/$M4,"") -> 0.87734628 | AM4: =IFERROR(R4/$Q4,"") -> 0.99524044 | AN4: =IFERROR(S4/$Q4,"") -> 1.034771 | AO4: =IFERROR(T4/$Q4,"") -> 1.108865 | AP4: =IFERROR(V4/$U4,"") -> 0.99524044 | AQ4: =IFERROR(W4/$U4,"") -> 1.034771 | AR4: =IFERROR(X4/$U4,"") -> 1.108865 | AS4: =IFERROR(Z4/$Y4,"") -> 0.95425824 | AT4: =IFERROR(AA4/$Y4,"") -> 0.62791188 | AU4: =IFERROR(AB4/$Y4,"") -> 0.66843501
A5: VA | B5: VA-Prince William | C5: 5763211 | D5: US Marine Corps - MCB Quantico | E5: 15.85291 | F5: 16.464787 | G5: 17.635171 | H5: 18.659759 | M5: 39.726462 | N5: 42.109791 | O5: 46.405653 | P5: 50.704246 | Q5: 1.9992556 | R5: 2.0958982 | S5: 2.2748061 | T5: 2.4426173 | U5: 1.0445208 | V5: 1.1229723 | W5: 1.2610542 | X5: 1.4067743 | Y5: 7.6551271 | Z5: 7.6131855 | AA5: 7.4559799 | AB5: 7.4469508 | AC5: Yes | AD5: =IFERROR(F5/$E5,"") -> 1.0385971 | AE5: =IFERROR(G5/$E5,"") -> 1.1124248 | AF5: =IFERROR(H5/$E5,"") -> 1.1770557 | AG5: =IFERROR(J5/$I5,"") | AH5: =IFERROR(K5/$I5,"") | AI5: =IFERROR(L5/$I5,"") | AJ5: =IFERROR(N5/$M5,"") -> 1.0599935 | AK5: =IFERROR(O5/$M5,"") -> 1.1681295 | AL5: =IFERROR(P5/$M5,"") -> 1.2763343 | AM5: =IFERROR(R5/$Q5,"") -> 1.0483393 | AN5: =IFERROR(S5/$Q5,"") -> 1.1378266 | AO5: =IFERROR(T5/$Q5,"") -> 1.2217634 | AP5: =IFERROR(V5/$U5,"") -> 1.0751077 | AQ5: =IFERROR(W5/$U5,"") -> 1.2073041 | AR5: =IFERROR(X5/$U5,"") -> 1.3468132 | AS5: =IFERROR(Z5/$Y5,"") -> 0.99452111 | AT5: =IFERROR(AA5/$Y5,"") -> 0.97398512 | AU5: =IFERROR(AB5/$Y5,"") -> 0.97280564
A6: VA | B6: VA-Fairfax | C6: 6423411 | D6: Kinder Morgan Southeast Terminals LLC-Newington | Y6: 48.49912 | Z6: 49.115148 | AA6: 42.70322 | AB6: 43.092786 | AC6: Yes | AD6: =IFERROR(F6/$E6,"") | AE6: =IFERROR(G6/$E6,"") | AF6: =IFERROR(H6/$E6,"") | AG6: =IFERROR(J6/$I6,"") | AH6: =IFERROR(K6/$I6,"") | AI6: =IFERROR(L6/$I6,"") | AJ6: =IFERROR(N6/$M6,"") | AK6: =IFERROR(O6/$M6,"") | AL6: =IFERROR(P6/$M6,"") | AM6: =IFERROR(R6/$Q6,"") | AN6: =IFERROR(S6/$Q6,"") | AO6: =IFERROR(T6/$Q6,"") | AP6: =IFERROR(V6/$U6,"") | AQ6: =IFERROR(W6/$U6,"") | AR6: =IFERROR(X6/$U6,"") | AS6: =IFERROR(Z6/$Y6,"") -> 1.0127018 | AT6: =IFERROR(AA6/$Y6,"") -> 0.88049475 | AU6: =IFERROR(AB6/$Y6,"") -> 0.88852717
A7: VA | B7: VA-Fairfax | C7: 6423611 | D7: Motiva Enterprises LLC - Springfield | Y7: 56.1602 | Z7: 55.563712 | AA7: 46.779564 | AB7: 45.845798 | AC7: Yes | AD7: =IFERROR(F7/$E7,"") | AE7: =IFERROR(G7/$E7,"") | AF7: =IFERROR(H7/$E7,"") | AG7: =IFERROR(J7/$I7,"") | AH7: =IFERROR(K7/$I7,"") | AI7: =IFERROR(L7/$I7,"") | AJ7: =IFERROR(N7/$M7,"") | AK7: =IFERROR(O7/$M7,"") | AL7: =IFERROR(P7/$M7,"") | AM7: =IFERROR(R7/$Q7,"") | AN7: =IFERROR(S7/$Q7,"") | AO7: =IFERROR(T7/$Q7,"") | AP7: =IFERROR(V7/$U7,"") | AQ7: =IFERROR(W7/$U7,"") | AR7: =IFERROR(X7/$U7,"") | AS7: =IFERROR(Z7/$Y7,"") -> 0.98937881 | AT7: =IFERROR(AA7/$Y7,"") -> 0.83296647 | AU7: =IFERROR(AB7/$Y7,"") -> 0.81633965
A8: VA | B8: VA-Fairfax | C8: 6423711 | D8: Motiva Enterprises LLC - Fairfax | Y8: 32.95426 | Z8: 32.666115 | AA8: 27.748045 | AB8: 27.451611 | AC8: Yes | AD8: =IFERROR(F8/$E8,"") | AE8: =IFERROR(G8/$E8,"") | AF8: =IFERROR(H8/$E8,"") | AG8: =IFERROR(J8/$I8,"") | AH8: =IFERROR(K8/$I8,"") | AI8: =IFERROR(L8/$I8,"") | AJ8: =IFERROR(N8/$M8,"") | AK8: =IFERROR(O8/$M8,"") | AL8: =IFERROR(P8/$M8,"") | AM8: =IFERROR(R8/$Q8,"") | AN8: =IFERROR(S8/$Q8,"") | AO8: =IFERROR(T8/$Q8,"") | AP8: =IFERROR(V8/$U8,"") | AQ8: =IFERROR(W8/$U8,"") | AR8: =IFERROR(X8/$U8,"") | AS8: =IFERROR(Z8/$Y8,"") -> 0.99125621 | AT8: =IFERROR(AA8/$Y8,"") -> 0.84201693 | AU8: =IFERROR(AB8/$Y8,"") -> 0.83302163
A9: VA | B9: VA-Prince William | C9: 6437811 | D9: Sunoco - Manassas Terminal | E9: 0.47 | F9: 0.49938279 | G9: 0.52222897 | H9: 0.55513216 | M9: 0.4300034 | N9: 0.45688574 | O9: 0.47778773 | P9: 0.50789088 | U9: 0.1145015 | V9: 0.12165974 | W9: 0.12722553 | X9: 0.13524141 | Y9: 30.18 | Z9: 29.641247 | AA9: 24.879841 | AB9: 24.332362 | AC9: Yes | AD9: =IFERROR(F9/$E9,"") -> 1.0625166 | AE9: =IFERROR(G9/$E9,"") -> 1.1111255 | AF9: =IFERROR(H9/$E9,"") -> 1.1811322 | AG9: =IFERROR(J9/$I9,"") | AH9: =IFERROR(K9/$I9,"") | AI9: =IFERROR(L9/$I9,"") | AJ9: =IFERROR(N9/$M9,"") -> 1.0625166 | AK9: =IFERROR(O9/$M9,"") -> 1.1111255 | AL9: =IFERROR(P9/$M9,"") -> 1.1811322 | AM9: =IFERROR(R9/$Q9,"") | AN9: =IFERROR(S9/$Q9,"") | AO9: =IFERROR(T9/$Q9,"") | AP9: =IFERROR(V9/$U9,"") -> 1.0625166 | AQ9: =IFERROR(W9/$U9,"") -> 1.1111255 | AR9: =IFERROR(X9/$U9,"") -> 1.1811322 | AS9: =IFERROR(Z9/$Y9,"") -> 0.98214869 | AT9: =IFERROR(AA9/$Y9,"") -> 0.82438173 | AU9: =IFERROR(AB9/$Y9,"") -> 0.80624128
A10: VA | B10: VA-Prince William | C10: 6438011 | D10: Transcontinental Gas Pipeline-Station 185 | E10: 1.862915 | F10: 1.8458852 | G10: 1.9046469 | H10: 2.0263158 | M10: 62.54431 | N10: 60.042833 | O10: 58.498004 | P10: 58.714983 | Q10: 1.1481565 | R10: 1.1426918 | S10: 1.1880791 | T10: 1.2731505 | U10: 0.31570067 | V10: 0.31419808 | W10: 0.32667791 | X10: 0.35006942 | Y10: 1.690475 | Z10: 1.6824291 | AA10: 1.7492546 | AB10: 1.8745085 | AC10: Yes | AD10: =IFERROR(F10/$E10,"") -> 0.99085852 | AE10: =IFERROR(G10/$E10,"") -> 1.0224014 | AF10: =IFERROR(H10/$E10,"") -> 1.0877125 | AG10: =IFERROR(J10/$I10,"") | AH10: =IFERROR(K10/$I10,"") | AI10: =IFERROR(L10/$I10,"") | AJ10: =IFERROR(N10/$M10,"") -> 0.96000472 | AK10: =IFERROR(O10/$M10,"") -> 0.93530498 | AL10: =IFERROR(P10/$M10,"") -> 0.93877417 | AM10: =IFERROR(R10/$Q10,"") -> 0.99524045 | AN10: =IFERROR(S10/$Q10,"") -> 1.034771 | AO10: =IFERROR(T10/$Q10,"") -> 1.108865 | AP10: =IFERROR(V10/$U10,"") -> 0.99524044 | AQ10: =IFERROR(W10/$U10,"") -> 1.034771 | AR10: =IFERROR(X10/$U10,"") -> 1.108865 | AS10: =IFERROR(Z10/$Y10,"") -> 0.99524044 | AT10: =IFERROR(AA10/$Y10,"") -> 1.034771 | AU10: =IFERROR(AB10/$Y10,"") -> 1.108865
A11: VA | B11: VA-Fairfax | C11: 6632911 | D11: Buckeye Terminals LLC - Fairfax Terminal | E11: 6.071 | F11: 6.4505382 | G11: 6.7456427 | H11: 7.1706539 | M11: 2.447 | N11: 2.5999781 | O11: 2.718924 | P11: 2.8902306 | Q11: 0.129419 | R11: 0.13750983 | S11: 0.14380075 | T11: 0.15286095 | U11: 0.004 | V11: 0.0042500663 | W11: 0.0044445019 | X11: 0.004724529 | Y11: 31.1001 | Z11: 32.174065 | AA11: 28.745341 | AB11: 29.773552 | AC11: Yes | AD11: =IFERROR(F11/$E11,"") -> 1.0625166 | AE11: =IFERROR(G11/$E11,"") -> 1.1111255 | AF11: =IFERROR(H11/$E11,"") -> 1.1811322 | AG11: =IFERROR(J11/$I11,"") | AH11: =IFERROR(K11/$I11,"") | AI11: =IFERROR(L11/$I11,"") | AJ11: =IFERROR(N11/$M11,"") -> 1.0625166 | AK11: =IFERROR(O11/$M11,"") -> 1.1111255 | AL11: =IFERROR(P11/$M11,"") -> 1.1811322 | AM11: =IFERROR(R11/$Q11,"") -> 1.0625166 | AN11: =IFERROR(S11/$Q11,"") -> 1.1111255 | AO11: =IFERROR(T11/$Q11,"") -> 1.1811322 | AP11: =IFERROR(V11/$U11,"") -> 1.0625166 | AQ11: =IFERROR(W11/$U11,"") -> 1.1111255 | AR11: =IFERROR(X11/$U11,"") -> 1.1811322 | AS11: =IFERROR(Z11/$Y11,"") -> 1.0345325 | AT11: =IFERROR(AA11/$Y11,"") -> 0.92428451 | AU11: =IFERROR(AB11/$Y11,"") -> 0.95734585
A12: VA | B12: VA-Fairfax | C12: 6633011 | D12: CITGO Terminal | E12: 6.47 | F12: 6.8744823 | G12: 7.1889818 | H12: 7.6419256 | M12: 2.59 | N12: 2.7519179 | O12: 2.877815 | P12: 3.0591325 | Y12: 26.97 | Z12: 27.232978 | AA12: 23.610003 | AB12: 23.810333 | AC12: Yes | AD12: =IFERROR(F12/$E12,"") -> 1.0625166 | AE12: =IFERROR(G12/$E12,"") -> 1.1111255 | AF12: =IFERROR(H12/$E12,"") -> 1.1811322 | AG12: =IFERROR(J12/$I12,"") | AH12: =IFERROR(K12/$I12,"") | AI12: =IFERROR(L12/$I12,"") | AJ12: =IFERROR(N12/$M12,"") -> 1.0625166 | AK12: =IFERROR(O12/$M12,"") -> 1.1111255 | AL12: =IFERROR(P12/$M12,"") -> 1.1811322 | AM12: =IFERROR(R12/$Q12,"") | AN12: =IFERROR(S12/$Q12,"") | AO12: =IFERROR(T12/$Q12,"") | AP12: =IFERROR(V12/$U12,"") | AQ12: =IFERROR(W12/$U12,"") | AR12: =IFERROR(X12/$U12,"") | AS12: =IFERROR(Z12/$Y12,"") -> 1.0097508 | AT12: =IFERROR(AA12/$Y12,"") -> 0.87541723 | AU12: =IFERROR(AB12/$Y12,"") -> 0.88284513
A13: VA | B13: VA-Fairfax | C13: 6633111 | D13: Transmontaigne Product Services Inc - Fairfax | E13: 7.07 | F13: 7.5119922 | G13: 7.855657 | H13: 8.350605 | M13: 2.83 | N13: 3.0069219 | O13: 3.1444851 | P13: 3.3426043 | Y13: 32.92 | Z13: 32.487184 | AA13: 27.349622 | AB13: 26.821661 | AC13: Yes | AD13: =IFERROR(F13/$E13,"") -> 1.0625166 | AE13: =IFERROR(G13/$E13,"") -> 1.1111255 | AF13: =IFERROR(H13/$E13,"") -> 1.1811322 | AG13: =IFERROR(J13/$I13,"") | AH13: =IFERROR(K13/$I13,"") | AI13: =IFERROR(L13/$I13,"") | AJ13: =IFERROR(N13/$M13,"") -> 1.0625166 | AK13: =IFERROR(O13/$M13,"") -> 1.1111255 | AL13: =IFERROR(P13/$M13,"") -> 1.1811322 | AM13: =IFERROR(R13/$Q13,"") | AN13: =IFERROR(S13/$Q13,"") | AO13: =IFERROR(T13/$Q13,"") | AP13: =IFERROR(V13/$U13,"") | AQ13: =IFERROR(W13/$U13,"") | AR13: =IFERROR(X13/$U13,"") | AS13: =IFERROR(Z13/$Y13,"") -> 0.98685248 | AT13: =IFERROR(AA13/$Y13,"") -> 0.83079046 | AU13: =IFERROR(AB13/$Y13,"") -> 0.81475277
A14: VA | B14: VA-Fairfax | C14: 6743311 | D14: Noman M Cole Jr Pollution Control Plant | E14: 98.089679 | F14: 95.808892 | G14: 92.02585 | H14: 94.028235 | M14: 35.859824 | N14: 35.026009 | O14: 33.642997 | P14: 34.375033 | Q14: 0.04322188 | R14: 0.042216882 | S14: 0.040549936 | T14: 0.04143226 | U14: 0.426846 | V14: 0.41692095 | W14: 0.4004587 | X14: 0.40917226 | Y14: 3.7745198 | Z14: 3.6867544 | AA14: 3.5411818 | AB14: 3.6182342 | AC14: Yes | AD14: =IFERROR(F14/$E14,"") -> 0.97674794 | AE14: =IFERROR(G14/$E14,"") -> 0.93818076 | AF14: =IFERROR(H14/$E14,"") -> 0.95859458 | AG14: =IFERROR(J14/$I14,"") | AH14: =IFERROR(K14/$I14,"") | AI14: =IFERROR(L14/$I14,"") | AJ14: =IFERROR(N14/$M14,"") -> 0.97674794 | AK14: =IFERROR(O14/$M14,"") -> 0.93818076 | AL14: =IFERROR(P14/$M14,"") -> 0.95859458 | AM14: =IFERROR(R14/$Q14,"") -> 0.97674794 | AN14: =IFERROR(S14/$Q14,"") -> 0.93818076 | AO14: =IFERROR(T14/$Q14,"") -> 0.95859458 | AP14: =IFERROR(V14/$U14,"") -> 0.97674794 | AQ14: =IFERROR(W14/$U14,"") -> 0.93818076 | AR14: =IFERROR(X14/$U14,"") -> 0.95859458 | AS14: =IFERROR(Z14/$Y14,"") -> 0.97674794 | AT14: =IFERROR(AA14/$Y14,"") -> 0.93818076 | AU14: =IFERROR(AB14/$Y14,"") -> 0.95859458
A15: VA | B15: VA-Fairfax | C15: 6743611 | D15: Covanta Fairfax Inc | E15: 73.332541 | F15: 73.332541 | G15: 56.04613 | H15: 56.04613 | I15: 25.086557 | J15: 25.086557 | K15: 19.17262 | L15: 19.17262 | M15: 1030.1568 | N15: 1030.1568 | O15: 1533.228 | P15: 1533.228 | Q15: 148.02045 | R15: 148.02045 | S15: 113.12462 | T15: 113.12462 | U15: 304.02493 | V15: 304.02493 | W15: 357.25602 | X15: 357.25602 | Y15: 5.8183199 | Z15: 5.8183199 | AA15: 4.4477102 | AB15: 4.4477102 | AC15: Yes | AD15: =IFERROR(F15/$E15,"") -> 1 | AE15: =IFERROR(G15/$E15,"") -> 0.76427366 | AF15: =IFERROR(H15/$E15,"") -> 0.76427366 | AG15: =IFERROR(J15/$I15,"") -> 1 | AH15: =IFERROR(K15/$I15,"") -> 0.76425873 | AI15: =IFERROR(L15/$I15,"") -> 0.76425873 | AJ15: =IFERROR(N15/$M15,"") -> 1 | AK15: =IFERROR(O15/$M15,"") -> 1.4883443 | AL15: =IFERROR(P15/$M15,"") -> 1.4883443 | AM15: =IFERROR(R15/$Q15,"") -> 1 | AN15: =IFERROR(S15/$Q15,"") -> 0.76424992 | AO15: =IFERROR(T15/$Q15,"") -> 0.76424992 | AP15: =IFERROR(V15/$U15,"") -> 1 | AQ15: =IFERROR(W15/$U15,"") -> 1.1750879 | AR15: =IFERROR(X15/$U15,"") -> 1.1750879 | AS15: =IFERROR(Z15/$Y15,"") -> 1 | AT15: =IFERROR(AA15/$Y15,"") -> 0.76443204 | AU15: =IFERROR(AB15/$Y15,"") -> 0.76443204
A16: VA | B16: VA-Fairfax | C16: 6743811 | D16: Michigan Cogeneration Systems Inc | E16: 64.94175 | F16: 64.94175 | G16: 0 | H16: 0 | M16: 32.07 | N16: 32.07 | O16: 0 | P16: 0 | Q16: 7.5108 | R16: 7.5108 | S16: 0 | T16: 0 | U16: 2.575578 | V16: 2.575578 | W16: 0 | X16: 0 | Y16: 14.7522 | Z16: 14.7522 | AA16: 0 | AB16: 0 | AC16: Yes | AD16: =IFERROR(F16/$E16,"") -> 1 | AE16: =IFERROR(G16/$E16,"") -> 0 | AF16: =IFERROR(H16/$E16,"") -> 0 | AG16: =IFERROR(J16/$I16,"") | AH16: =IFERROR(K16/$I16,"") | AI16: =IFERROR(L16/$I16,"") | AJ16: =IFERROR(N16/$M16,"") -> 1 | AK16: =IFERROR(O16/$M16,"") -> 0 | AL16: =IFERROR(P16/$M16,"") -> 0 | AM16: =IFERROR(R16/$Q16,"") -> 1 | AN16: =IFERROR(S16/$Q16,"") -> 0 | AO16: =IFERROR(T16/$Q16,"") -> 0 | AP16: =IFERROR(V16/$U16,"") -> 1 | AQ16: =IFERROR(W16/$U16,"") -> 0 | AR16: =IFERROR(X16/$U16,"") -> 0 | AS16: =IFERROR(Z16/$Y16,"") -> 1 | AT16: =IFERROR(AA16/$Y16,"") -> 0 | AU16: =IFERROR(AB16/$Y16,"") -> 0
A17: VA | B17: VA-Fairfax | C17: 6744011 | D17: CRP 12100 SVD Limited Liability Corp | E17: 0.705335 | F17: 0.7476551 | G17: 0.8605087 | H17: 0.96609735 | M17: 5.3769 | N17: 5.807052 | O17: 6.559818 | P17: 7.3647399 | Q17: 0.0142956 | R17: 0.015153336 | S17: 0.017440632 | T17: 0.019580683 | U17: 0.13783 | V17: 0.1460998 | W17: 0.1681526 | X17: 0.18878575 | Y17: 0.132389 | Z17: 0.14298012 | AA17: 0.16151458 | AB17: 0.18133321 | AC17: Yes | AD17: =IFERROR(F17/$E17,"") -> 1.06 | AE17: =IFERROR(G17/$E17,"") -> 1.22 | AF17: =IFERROR(H17/$E17,"") -> 1.3697 | AG17: =IFERROR(J17/$I17,"") | AH17: =IFERROR(K17/$I17,"") | AI17: =IFERROR(L17/$I17,"") | AJ17: =IFERROR(N17/$M17,"") -> 1.08 | AK17: =IFERROR(O17/$M17,"") -> 1.22 | AL17: =IFERROR(P17/$M17,"") -> 1.3697 | AM17: =IFERROR(R17/$Q17,"") -> 1.06 | AN17: =IFERROR(S17/$Q17,"") -> 1.22 | AO17: =IFERROR(T17/$Q17,"") -> 1.3697 | AP17: =IFERROR(V17/$U17,"") -> 1.06 | AQ17: =IFERROR(W17/$U17,"") -> 1.22 | AR17: =IFERROR(X17/$U17,"") -> 1.3697 | AS17: =IFERROR(Z17/$Y17,"") -> 1.08 | AT17: =IFERROR(AA17/$Y17,"") -> 1.22 | AU17: =IFERROR(AB17/$Y17,"") -> 1.3697
A18: VA | B18: VA-Loudoun | C18: 7109411 | D18: Loudoun County Landfill | E18: 0.4227302 | F18: 0.45654862 | G18: 0.51259915 | H18: 0.57914037 | Y18: 0.874095 | Z18: 0.9440226 | AA18: 1.0599204 | AB18: 1.1975102 | AC18: No | AD18: =IFERROR(F18/$E18,"") -> 1.08 | AE18: =IFERROR(G18/$E18,"") -> 1.2125917 | AF18: =IFERROR(H18/$E18,"") -> 1.37 | AG18: =IFERROR(J18/$I18,"") | AH18: =IFERROR(K18/$I18,"") | AI18: =IFERROR(L18/$I18,"") | AJ18: =IFERROR(N18/$M18,"") | AK18: =IFERROR(O18/$M18,"") | AL18: =IFERROR(P18/$M18,"") | AM18: =IFERROR(R18/$Q18,"") | AN18: =IFERROR(S18/$Q18,"") | AO18: =IFERROR(T18/$Q18,"") | AP18: =IFERROR(V18/$U18,"") | AQ18: =IFERROR(W18/$U18,"") | AR18: =IFERROR(X18/$U18,"") | AS18: =IFERROR(Z18/$Y18,"") -> 1.08 | AT18: =IFERROR(AA18/$Y18,"") -> 1.2125917 | AU18: =IFERROR(AB18/$Y18,"") -> 1.37
A19: VA | B19: VA-Prince William | C19: 7520511 | D19: Dominion - Possum Point Power Station | E19: 73.030294 | F19: 79.426805 | G19: 80.195332 | H19: 42.605775 | I19: 0.188352 | J19: 24.820906 | K19: 25.181403 | L19: 13.114281 | M19: 99.986188 | N19: 67.813254 | O19: 75.813315 | P19: 40.057905 | Q19: 55.893584 | R19: 60.562502 | S19: 62.573904 | T19: 39.770065 | U19: 7.999877 | V19: 4.1324646 | W19: 0.02243748 | X19: 0.021316667 | Y19: 4.7715433 | Z19: 5.1674588 | AA19: 5.27565 | AB19: 3.2056728 | AC19: Yes | AD19: =IFERROR(F19/$E19,"") -> 1.0875871 | AE19: =IFERROR(G19/$E19,"") -> 1.0981105 | AF19: =IFERROR(H19/$E19,"") -> 0.58339865 | AG19: =IFERROR(J19/$I19,"") -> 131.77936 | AH19: =IFERROR(K19/$I19,"") -> 133.69331 | AI19: =IFERROR(L19/$I19,"") -> 69.626449 | AJ19: =IFERROR(N19/$M19,"") -> 0.67822622 | AK19: =IFERROR(O19/$M19,"") -> 0.75823788 | AL19: =IFERROR(P19/$M19,"") -> 0.40063439 | AM19: =IFERROR(R19/$Q19,"") -> 1.0835323 | AN19: =IFERROR(S19/$Q19,"") -> 1.1195186 | AO19: =IFERROR(T19/$Q19,"") -> 0.71153185 | AP19: =IFERROR(V19/$U19,"") -> 0.51656601 | AQ19: =IFERROR(W19/$U19,"") -> 0.0028047281 | AR19: =IFERROR(X19/$U19,"") -> 0.0026646244 | AS19: =IFERROR(Z19/$Y19,"") -> 1.0829743 | AT19: =IFERROR(AA19/$Y19,"") -> 1.1056486 | AU19: =IFERROR(AB19/$Y19,"") -> 0.67183145
A20: VA | B20: VA-Manassas | C20: 7520811 | D20: Micron Technology Incorporated | E20: 32.955151 | F20: 35.513881 | G20: 39.15091 | H20: 42.100455 | I20: 7.000844 | J20: 7.5167022 | K20: 7.9409793 | L20: 8.6412143 | M20: 44.926146 | N20: 48.29035 | O20: 51.689637 | P20: 56.040176 | Q20: 22.500802 | R20: 24.170764 | S20: 25.685116 | T20: 27.903816 | U20: 3.6472594 | V20: 3.921988 | W20: 4.2182085 | X20: 4.5671181 | Y20: 36.056801 | Z20: 38.722194 | AA20: 41.014762 | AB20: 44.598514 | AC20: Yes | AD20: =IFERROR(F20/$E20,"") -> 1.0776428 | AE20: =IFERROR(G20/$E20,"") -> 1.1880058 | AF20: =IFERROR(H20/$E20,"") -> 1.2775076 | AG20: =IFERROR(J20/$I20,"") -> 1.0736851 | AH20: =IFERROR(K20/$I20,"") -> 1.1342889 | AI20: =IFERROR(L20/$I20,"") -> 1.2343104 | AJ20: =IFERROR(N20/$M20,"") -> 1.074883 | AK20: =IFERROR(O20/$M20,"") -> 1.1505469 | AL20: =IFERROR(P20/$M20,"") -> 1.2473844 | AM20: =IFERROR(R20/$Q20,"") -> 1.0742179 | AN20: =IFERROR(S20/$Q20,"") -> 1.14152 | AO20: =IFERROR(T20/$Q20,"") -> 1.2401254 | AP20: =IFERROR(V20/$U20,"") -> 1.0753247 | AQ20: =IFERROR(W20/$U20,"") -> 1.1565419 | AR20: =IFERROR(X20/$U20,"") -> 1.2522054 | AS20: =IFERROR(Z20/$Y20,"") -> 1.073922 | AT20: =IFERROR(AA20/$Y20,"") -> 1.1375042 | AU20: =IFERROR(AB20/$Y20,"") -> 1.236896
A21: VA | B21: VA-Prince William | C21: 7520911 | D21: Prince William County Sanitary Landfill | E21: 328.58192 | F21: 334.52089 | G21: 349.26808 | H21: 372.99489 | M21: 61.0372 | N21: 63.136417 | O21: 67.286566 | P21: 73.064364 | Q21: 20.811318 | R21: 20.968995 | S21: 21.593585 | T21: 22.795777 | U21: 42.638568 | V21: 42.496901 | W21: 43.11835 | X21: 44.94205 | Y21: 36.180753 | Z21: 35.827102 | AA21: 36.023787 | AB21: 37.250106 | AC21: Yes | AD21: =IFERROR(F21/$E21,"") -> 1.0180745 | AE21: =IFERROR(G21/$E21,"") -> 1.0629559 | AF21: =IFERROR(H21/$E21,"") -> 1.1351656 | AG21: =IFERROR(J21/$I21,"") | AH21: =IFERROR(K21/$I21,"") | AI21: =IFERROR(L21/$I21,"") | AJ21: =IFERROR(N21/$M21,"") -> 1.0343924 | AK21: =IFERROR(O21/$M21,"") -> 1.1023862 | AL21: =IFERROR(P21/$M21,"") -> 1.1970465 | AM21: =IFERROR(R21/$Q21,"") -> 1.0075765 | AN21: =IFERROR(S21/$Q21,"") -> 1.0375885 | AO21: =IFERROR(T21/$Q21,"") -> 1.0953548 | AP21: =IFERROR(V21/$U21,"") -> 0.99667749 | AQ21: =IFERROR(W21/$U21,"") -> 1.0112523 | AR21: =IFERROR(X21/$U21,"") -> 1.0540234 | AS21: =IFERROR(Z21/$Y21,"") -> 0.99022542 | AT21: =IFERROR(AA21/$Y21,"") -> 0.9956616 | AU21: =IFERROR(AB21/$Y21,"") -> 1.0295558
A22: VA | B22: VA-Arlington | C22: 9046811 | D22: Ronald Reagan Washingto (Major Airport/Quasi Point Source) | E22: 1395.8448 | F22: 1404.3032 | G22: 1439.2459 | H22: 1439.7887 | M22: 897.37569 | N22: 896.03688 | O22: 917.9739 | P22: 917.98247 | Q22: 16.52417 | R22: 16.82149 | S22: 17.235179 | T22: 17.24381 | U22: 103.79478 | V22: 103.76577 | W22: 106.31367 | X22: 106.31535 | Y22: 146.64428 | Z22: 147.24113 | AA22: 150.80121 | AB22: 150.81649 | AC22: No | AD22: =IFERROR(F22/$E22,"") -> 1.0060597 | AE22: =IFERROR(G22/$E22,"") -> 1.031093 | AF22: =IFERROR(H22/$E22,"") -> 1.0314819 | AG22: =IFERROR(J22/$I22,"") | AH22: =IFERROR(K22/$I22,"") | AI22: =IFERROR(L22/$I22,"") | AJ22: =IFERROR(N22/$M22,"") -> 0.99850808 | AK22: =IFERROR(O22/$M22,"") -> 1.0229538 | AL22: =IFERROR(P22/$M22,"") -> 1.0229634 | AM22: =IFERROR(R22/$Q22,"") -> 1.017993 | AN22: =IFERROR(S22/$Q22,"") -> 1.0430284 | AO22: =IFERROR(T22/$Q22,"") -> 1.0435507 | AP22: =IFERROR(V22/$U22,"") -> 0.99972051 | AQ22: =IFERROR(W22/$U22,"") -> 1.024268 | AR22: =IFERROR(X22/$U22,"") -> 1.0242842 | AS22: =IFERROR(Z22/$Y22,"") -> 1.0040701 | AT22: =IFERROR(AA22/$Y22,"") -> 1.028347 | AU22: =IFERROR(AB22/$Y22,"") -> 1.0284512
A23: VA | B23: VA-Loudoun | C23: 9063711 | D23: Leesburg Executive | E23: 308.32147 | F23: 327.85019 | G23: 370.692 | H23: 419.48077 | M23: 11.99739 | N23: 12.30187 | O23: 12.969655 | P23: 13.730137 | Q23: 5.920425 | R23: 6.2595586 | S23: 7.0035877 | T23: 7.850897 | U23: 1.7193264 | V23: 1.7835297 | W23: 1.9243865 | X23: 2.0847959 | Y23: 13.982336 | Z23: 14.644761 | AA23: 16.097888 | AB23: 17.752726 | AC23: No | AD23: =IFERROR(F23/$E23,"") -> 1.0633388 | AE23: =IFERROR(G23/$E23,"") -> 1.2022906 | AF23: =IFERROR(H23/$E23,"") -> 1.3605305 | AG23: =IFERROR(J23/$I23,"") | AH23: =IFERROR(K23/$I23,"") | AI23: =IFERROR(L23/$I23,"") | AJ23: =IFERROR(N23/$M23,"") -> 1.0253789 | AK23: =IFERROR(O23/$M23,"") -> 1.0810397 | AL23: =IFERROR(P23/$M23,"") -> 1.144427 | AM23: =IFERROR(R23/$Q23,"") -> 1.057282 | AN23: =IFERROR(S23/$Q23,"") -> 1.1829535 | AO23: =IFERROR(T23/$Q23,"") -> 1.3260698 | AP23: =IFERROR(V23/$U23,"") -> 1.0373421 | AQ23: =IFERROR(W23/$U23,"") -> 1.1192677 | AR23: =IFERROR(X23/$U23,"") -> 1.2125655 | AS23: =IFERROR(Z23/$Y23,"") -> 1.0473759 | AT23: =IFERROR(AA23/$Y23,"") -> 1.1513017 | AU23: =IFERROR(AB23/$Y23,"") -> 1.2696538
A24: VA | B24: VA-Loudoun | C24: 9063811 | D24: Washington Dulles Inter (Major Airport/Quasi Point Source) | E24: 1571.9651 | F24: 2059.8488 | G24: 2310.4355 | H24: 2552.3428 | M24: 1054.4027 | N24: 1480.6201 | O24: 1675.7658 | P24: 1859.776 | Q24: 21.453304 | R24: 25.186182 | S24: 27.963469 | T24: 30.788988 | U24: 102.89542 | V24: 142.18579 | W24: 160.70508 | X24: 178.26833 | Y24: 187.83391 | Z24: 251.70359 | AA24: 283.55703 | AB24: 314.09345 | AC24: No | AD24: =IFERROR(F24/$E24,"") -> 1.3103655 | AE24: =IFERROR(G24/$E24,"") -> 1.4697753 | AF24: =IFERROR(H24/$E24,"") -> 1.6236639 | AG24: =IFERROR(J24/$I24,"") | AH24: =IFERROR(K24/$I24,"") | AI24: =IFERROR(L24/$I24,"") | AJ24: =IFERROR(N24/$M24,"") -> 1.4042264 | AK24: =IFERROR(O24/$M24,"") -> 1.5893034 | AL24: =IFERROR(P24/$M24,"") -> 1.7638194 | AM24: =IFERROR(R24/$Q24,"") -> 1.1740001 | AN24: =IFERROR(S24/$Q24,"") -> 1.3034575 | AO24: =IFERROR(T24/$Q24,"") -> 1.435163 | AP24: =IFERROR(V24/$U24,"") -> 1.3818477 | AQ24: =IFERROR(W24/$U24,"") -> 1.5618293 | AR24: =IFERROR(X24/$U24,"") -> 1.7325197 | AS24: =IFERROR(Z24/$Y24,"") -> 1.3400327 | AT24: =IFERROR(AA24/$Y24,"") -> 1.5096157 | AU24: =IFERROR(AB24/$Y24,"") -> 1.6721871
A25: VA | B25: VA-Manassas | C25: 9072411 | D25: Manassas Regional/Harry | E25: 269.29737 | F25: 248.35426 | G25: 252.19508 | H25: 256.47445 | M25: 17.552688 | N25: 17.990583 | O25: 18.377149 | P25: 18.807854 | Q25: 6.6451806 | R25: 6.8638641 | S25: 7.1795132 | T25: 7.5312039 | U25: 2.3394754 | V25: 2.4274543 | W25: 2.507115 | X25: 2.5958716 | Y25: 16.517816 | Z25: 16.672192 | AA25: 17.17106 | AB25: 17.726889 | AC25: No | AD25: =IFERROR(F25/$E25,"") -> 0.92223053 | AE25: =IFERROR(G25/$E25,"") -> 0.93649289 | AF25: =IFERROR(H25/$E25,"") -> 0.95238377 | AG25: =IFERROR(J25/$I25,"") | AH25: =IFERROR(K25/$I25,"") | AI25: =IFERROR(L25/$I25,"") | AJ25: =IFERROR(N25/$M25,"") -> 1.0249475 | AK25: =IFERROR(O25/$M25,"") -> 1.0469706 | AL25: =IFERROR(P25/$M25,"") -> 1.0715085 | AM25: =IFERROR(R25/$Q25,"") -> 1.0329086 | AN25: =IFERROR(S25/$Q25,"") -> 1.080409 | AO25: =IFERROR(T25/$Q25,"") -> 1.1333332 | AP25: =IFERROR(V25/$U25,"") -> 1.0376063 | AQ25: =IFERROR(W25/$U25,"") -> 1.0716569 | AR25: =IFERROR(X25/$U25,"") -> 1.1095956 | AS25: =IFERROR(Z25/$Y25,"") -> 1.009346 | AT25: =IFERROR(AA25/$Y25,"") -> 1.0395478 | AU25: =IFERROR(AB25/$Y25,"") -> 1.0731981
A26: VA | B26: VA-Fairfax | C26: 9081811 | D26: I-95 Landfill | E26: 0.37420525 | F26: 0.40414167 | G26: 0.45375819 | H26: 0.51266119 | Y26: 0.773758 | Z26: 0.83565864 | AA26: 0.93825255 | AB26: 1.0600485 | AC26: Yes | AD26: =IFERROR(F26/$E26,"") -> 1.08 | AE26: =IFERROR(G26/$E26,"") -> 1.2125917 | AF26: =IFERROR(H26/$E26,"") -> 1.37 | AG26: =IFERROR(J26/$I26,"") | AH26: =IFERROR(K26/$I26,"") | AI26: =IFERROR(L26/$I26,"") | AJ26: =IFERROR(N26/$M26,"") | AK26: =IFERROR(O26/$M26,"") | AL26: =IFERROR(P26/$M26,"") | AM26: =IFERROR(R26/$Q26,"") | AN26: =IFERROR(S26/$Q26,"") | AO26: =IFERROR(T26/$Q26,"") | AP26: =IFERROR(V26/$U26,"") | AQ26: =IFERROR(W26/$U26,"") | AR26: =IFERROR(X26/$U26,"") | AS26: =IFERROR(Z26/$Y26,"") -> 1.08 | AT26: =IFERROR(AA26/$Y26,"") -> 1.2125917 | AU26: =IFERROR(AB26/$Y26,"") -> 1.37
A27: VA | B27: VA-Loudoun | C27: 11736011 | D27: GLASCOCK | E27: 1.7889962 | F27: 1.7889962 | G27: 1.7889962 | H27: 1.7889962 | M27: 0.02789843 | N27: 0.02789843 | O27: 0.02789843 | P27: 0.02789843 | Q27: 0.03107564 | R27: 0.03107564 | S27: 0.03107564 | T27: 0.03107564 | U27: 0.005884657 | V27: 0.005884657 | W27: 0.005884657 | X27: 0.005884657 | Y27: 0.06056593 | Z27: 0.06056593 | AA27: 0.06056593 | AB27: 0.06056593 | AC27: No | AD27: =IFERROR(F27/$E27,"") -> 1 | AE27: =IFERROR(G27/$E27,"") -> 1 | AF27: =IFERROR(H27/$E27,"") -> 1 | AG27: =IFERROR(J27/$I27,"") | AH27: =IFERROR(K27/$I27,"") | AI27: =IFERROR(L27/$I27,"") | AJ27: =IFERROR(N27/$M27,"") -> 1 | AK27: =IFERROR(O27/$M27,"") -> 1 | AL27: =IFERROR(P27/$M27,"") -> 1 | AM27: =IFERROR(R27/$Q27,"") -> 1 | AN27: =IFERROR(S27/$Q27,"") -> 1 | AO27: =IFERROR(T27/$Q27,"") -> 1 | AP27: =IFERROR(V27/$U27,"") -> 1 | AQ27: =IFERROR(W27/$U27,"") -> 1 | AR27: =IFERROR(X27/$U27,"") -> 1 | AS27: =IFERROR(Z27/$Y27,"") -> 1 | AT27: =IFERROR(AA27/$Y27,"") -> 1 | AU27: =IFERROR(AB27/$Y27,"") -> 1
A28: VA | B28: VA-Fairfax | C28: 14469011 | D28: LORTON | E28: 2.1735506 | F28: 2.084435 | G28: 2.0192285 | H28: 2.0692202 | I28: 0.006509087 | J28: 0.0062422144 | K28: 0.0060469418 | L28: 0.0061966508 | M28: 13.77047 | N28: 13.205881 | O28: 12.792767 | P28: 13.109488 | Q28: 0.34438694 | R28: 0.33026708 | S28: 0.31993547 | T28: 0.32785637 | U28: 0.007337374 | V28: 0.0070365417 | W28: 0.0068164204 | X28: 0.00698518 | Y28: 0.89422523 | Z28: 0.857562 | AA28: 0.83073524 | AB28: 0.85130242 | AC28: No | AD28: =IFERROR(F28/$E28,"") -> 0.959 | AE28: =IFERROR(G28/$E28,"") -> 0.929 | AF28: =IFERROR(H28/$E28,"") -> 0.952 | AG28: =IFERROR(J28/$I28,"") -> 0.959 | AH28: =IFERROR(K28/$I28,"") -> 0.929 | AI28: =IFERROR(L28/$I28,"") -> 0.952 | AJ28: =IFERROR(N28/$M28,"") -> 0.959 | AK28: =IFERROR(O28/$M28,"") -> 0.929 | AL28: =IFERROR(P28/$M28,"") -> 0.952 | AM28: =IFERROR(R28/$Q28,"") -> 0.959 | AN28: =IFERROR(S28/$Q28,"") -> 0.929 | AO28: =IFERROR(T28/$Q28,"") -> 0.952 | AP28: =IFERROR(V28/$U28,"") -> 0.959 | AQ28: =IFERROR(W28/$U28,"") -> 0.929 | AR28: =IFERROR(X28/$U28,"") -> 0.952 | AS28: =IFERROR(Z28/$Y28,"") -> 0.959 | AT28: =IFERROR(AA28/$Y28,"") -> 0.929 | AU28: =IFERROR(AB28/$Y28,"") -> 0.952
A29: VA | B29: VA-Loudoun | C29: 15410111 | D29: DuPont Fabros Tech - Ashburn Corp Ctr | E29: 5.18322 | F29: 5.4942132 | G29: 6.3235284 | H29: 7.0994564 | M29: 30.782736 | N29: 33.245355 | O29: 37.554938 | P29: 42.163113 | Q29: 0.42175383 | R29: 0.44705906 | S29: 0.51453967 | T29: 0.57767622 | U29: 0.07903793 | V29: 0.083780206 | W29: 0.096426275 | X29: 0.10825825 | Y29: 1.1058306 | Z29: 1.1942971 | AA29: 1.3491133 | AB29: 1.5146562 | AC29: Yes | AD29: =IFERROR(F29/$E29,"") -> 1.06 | AE29: =IFERROR(G29/$E29,"") -> 1.22 | AF29: =IFERROR(H29/$E29,"") -> 1.3697 | AG29: =IFERROR(J29/$I29,"") | AH29: =IFERROR(K29/$I29,"") | AI29: =IFERROR(L29/$I29,"") | AJ29: =IFERROR(N29/$M29,"") -> 1.08 | AK29: =IFERROR(O29/$M29,"") -> 1.22 | AL29: =IFERROR(P29/$M29,"") -> 1.3697 | AM29: =IFERROR(R29/$Q29,"") -> 1.06 | AN29: =IFERROR(S29/$Q29,"") -> 1.22 | AO29: =IFERROR(T29/$Q29,"") -> 1.3697 | AP29: =IFERROR(V29/$U29,"") -> 1.06 | AQ29: =IFERROR(W29/$U29,"") -> 1.22 | AR29: =IFERROR(X29/$U29,"") -> 1.3697 | AS29: =IFERROR(Z29/$Y29,"") -> 1.08 | AT29: =IFERROR(AA29/$Y29,"") -> 1.22 | AU29: =IFERROR(AB29/$Y29,"") -> 1.3697
A30: VA | B30: VA-Loudoun | C30: 17632111 | D30: Digital Loudoun II Limited Liability Corporation | E30: 2.1108585 | F30: 2.23751 | G30: 2.5596096 | H30: 2.8918761 | M30: 18.542385 | N30: 20.025775 | O30: 22.484342 | P30: 25.403067 | Q30: 0.11186502 | R30: 0.11857692 | S30: 0.1356466 | T30: 0.15325507 | U30: 0.0170137 | V30: 0.018034522 | W30: 0.020630672 | X30: 0.023308769 | Y30: 0.79736 | Z30: 0.8611488 | AA30: 0.96687214 | AB30: 1.0923832 | AC30: Yes | AD30: =IFERROR(F30/$E30,"") -> 1.06 | AE30: =IFERROR(G30/$E30,"") -> 1.2125917 | AF30: =IFERROR(H30/$E30,"") -> 1.37 | AG30: =IFERROR(J30/$I30,"") | AH30: =IFERROR(K30/$I30,"") | AI30: =IFERROR(L30/$I30,"") | AJ30: =IFERROR(N30/$M30,"") -> 1.08 | AK30: =IFERROR(O30/$M30,"") -> 1.2125917 | AL30: =IFERROR(P30/$M30,"") -> 1.37 | AM30: =IFERROR(R30/$Q30,"") -> 1.06 | AN30: =IFERROR(S30/$Q30,"") -> 1.2125917 | AO30: =IFERROR(T30/$Q30,"") -> 1.37 | AP30: =IFERROR(V30/$U30,"") -> 1.06 | AQ30: =IFERROR(W30/$U30,"") -> 1.2125917 | AR30: =IFERROR(X30/$U30,"") -> 1.37 | AS30: =IFERROR(Z30/$Y30,"") -> 1.08 | AT30: =IFERROR(AA30/$Y30,"") -> 1.2125917 | AU30: =IFERROR(AB30/$Y30,"") -> 1.37
A31: VA | B31: VA-Loudoun | C31: 17856211 | D31: Panda Stonewall LLC | E31: 29.187034 | F31: 37.843014 | G31: 43.799904 | H31: 21.911013 | I31: 22.5 | J31: 29.471348 | K31: 34.246825 | L31: 16.581517 | M31: 64.836619 | N31: 80.745229 | O31: 87.286837 | P31: 42.53245 | Q31: 44.015797 | R31: 56.564792 | S31: 65.007141 | T31: 33.231074 | U31: 1.1267713 | V31: 1.5708169 | W31: 0.0029097228 | X31: 0.0029468361 | Y31: 3.7233058 | Z31: 4.8090281 | AA31: 5.5453944 | AB31: 2.7943665 | AC31: Yes | AD31: =IFERROR(F31/$E31,"") -> 1.2965694 | AE31: =IFERROR(G31/$E31,"") -> 1.5006631 | AF31: =IFERROR(H31/$E31,"") -> 0.75071051 | AG31: =IFERROR(J31/$I31,"") -> 1.3098377 | AH31: =IFERROR(K31/$I31,"") -> 1.5220811 | AI31: =IFERROR(L31/$I31,"") -> 0.7369563 | AJ31: =IFERROR(N31/$M31,"") -> 1.2453646 | AK31: =IFERROR(O31/$M31,"") -> 1.3462583 | AL31: =IFERROR(P31/$M31,"") -> 0.65599426 | AM31: =IFERROR(R31/$Q31,"") -> 1.2851021 | AN31: =IFERROR(S31/$Q31,"") -> 1.4769048 | AO31: =IFERROR(T31/$Q31,"") -> 0.75498064 | AP31: =IFERROR(V31/$U31,"") -> 1.3940867 | AQ31: =IFERROR(W31/$U31,"") -> 0.0025823543 | AR31: =IFERROR(X31/$U31,"") -> 0.0026152921 | AS31: =IFERROR(Z31/$Y31,"") -> 1.2916017 | AT31: =IFERROR(AA31/$Y31,"") -> 1.4893739 | AU31: =IFERROR(AB31/$Y31,"") -> 0.75050684
A32: VA | B32: VA-Loudoun | C32: 21496611 | D32: CyrusOne Kincora | E32: 7.3334662 | F32: 7.7734742 | G32: 8.9468288 | H32: 10.044649 | M32: 46.015913 | N32: 49.697186 | O32: 56.139414 | P32: 63.027996 | Q32: 0.79282225 | R32: 0.84039158 | S32: 0.96724314 | T32: 1.0859286 | U32: 0.00151569 | V32: 0.0016066314 | W32: 0.0018491418 | X32: 0.0020760406 | Y32: 0.94086835 | Z32: 1.0161378 | AA32: 1.1478594 | AB32: 1.2887074 | AC32: Yes | AD32: =IFERROR(F32/$E32,"") -> 1.06 | AE32: =IFERROR(G32/$E32,"") -> 1.22 | AF32: =IFERROR(H32/$E32,"") -> 1.3697 | AG32: =IFERROR(J32/$I32,"") | AH32: =IFERROR(K32/$I32,"") | AI32: =IFERROR(L32/$I32,"") | AJ32: =IFERROR(N32/$M32,"") -> 1.08 | AK32: =IFERROR(O32/$M32,"") -> 1.22 | AL32: =IFERROR(P32/$M32,"") -> 1.3697 | AM32: =IFERROR(R32/$Q32,"") -> 1.06 | AN32: =IFERROR(S32/$Q32,"") -> 1.22 | AO32: =IFERROR(T32/$Q32,"") -> 1.3697 | AP32: =IFERROR(V32/$U32,"") -> 1.06 | AQ32: =IFERROR(W32/$U32,"") -> 1.22 | AR32: =IFERROR(X32/$U32,"") -> 1.3697 | AS32: =IFERROR(Z32/$Y32,"") -> 1.08 | AT32: =IFERROR(AA32/$Y32,"") -> 1.22 | AU32: =IFERROR(AB32/$Y32,"") -> 1.3697
A33: VA | B33: VA-Prince William | C33: 21504611 | D33: Cloud HQ | E33: 5.5957165 | F33: 5.9314595 | G33: 6.8267741 | H33: 7.6644529 | M33: 15.40728 | N33: 16.639862 | O33: 18.796882 | P33: 21.103351 | Q33: 0.3904828 | R33: 0.41391177 | S33: 0.47638902 | T33: 0.53484429 | U33: 0.01273502 | V33: 0.013499121 | W33: 0.015536724 | X33: 0.017443157 | Y33: 1.1510547 | Z33: 1.2431391 | AA33: 1.4042867 | AB33: 1.5765996 | AC33: Yes | AD33: =IFERROR(F33/$E33,"") -> 1.06 | AE33: =IFERROR(G33/$E33,"") -> 1.22 | AF33: =IFERROR(H33/$E33,"") -> 1.3697 | AG33: =IFERROR(J33/$I33,"") | AH33: =IFERROR(K33/$I33,"") | AI33: =IFERROR(L33/$I33,"") | AJ33: =IFERROR(N33/$M33,"") -> 1.08 | AK33: =IFERROR(O33/$M33,"") -> 1.22 | AL33: =IFERROR(P33/$M33,"") -> 1.3697 | AM33: =IFERROR(R33/$Q33,"") -> 1.06 | AN33: =IFERROR(S33/$Q33,"") -> 1.22 | AO33: =IFERROR(T33/$Q33,"") -> 1.3697 | AP33: =IFERROR(V33/$U33,"") -> 1.06 | AQ33: =IFERROR(W33/$U33,"") -> 1.22 | AR33: =IFERROR(X33/$U33,"") -> 1.3697 | AS33: =IFERROR(Z33/$Y33,"") -> 1.08 | AT33: =IFERROR(AA33/$Y33,"") -> 1.22 | AU33: =IFERROR(AB33/$Y33,"") -> 1.3697
A34: VA | B34: VA-Loudoun | C34: 21504711 | D34: CyrusOne Loudoun Tech Center | E34: 2.442768 | F34: 2.5893341 | G34: 2.980177 | H34: 3.3458593 | M34: 14.942784 | N34: 16.138206 | O34: 18.230196 | P34: 20.467131 | Q34: 0.23826 | R34: 0.2525556 | S34: 0.2906772 | T34: 0.32634472 | Y34: 0.311468 | Z34: 0.33638544 | AA34: 0.37999096 | AB34: 0.42661772 | AC34: Yes | AD34: =IFERROR(F34/$E34,"") -> 1.06 | AE34: =IFERROR(G34/$E34,"") -> 1.22 | AF34: =IFERROR(H34/$E34,"") -> 1.3697 | AG34: =IFERROR(J34/$I34,"") | AH34: =IFERROR(K34/$I34,"") | AI34: =IFERROR(L34/$I34,"") | AJ34: =IFERROR(N34/$M34,"") -> 1.08 | AK34: =IFERROR(O34/$M34,"") -> 1.22 | AL34: =IFERROR(P34/$M34,"") -> 1.3697 | AM34: =IFERROR(R34/$Q34,"") -> 1.06 | AN34: =IFERROR(S34/$Q34,"") -> 1.22 | AO34: =IFERROR(T34/$Q34,"") -> 1.3697 | AP34: =IFERROR(V34/$U34,"") | AQ34: =IFERROR(W34/$U34,"") | AR34: =IFERROR(X34/$U34,"") | AS34: =IFERROR(Z34/$Y34,"") -> 1.08 | AT34: =IFERROR(AA34/$Y34,"") -> 1.22 | AU34: =IFERROR(AB34/$Y34,"") -> 1.3697
A35: VA | B35: VA-Loudoun | C35: 21504911 | D35: Amazon Data Services, Inc.IAD-10, 32, 98, 99, 118, 119, 129 | E35: 11.326553 | F35: 12.006146 | G35: 13.818394 | H35: 15.513979 | M35: 21.694713 | N35: 23.43029 | O35: 26.467549 | P35: 29.715248 | Q35: 0.74894747 | R35: 0.79388432 | S35: 0.91371591 | T35: 1.0258334 | U35: 0.01659807 | V35: 0.017593954 | W35: 0.020249645 | X35: 0.022734376 | Y35: 2.3783796 | Z35: 2.5686499 | AA35: 2.9016231 | AB35: 3.2576665 | AC35: Yes | AD35: =IFERROR(F35/$E35,"") -> 1.06 | AE35: =IFERROR(G35/$E35,"") -> 1.22 | AF35: =IFERROR(H35/$E35,"") -> 1.3697 | AG35: =IFERROR(J35/$I35,"") | AH35: =IFERROR(K35/$I35,"") | AI35: =IFERROR(L35/$I35,"") | AJ35: =IFERROR(N35/$M35,"") -> 1.08 | AK35: =IFERROR(O35/$M35,"") -> 1.22 | AL35: =IFERROR(P35/$M35,"") -> 1.3697 | AM35: =IFERROR(R35/$Q35,"") -> 1.06 | AN35: =IFERROR(S35/$Q35,"") -> 1.22 | AO35: =IFERROR(T35/$Q35,"") -> 1.3697 | AP35: =IFERROR(V35/$U35,"") -> 1.06 | AQ35: =IFERROR(W35/$U35,"") -> 1.22 | AR35: =IFERROR(X35/$U35,"") -> 1.3697 | AS35: =IFERROR(Z35/$Y35,"") -> 1.08 | AT35: =IFERROR(AA35/$Y35,"") -> 1.22 | AU35: =IFERROR(AB35/$Y35,"") -> 1.3697
A36: VA | B36: VA-Loudoun | C36: 21505011 | D36: Equinix LLC | E36: 1.0956375 | F36: 1.1613757 | G36: 1.0016998 | H36: 1.0083266 | M36: 9.3342665 | N36: 8.7604175 | O36: 8.5339659 | P36: 8.5904229 | Q36: 0.10211294 | R36: 0.10823972 | S36: 0.093357989 | T36: 0.093975604 | U36: 0.0110894 | V36: 0.011754764 | W36: 0.010138618 | X36: 0.010205691 | Y36: 0.307418 | Z36: 0.28851866 | AA36: 0.28106062 | AB36: 0.28291999 | AC36: Yes | AD36: =IFERROR(F36/$E36,"") -> 1.06 | AE36: =IFERROR(G36/$E36,"") -> 0.91426208 | AF36: =IFERROR(H36/$E36,"") -> 0.92031044 | AG36: =IFERROR(J36/$I36,"") | AH36: =IFERROR(K36/$I36,"") | AI36: =IFERROR(L36/$I36,"") | AJ36: =IFERROR(N36/$M36,"") -> 0.93852233 | AK36: =IFERROR(O36/$M36,"") -> 0.91426208 | AL36: =IFERROR(P36/$M36,"") -> 0.92031044 | AM36: =IFERROR(R36/$Q36,"") -> 1.06 | AN36: =IFERROR(S36/$Q36,"") -> 0.91426208 | AO36: =IFERROR(T36/$Q36,"") -> 0.92031044 | AP36: =IFERROR(V36/$U36,"") -> 1.06 | AQ36: =IFERROR(W36/$U36,"") -> 0.91426208 | AR36: =IFERROR(X36/$U36,"") -> 0.92031044 | AS36: =IFERROR(Z36/$Y36,"") -> 0.93852233 | AT36: =IFERROR(AA36/$Y36,"") -> 0.91426208 | AU36: =IFERROR(AB36/$Y36,"") -> 0.92031044
A37: VA | B37: VA-Loudoun | C37: 21506611 | D37: Vantage Data Centers | E37: 5.23807 | F37: 5.5523542 | G37: 6.3904454 | H37: 7.1745845 | M37: 11.08007 | N37: 11.966476 | O37: 13.517685 | P37: 15.176372 | Q37: 0.4432625 | R37: 0.46985825 | S37: 0.54078025 | T37: 0.60713665 | U37: 0.0080587 | V37: 0.008542222 | W37: 0.009831614 | X37: 0.011038001 | Y37: 0.80556825 | Z37: 0.87001371 | AA37: 0.98279326 | AB37: 1.1033868 | AC37: Yes | AD37: =IFERROR(F37/$E37,"") -> 1.06 | AE37: =IFERROR(G37/$E37,"") -> 1.22 | AF37: =IFERROR(H37/$E37,"") -> 1.3697 | AG37: =IFERROR(J37/$I37,"") | AH37: =IFERROR(K37/$I37,"") | AI37: =IFERROR(L37/$I37,"") | AJ37: =IFERROR(N37/$M37,"") -> 1.08 | AK37: =IFERROR(O37/$M37,"") -> 1.22 | AL37: =IFERROR(P37/$M37,"") -> 1.3697 | AM37: =IFERROR(R37/$Q37,"") -> 1.06 | AN37: =IFERROR(S37/$Q37,"") -> 1.22 | AO37: =IFERROR(T37/$Q37,"") -> 1.3697 | AP37: =IFERROR(V37/$U37,"") -> 1.06 | AQ37: =IFERROR(W37/$U37,"") -> 1.22 | AR37: =IFERROR(X37/$U37,"") -> 1.3697 | AS37: =IFERROR(Z37/$Y37,"") -> 1.08 | AT37: =IFERROR(AA37/$Y37,"") -> 1.22 | AU37: =IFERROR(AB37/$Y37,"") -> 1.3697
A38: VA | B38: VA-Loudoun | C38: 21508611 | D38: Sentinel Ashburn Nexus | E38: 1.5083032 | F38: 1.5988014 | G38: 1.84013 | H38: 2.065923 | M38: 10.455395 | N38: 11.291827 | O38: 12.755583 | P38: 14.320755 | Q38: 0.11926875 | R38: 0.12642487 | S38: 0.14550787 | T38: 0.16336241 | U38: 0.29670822 | V38: 0.31451071 | W38: 0.36198403 | X38: 0.40640125 | Y38: 0.31283375 | Z38: 0.33786045 | AA38: 0.38165717 | AB38: 0.42848839 | AC38: Yes | AD38: =IFERROR(F38/$E38,"") -> 1.06 | AE38: =IFERROR(G38/$E38,"") -> 1.22 | AF38: =IFERROR(H38/$E38,"") -> 1.3697 | AG38: =IFERROR(J38/$I38,"") | AH38: =IFERROR(K38/$I38,"") | AI38: =IFERROR(L38/$I38,"") | AJ38: =IFERROR(N38/$M38,"") -> 1.08 | AK38: =IFERROR(O38/$M38,"") -> 1.22 | AL38: =IFERROR(P38/$M38,"") -> 1.3697 | AM38: =IFERROR(R38/$Q38,"") -> 1.06 | AN38: =IFERROR(S38/$Q38,"") -> 1.22 | AO38: =IFERROR(T38/$Q38,"") -> 1.3697 | AP38: =IFERROR(V38/$U38,"") -> 1.06 | AQ38: =IFERROR(W38/$U38,"") -> 1.22 | AR38: =IFERROR(X38/$U38,"") -> 1.3697 | AS38: =IFERROR(Z38/$Y38,"") -> 1.08 | AT38: =IFERROR(AA38/$Y38,"") -> 1.22 | AU38: =IFERROR(AB38/$Y38,"") -> 1.3697
A39: VA | B39: VA-Prince William | C39: 21510611 | D39: Amazon Data Services, Inc IAD-132/133 | E39: 5.155665 | F39: 5.4650049 | G39: 6.2899113 | H39: 7.0617144 | M39: 9.587105 | N39: 10.354073 | O39: 11.696268 | P39: 13.131458 | Q39: 0.34598 | R39: 0.3667388 | S39: 0.4220956 | T39: 0.47388881 | Y39: 1.071005 | Z39: 1.1566854 | AA39: 1.3066261 | AB39: 1.4669555 | AC39: Yes | AD39: =IFERROR(F39/$E39,"") -> 1.06 | AE39: =IFERROR(G39/$E39,"") -> 1.22 | AF39: =IFERROR(H39/$E39,"") -> 1.3697 | AG39: =IFERROR(J39/$I39,"") | AH39: =IFERROR(K39/$I39,"") | AI39: =IFERROR(L39/$I39,"") | AJ39: =IFERROR(N39/$M39,"") -> 1.08 | AK39: =IFERROR(O39/$M39,"") -> 1.22 | AL39: =IFERROR(P39/$M39,"") -> 1.3697 | AM39: =IFERROR(R39/$Q39,"") -> 1.06 | AN39: =IFERROR(S39/$Q39,"") -> 1.22 | AO39: =IFERROR(T39/$Q39,"") -> 1.3697 | AP39: =IFERROR(V39/$U39,"") | AQ39: =IFERROR(W39/$U39,"") | AR39: =IFERROR(X39/$U39,"") | AS39: =IFERROR(Z39/$Y39,"") -> 1.08 | AT39: =IFERROR(AA39/$Y39,"") -> 1.22 | AU39: =IFERROR(AB39/$Y39,"") -> 1.3697
A40: VA | B40: VA-Prince William | C40: 21512611 | D40: Amazon Data Services, Inc IAD-100/101/102/103 | E40: 5.51152 | F40: 5.8422112 | G40: 6.7240544 | H40: 7.5491289 | M40: 10.31548 | N40: 11.140718 | O40: 12.584886 | P40: 14.129113 | Q40: 0.3697932 | R40: 0.39198079 | S40: 0.4511477 | T40: 0.50650575 | Y40: 1.146992 | Z40: 1.2387514 | AA40: 1.3993302 | AB40: 1.5710349 | AC40: Yes | AD40: =IFERROR(F40/$E40,"") -> 1.06 | AE40: =IFERROR(G40/$E40,"") -> 1.22 | AF40: =IFERROR(H40/$E40,"") -> 1.3697 | AG40: =IFERROR(J40/$I40,"") | AH40: =IFERROR(K40/$I40,"") | AI40: =IFERROR(L40/$I40,"") | AJ40: =IFERROR(N40/$M40,"") -> 1.08 | AK40: =IFERROR(O40/$M40,"") -> 1.22 | AL40: =IFERROR(P40/$M40,"") -> 1.3697 | AM40: =IFERROR(R40/$Q40,"") -> 1.06 | AN40: =IFERROR(S40/$Q40,"") -> 1.22 | AO40: =IFERROR(T40/$Q40,"") -> 1.3697 | AP40: =IFERROR(V40/$U40,"") | AQ40: =IFERROR(W40/$U40,"") | AR40: =IFERROR(X40/$U40,"") | AS40: =IFERROR(Z40/$Y40,"") -> 1.08 | AT40: =IFERROR(AA40/$Y40,"") -> 1.22 | AU40: =IFERROR(AB40/$Y40,"") -> 1.3697
A41: VA | B41: VA-Loudoun | C41: 21512711 | D41: VA2 Data Center | E41: 0.625107 | F41: 0.66261342 | G41: 0.76263054 | H41: 0.85620906 | M41: 9.376605 | N41: 10.126733 | O41: 11.439458 | P41: 12.843136 | Q41: 0.140595 | R41: 0.1490307 | S41: 0.1715259 | T41: 0.19257297 | Y41: 0.125454 | Z41: 0.13549032 | AA41: 0.15305388 | AB41: 0.17183434 | AC41: Yes | AD41: =IFERROR(F41/$E41,"") -> 1.06 | AE41: =IFERROR(G41/$E41,"") -> 1.22 | AF41: =IFERROR(H41/$E41,"") -> 1.3697 | AG41: =IFERROR(J41/$I41,"") | AH41: =IFERROR(K41/$I41,"") | AI41: =IFERROR(L41/$I41,"") | AJ41: =IFERROR(N41/$M41,"") -> 1.08 | AK41: =IFERROR(O41/$M41,"") -> 1.22 | AL41: =IFERROR(P41/$M41,"") -> 1.3697 | AM41: =IFERROR(R41/$Q41,"") -> 1.06 | AN41: =IFERROR(S41/$Q41,"") -> 1.22 | AO41: =IFERROR(T41/$Q41,"") -> 1.3697 | AP41: =IFERROR(V41/$U41,"") | AQ41: =IFERROR(W41/$U41,"") | AR41: =IFERROR(X41/$U41,"") | AS41: =IFERROR(Z41/$Y41,"") -> 1.08 | AT41: =IFERROR(AA41/$Y41,"") -> 1.22 | AU41: =IFERROR(AB41/$Y41,"") -> 1.3697
A42: VA | B42: VA-Loudoun | C42: 21518611 | D42: Cyxtera DC5/DC6 (73158) | E42: 0.84586945 | F42: 0.89662162 | G42: 1.0319607 | H42: 1.1585874 | M42: 9.09636 | N42: 9.8240688 | O42: 11.097559 | P42: 12.459284 | Q42: 0.1954378 | R42: 0.20716407 | S42: 0.23843412 | T42: 0.26769115 | U42: 0.838805 | V42: 0.8891333 | W42: 1.0233421 | X42: 1.1489112 | Y42: 0.27022 | Z42: 0.2918376 | AA42: 0.3296684 | AB42: 0.37012033 | AC42: Yes | AD42: =IFERROR(F42/$E42,"") -> 1.06 | AE42: =IFERROR(G42/$E42,"") -> 1.22 | AF42: =IFERROR(H42/$E42,"") -> 1.3697 | AG42: =IFERROR(J42/$I42,"") | AH42: =IFERROR(K42/$I42,"") | AI42: =IFERROR(L42/$I42,"") | AJ42: =IFERROR(N42/$M42,"") -> 1.08 | AK42: =IFERROR(O42/$M42,"") -> 1.22 | AL42: =IFERROR(P42/$M42,"") -> 1.3697 | AM42: =IFERROR(R42/$Q42,"") -> 1.06 | AN42: =IFERROR(S42/$Q42,"") -> 1.22 | AO42: =IFERROR(T42/$Q42,"") -> 1.3697 | AP42: =IFERROR(V42/$U42,"") -> 1.06 | AQ42: =IFERROR(W42/$U42,"") -> 1.22 | AR42: =IFERROR(X42/$U42,"") -> 1.3697 | AS42: =IFERROR(Z42/$Y42,"") -> 1.08 | AT42: =IFERROR(AA42/$Y42,"") -> 1.22 | AU42: =IFERROR(AB42/$Y42,"") -> 1.3697
A43: VA | B43: VA-Loudoun | C43: 21518711 | D43: LC-1 and LC-2 Data Centers (74155) | E43: 4.1869 | F43: 4.438114 | G43: 5.108018 | H43: 5.7347969 | M43: 7.678833 | N43: 8.2931396 | O43: 9.3681763 | P43: 10.517698 | Q43: 0.2731775 | R43: 0.28956815 | S43: 0.33327655 | T43: 0.37417122 | U43: 0.00562 | V43: 0.0059572 | W43: 0.0068564 | X43: 0.007697714 | Y43: 0.495192 | Z43: 0.53480736 | AA43: 0.60413424 | AB43: 0.67826448 | AC43: Yes | AD43: =IFERROR(F43/$E43,"") -> 1.06 | AE43: =IFERROR(G43/$E43,"") -> 1.22 | AF43: =IFERROR(H43/$E43,"") -> 1.3697 | AG43: =IFERROR(J43/$I43,"") | AH43: =IFERROR(K43/$I43,"") | AI43: =IFERROR(L43/$I43,"") | AJ43: =IFERROR(N43/$M43,"") -> 1.08 | AK43: =IFERROR(O43/$M43,"") -> 1.22 | AL43: =IFERROR(P43/$M43,"") -> 1.3697 | AM43: =IFERROR(R43/$Q43,"") -> 1.06 | AN43: =IFERROR(S43/$Q43,"") -> 1.22 | AO43: =IFERROR(T43/$Q43,"") -> 1.3697 | AP43: =IFERROR(V43/$U43,"") -> 1.06 | AQ43: =IFERROR(W43/$U43,"") -> 1.22 | AR43: =IFERROR(X43/$U43,"") -> 1.3697 | AS43: =IFERROR(Z43/$Y43,"") -> 1.08 | AT43: =IFERROR(AA43/$Y43,"") -> 1.22 | AU43: =IFERROR(AB43/$Y43,"") -> 1.3697
A44: VA | B44: VA-Loudoun | C44: 21518811 | D44: Amazon Data Services, Inc. IAD 50 IAD 60 IAD-71 IAD-78 IAD-79 IAD-80 (74049) | E44: 4.336902 | F44: 4.5971161 | G44: 5.2910204 | H44: 5.9402547 | M44: 8.122749 | N44: 8.7725689 | O44: 9.9097538 | P44: 11.125729 | Q44: 0.277493 | R44: 0.29414258 | S44: 0.33854146 | T44: 0.38008216 | U44: 0.0067549 | V44: 0.007160194 | W44: 0.008240978 | X44: 0.0092521865 | Y44: 0.9277132 | Z44: 1.0019303 | AA44: 1.1318101 | AB44: 1.2706888 | AC44: Yes | AD44: =IFERROR(F44/$E44,"") -> 1.06 | AE44: =IFERROR(G44/$E44,"") -> 1.22 | AF44: =IFERROR(H44/$E44,"") -> 1.3697 | AG44: =IFERROR(J44/$I44,"") | AH44: =IFERROR(K44/$I44,"") | AI44: =IFERROR(L44/$I44,"") | AJ44: =IFERROR(N44/$M44,"") -> 1.08 | AK44: =IFERROR(O44/$M44,"") -> 1.22 | AL44: =IFERROR(P44/$M44,"") -> 1.3697 | AM44: =IFERROR(R44/$Q44,"") -> 1.06 | AN44: =IFERROR(S44/$Q44,"") -> 1.22 | AO44: =IFERROR(T44/$Q44,"") -> 1.3697 | AP44: =IFERROR(V44/$U44,"") -> 1.06 | AQ44: =IFERROR(W44/$U44,"") -> 1.22 | AR44: =IFERROR(X44/$U44,"") -> 1.3697 | AS44: =IFERROR(Z44/$Y44,"") -> 1.08 | AT44: =IFERROR(AA44/$Y44,"") -> 1.22 | AU44: =IFERROR(AB44/$Y44,"") -> 1.3697
A45: VA | B45: VA-Loudoun | C45: 21518911 | D45: Amazon Data Services, Inc. IAD-12 IAD-15 IAD-16 IAD-76 (73860) | E45: 3.2790405 | F45: 3.4757829 | G45: 4.0004294 | H45: 4.4913018 | M45: 6.536365 | N45: 7.0592742 | O45: 7.9743653 | P45: 8.9528591 | Q45: 0.4017367 | R45: 0.4258409 | S45: 0.49011877 | T45: 0.55025876 | U45: 0.01004696 | V45: 0.010649778 | W45: 0.012257291 | X45: 0.013761321 | Y45: 1.2768714 | Z45: 1.3790211 | AA45: 1.5577831 | AB45: 1.7489308 | AC45: Yes | AD45: =IFERROR(F45/$E45,"") -> 1.06 | AE45: =IFERROR(G45/$E45,"") -> 1.22 | AF45: =IFERROR(H45/$E45,"") -> 1.3697 | AG45: =IFERROR(J45/$I45,"") | AH45: =IFERROR(K45/$I45,"") | AI45: =IFERROR(L45/$I45,"") | AJ45: =IFERROR(N45/$M45,"") -> 1.08 | AK45: =IFERROR(O45/$M45,"") -> 1.22 | AL45: =IFERROR(P45/$M45,"") -> 1.3697 | AM45: =IFERROR(R45/$Q45,"") -> 1.06 | AN45: =IFERROR(S45/$Q45,"") -> 1.22 | AO45: =IFERROR(T45/$Q45,"") -> 1.3697 | AP45: =IFERROR(V45/$U45,"") -> 1.06 | AQ45: =IFERROR(W45/$U45,"") -> 1.22 | AR45: =IFERROR(X45/$U45,"") -> 1.3697 | AS45: =IFERROR(Z45/$Y45,"") -> 1.08 | AT45: =IFERROR(AA45/$Y45,"") -> 1.22 | AU45: =IFERROR(AB45/$Y45,"") -> 1.3697
A46: VA | B46: VA-Fairfax | C46: 21519011 | D46: CoreSite Reston Campus (74130) | E46: 0.309843 | F46: 0.32843358 | G46: 0.37800846 | H46: 0.42439196 | M46: 8.870229 | N46: 9.5798473 | O46: 10.821679 | P46: 12.149553 | Q46: 0.119889 | R46: 0.12708234 | S46: 0.14626458 | T46: 0.16421196 | Y46: 0.137016 | Z46: 0.14797728 | AA46: 0.16715952 | AB46: 0.18767082 | AC46: Yes | AD46: =IFERROR(F46/$E46,"") -> 1.06 | AE46: =IFERROR(G46/$E46,"") -> 1.22 | AF46: =IFERROR(H46/$E46,"") -> 1.3697 | AG46: =IFERROR(J46/$I46,"") | AH46: =IFERROR(K46/$I46,"") | AI46: =IFERROR(L46/$I46,"") | AJ46: =IFERROR(N46/$M46,"") -> 1.08 | AK46: =IFERROR(O46/$M46,"") -> 1.22 | AL46: =IFERROR(P46/$M46,"") -> 1.3697 | AM46: =IFERROR(R46/$Q46,"") -> 1.06 | AN46: =IFERROR(S46/$Q46,"") -> 1.22 | AO46: =IFERROR(T46/$Q46,"") -> 1.3697 | AP46: =IFERROR(V46/$U46,"") | AQ46: =IFERROR(W46/$U46,"") | AR46: =IFERROR(X46/$U46,"") | AS46: =IFERROR(Z46/$Y46,"") -> 1.08 | AT46: =IFERROR(AA46/$Y46,"") -> 1.22 | AU46: =IFERROR(AB46/$Y46,"") -> 1.3697
A47: VA | B47: VA-Loudoun | C47: 21519111 | D47: CyrusOne Northern Virginia Data Center - Shaw Road (74109) | E47: 1.4678 | F47: 1.555868 | G47: 1.790716 | H47: 2.0104457 | M47: 9.0815 | N47: 9.80802 | O47: 11.07943 | P47: 12.438931 | Y47: 0.18655 | Z47: 0.201474 | AA47: 0.227591 | AB47: 0.25551753 | AC47: Yes | AD47: =IFERROR(F47/$E47,"") -> 1.06 | AE47: =IFERROR(G47/$E47,"") -> 1.22 | AF47: =IFERROR(H47/$E47,"") -> 1.3697 | AG47: =IFERROR(J47/$I47,"") | AH47: =IFERROR(K47/$I47,"") | AI47: =IFERROR(L47/$I47,"") | AJ47: =IFERROR(N47/$M47,"") -> 1.08 | AK47: =IFERROR(O47/$M47,"") -> 1.22 | AL47: =IFERROR(P47/$M47,"") -> 1.3697 | AM47: =IFERROR(R47/$Q47,"") | AN47: =IFERROR(S47/$Q47,"") | AO47: =IFERROR(T47/$Q47,"") | AP47: =IFERROR(V47/$U47,"") | AQ47: =IFERROR(W47/$U47,"") | AR47: =IFERROR(X47/$U47,"") | AS47: =IFERROR(Z47/$Y47,"") -> 1.08 | AT47: =IFERROR(AA47/$Y47,"") -> 1.22 | AU47: =IFERROR(AB47/$Y47,"") -> 1.3697
A48: VA | B48: VA-Loudoun | C48: 21519211 | D48: Cyxtera DC2/DC3/DC4 (73160) | E48: 0.608745 | F48: 0.6452697 | G48: 0.7426689 | H48: 0.83379803 | M48: 6.28515 | N48: 6.787962 | O48: 7.667883 | P48: 8.60877 | Q48: 0.0962017 | R48: 0.1019738 | S48: 0.11736607 | T48: 0.13176747 | U48: 0.218155 | V48: 0.2312443 | W48: 0.2661491 | X48: 0.2988069 | Y48: 0.18782 | Z48: 0.2028456 | AA48: 0.2291404 | AB48: 0.25725705 | AC48: Yes | AD48: =IFERROR(F48/$E48,"") -> 1.06 | AE48: =IFERROR(G48/$E48,"") -> 1.22 | AF48: =IFERROR(H48/$E48,"") -> 1.3697 | AG48: =IFERROR(J48/$I48,"") | AH48: =IFERROR(K48/$I48,"") | AI48: =IFERROR(L48/$I48,"") | AJ48: =IFERROR(N48/$M48,"") -> 1.08 | AK48: =IFERROR(O48/$M48,"") -> 1.22 | AL48: =IFERROR(P48/$M48,"") -> 1.3697 | AM48: =IFERROR(R48/$Q48,"") -> 1.06 | AN48: =IFERROR(S48/$Q48,"") -> 1.22 | AO48: =IFERROR(T48/$Q48,"") -> 1.3697 | AP48: =IFERROR(V48/$U48,"") -> 1.06 | AQ48: =IFERROR(W48/$U48,"") -> 1.22 | AR48: =IFERROR(X48/$U48,"") -> 1.3697 | AS48: =IFERROR(Z48/$Y48,"") -> 1.08 | AT48: =IFERROR(AA48/$Y48,"") -> 1.22 | AU48: =IFERROR(AB48/$Y48,"") -> 1.3697
A49: VA | B49: VA-Loudoun | C49: 21519311 | D49: Digital Loudoun 3 & 4, LLC (74126) | E49: 1.6091695 | F49: 1.7057197 | G49: 1.4459475 | H49: 1.4142289 | M49: 6.582027 | N49: 6.2452553 | O49: 5.9099653 | P49: 5.7729539 | Q49: 0.201319 | R49: 0.21339814 | S49: 0.18109337 | T49: 0.17744462 | Y49: 0.3185555 | Z49: 0.30206846 | AA49: 0.28632766 | AB49: 0.28018645 | AC49: Yes | AD49: =IFERROR(F49/$E49,"") -> 1.06 | AE49: =IFERROR(G49/$E49,"") -> 0.89856756 | AF49: =IFERROR(H49/$E49,"") -> 0.8788564 | AG49: =IFERROR(J49/$I49,"") | AH49: =IFERROR(K49/$I49,"") | AI49: =IFERROR(L49/$I49,"") | AJ49: =IFERROR(N49/$M49,"") -> 0.94883466 | AK49: =IFERROR(O49/$M49,"") -> 0.89789442 | AL49: =IFERROR(P49/$M49,"") -> 0.87707843 | AM49: =IFERROR(R49/$Q49,"") -> 1.06 | AN49: =IFERROR(S49/$Q49,"") -> 0.89953444 | AO49: =IFERROR(T49/$Q49,"") -> 0.88141021 | AP49: =IFERROR(V49/$U49,"") | AQ49: =IFERROR(W49/$U49,"") | AR49: =IFERROR(X49/$U49,"") | AS49: =IFERROR(Z49/$Y49,"") -> 0.94824438 | AT49: =IFERROR(AA49/$Y49,"") -> 0.89883131 | AU49: =IFERROR(AB49/$Y49,"") -> 0.87955302
A50: VA | B50: VA-Loudoun | C50: 21519411 | D50: Equinix LLC (73946) | E50: 0.8131277 | F50: 0.86191536 | G50: 0.74329661 | H50: 0.74802559 | M50: 8.416007 | N50: 7.8995569 | O50: 7.6929339 | P50: 7.7413714 | Q50: 0.12160352 | R50: 0.12889973 | S50: 0.11117248 | T50: 0.11189978 | U50: 0.00623584 | V50: 0.0066099904 | W50: 0.0056997337 | X50: 0.0057350565 | Y50: 0.26114111 | Z50: 0.24508768 | AA50: 0.23874996 | AB50: 0.24032704 | AC50: Yes | AD50: =IFERROR(F50/$E50,"") -> 1.06 | AE50: =IFERROR(G50/$E50,"") -> 0.91412039 | AF50: =IFERROR(H50/$E50,"") -> 0.91993618 | AG50: =IFERROR(J50/$I50,"") | AH50: =IFERROR(K50/$I50,"") | AI50: =IFERROR(L50/$I50,"") | AJ50: =IFERROR(N50/$M50,"") -> 0.93863479 | AK50: =IFERROR(O50/$M50,"") -> 0.9140836 | AL50: =IFERROR(P50/$M50,"") -> 0.919839 | AM50: =IFERROR(R50/$Q50,"") -> 1.06 | AN50: =IFERROR(S50/$Q50,"") -> 0.91422097 | AO50: =IFERROR(T50/$Q50,"") -> 0.92020185 | AP50: =IFERROR(V50/$U50,"") -> 1.06 | AQ50: =IFERROR(W50/$U50,"") -> 0.91402821 | AR50: =IFERROR(X50/$U50,"") -> 0.9196927 | AS50: =IFERROR(Z50/$Y50,"") -> 0.93852585 | AT50: =IFERROR(AA50/$Y50,"") -> 0.9142565 | AU50: =IFERROR(AB50/$Y50,"") -> 0.92029569
A51: VA | B51: VA-Loudoun | C51: 21519611 | D51: VAdata Inc IAD-146 & IAD-147 (74181) | E51: 3.29448 | F51: 3.4921488 | G51: 4.0192656 | H51: 4.5124493 | M51: 6.16602 | N51: 6.6593016 | O51: 7.5225444 | P51: 8.4455976 | Q51: 0.220374 | R51: 0.23359644 | S51: 0.26885628 | T51: 0.30184627 | U51: 0.00565404 | V51: 0.0059932824 | W51: 0.0068979288 | X51: 0.0077443386 | Y51: 0.683382 | Z51: 0.73805256 | AA51: 0.83372604 | AB51: 0.93602833 | AC51: Yes | AD51: =IFERROR(F51/$E51,"") -> 1.06 | AE51: =IFERROR(G51/$E51,"") -> 1.22 | AF51: =IFERROR(H51/$E51,"") -> 1.3697 | AG51: =IFERROR(J51/$I51,"") | AH51: =IFERROR(K51/$I51,"") | AI51: =IFERROR(L51/$I51,"") | AJ51: =IFERROR(N51/$M51,"") -> 1.08 | AK51: =IFERROR(O51/$M51,"") -> 1.22 | AL51: =IFERROR(P51/$M51,"") -> 1.3697 | AM51: =IFERROR(R51/$Q51,"") -> 1.06 | AN51: =IFERROR(S51/$Q51,"") -> 1.22 | AO51: =IFERROR(T51/$Q51,"") -> 1.3697 | AP51: =IFERROR(V51/$U51,"") -> 1.06 | AQ51: =IFERROR(W51/$U51,"") -> 1.22 | AR51: =IFERROR(X51/$U51,"") -> 1.3697 | AS51: =IFERROR(Z51/$Y51,"") -> 1.08 | AT51: =IFERROR(AA51/$Y51,"") -> 1.22 | AU51: =IFERROR(AB51/$Y51,"") -> 1.3697
A52: VA | B52: VA-Prince William | C52: 38040000 | D52: Possum Point | E52: 0 | F52: 0 | G52: 53.362276 | H52: 27.682054 | I52: 0 | J52: 0 | K52: 17.175231 | L52: 8.909771 | M52: 0 | N52: 0 | O52: 50.795737 | P52: 26.350644 | Q52: 0 | R52: 0 | S52: 34.456554 | T52: 17.874578 | Y52: 0 | Z52: 0 | AA52: 3.0456232 | AB52: 1.5799383 | AC52: No | AD52: =IFERROR(F52/$E52,"") | AE52: =IFERROR(G52/$E52,"") | AF52: =IFERROR(H52/$E52,"") | AG52: =IFERROR(J52/$I52,"") | AH52: =IFERROR(K52/$I52,"") | AI52: =IFERROR(L52/$I52,"") | AJ52: =IFERROR(N52/$M52,"") | AK52: =IFERROR(O52/$M52,"") | AL52: =IFERROR(P52/$M52,"")
