Workbook

Sheet Summary by County
B3: Carbon Monoxide | H3: Nitrogen Oxide | N3: Volatile Organic Compounds
B4: 2022, tpy | C4: 2022, OSTD | D4: 2032, tpy | E4: 2032, OSTD | F4: 2038, tpy | G4: 2038, OSTD | H4: 2022, tpy | I4: 2022, OSTD | J4: 2032, tpy | K4: 2032, OSTD | L4: 2038, tpy | M4: 2038, OSTD | N4: 2022, tpy | O4: 2022, OSTD | P4: 2032, tpy | Q4: 2032, OSTD | R4: 2038, tpy | S4: 2038, OSTD
A5: Alexandria City | B5: 51.399975 | C5: 0.15149974 | D5: 51.404087 | E5: 0.15151186 | F5: 51.404087 | G5: 0.15151186 | H5: 275.5446 | I5: 0.81303283 | J5: 275.56664 | K5: 0.81309788 | L5: 275.56664 | M5: 0.81309788 | N5: 0.1928392 | O5: 0.0005642211 | P5: 0.19285463 | Q5: 0.00056426624 | R5: 0.19285463 | S5: 0.00056426624
A6: Fairfax City | B6: 19.611 | C6: 0.055252657 | D6: 21.790282 | E6: 0.061392634 | F6: 23.163184 | G6: 0.065260695 | H6: 7.867 | I6: 0.02216345 | J6: 8.741224 | K6: 0.024626374 | L6: 9.2919674 | M6: 0.026177966 | N6: 123.94436 | O6: 0.33751764 | P6: 104.16438 | Q6: 0.29231647 | R6: 104.51803 | S6: 0.29326407
A7: Fairfax County | B7: 250.11172 | C7: 3.829896 | D7: 249.45112 | E7: 3.6679015 | F7: 251.97721 | G7: 3.7361478 | H7: 1123.6989 | I7: 5.4876599 | J7: 1188.0189 | K7: 5.6530945 | L7: 1191.4079 | M7: 5.7124915 | N7: 131.20826 | O7: 0.54505808 | P7: 116.46136 | Q7: 0.50099041 | R7: 116.0854 | S7: 0.50268203
A8: Loudoun County | B8: 93.862025 | C8: 0.30763998 | D8: 112.16603 | E8: 0.36105251 | F8: 123.81932 | G8: 0.39134098 | H8: 319.25562 | I8: 1.0216484 | J8: 368.4336 | K8: 1.1868326 | L8: 377.76688 | M8: 1.148766 | N8: 19.396143 | O8: 0.071326005 | P8: 21.120799 | Q8: 0.075860065 | R8: 23.251889 | S8: 0.076484883
A9: Manassas City | B9: 32.955151 | C9: 0.11915507 | D9: 39.143782 | E9: 0.14155691 | F9: 42.09279 | G9: 0.1522215 | H9: 44.926146 | I9: 0.22445325 | J9: 51.618395 | K9: 0.25824399 | L9: 55.962938 | M9: 0.27997949 | N9: 36.056801 | O9: 0.10057609 | P9: 41.008392 | Q9: 0.11440572 | R9: 44.591587 | S9: 0.12440216
A10: Prince William County | B10: 436.06092 | C10: 1.4958414 | D10: 219.24894 | E10: 0.80609596 | F10: 228.19017 | G10: 0.83895453 | H10: 299.07814 | I10: 1.8576787 | J10: 259.03596 | K10: 1.821004 | L10: 239.75198 | M10: 1.7182463 | N10: 83.84695 | O10: 0.3528 | P10: 44.866156 | Q10: 0.23063296 | R10: 44.764222 | S10: 0.22839861
A11: Totals: | B11: 884.00079 | C11: 5.9592849 | D11: 693.20424 | E11: 5.1895114 | F11: 720.64676 | G11: 5.3354373 | H11: 2070.3704 | I11: 9.4266365 | J11: 2151.4147 | K11: 9.7568994 | L11: 2149.7483 | M11: 9.6987591 | N11: 394.64536 | O11: 1.407842 | P11: 327.81394 | Q11: 1.2147699 | R11: 333.40398 | S11: 1.225796

Sheet Virginia NoVA Inventory
A1: CMS Category | B1: Emission Year | C1: Registration No | D1: Federal EIS Id | E1: Site Name | F1: FIPS County City Description | G1: FIPS County City Code | H1: Federal Id | I1: Release Point Number | J1: Facility Release Point Number | K1: Unit Description | L1: Unit Number | M1: Facility Unit Number | N1: Days Per Week | O1: Hours Per Day | P1: Hours Per Year | Q1: Process Number | R1: Facility Process Number | S1: Process Description | T1: Source Classification Code | U1: SCC Units | V1: Throughput Units | W1: Pollutant | X1: Avg. Throughput Activity Dec to Feb | Y1: Avg. Throughput Activity Jun to Aug | Z1: Avg. Throughput Activity Mar to May | AA1: Avg. Throughput Activity Sep to Nov | AB1: Sum of Actual Annual Throughput | AC1: 2022 Emission, tpy | AD1: In 2022 EMP Point Source Data? (EIS Facility ID Match) | AE1: Yo | AF1: 2022 OSTD | AG1: 2032 tpy | AH1: 2032 OSTD | AI1: 2038 tpy | AJ1: 2038 OSTD | AK1: Data Sources
A2: Title V Major Odd | B2: 2022 | C2: 70087 | D2: 6423411 | E2: Kinder Morgan Newington Terminal #1 | F2: Fairfax County | G2: 059 | H2: VA0000005105900034 | I2: 1 | J2: 1 | K2: Gasoline Storage Tanks w/ Internal Floating Roofs (A1, A2, A3, A4, A5, A6, A17, A23 & A31) | L2: 1 | M2: 1 | N2: 7 | O2: 24 | P2: 8760 | Q2: 1 | R2: 1 | S2: RFG & Ethanol Tank Breathing Losses | T2: 40400111 | U2: 1000 Gallons Storage Capacity | V2: 1000 Gallons Storage Capacity | W2: Volatile Organic Compounds | X2: 25 | Y2: 25 | Z2: 25 | AA2: 25 | AB2: 17607 | AC2: 25.87 | AD2: Y | AE2: =IF(Y2=0,0,P2/(O2*N2)*Y2/100) -> 13.035714 | AF2: =IF(AE2=0,"n/a",IF(AE2>13,(AC2*Y2/100)/(13*N2),(AC2*Y2/100/(AE2*N2)))) -> 0.071071429 | AG2: =AC2*'2022 EMP Fac Data Metro DC-NoVA'!$AT$6 -> 22.778399 | AH2: =AG2*$AF2/$AC2 -> 0.06257802 | AI2: =AC2*'2022 EMP Fac Data Metro DC-NoVA'!$AU$6 -> 22.986198 | AJ2: =AI2*$AF2/$AC2 -> 0.063148895 | AK2: VA CEDS for 2022 emissions by facility and SCC. 2022 OSTD calculated per federal guidance. Data grown to 2032 and 2038 using EPA's facility level 2022 EMP emissions estimates for 2032 and 2038.
A3: Title V Major Odd | B3: 2022 | C3: 70087 | D3: 6423411 | E3: Kinder Morgan Newington Terminal #1 | F3: Fairfax County | G3: 059 | H3: VA0000005105900034 | I3: 1 | J3: 1 | K3: Gasoline Storage Tanks w/ Internal Floating Roofs (A1, A2, A3, A4, A5, A6, A17, A23 & A31) | L3: 1 | M3: 1 | N3: 7 | O3: 24 | P3: 8760 | Q3: 2 | R3: 2 | S3: RFG & Ethanol Tank Working & Landing Losses | T3: 40400116 | U3: 1000 Gallons Throughput | V3: 1000 Gallons Throughput | W3: Volatile Organic Compounds | X3: 24 | Y3: 26 | Z3: 25 | AA3: 25 | AB3: 277457 | AC3: 0 | AD3: Y | AE3: =IF(Y3=0,0,P3/(O3*N3)*Y3/100) -> 13.557143 | AF3: =IF(AE3=0,"n/a",IF(AE3>13,(AC3*Y3/100)/(13*N3),(AC3*Y3/100/(AE3*N3)))) -> 0 | AG3: 0 | AH3: 0 | AI3: 0 | AJ3: 0 | AK3: VA CEDS for 2022 emissions by facility and SCC. 2022 OSTD calculated per federal guidance. Data grown to 2032 and 2038 using EPA's facility level 2022 EMP emissions estimates for 2032 and 2038.
A4: Title V Major Odd | B4: 2022 | C4: 70087 | D4: 6423411 | E4: Kinder Morgan Newington Terminal #1 | F4: Fairfax County | G4: 059 | H4: VA0000005105900034 | I4: 2 | J4: 2 | K4: Gasoline Tank Truck Loading via Loading Rack | L4: 2 | M4: 2 | N4: 7 | O4: 24 | P4: 8760 | Q4: 1 | R4: 1 | S4: Gasoline Tank Truck Loading via Loading Rack | T4: 40600141 | U4: 1000 Gallons Transferred | V4: 1000 Gallons Transferred | W4: Carbon Monoxide | X4: 24 | Y4: 26 | Z4: 25 | AA4: 25 | AB4: 272728 | AC4: 0 | AD4: Y | AE4: =IF(Y4=0,0,P4/(O4*N4)*Y4/100) -> 13.557143 | AF4: =IF(AE4=0,"n/a",IF(AE4>13,(AC4*Y4/100)/(13*N4),(AC4*Y4/100/(AE4*N4)))) -> 0 | AG4: 0 | AH4: 0 | AI4: 0 | AJ4: 0 | AK4: VA CEDS for 2022 emissions by facility and SCC. 2022 OSTD calculated per federal guidance. Data grown to 2032 and 2038 using EPA's facility level 2022 EMP emissions estimates for 2032 and 2038.
A5: Title V Major Odd | B5: 2022 | C5: 70087 | D5: 6423411 | E5: Kinder Morgan Newington Terminal #1 | F5: Fairfax County | G5: 059 | H5: VA0000005105900034 | I5: 2 | J5: 2 | K5: Gasoline Tank Truck Loading via Loading Rack | L5: 2 | M5: 2 | N5: 7 | O5: 24 | P5: 8760 | Q5: 1 | R5: 1 | S5: Gasoline Tank Truck Loading via Loading Rack | T5: 40600141 | U5: 1000 Gallons Transferred | V5: 1000 Gallons Transferred | W5: Nitrogen Oxide | X5: 24 | Y5: 26 | Z5: 25 | AA5: 25 | AB5: 272728 | AC5: 0 | AD5: Y | AE5: =IF(Y5=0,0,P5/(O5*N5)*Y5/100) -> 13.557143 | AF5: =IF(AE5=0,"n/a",IF(AE5>13,(AC5*Y5/100)/(13*N5),(AC5*Y5/100/(AE5*N5)))) -> 0 | AG5: 0 | AH5: 0 | AI5: 0 | AJ5: 0 | AK5: VA CEDS for 2022 emissions by facility and SCC. 2022 OSTD calculated per federal guidance. Data grown to 2032 and 2038 using EPA's facility level 2022 EMP emissions estimates for 2032 and 2038.
A6: Title V Major Odd | B6: 2022 | C6: 70087 | D6: 6423411 | E6: Kinder Morgan Newington Terminal #1 | F6: Fairfax County | G6: 059 | H6: VA0000005105900034 | I6: 2 | J6: 2 | K6: Gasoline Tank Truck Loading via Loading Rack | L6: 2 | M6: 2 | N6: 7 | O6: 24 | P6: 8760 | Q6: 1 | R6: 1 | S6: Gasoline Tank Truck Loading via Loading Rack | T6: 40600141 | U6: 1000 Gallons Transferred | V6: 1000 Gallons Transferred | W6: Particulate Matter 10 | X6: 24 | Y6: 26 | Z6: 25 | AA6: 25 | AB6: 272728 | AC6: 0 | AD6: Y | AE6: =IF(Y6=0,0,P6/(O6*N6)*Y6/100) -> 13.557143 | AF6: =IF(AE6=0,"n/a",IF(AE6>13,(AC6*Y6/100)/(13*N6),(AC6*Y6/100/(AE6*N6)))) -> 0 | AG6: 0 | AH6: 0 | AI6: 0 | AJ6: 0 | AK6: VA CEDS for 2022 emissions by facility and SCC. 2022 OSTD calculated per federal guidance. Data grown to 2032 and 2038 using EPA's facility level 2022 EMP emissions estimates for 2032 and 2038.
A7: Title V Major Odd | B7: 2022 | C7: 70087 | D7: 6423411 | E7: Kinder Morgan Newington Terminal #1 | F7: Fairfax County | G7: 059 | H7: VA0000005105900034 | I7: 2 | J7: 2 | K7: Gasoline Tank Truck Loading via Loading Rack | L7: 2 | M7: 2 | N7: 7 | O7: 24 | P7: 8760 | Q7: 1 | R7: 1 | S7: Gasoline Tank Truck Loading via Loading Rack | T7: 40600141 | U7: 1000 Gallons Transferred | V7: 1000 Gallons Transferred | W7: Particulate Matter 2.5 | X7: 24 | Y7: 26 | Z7: 25 | AA7: 25 | AB7: 272728 | AC7: 0 | AD7: Y | AE7: =IF(Y7=0,0,P7/(O7*N7)*Y7/100) -> 13.557143 | AF7: =IF(AE7=0,"n/a",IF(AE7>13,(AC7*Y7/100)/(13*N7),(AC7*Y7/100/(AE7*N7)))) -> 0 | AG7: 0 | AH7: 0 | AI7: 0 | AJ7: 0 | AK7: VA CEDS for 2022 emissions by facility and SCC. 2022 OSTD calculated per federal guidance. Data grown to 2032 and 2038 using EPA's facility level 2022 EMP emissions estimates for 2032 and 2038.
A8: Title V Major Odd | B8: 2022 | C8: 70087 | D8: 6423411 | E8: Kinder Morgan Newington Terminal #1 | F8: Fairfax County | G8: 059 | H8: VA0000005105900034 | I8: 2 | J8: 2 | K8: Gasoline Tank Truck Loading via Loading Rack | L8: 2 | M8: 2 | N8: 7 | O8: 24 | P8: 8760 | Q8: 1 | R8: 1 | S8: Gasoline Tank Truck Loading via Loading Rack | T8: 40600141 | U8: 1000 Gallons Transferred | V8: 1000 Gallons Transferred | W8: Sulfur Dioxide | X8: 24 | Y8: 26 | Z8: 25 | AA8: 25 | AB8: 272728 | AC8: 0 | AD8: Y | AE8: =IF(Y8=0,0,P8/(O8*N8)*Y8/100) -> 13.557143 | AF8: =IF(AE8=0,"n/a",IF(AE8>13,(AC8*Y8/100)/(13*N8),(AC8*Y8/100/(AE8*N8)))) -> 0 | AG8: 0 | AH8: 0 | AI8: 0 | AJ8: 0 | AK8: VA CEDS for 2022 emissions by facility and SCC. 2022 OSTD calculated per federal guidance. Data grown to 2032 and 2038 using EPA's facility level 2022 EMP emissions estimates for 2032 and 2038.
A9: Title V Major Odd | B9: 2022 | C9: 70087 | D9: 6423411 | E9: Kinder Morgan Newington Terminal #1 | F9: Fairfax County | G9: 059 | H9: VA0000005105900034 | I9: 2 | J9: 2 | K9: Gasoline Tank Truck Loading via Loading Rack | L9: 2 | M9: 2 | N9: 7 | O9: 24 | P9: 8760 | Q9: 1 | R9: 1 | S9: Gasoline Tank Truck Loading via Loading Rack | T9: 40600141 | U9: 1000 Gallons Transferred | V9: 1000 Gallons Transferred | W9: Volatile Organic Compounds | X9: 24 | Y9: 26 | Z9: 25 | AA9: 25 | AB9: 272728 | AC9: 18.16 | AD9: Y | AE9: =IF(Y9=0,0,P9/(O9*N9)*Y9/100) -> 13.557143 | AF9: =IF(AE9=0,"n/a",IF(AE9>13,(AC9*Y9/100)/(13*N9),(AC9*Y9/100/(AE9*N9)))) -> 0.051885714 | AG9: =AC9*'2022 EMP Fac Data Metro DC-NoVA'!$AT$6 -> 15.989785 | AH9: =AG9*$AF9/$AC9 -> 0.045685099 | AI9: =AC9*'2022 EMP Fac Data Metro DC-NoVA'!$AU$6 -> 16.135653 | AJ9: =AI9*$AF9/$AC9 -> 0.046101867 | AK9: VA CEDS for 2022 emissions by facility and SCC. 2022 OSTD calculated per federal guidance. Data grown to 2032 and 2038 using EPA's facility level 2022 EMP emissions estimates for 2032 and 2038.
A10: Title V Major Odd | B10: 2022 | C10: 70087 | D10: 6423411 | E10: Kinder Morgan Newington Terminal #1 | F10: Fairfax County | G10: 059 | H10: VA0000005105900034 | I10: 3 | J10: 3 | K10: Jet T/T Loading | L10: 3 | M10: 3 | N10: 7 | O10: 24 | P10: 8760 | Q10: 1 | R10: 1 | S10: JET T/T LOAD SUBM/NORMAL | T10: 40600134 | U10: 1000 Gallons Transferred | V10: 1000 Gallons Transferred | W10: Volatile Organic Compounds | X10: 20 | Y10: 18 | Z10: 46 | AA10: 16 | AB10: 1807 | AC10: 0.01 | AD10: Y | AE10: =IF(Y10=0,0,P10/(O10*N10)*Y10/100) -> 9.3857143 | AF10: =IF(AE10=0,"n/a",IF(AE10>13,(AC10*Y10/100)/(13*N10),(AC10*Y10/100/(AE10*N10)))) -> 2.739726e-05 | AG10: 0 | AH10: 0 | AI10: 0 | AJ10: 0 | AK10: VA CEDS for 2022 emissions by facility and SCC. 2022 OSTD calculated per federal guidance. Data grown to 2032 and 2038 using EPA's facility level 2022 EMP emissions estimates for 2032 and 2038.
A11: Title V Major Odd | B11: 2022 | C11: 70087 | D11: 6423411 | E11: Kinder Morgan Newington Terminal #1 | F11: Fairfax County | G11: 059 | H11: VA0000005105900034 | I11: 3 | J11: 3 | K11: Jet T/T Loading | L11: 3 | M11: 3 | N11: 7 | O11: 24 | P11: 8760 | Q11: 2 | R11: 2 | S11: Distillate Load SUBM/NORMAL | T11: 40600135 | U11: 1000 Gallons Transferred | V11: 1000 Gallons Transferred | W11: Volatile Organic Compounds | X11: 23 | Y11: 26 | Z11: 27 | AA11: 24 | AB11: 28372 | AC11: 0.009 | AD11: Y | AE11: =IF(Y11=0,0,P11/(O11*N11)*Y11/100) -> 13.557143 | AF11: =IF(AE11=0,"n/a",IF(AE11>13,(AC11*Y11/100)/(13*N11),(AC11*Y11/100/(AE11*N11)))) -> 2.5714286e-05 | AG11: 0 | AH11: 0 | AI11: 0 | AJ11: 0 | AK11: VA CEDS for 2022 emissions by facility and SCC. 2022 OSTD calculated per federal guidance. Data grown to 2032 and 2038 using EPA's facility level 2022 EMP emissions estimates for 2032 and 2038.
A12: Title V Major Odd | B12: 2022 | C12: 70087 | D12: 6423411 | E12: Kinder Morgan Newington Terminal #1 | F12: Fairfax County | G12: 059 | H12: VA0000005105900034 | I12: 4 | J12: 4 | K12: Jet Kero and Distillate Tanks Breathing/Working Losses | L12: 4 | M12: 4 | N12: 7 | O12: 24 | P12: 8760 | Q12: 1 | R12: 1 | S12: JET KER-BREATHING (A7, A12, A14, A16, A19) | T12: 40301016 | U12: 1000 Gallons Storage Capacity | V12: 1000 Gallons Storage Capacity | W12: Volatile Organic Compounds | X12: 25 | Y12: 25 | Z12: 25 | AA12: 25 | AB12: 13287 | AC12: 3.725 | AD12: Y | AE12: =IF(Y12=0,0,P12/(O12*N12)*Y12/100) -> 13.035714 | AF12: =IF(AE12=0,"n/a",IF(AE12>13,(AC12*Y12/100)/(13*N12),(AC12*Y12/100/(AE12*N12)))) -> 0.010233516 | AG12: =AC12*'2022 EMP Fac Data Metro DC-NoVA'!$AT$6 -> 3.2798429 | AH12: =AG12*$AF12/$AC12 -> 0.0090105575 | AI12: =AC12*'2022 EMP Fac Data Metro DC-NoVA'!$AU$6 -> 3.3097637 | AJ12: =AI12*$AF12/$AC12 -> 0.0090927574 | AK12: VA CEDS for 2022 emissions by facility and SCC. 2022 OSTD calculated per federal guidance. Data grown to 2032 and 2038 using EPA's facility level 2022 EMP emissions estimates for 2032 and 2038.
A13: Title V Major Odd | B13: 2022 | C13: 70087 | D13: 6423411 | E13: Kinder Morgan Newington Terminal #1 | F13: Fairfax County | G13: 059 | H13: VA0000005105900034 | I13: 4 | J13: 4 | K13: Jet Kero and Distillate Tanks Breathing/Working Losses | L13: 4 | M13: 4 | N13: 7 | O13: 24 | P13: 8760 | Q13: 2 | R13: 2 | S13: JET KER-WORKING (A7, A12, A14, A16, A19) | T13: 40301018 | U13: 1000 Gallons Throughput | V13: 1000 Gallons Throughput | W13: Volatile Organic Compounds | X13: 27 | Y13: 24 | Z13: 25 | AA13: 24 | AB13: 194138 | AC13: 0 | AD13: Y | AE13: =IF(Y13=0,0,P13/(O13*N13)*Y13/100) -> 12.514286 | AF13: =IF(AE13=0,"n/a",IF(AE13>13,(AC13*Y13/100)/(13*N13),(AC13*Y13/100/(AE13*N13)))) -> 0 | AG13: 0 | AH13: 0 | AI13: 0 | AJ13: 0 | AK13: VA CEDS for 2022 emissions by facility and SCC. 2022 OSTD calculated per federal guidance. Data grown to 2032 and 2038 using EPA's facility level 2022 EMP emissions estimates for 2032 and 2038.
A14: Title V Major Odd | B14: 2022 | C14: 70087 | D14: 6423411 | E14: Kinder Morgan Newington Terminal #1 | F14: Fairfax County | G14: 059 | H14: VA0000005105900034 | I14: 4 | J14: 4 | K14: Jet Kero and Distillate Tanks Breathing/Working Losses | L14: 4 | M14: 4 | N14: 7 | O14: 24 | P14: 8760 | Q14: 3 | R14: 3 | S14: Distillate Fuel Oil Storage Tanks - Storage Capacity (A11, A15, A16, A18, A19, A23) | T14: 40301019 | U14: 1000 Gallons Storage Capacity | V14: 1000 Gallons Storage Capacity | W14: Volatile Organic Compounds | X14: 25 | Y14: 25 | Z14: 25 | AA14: 25 | AB14: 2010 | AC14: 0.529 | AD14: Y | AE14: =IF(Y14=0,0,P14/(O14*N14)*Y14/100) -> 13.035714 | AF14: =IF(AE14=0,"n/a",IF(AE14>13,(AC14*Y14/100)/(13*N14),(AC14*Y14/100/(AE14*N14)))) -> 0.0014532967 | AG14: =AC14*'2022 EMP Fac Data Metro DC-NoVA'!$AT$6 -> 0.46578172 | AH14: =AG14*$AF14/$AC14 -> 0.0012796201 | AI14: =AC14*'2022 EMP Fac Data Metro DC-NoVA'!$AU$6 -> 0.47003087 | AJ14: =AI14*$AF14/$AC14 -> 0.0012912936 | AK14: VA CEDS for 2022 emissions by facility and SCC. 2022 OSTD calculated per federal guidance. Data grown to 2032 and 2038 using EPA's facility level 2022 EMP emissions estimates for 2032 and 2038.
A15: Title V Major Odd | B15: 2022 | C15: 70087 | D15: 6423411 | E15: Kinder Morgan Newington Terminal #1 | F15: Fairfax County | G15: 059 | H15: VA0000005105900034 | I15: 4 | J15: 4 | K15: Jet Kero and Distillate Tanks Breathing/Working Losses | L15: 4 | M15: 4 | N15: 7 | O15: 24 | P15: 8760 | Q15: 4 | R15: 4 | S15: Distillate Fuel Oil Storage Tanks - Withdrawal (A11, A15, A16, A18, A19, A23) | T15: 40301021 | U15: 1000 Gallons Throughput | V15: 1000 Gallons Throughput | W15: Volatile Organic Compounds | X15: 21 | Y15: 26 | Z15: 29 | AA15: 24 | AB15: 28968 | AC15: 0 | AD15: Y | AE15: =IF(Y15=0,0,P15/(O15*N15)*Y15/100) -> 13.557143 | AF15: =IF(AE15=0,"n/a",IF(AE15>13,(AC15*Y15/100)/(13*N15),(AC15*Y15/100/(AE15*N15)))) -> 0 | AG15: 0 | AH15: 0 | AI15: 0 | AJ15: 0 | AK15: VA CEDS for 2022 emissions by facility and SCC. 2022 OSTD calculated per federal guidance. Data grown to 2032 and 2038 using EPA's facility level 2022 EMP emissions estimates for 2032 and 2038.
A16: Title V Major Odd | B16: 2022 | C16: 70087 | D16: 6423411 | E16: Kinder Morgan Newington Terminal #1 | F16: Fairfax County | G16: 059 | H16: VA0000005105900034 | I16: 4 | J16: 4 | K16: Jet Kero and Distillate Tanks Breathing/Working Losses | L16: 4 | M16: 4 | N16: 7 | O16: 24 | P16: 8760 | Q16: 5 | R16: 5 | S16: MISC TANK AS GAS - BREATHING LOSS | T16: 40301102 | U16: 1000 Gallons Storage Capacity | V16: 1000 Gallons Storage Capacity | W16: Volatile Organic Compounds | X16: 25 | Y16: 25 | Z16: 25 | AA16: 25 | AB16: 0 | AC16: 0.000265 | AD16: Y | AE16: =IF(Y16=0,0,P16/(O16*N16)*Y16/100) -> 13.035714 | AF16: =IF(AE16=0,"n/a",IF(AE16>13,(AC16*Y16/100)/(13*N16),(AC16*Y16/100/(AE16*N16)))) -> 7.2802198e-07 | AG16: 0 | AH16: 0 | AI16: 0 | AJ16: 0 | AK16: VA CEDS for 2022 emissions by facility and SCC. 2022 OSTD calculated per federal guidance. Data grown to 2032 and 2038 using EPA's facility level 2022 EMP emissions estimates for 2032 and 2038.
A17: Title V Major Odd | B17: 2022 | C17: 70087 | D17: 6423411 | E17: Kinder Morgan Newington Terminal #1 | F17: Fairfax County | G17: 059 | H17: VA0000005105900034 | I17: 4 | J17: 4 | K17: Jet Kero and Distillate Tanks Breathing/Working Losses | L17: 4 | M17: 4 | N17: 7 | O17: 24 | P17: 8760 | Q17: 6 | R17: 6 | S17: MISC TANK AS GAS - WORKING LOSS | T17: 40301107 | U17: 1000 Gallons Throughput | V17: 1000 Gallons Throughput | W17: Volatile Organic Compounds | X17: 25 | Y17: 25 | Z17: 25 | AA17: 25 | AB17: 0 | AC17: 5e-06 | AD17: Y | AE17: =IF(Y17=0,0,P17/(O17*N17)*Y17/100) -> 13.035714 | AF17: =IF(AE17=0,"n/a",IF(AE17>13,(AC17*Y17/100)/(13*N17),(AC17*Y17/100/(AE17*N17)))) -> 1.3736264e-08 | AG17: 0 | AH17: 0 | AI17: 0 | AJ17: 0 | AK17: VA CEDS for 2022 emissions by facility and SCC. 2022 OSTD calculated per federal guidance. Data grown to 2032 and 2038 using EPA's facility level 2022 EMP emissions estimates for 2032 and 2038.
A18: Title V Major Odd | B18: 2022 | C18: 70087 | D18: 6423411 | E18: Kinder Morgan Newington Terminal #1 | F18: Fairfax County | G18: 059 | H18: VA0000005105900034 | I18: 5 | J18: 5 | K18: Fugitive Emissions | L18: 5 | M18: 5 | N18: 7 | O18: 24 | P18: 8760 | Q18: 1 | R18: 1 | S18: FUG.LOSS/TRANSFER PROC. | T18: 40400151 | U18: 1000 Gallons Transferred | V18: 1000 Gallons Transferred | W18: Volatile Organic Compounds | X18: 25 | Y18: 25 | Z18: 26 | AA18: 24 | AB18: 500639 | AC18: 0.1946 | AD18: Y | AE18: =IF(Y18=0,0,P18/(O18*N18)*Y18/100) -> 13.035714 | AF18: =IF(AE18=0,"n/a",IF(AE18>13,(AC18*Y18/100)/(13*N18),(AC18*Y18/100/(AE18*N18)))) -> 0.00053461538 | AG18: =AC18*'2022 EMP Fac Data Metro DC-NoVA'!$AT$6 -> 0.17134428 | AH18: =AG18*$AF18/$AC18 -> 0.00047072604 | AI18: =AC18*'2022 EMP Fac Data Metro DC-NoVA'!$AU$6 -> 0.17290739 | AJ18: =AI18*$AF18/$AC18 -> 0.00047502029 | AK18: VA CEDS for 2022 emissions by facility and SCC. 2022 OSTD calculated per federal guidance. Data grown to 2032 and 2038 using EPA's facility level 2022 EMP emissions estimates for 2032 and 2038.
A19: Title V Major Odd | B19: 2022 | C19: 70087 | D19: 6423411 | E19: Kinder Morgan Newington Terminal #1 | F19: Fairfax County | G19: 059 | H19: VA0000005105900034 | I19: 6 | J19: 6 | K19: Mogas Additive | L19: 6 | M19: 6 | N19: 7 | O19: 24 | P19: 8760 | Q19: 1 | R19: 1 | S19: MOGAS ADDITIVE/BREATHNG | T19: 40301097 | U19: 1000 Gallons Storage Capacity | V19: 1000 Gallons Storage Capacity | W19: Volatile Organic Compounds | X19: 25 | Y19: 25 | Z19: 25 | AA19: 25 | AB19: 39 | AC19: 0.00125 | AD19: Y | AE19: =IF(Y19=0,0,P19/(O19*N19)*Y19/100) -> 13.035714 | AF19: =IF(AE19=0,"n/a",IF(AE19>13,(AC19*Y19/100)/(13*N19),(AC19*Y19/100/(AE19*N19)))) -> 3.4340659e-06 | AG19: 0 | AH19: 0 | AI19: 0 | AJ19: 0 | AK19: VA CEDS for 2022 emissions by facility and SCC. 2022 OSTD calculated per federal guidance. Data grown to 2032 and 2038 using EPA's facility level 2022 EMP emissions estimates for 2032 and 2038.
A20: Title V Major Odd | B20: 2022 | C20: 70087 | D20: 6423411 | E20: Kinder Morgan Newington Terminal #1 | F20: Fairfax County | G20: 059 | H20: VA0000005105900034 | I20: 6 | J20: 6 | K20: Mogas Additive | L20: 6 | M20: 6 | N20: 7 | O20: 24 | P20: 8760 | Q20: 2 | R20: 2 | S20: MOGAS ADDITIVE/WORKING | T20: 40301099 | U20: 1000 Gallons Throughput | V20: 1000 Gallons Throughput | W20: Volatile Organic Compounds | X20: 14 | Y20: 35 | Z20: 31 | AA20: 20 | AB20: 77 | AC20: 0 | AD20: Y | AE20: =IF(Y20=0,0,P20/(O20*N20)*Y20/100) -> 18.25 | AF20: =IF(AE20=0,"n/a",IF(AE20>13,(AC20*Y20/100)/(13*N20),(AC20*Y20/100/(AE20*N20)))) -> 0 | AG20: 0 | AH20: 0 | AI20: 0 | AJ20: 0 | AK20: VA CEDS for 2022 emissions by facility and SCC. 2022 OSTD calculated per federal guidance. Data grown to 2032 and 2038 using EPA's facility level 2022 EMP emissions estimates for 2032 and 2038.
A21: Title V Major Odd | B21: 2022 | C21: 70220 | D21: 6632911 | E21: Buckeye Terminals, LLC - Fairfax Terminal | F21: Fairfax City | G21: 600 | H21: VA0000005160000061 | I21: 1 | J21: 1 | K21: Tank 1, Internal Floating Roof (Gasoline) | L21: 1 | M21: 1 | N21: 7 | O21: 24 | P21: 8760 | Q21: 1 | R21: 1 | S21: Tank 1 Standing Losses, Gasoline | T21: 40400111 | U21: 1000 Gallons Storage Capacity | V21: 1000 Gallons Storage Capacity | W21: Volatile Organic Compounds | X21: 25 | Y21: 25 | Z21: 25 | AA21: 25 | AB21: 3696.41 | AC21: 2.2786 | AD21: Y | AE21: =IF(Y21=0,0,P21/(O21*N21)*Y21/100) -> 13.035714 | AF21: =IF(AE21=0,"n/a",IF(AE21>13,(AC21*Y21/100)/(13*N21),(AC21*Y21/100/(AE21*N21)))) -> 0.0062598901 | AG21: =AC21*'2022 EMP Fac Data Metro DC-NoVA'!$AT$11 -> 2.1060747 | AH21: =AG21*$AF21/$AC21 -> 0.0057859194 | AI21: =AC21*'2022 EMP Fac Data Metro DC-NoVA'!$AU$11 -> 2.1814083 | AJ21: =AI21*$AF21/$AC21 -> 0.0059928798 | AK21: VA CEDS for 2022 emissions by facility and SCC. 2022 OSTD calculated per federal guidance. Data grown to 2032 and 2038 using EPA's facility level 2022 EMP emissions estimates for 2032 and 2038.
A22: Title V Major Odd | B22: 2022 | C22: 70220 | D22: 6632911 | E22: Buckeye Terminals, LLC - Fairfax Terminal | F22: Fairfax City | G22: 600 | H22: VA0000005160000061 | I22: 1 | J22: 1 | K22: Tank 1, Internal Floating Roof (Gasoline) | L22: 1 | M22: 1 | N22: 7 | O22: 24 | P22: 8760 | Q22: 2 | R22: 2 | S22: Tank 1 Working Losses, Gasoline | T22: 40400116 | U22: 1000 Gallons Throughput | V22: 1000 Gallons Throughput | W22: Volatile Organic Compounds | X22: 24 | Y22: 23 | Z22: 25 | AA22: 28 | AB22: 58853.685 | AC22: 0.0537 | AD22: Y | AE22: =IF(Y22=0,0,P22/(O22*N22)*Y22/100) -> 11.992857 | AF22: =IF(AE22=0,"n/a",IF(AE22>13,(AC22*Y22/100)/(13*N22),(AC22*Y22/100/(AE22*N22)))) -> 0.00014712329 | AG22: =AC22*'2022 EMP Fac Data Metro DC-NoVA'!$AT$11 -> 0.049634078 | AH22: =AG22*$AF22/$AC22 -> 0.00013598378 | AI22: =AC22*'2022 EMP Fac Data Metro DC-NoVA'!$AU$11 -> 0.051409472 | AJ22: =AI22*$AF22/$AC22 -> 0.00014084787 | AK22: VA CEDS for 2022 emissions by facility and SCC. 2022 OSTD calculated per federal guidance. Data grown to 2032 and 2038 using EPA's facility level 2022 EMP emissions estimates for 2032 and 2038.
A23: Title V Major Odd | B23: 2022 | C23: 70220 | D23: 6632911 | E23: Buckeye Terminals, LLC - Fairfax Terminal | F23: Fairfax City | G23: 600 | H23: VA0000005160000061 | I23: 2 | J23: 2 | K23: Tank 2, Internal Floating Roof (Gasoline) | L23: 2 | M23: 2 | N23: 7 | O23: 24 | P23: 8760 | Q23: 1 | R23: 1 | S23: Tank 2 Standing Losses, Gasoline | T23: 40400111 | U23: 1000 Gallons Storage Capacity | V23: 1000 Gallons Storage Capacity | W23: Volatile Organic Compounds | X23: 25 | Y23: 25 | Z23: 25 | AA23: 25 | AB23: 3054.885 | AC23: 1.5618 | AD23: Y | AE23: =IF(Y23=0,0,P23/(O23*N23)*Y23/100) -> 13.035714 | AF23: =IF(AE23=0,"n/a",IF(AE23>13,(AC23*Y23/100)/(13*N23),(AC23*Y23/100/(AE23*N23)))) -> 0.0042906593 | AG23: =AC23*'2022 EMP Fac Data Metro DC-NoVA'!$AT$11 -> 1.4435475 | AH23: =AG23*$AF23/$AC23 -> 0.00396579 | AI23: =AC23*'2022 EMP Fac Data Metro DC-NoVA'!$AU$11 -> 1.4951827 | AJ23: =AI23*$AF23/$AC23 -> 0.0041076449 | AK23: VA CEDS for 2022 emissions by facility and SCC. 2022 OSTD calculated per federal guidance. Data grown to 2032 and 2038 using EPA's facility level 2022 EMP emissions estimates for 2032 and 2038.
A24: Title V Major Odd | B24: 2022 | C24: 70220 | D24: 6632911 | E24: Buckeye Terminals, LLC - Fairfax Terminal | F24: Fairfax City | G24: 600 | H24: VA0000005160000061 | I24: 2 | J24: 2 | K24: Tank 2, Internal Floating Roof (Gasoline) | L24: 2 | M24: 2 | N24: 7 | O24: 24 | P24: 8760 | Q24: 2 | R24: 2 | S24: Tank 2 Working Losses, Gasoline | T24: 40400116 | U24: 1000 Gallons Throughput | V24: 1000 Gallons Throughput | W24: Volatile Organic Compounds | X24: 22 | Y24: 26 | Z24: 30 | AA24: 22 | AB24: 41657.677 | AC24: 0.0396 | AD24: Y | AE24: =IF(Y24=0,0,P24/(O24*N24)*Y24/100) -> 13.557143 | AF24: =IF(AE24=0,"n/a",IF(AE24>13,(AC24*Y24/100)/(13*N24),(AC24*Y24/100/(AE24*N24)))) -> 0.00011314286 | AG24: =AC24*'2022 EMP Fac Data Metro DC-NoVA'!$AT$11 -> 0.036601666 | AH24: =AG24*$AF24/$AC24 -> 0.00010457619 | AI24: =AC24*'2022 EMP Fac Data Metro DC-NoVA'!$AU$11 -> 0.037910896 | AJ24: =AI24*$AF24/$AC24 -> 0.00010831684 | AK24: VA CEDS for 2022 emissions by facility and SCC. 2022 OSTD calculated per federal guidance. Data grown to 2032 and 2038 using EPA's facility level 2022 EMP emissions estimates for 2032 and 2038.
A25: Title V Major Odd | B25: 2022 | C25: 70220 | D25: 6632911 | E25: Buckeye Terminals, LLC - Fairfax Terminal | F25: Fairfax City | G25: 600 | H25: VA0000005160000061 | I25: 3 | J25: 3 | K25: Tank 3, Internal Floating Roof (Ethanol) | L25: 3 | M25: 3 | N25: 7 | O25: 24 | P25: 8760 | Q25: 1 | R25: 1 | S25: Tank 3, Standing Losses, Ethanol | T25: 40400111 | U25: 1000 Gallons Storage Capacity | V25: 1000 Gallons Storage Capacity | W25: Volatile Organic Compounds | X25: 25 | Y25: 25 | Z25: 25 | AA25: 25 | AB25: 1015.162 | AC25: 0.1163 | AD25: Y | AE25: =IF(Y25=0,0,P25/(O25*N25)*Y25/100) -> 13.035714 | AF25: =IF(AE25=0,"n/a",IF(AE25>13,(AC25*Y25/100)/(13*N25),(AC25*Y25/100/(AE25*N25)))) -> 0.00031950549 | AG25: =AC25*'2022 EMP Fac Data Metro DC-NoVA'!$AT$11 -> 0.10749429 | AH25: =AG25*$AF25/$AC25 -> 0.00029531398 | AI25: =AC25*'2022 EMP Fac Data Metro DC-NoVA'!$AU$11 -> 0.11133932 | AJ25: =AI25*$AF25/$AC25 -> 0.00030587726 | AK25: VA CEDS for 2022 emissions by facility and SCC. 2022 OSTD calculated per federal guidance. Data grown to 2032 and 2038 using EPA's facility level 2022 EMP emissions estimates for 2032 and 2038.
A26: Title V Major Odd | B26: 2022 | C26: 70220 | D26: 6632911 | E26: Buckeye Terminals, LLC - Fairfax Terminal | F26: Fairfax City | G26: 600 | H26: VA0000005160000061 | I26: 3 | J26: 3 | K26: Tank 3, Internal Floating Roof (Ethanol) | L26: 3 | M26: 3 | N26: 7 | O26: 24 | P26: 8760 | Q26: 2 | R26: 2 | S26: Tank 3, Working Losses, Ethanol | T26: 40400116 | U26: 1000 Gallons Throughput | V26: 1000 Gallons Throughput | W26: Volatile Organic Compounds | X26: 24 | Y26: 25 | Z26: 25 | AA26: 26 | AB26: 40416.407 | AC26: 0.0736 | AD26: Y | AE26: =IF(Y26=0,0,P26/(O26*N26)*Y26/100) -> 13.035714 | AF26: =IF(AE26=0,"n/a",IF(AE26>13,(AC26*Y26/100)/(13*N26),(AC26*Y26/100/(AE26*N26)))) -> 0.0002021978 | AG26: =AC26*'2022 EMP Fac Data Metro DC-NoVA'!$AT$11 -> 0.06802734 | AH26: =AG26*$AF26/$AC26 -> 0.0001868883 | AI26: =AC26*'2022 EMP Fac Data Metro DC-NoVA'!$AU$11 -> 0.070460655 | AJ26: =AI26*$AF26/$AC26 -> 0.00019357323 | AK26: VA CEDS for 2022 emissions by facility and SCC. 2022 OSTD calculated per federal guidance. Data grown to 2032 and 2038 using EPA's facility level 2022 EMP emissions estimates for 2032 and 2038.
A27: Title V Major Odd | B27: 2022 | C27: 70220 | D27: 6632911 | E27: Buckeye Terminals, LLC - Fairfax Terminal | F27: Fairfax City | G27: 600 | H27: VA0000005160000061 | I27: 4 | J27: 4 | K27: Tank 4, Internal Floating Roof (Gasoline) | L27: 4 | M27: 4 | N27: 7 | O27: 24 | P27: 8760 | Q27: 1 | R27: 1 | S27: Tank 4, Standing Losses, Gasoline | T27: 40400111 | U27: 1000 Gallons Storage Capacity | V27: 1000 Gallons Storage Capacity | W27: Volatile Organic Compounds | X27: 25 | Y27: 25 | Z27: 25 | AA27: 25 | AB27: 5063.401 | AC27: 1.9007 | AD27: Y | AE27: =IF(Y27=0,0,P27/(O27*N27)*Y27/100) -> 13.035714 | AF27: =IF(AE27=0,"n/a",IF(AE27>13,(AC27*Y27/100)/(13*N27),(AC27*Y27/100/(AE27*N27)))) -> 0.0052217033 | AG27: =AC27*'2022 EMP Fac Data Metro DC-NoVA'!$AT$11 -> 1.7567876 | AH27: =AG27*$AF27/$AC27 -> 0.0048263395 | AI27: =AC27*'2022 EMP Fac Data Metro DC-NoVA'!$AU$11 -> 1.8196273 | AJ27: =AI27*$AF27/$AC27 -> 0.004998976 | AK27: VA CEDS for 2022 emissions by facility and SCC. 2022 OSTD calculated per federal guidance. Data grown to 2032 and 2038 using EPA's facility level 2022 EMP emissions estimates for 2032 and 2038.
A28: Title V Major Odd | B28: 2022 | C28: 70220 | D28: 6632911 | E28: Buckeye Terminals, LLC - Fairfax Terminal | F28: Fairfax City | G28: 600 | H28: VA0000005160000061 | I28: 4 | J28: 4 | K28: Tank 4, Internal Floating Roof (Gasoline) | L28: 4 | M28: 4 | N28: 7 | O28: 24 | P28: 8760 | Q28: 2 | R28: 2 | S28: Tank 4, Working Losses, Gasoline | T28: 40400116 | U28: 1000 Gallons Throughput | V28: 1000 Gallons Throughput | W28: Volatile Organic Compounds | X28: 26 | Y28: 23 | Z28: 24 | AA28: 27 | AB28: 241827.23 | AC28: 0.1905 | AD28: Y | AE28: =IF(Y28=0,0,P28/(O28*N28)*Y28/100) -> 11.992857 | AF28: =IF(AE28=0,"n/a",IF(AE28>13,(AC28*Y28/100)/(13*N28),(AC28*Y28/100/(AE28*N28)))) -> 0.00052191781 | AG28: =AC28*'2022 EMP Fac Data Metro DC-NoVA'!$AT$11 -> 0.1760762 | AH28: =AG28*$AF28/$AC28 -> 0.00048240054 | AI28: =AC28*'2022 EMP Fac Data Metro DC-NoVA'!$AU$11 -> 0.18237438 | AJ28: =AI28*$AF28/$AC28 -> 0.00049965585 | AK28: VA CEDS for 2022 emissions by facility and SCC. 2022 OSTD calculated per federal guidance. Data grown to 2032 and 2038 using EPA's facility level 2022 EMP emissions estimates for 2032 and 2038.
A29: Title V Major Odd | B29: 2022 | C29: 70220 | D29: 6632911 | E29: Buckeye Terminals, LLC - Fairfax Terminal | F29: Fairfax City | G29: 600 | H29: VA0000005160000061 | I29: 5 | J29: 5 | K29: Tank 5, Internal Floating Roof (Ethanol) | L29: 5 | M29: 5 | N29: 7 | O29: 24 | P29: 8760 | Q29: 1 | R29: 1 | S29: Tank 5, Standing Losses, Ethanol | T29: 40400270 | U29: 1000 GALLONS STORAGE CAPACITY | V29: 1000 GALLONS STORAGE CAPACITY | W29: Volatile Organic Compounds | X29: 25 | Y29: 25 | Z29: 25 | AA29: 25 | AB29: 1804.732 | AC29: 0.9573 | AD29: Y | AE29: =IF(Y29=0,0,P29/(O29*N29)*Y29/100) -> 13.035714 | AF29: =IF(AE29=0,"n/a",IF(AE29>13,(AC29*Y29/100)/(13*N29),(AC29*Y29/100/(AE29*N29)))) -> 0.0026299451 | AG29: =AC29*'2022 EMP Fac Data Metro DC-NoVA'!$AT$11 -> 0.88481756 | AH29: =AG29*$AF29/$AC29 -> 0.0024308175 | AI29: =AC29*'2022 EMP Fac Data Metro DC-NoVA'!$AU$11 -> 0.91646718 | AJ29: =AI29*$AF29/$AC29 -> 0.002517767 | AK29: VA CEDS for 2022 emissions by facility and SCC. 2022 OSTD calculated per federal guidance. Data grown to 2032 and 2038 using EPA's facility level 2022 EMP emissions estimates for 2032 and 2038.
A30: Title V Major Odd | B30: 2022 | C30: 70220 | D30: 6632911 | E30: Buckeye Terminals, LLC - Fairfax Terminal | F30: Fairfax City | G30: 600 | H30: VA0000005160000061 | I30: 5 | J30: 5 | K30: Tank 5, Internal Floating Roof (Ethanol) | L30: 5 | M30: 5 | N30: 7 | O30: 24 | P30: 8760 | Q30: 2 | R30: 2 | S30: Tank 5, Working Losses, Ethanol | T30: 40400279 | U30: 1000 GALLONS TRANSFERRED | V30: 1000 GALLONS TRANSFERRED | W30: Volatile Organic Compounds | X30: 0 | Y30: 42 | Z30: 36 | AA30: 22 | AB30: 21333.302 | AC30: 0.0255 | AD30: Y | AE30: =IF(Y30=0,0,P30/(O30*N30)*Y30/100) -> 21.9 | AF30: =IF(AE30=0,"n/a",IF(AE30>13,(AC30*Y30/100)/(13*N30),(AC30*Y30/100/(AE30*N30)))) -> 0.00011769231 | AG30: =AC30*'2022 EMP Fac Data Metro DC-NoVA'!$AT$11 -> 0.023569255 | AH30: =AG30*$AF30/$AC30 -> 0.00010878118 | AI30: =AC30*'2022 EMP Fac Data Metro DC-NoVA'!$AU$11 -> 0.024412319 | AJ30: =AI30*$AF30/$AC30 -> 0.00011267224 | AK30: VA CEDS for 2022 emissions by facility and SCC. 2022 OSTD calculated per federal guidance. Data grown to 2032 and 2038 using EPA's facility level 2022 EMP emissions estimates for 2032 and 2038.
A31: Title V Major Odd | B31: 2022 | C31: 70220 | D31: 6632911 | E31: Buckeye Terminals, LLC - Fairfax Terminal | F31: Fairfax City | G31: 600 | H31: VA0000005160000061 | I31: 6 | J31: 6 | K31: Tank 6, Internal Floating Roof (Distillate) | L31: 6 | M31: 6 | N31: 7 | O31: 24 | P31: 8760 | Q31: 1 | R31: 1 | S31: Tank 6, Standing Losses, Distillate | T31: 40301115 | U31: 1000 Gallons Storage Capacity | V31: 1000 Gallons Storage Capacity | W31: Volatile Organic Compounds | X31: 25 | Y31: 25 | Z31: 25 | AA31: 25 | AB31: 3412.071 | AC31: 0.0071 | AD31: Y | AE31: =IF(Y31=0,0,P31/(O31*N31)*Y31/100) -> 13.035714 | AF31: =IF(AE31=0,"n/a",IF(AE31>13,(AC31*Y31/100)/(13*N31),(AC31*Y31/100/(AE31*N31)))) -> 1.9505495e-05 | AG31: =AC31*'2022 EMP Fac Data Metro DC-NoVA'!$AT$11 -> 0.00656242 | AH31: =AG31*$AF31/$AC31 -> 1.8028626e-05 | AI31: =AC31*'2022 EMP Fac Data Metro DC-NoVA'!$AU$11 -> 0.0067971555 | AJ31: =AI31*$AF31/$AC31 -> 1.8673504e-05 | AK31: VA CEDS for 2022 emissions by facility and SCC. 2022 OSTD calculated per federal guidance. Data grown to 2032 and 2038 using EPA's facility level 2022 EMP emissions estimates for 2032 and 2038.
A32: Title V Major Odd | B32: 2022 | C32: 70220 | D32: 6632911 | E32: Buckeye Terminals, LLC - Fairfax Terminal | F32: Fairfax City | G32: 600 | H32: VA0000005160000061 | I32: 6 | J32: 6 | K32: Tank 6, Internal Floating Roof (Distillate) | L32: 6 | M32: 6 | N32: 7 | O32: 24 | P32: 8760 | Q32: 2 | R32: 2 | S32: Tank 6, Working Losses, Distillate | T32: 40301120 | U32: 1000 Gallons Throughput | V32: 1000 Gallons Throughput | W32: Volatile Organic Compounds | X32: 25 | Y32: 26 | Z32: 24 | AA32: 25 | AB32: 56034.282 | AC32: 0.0648 | AD32: Y | AE32: =IF(Y32=0,0,P32/(O32*N32)*Y32/100) -> 13.557143 | AF32: =IF(AE32=0,"n/a",IF(AE32>13,(AC32*Y32/100)/(13*N32),(AC32*Y32/100/(AE32*N32)))) -> 0.00018514286 | AG32: =AC32*'2022 EMP Fac Data Metro DC-NoVA'!$AT$11 -> 0.059893636 | AH32: =AG32*$AF32/$AC32 -> 0.00017112467 | AI32: =AC32*'2022 EMP Fac Data Metro DC-NoVA'!$AU$11 -> 0.062036011 | AJ32: =AI32*$AF32/$AC32 -> 0.00017724575 | AK32: VA CEDS for 2022 emissions by facility and SCC. 2022 OSTD calculated per federal guidance. Data grown to 2032 and 2038 using EPA's facility level 2022 EMP emissions estimates for 2032 and 2038.
A33: Title V Major Odd | B33: 2022 | C33: 70220 | D33: 6632911 | E33: Buckeye Terminals, LLC - Fairfax Terminal | F33: Fairfax City | G33: 600 | H33: VA0000005160000061 | I33: 7 | J33: 7 | K33: Gas Loading Racks | L33: 7 | M33: 7 | N33: 7 | O33: 24 | P33: 8760 | Q33: 1 | R33: 1 | S33: Gasoline Loading Rack (VRU & VCU) & Fugitive Tanker Truck Emissions | T33: 40600141 | U33: 1000 Gallons Transferred | V33: 1000 Gallons Transferred | W33: Carbon Monoxide | X33: 23 | Y33: 23 | Z33: 24 | AA33: 30 | AB33: 420763.06 | AC33: 6.071 | AD33: Y | AE33: =IF(Y33=0,0,P33/(O33*N33)*Y33/100) -> 11.992857 | AF33: =IF(AE33=0,"n/a",IF(AE33>13,(AC33*Y33/100)/(13*N33),(AC33*Y33/100/(AE33*N33)))) -> 0.016632877 | AG33: =AC33*'2022 EMP Fac Data Metro DC-NoVA'!$AE$11 -> 6.7456427 | AH33: =AG33*$AF33/$AC33 -> 0.018481213 | AI33: =AC33*'2022 EMP Fac Data Metro DC-NoVA'!$AF$11 -> 7.1706539 | AJ33: =AI33*$AF33/$AC33 -> 0.019645627 | AK33: VA CEDS for 2022 emissions by facility and SCC. 2022 OSTD calculated per federal guidance. Data grown to 2032 and 2038 using EPA's facility level 2022 EMP emissions estimates for 2032 and 2038.
A34: Title V Major Odd | B34: 2022 | C34: 70220 | D34: 6632911 | E34: Buckeye Terminals, LLC - Fairfax Terminal | F34: Fairfax City | G34: 600 | H34: VA0000005160000061 | I34: 7 | J34: 7 | K34: Gas Loading Racks | L34: 7 | M34: 7 | N34: 7 | O34: 24 | P34: 8760 | Q34: 1 | R34: 1 | S34: Gasoline Loading Rack (VRU & VCU) & Fugitive Tanker Truck Emissions | T34: 40600141 | U34: 1000 Gallons Transferred | V34: 1000 Gallons Transferred | W34: Nitrogen Oxide | X34: 23 | Y34: 23 | Z34: 24 | AA34: 30 | AB34: 420763.06 | AC34: 2.447 | AD34: Y | AE34: =IF(Y34=0,0,P34/(O34*N34)*Y34/100) -> 11.992857 | AF34: =IF(AE34=0,"n/a",IF(AE34>13,(AC34*Y34/100)/(13*N34),(AC34*Y34/100/(AE34*N34)))) -> 0.0067041096 | AG34: =AC34*'2022 EMP Fac Data Metro DC-NoVA'!$AK$11 -> 2.718924 | AH34: =AG34*$AF34/$AC34 -> 0.0074491069 | AI34: =AC34*'2022 EMP Fac Data Metro DC-NoVA'!$AL$11 -> 2.8902306 | AJ34: =AI34*$AF34/$AC34 -> 0.00791844 | AK34: VA CEDS for 2022 emissions by facility and SCC. 2022 OSTD calculated per federal guidance. Data grown to 2032 and 2038 using EPA's facility level 2022 EMP emissions estimates for 2032 and 2038.
A35: Title V Major Odd | B35: 2022 | C35: 70220 | D35: 6632911 | E35: Buckeye Terminals, LLC - Fairfax Terminal | F35: Fairfax City | G35: 600 | H35: VA0000005160000061 | I35: 7 | J35: 7 | K35: Gas Loading Racks | L35: 7 | M35: 7 | N35: 7 | O35: 24 | P35: 8760 | Q35: 1 | R35: 1 | S35: Gasoline Loading Rack (VRU & VCU) & Fugitive Tanker Truck Emissions | T35: 40600141 | U35: 1000 Gallons Transferred | V35: 1000 Gallons Transferred | W35: Particulate Matter 10 | X35: 23 | Y35: 23 | Z35: 24 | AA35: 30 | AB35: 420763.06 | AC35: 0.1469 | AD35: Y | AE35: =IF(Y35=0,0,P35/(O35*N35)*Y35/100) -> 11.992857 | AF35: =IF(AE35=0,"n/a",IF(AE35>13,(AC35*Y35/100)/(13*N35),(AC35*Y35/100/(AE35*N35)))) -> 0.00040246575 | AG35: =AC35*'2022 EMP Fac Data Metro DC-NoVA'!$AN$11 -> 0.16322433 | AH35: =AG35*$AF35/$AC35 -> 0.00044718995 | AI35: =AC35*'2022 EMP Fac Data Metro DC-NoVA'!$AO$11 -> 0.17350833 | AJ35: =AI35*$AF35/$AC35 -> 0.00047536528 | AK35: VA CEDS for 2022 emissions by facility and SCC. 2022 OSTD calculated per federal guidance. Data grown to 2032 and 2038 using EPA's facility level 2022 EMP emissions estimates for 2032 and 2038.
A36: Title V Major Odd | B36: 2022 | C36: 70220 | D36: 6632911 | E36: Buckeye Terminals, LLC - Fairfax Terminal | F36: Fairfax City | G36: 600 | H36: VA0000005160000061 | I36: 7 | J36: 7 | K36: Gas Loading Racks | L36: 7 | M36: 7 | N36: 7 | O36: 24 | P36: 8760 | Q36: 1 | R36: 1 | S36: Gasoline Loading Rack (VRU & VCU) & Fugitive Tanker Truck Emissions | T36: 40600141 | U36: 1000 Gallons Transferred | V36: 1000 Gallons Transferred | W36: Sulfur Dioxide | X36: 23 | Y36: 23 | Z36: 24 | AA36: 30 | AB36: 420763.06 | AC36: 0.004 | AD36: Y | AE36: =IF(Y36=0,0,P36/(O36*N36)*Y36/100) -> 11.992857 | AF36: =IF(AE36=0,"n/a",IF(AE36>13,(AC36*Y36/100)/(13*N36),(AC36*Y36/100/(AE36*N36)))) -> 1.0958904e-05 | AG36: =AC36*'2022 EMP Fac Data Metro DC-NoVA'!$AQ$11 -> 0.0044445019 | AH36: =AG36*$AF36/$AC36 -> 1.2176717e-05 | AI36: =AC36*'2022 EMP Fac Data Metro DC-NoVA'!$AR$11 -> 0.004724529 | AJ36: =AI36*$AF36/$AC36 -> 1.2943915e-05 | AK36: VA CEDS for 2022 emissions by facility and SCC. 2022 OSTD calculated per federal guidance. Data grown to 2032 and 2038 using EPA's facility level 2022 EMP emissions estimates for 2032 and 2038.
A37: Title V Major Odd | B37: 2022 | C37: 70220 | D37: 6632911 | E37: Buckeye Terminals, LLC - Fairfax Terminal | F37: Fairfax City | G37: 600 | H37: VA0000005160000061 | I37: 7 | J37: 7 | K37: Gas Loading Racks | L37: 7 | M37: 7 | N37: 7 | O37: 24 | P37: 8760 | Q37: 1 | R37: 1 | S37: Gasoline Loading Rack (VRU & VCU) & Fugitive Tanker Truck Emissions | T37: 40600141 | U37: 1000 Gallons Transferred | V37: 1000 Gallons Transferred | W37: Volatile Organic Compounds | X37: 23 | Y37: 23 | Z37: 24 | AA37: 30 | AB37: 420763.06 | AC37: 21.0229 | AD37: Y | AE37: =IF(Y37=0,0,P37/(O37*N37)*Y37/100) -> 11.992857 | AF37: =IF(AE37=0,"n/a",IF(AE37>13,(AC37*Y37/100)/(13*N37),(AC37*Y37/100/(AE37*N37)))) -> 0.057596986 | AG37: =AC37*'2022 EMP Fac Data Metro DC-NoVA'!$AT$11 -> 19.431141 | AH37: =AG37*$AF37/$AC37 -> 0.053236002 | AI37: =AC37*'2022 EMP Fac Data Metro DC-NoVA'!$AU$11 -> 20.126186 | AJ37: =AI37*$AF37/$AC37 -> 0.055140236 | AK37: VA CEDS for 2022 emissions by facility and SCC. 2022 OSTD calculated per federal guidance. Data grown to 2032 and 2038 using EPA's facility level 2022 EMP emissions estimates for 2032 and 2038.
A38: Title V Major Odd | B38: 2022 | C38: 70220 | D38: 6632911 | E38: Buckeye Terminals, LLC - Fairfax Terminal | F38: Fairfax City | G38: 600 | H38: VA0000005160000061 | I38: 8 | J38: 8 | K38: Distillate Loading Racks | L38: 8 | M38: 8 | N38: 7 | O38: 24 | P38: 8760 | Q38: 1 | R38: 1 | S38: Distillate Loading Rack (VRU & VCU) | T38: 40600135 | U38: 1000 Gallons Transferred | V38: 1000 Gallons Transferred | W38: Volatile Organic Compounds | X38: 25 | Y38: 26 | Z38: 24 | AA38: 25 | AB38: 56049.929 | AC38: 0.3218 | AD38: Y | AE38: =IF(Y38=0,0,P38/(O38*N38)*Y38/100) -> 13.557143 | AF38: =IF(AE38=0,"n/a",IF(AE38>13,(AC38*Y38/100)/(13*N38),(AC38*Y38/100/(AE38*N38)))) -> 0.00091942857 | AG38: =AC38*'2022 EMP Fac Data Metro DC-NoVA'!$AT$11 -> 0.29743475 | AH38: =AG38*$AF38/$AC38 -> 0.00084981358 | AI38: =AC38*'2022 EMP Fac Data Metro DC-NoVA'!$AU$11 -> 0.30807389 | AJ38: =AI38*$AF38/$AC38 -> 0.00088021113 | AK38: VA CEDS for 2022 emissions by facility and SCC. 2022 OSTD calculated per federal guidance. Data grown to 2032 and 2038 using EPA's facility level 2022 EMP emissions estimates for 2032 and 2038.
A39: Title V Major Odd | B39: 2022 | C39: 70220 | D39: 6632911 | E39: Buckeye Terminals, LLC - Fairfax Terminal | F39: Fairfax City | G39: 600 | H39: VA0000005160000061 | I39: 9 | J39: 9 | K39: Fugitive Emissions from Valves, Pump Seals, Fittings & Other Equipment | L39: 9 | M39: 9 | N39: 7 | O39: 24 | P39: 8760 | Q39: 1 | R39: 1 | S39: Fugitive Emissions from Valves, Pump Seals, Fittings & Other Equipment | T39: 40400151 | U39: 1000 Gallons Transferred | V39: 1000 Gallons Transferred | W39: Volatile Organic Compounds | X39: 25 | Y39: 24 | Z39: 25 | AA39: 26 | AB39: 407638.47 | AC39: 0.4915 | AD39: Y | AE39: =IF(Y39=0,0,P39/(O39*N39)*Y39/100) -> 12.514286 | AF39: =IF(AE39=0,"n/a",IF(AE39>13,(AC39*Y39/100)/(13*N39),(AC39*Y39/100/(AE39*N39)))) -> 0.0013465753 | AG39: =AC39*'2022 EMP Fac Data Metro DC-NoVA'!$AT$11 -> 0.45428584 | AH39: =AG39*$AF39/$AC39 -> 0.0012446187 | AI39: =AC39*'2022 EMP Fac Data Metro DC-NoVA'!$AU$11 -> 0.47053549 | AJ39: =AI39*$AF39/$AC39 -> 0.0012891383 | AK39: VA CEDS for 2022 emissions by facility and SCC. 2022 OSTD calculated per federal guidance. Data grown to 2032 and 2038 using EPA's facility level 2022 EMP emissions estimates for 2032 and 2038.
A40: Title V Major Odd | B40: 2022 | C40: 70220 | D40: 6632911 | E40: Buckeye Terminals, LLC - Fairfax Terminal | F40: Fairfax City | G40: 600 | H40: VA0000005160000061 | I40: 9 | J40: 9 | K40: Fugitive Emissions from Valves, Pump Seals, Fittings & Other Equipment | L40: 9 | M40: 9 | N40: 7 | O40: 24 | P40: 8760 | Q40: 2 | R40: 2 | S40: Tank Cleaning/Roof Landing Emissions | T40: 40400150 | U40: 1000 GALLONS TRANSFERRED | V40: tons | W40: Volatile Organic Compounds | X40: 0 | Y40: 0 | Z40: 100 | AA40: 0 | AB40: 1.889 | AC40: 1.9944 | AD40: Y | AE40: =IF(Y40=0,0,P40/(O40*N40)*Y40/100) -> 0 | AF40: =IF(AE40=0,"n/a",IF(AE40>13,(AC40*Y40/100)/(13*N40),(AC40*Y40/100/(AE40*N40)))) -> n/a | AG40: 0 | AH40: 0 | AI40: 0 | AJ40: 0 | AK40: VA CEDS for 2022 emissions by facility and SCC. 2022 OSTD calculated per federal guidance. Data grown to 2032 and 2038 using EPA's facility level 2022 EMP emissions estimates for 2032 and 2038.
...

Sheet Quasi-Pt Airports-2022EMP
A1: State | B1: State-County | C1: EIS Facility ID | D1: Facility Name | E1: CO 2022 tpy | F1: CO 2026 tpy | G1: CO 2032 tpy | H1: CO 2038 tpy | I1: NH3 2022 tpy | J1: NH3 2026 tpy | K1: NH3 2032 tpy | L1: NH3 2038 tpy | M1: NOx 2022 tpy | N1: NOx 2026 tpy | O1: NOx 2032 tpy | P1: NOx 2038 tpy | Q1: PM2.5 2022 pty | R1: PM2.5 2026 tpy | S1: PM2.5 2032 tpy | T1: PM2.5 2038 tpy | U1: SO2 2022 tpy | V1: SO2 2026 tpy | W1: SO2 2032 tpy | X1: SO2 2038 tpy | Y1: VOC 2022 tpy | Z1: VOC 2026 tpy | AA1: VOC 2032 tpy | AB1: VOC 2038 tpy | AC1: In CEDS download? | AD1: CO 2026/2022 | AE1: CO 2032/2022 | AF1: CO 2038/2022 | AG1: NH3 2026/2022 | AH1: NH3 2032/2022 | AI1: NH3 2038/2022 | AJ1: NOx 2026/2022 | AK1: NOx 2032/2022 | AL1: NOx 2038/2022 | AM1: PM2.5 2026/2022 | AN1: PM2.5 2032/2022 | AO1: PM2.5 2038/2022 | AP1: SO2 2026/2022 | AQ1: SO2 2032/2022 | AR1: SO2 2038/2022 | AS1: VOC 2026/2022 | AT1: VOC 2032/2022 | AU1: VOC 2038/2022
A2: VA | B2: VA-Arlington | C2: 9046811 | D2: Ronald Reagan Washingto (Major Airport/Quasi Point Source) | E2: 1395.8448 | F2: 1404.3032 | G2: 1439.2459 | H2: 1439.7887 | M2: 897.37569 | N2: 896.03688 | O2: 917.9739 | P2: 917.98247 | Q2: 16.52417 | R2: 16.82149 | S2: 17.235179 | T2: 17.24381 | U2: 103.79478 | V2: 103.76577 | W2: 106.31367 | X2: 106.31535 | Y2: 146.64428 | Z2: 147.24113 | AA2: 150.80121 | AB2: 150.81649 | AC2: No | AD2: =IFERROR(F2/$E2,"") -> 1.0060597 | AE2: =IFERROR(G2/$E2,"") -> 1.031093 | AF2: =IFERROR(H2/$E2,"") -> 1.0314819 | AG2: =IFERROR(J2/$I2,"") | AH2: =IFERROR(K2/$I2,"") | AI2: =IFERROR(L2/$I2,"") | AJ2: =IFERROR(N2/$M2,"") -> 0.99850808 | AK2: =IFERROR(O2/$M2,"") -> 1.0229538 | AL2: =IFERROR(P2/$M2,"") -> 1.0229634 | AM2: =IFERROR(R2/$Q2,"") -> 1.017993 | AN2: =IFERROR(S2/$Q2,"") -> 1.0430284 | AO2: =IFERROR(T2/$Q2,"") -> 1.0435507 | AP2: =IFERROR(V2/$U2,"") -> 0.99972051 | AQ2: =IFERROR(W2/$U2,"") -> 1.024268 | AR2: =IFERROR(X2/$U2,"") -> 1.0242842 | AS2: =IFERROR(Z2/$Y2,"") -> 1.0040701 | AT2: =IFERROR(AA2/$Y2,"") -> 1.028347 | AU2: =IFERROR(AB2/$Y2,"") -> 1.0284512
A3: VA | B3: VA-Loudoun | C3: 9063811 | D3: Washington Dulles Inter (Major Airport/Quasi Point Source) | E3: 1571.9651 | F3: 2059.8488 | G3: 2310.4355 | H3: 2552.3428 | M3: 1054.4027 | N3: 1480.6201 | O3: 1675.7658 | P3: 1859.776 | Q3: 21.453304 | R3: 25.186182 | S3: 27.963469 | T3: 30.788988 | U3: 102.89542 | V3: 142.18579 | W3: 160.70508 | X3: 178.26833 | Y3: 187.83391 | Z3: 251.70359 | AA3: 283.55703 | AB3: 314.09345 | AC3: No | AD3: =IFERROR(F3/$E3,"") -> 1.3103655 | AE3: =IFERROR(G3/$E3,"") -> 1.4697753 | AF3: =IFERROR(H3/$E3,"") -> 1.6236639 | AG3: =IFERROR(J3/$I3,"") | AH3: =IFERROR(K3/$I3,"") | AI3: =IFERROR(L3/$I3,"") | AJ3: =IFERROR(N3/$M3,"") -> 1.4042264 | AK3: =IFERROR(O3/$M3,"") -> 1.5893034 | AL3: =IFERROR(P3/$M3,"") -> 1.7638194 | AM3: =IFERROR(R3/$Q3,"") -> 1.1740001 | AN3: =IFERROR(S3/$Q3,"") -> 1.3034575 | AO3: =IFERROR(T3/$Q3,"") -> 1.435163 | AP3: =IFERROR(V3/$U3,"") -> 1.3818477 | AQ3: =IFERROR(W3/$U3,"") -> 1.5618293 | AR3: =IFERROR(X3/$U3,"") -> 1.7325197 | AS3: =IFERROR(Z3/$Y3,"") -> 1.3400327 | AT3: =IFERROR(AA3/$Y3,"") -> 1.5096157 | AU3: =IFERROR(AB3/$Y3,"") -> 1.6721871

Sheet Other Airports-2022EMP
A1: State | B1: State-County | C1: EIS Facility ID | D1: Facility Name | E1: CO 2022 tpy | F1: CO 2026 tpy | G1: CO 2032 tpy | H1: CO 2038 tpy | I1: NH3 2022 tpy | J1: NH3 2026 tpy | K1: NH3 2032 tpy | L1: NH3 2038 tpy | M1: NOx 2022 tpy | N1: NOx 2026 tpy | O1: NOx 2032 tpy | P1: NOx 2038 tpy | Q1: PM2.5 2022 pty | R1: PM2.5 2026 tpy | S1: PM2.5 2032 tpy | T1: PM2.5 2038 tpy | U1: SO2 2022 tpy | V1: SO2 2026 tpy | W1: SO2 2032 tpy | X1: SO2 2038 tpy | Y1: VOC 2022 tpy | Z1: VOC 2026 tpy | AA1: VOC 2032 tpy | AB1: VOC 2038 tpy | AC1: In CEDS download? | AD1: CO 2026/2022 | AE1: CO 2032/2022 | AF1: CO 2038/2022 | AG1: NH3 2026/2022 | AH1: NH3 2032/2022 | AI1: NH3 2038/2022 | AJ1: NOx 2026/2022 | AK1: NOx 2032/2022 | AL1: NOx 2038/2022 | AM1: PM2.5 2026/2022 | AN1: PM2.5 2032/2022 | AO1: PM2.5 2038/2022 | AP1: SO2 2026/2022 | AQ1: SO2 2032/2022 | AR1: SO2 2038/2022 | AS1: VOC 2026/2022 | AT1: VOC 2032/2022 | AU1: VOC 2038/2022
A2: VA | B2: VA-Loudoun | C2: 11736011 | D2: GLASCOCK | E2: 1.7889962 | F2: 1.7889962 | G2: 1.7889962 | H2: 1.7889962 | M2: 0.02789843 | N2: 0.02789843 | O2: 0.02789843 | P2: 0.02789843 | Q2: 0.03107564 | R2: 0.03107564 | S2: 0.03107564 | T2: 0.03107564 | U2: 0.005884657 | V2: 0.005884657 | W2: 0.005884657 | X2: 0.005884657 | Y2: 0.06056593 | Z2: 0.06056593 | AA2: 0.06056593 | AB2: 0.06056593 | AC2: No | AD2: =IFERROR(F2/$E2,"") -> 1 | AE2: =IFERROR(G2/$E2,"") -> 1 | AF2: =IFERROR(H2/$E2,"") -> 1 | AG2: =IFERROR(J2/$I2,"") | AH2: =IFERROR(K2/$I2,"") | AI2: =IFERROR(L2/$I2,"") | AJ2: =IFERROR(N2/$M2,"") -> 1 | AK2: =IFERROR(O2/$M2,"") -> 1 | AL2: =IFERROR(P2/$M2,"") -> 1 | AM2: =IFERROR(R2/$Q2,"") -> 1 | AN2: =IFERROR(S2/$Q2,"") -> 1 | AO2: =IFERROR(T2/$Q2,"") -> 1 | AP2: =IFERROR(V2/$U2,"") -> 1 | AQ2: =IFERROR(W2/$U2,"") -> 1 | AR2: =IFERROR(X2/$U2,"") -> 1 | AS2: =IFERROR(Z2/$Y2,"") -> 1 | AT2: =IFERROR(AA2/$Y2,"") -> 1 | AU2: =IFERROR(AB2/$Y2,"") -> 1
A3: VA | B3: VA-Fairfax | C3: 14469011 | D3: LORTON | E3: 2.1735506 | F3: 2.084435 | G3: 2.0192285 | H3: 2.0692202 | I3: 0.006509087 | J3: 0.0062422144 | K3: 0.0060469418 | L3: 0.0061966508 | M3: 13.77047 | N3: 13.205881 | O3: 12.792767 | P3: 13.109488 | Q3: 0.34438694 | R3: 0.33026708 | S3: 0.31993547 | T3: 0.32785637 | U3: 0.007337374 | V3: 0.0070365417 | W3: 0.0068164204 | X3: 0.00698518 | Y3: 0.89422523 | Z3: 0.857562 | AA3: 0.83073524 | AB3: 0.85130242 | AC3: No | AD3: =IFERROR(F3/$E3,"") -> 0.959 | AE3: =IFERROR(G3/$E3,"") -> 0.929 | AF3: =IFERROR(H3/$E3,"") -> 0.952 | AG3: =IFERROR(J3/$I3,"") -> 0.959 | AH3: =IFERROR(K3/$I3,"") -> 0.929 | AI3: =IFERROR(L3/$I3,"") -> 0.952 | AJ3: =IFERROR(N3/$M3,"") -> 0.959 | AK3: =IFERROR(O3/$M3,"") -> 0.929 | AL3: =IFERROR(P3/$M3,"") -> 0.952 | AM3: =IFERROR(R3/$Q3,"") -> 0.959 | AN3: =IFERROR(S3/$Q3,"") -> 0.929 | AO3: =IFERROR(T3/$Q3,"") -> 0.952 | AP3: =IFERROR(V3/$U3,"") -> 0.959 | AQ3: =IFERROR(W3/$U3,"") -> 0.929 | AR3: =IFERROR(X3/$U3,"") -> 0.952 | AS3: =IFERROR(Z3/$Y3,"") -> 0.959 | AT3: =IFERROR(AA3/$Y3,"") -> 0.929 | AU3: =IFERROR(AB3/$Y3,"") -> 0.952
A4: VA | B4: VA-Prince William | C4: 38040000 | D4: Possum Point | E4: 0 | F4: 0 | G4: 53.362276 | H4: 27.682054 | I4: 0 | J4: 0 | K4: 17.175231 | L4: 8.909771 | M4: 0 | N4: 0 | O4: 50.795737 | P4: 26.350644 | Q4: 0 | R4: 0 | S4: 34.456554 | T4: 17.874578 | Y4: 0 | Z4: 0 | AA4: 3.0456232 | AB4: 1.5799383 | AC4: No | AD4: =IFERROR(F4/$E4,"") | AE4: =IFERROR(G4/$E4,"") | AF4: =IFERROR(H4/$E4,"") | AG4: =IFERROR(J4/$I4,"") | AH4: =IFERROR(K4/$I4,"") | AI4: =IFERROR(L4/$I4,"") | AJ4: =IFERROR(N4/$M4,"") | AK4: =IFERROR(O4/$M4,"") | AL4: =IFERROR(P4/$M4,"")
A5: VA | B5: VA-Loudoun | C5: 9063711 | D5: Leesburg Executive | E5: 308.32147 | F5: 327.85019 | G5: 370.692 | H5: 419.48077 | M5: 11.99739 | N5: 12.30187 | O5: 12.969655 | P5: 13.730137 | Q5: 5.920425 | R5: 6.2595586 | S5: 7.0035877 | T5: 7.850897 | U5: 1.7193264 | V5: 1.7835297 | W5: 1.9243865 | X5: 2.0847959 | Y5: 13.982336 | Z5: 14.644761 | AA5: 16.097888 | AB5: 17.752726 | AC5: No | AD5: 1.0633388 | AE5: 1.2022906 | AF5: 1.3605305 | AJ5: 1.0253789 | AK5: 1.0810397 | AL5: 1.144427 | AM5: 1.057282 | AN5: 1.1829535 | AO5: 1.3260698 | AP5: 1.0373421 | AQ5: 1.1192677 | AR5: 1.2125655 | AS5: 1.0473759 | AT5: 1.1513017 | AU5: 1.2696538
A6: VA | B6: VA-Manassas | C6: 9072411 | D6: Manassas Regional/Harry | E6: 269.29737 | F6: 248.35426 | G6: 252.19508 | H6: 256.47445 | M6: 17.552688 | N6: 17.990583 | O6: 18.377149 | P6: 18.807854 | Q6: 6.6451806 | R6: 6.8638641 | S6: 7.1795132 | T6: 7.5312039 | U6: 2.3394754 | V6: 2.4274543 | W6: 2.507115 | X6: 2.5958716 | Y6: 16.517816 | Z6: 16.672192 | AA6: 17.17106 | AB6: 17.726889 | AC6: No | AD6: 0.92223053 | AE6: 0.93649289 | AF6: 0.95238377 | AJ6: 1.0249475 | AK6: 1.0469706 | AL6: 1.0715085 | AM6: 1.0329086 | AN6: 1.080409 | AO6: 1.1333332 | AP6: 1.0376063 | AQ6: 1.0716569 | AR6: 1.1095956 | AS6: 1.009346 | AT6: 1.0395478 | AU6: 1.0731981
A7: VA | B7: VA-Prince William | C7: 38040000 | D7: Possum Point | E7: 0 | F7: 0 | G7: 53.362276 | H7: 27.682054 | I7: 0 | J7: 0 | K7: 17.175231 | L7: 8.909771 | M7: 0 | N7: 0 | O7: 50.795737 | P7: 26.350644 | Q7: 0 | R7: 0 | S7: 34.456554 | T7: 17.874578 | Y7: 0 | Z7: 0 | AA7: 3.0456232 | AB7: 1.5799383 | AC7: No | AD7: =IFERROR(F7/$E7,"") | AE7: =IFERROR(G7/$E7,"") | AF7: =IFERROR(H7/$E7,"") | AG7: =IFERROR(J7/$I7,"") | AH7: =IFERROR(K7/$I7,"") | AI7: =IFERROR(L7/$I7,"") | AJ7: =IFERROR(N7/$M7,"") | AK7: =IFERROR(O7/$M7,"") | AL7: =IFERROR(P7/$M7,"")

Sheet C3.0CONUSv22.0 Results
H1: From C3.0CONUSv22.0_2026, NOx | R1: From C3.0CONUSv22.0_2032, NOx | W1: From C3.0CONUSv22.0_2038, NOx
A2: state | B2: FIPS | C2: oris | D2: Federal EIS ID | E2: VA Reg # | F2: facility name | G2: unit id | H2: 2022 weekday May-Sep total | I2: 2022 weekday May-Sept count of activity | J2: 2022 weekday May-Sept ave OSTD | K2: 2022 May-Sept | L2: 2022 annual | M2: 2026 weekday May-Sep total | N2: 2026 weekday May-Sep count | O2: 2026 weekday May-Sep ave OSTD | P2: 2026 annual | Q2: 2026 May-Sept | R2: 2032 weekday May-Sep total | S2: 2032 weekday May-Sep count | T2: 2032 weekday May-Sep ave OSTD | U2: 2032 annual | V2: 2032 May-Sept | W2: 2038 weekday May-Sep total | X2: 2038 weekday May-Sep count | Y2: 2038 weekday May-Sep ave OSTD | Z2: 2038 annual | AA2: 2038 May-Sept
A3: DC | B3: 11001 | C3: 880004 | D3: 2701211 | E3: n/a | F3: GSA Central Heating | G3: 3 | K3: 0 | L3: 39.069954 | P3: 39.079646 | Q3: 0 | U3: 39.079646 | Z3: 39.079646 | AA3: 0
A4: DC | B4: 11001 | C4: 880004 | D4: 2701211 | E4: n/a | F4: GSA Central Heating | G4: 4 | K4: 0 | L4: 0.007309 | P4: 0.0073680126 | Q4: 0 | U4: 0.0073680126 | Z4: 0.0073680126 | AA4: 0
A5: DC | B5: 11001 | C5: 880004 | D5: 2701211 | E5: n/a | F5: GSA Central Heating | G5: 5C | H5: 2.381605 | I5: 21 | J5: 0.11340976 | K5: 3.271705 | L5: 10.56318 | M5: 2.6585601 | N5: 21 | O5: 0.1265981 | P5: 10.635781 | Q5: 3.6857404 | R5: 2.6585601 | S5: 21 | T5: 0.1265981 | U5: 10.635781 | V5: 3.6917465 | W5: 2.6585601 | X5: 21 | Y5: 0.1265981 | Z5: 10.635781 | AA5: 3.6857404
A6: MD | B6: 24033 | C6: 1571 | D6: 6011911 | E6: n/a | F6: Chalk Point | G6: **GT3 | H6: 0.97035 | I6: 5 | J6: 0.19407 | K6: 0.97035 | L6: 1.4365 | M6: 1.0810754 | N6: 5 | O6: 0.21621507 | P6: 1.6205593 | Q6: 1.0810754 | R6: 1.1055577 | S6: 5 | T6: 0.22111154 | U6: 1.7322559 | V6: 1.1055577 | W6: 1.1122613 | X6: 5 | Y6: 0.22245226 | Z6: 1.5617654 | AA6: 1.1122613
A7: MD | B7: 24033 | C7: 1571 | D7: 6011911 | E7: n/a | F7: Chalk Point | G7: **GT4 | H7: 1.43605 | I7: 5 | J7: 0.28721 | K7: 1.5531 | L7: 4.63345 | M7: 1.5740261 | N7: 5 | O7: 0.31480523 | P7: 4.8945593 | Q7: 1.6961409 | R7: 1.6237895 | S7: 5 | T7: 0.3247579 | U7: 5.0761443 | V7: 1.7516825 | W7: 1.6339121 | X7: 5 | Y7: 0.32678242 | Z7: 4.9234152 | AA7: 1.7626396
A8: MD | B8: 24033 | C8: 1571 | D8: 6011911 | E8: n/a | F8: Chalk Point | G8: **GT5 | H8: 4.18315 | I8: 7 | J8: 0.59759286 | K8: 4.18315 | L8: 4.9495 | M8: 4.4651304 | N8: 7 | O8: 0.63787577 | P8: 5.1924276 | Q8: 4.4651304 | R8: 4.5433825 | S8: 7 | T8: 0.64905464 | U8: 5.4098924 | V8: 4.5433825 | W8: 4.5605867 | X8: 7 | Y8: 0.65151238 | Z8: 5.2540898 | AA8: 4.5605867
A9: MD | B9: 24033 | C9: 1571 | D9: 6011911 | E9: n/a | F9: Chalk Point | G9: **GT6 | H9: 2.65995 | I9: 6 | J9: 0.443325 | K9: 2.65995 | L9: 3.6392 | M9: 2.791745 | N9: 6 | O9: 0.46529083 | P9: 3.7043769 | Q9: 2.791745 | R9: 2.8234132 | S9: 6 | T9: 0.47056886 | U9: 3.968659 | V9: 2.8234132 | W9: 2.8269 | X9: 6 | Y9: 0.47115 | Z9: 3.7158698 | AA9: 2.8269
A10: MD | B10: 24033 | C10: 1571 | D10: 6011911 | E10: n/a | F10: Chalk Point | G10: 3 | H10: 46.513377 | I10: 15 | J10: 3.1008918 | K10: 46.513377 | L10: 89.777966 | M10: 23.024703 | N10: 15 | O10: 1.5349802 | P10: 32.046371 | Q10: 23.024703 | R10: 18.947347 | S10: 10 | T10: 1.8947347 | U10: 27.827273 | V10: 18.947347 | W10: 19.078754 | X10: 10 | Y10: 1.9078754 | Z10: 28.02 | AA10: 19.078754
A11: MD | B11: 24033 | C11: 1571 | D11: 6011911 | E11: n/a | F11: Chalk Point | G11: 4 | H11: 64.578401 | I11: 19 | J11: 3.3988632 | K11: 69.524694 | L11: 69.524694 | M11: 21.464695 | N11: 11 | O11: 1.9513359 | P11: 22.182915 | Q11: 22.182915 | R11: 14.771641 | S11: 6 | T11: 2.4619402 | U11: 14.875468 | V11: 14.875468 | W11: 14.834546 | X11: 6 | Y11: 2.4724244 | Z11: 14.939554 | AA11: 14.939554
A12: MD | B12: 24033 | C12: 1571 | D12: 6011911 | E12: n/a | F12: Chalk Point | G12: GT2 | H12: 2.15875 | I12: 4 | J12: 0.5396875 | K12: 2.15875 | L12: 2.7936 | M12: 0.24426557 | N12: 4 | O12: 0.061066393 | P12: 0.37558295 | Q12: 0.24426557 | R12: 0.1509015 | S12: 4 | T12: 0.037725375 | U12: 0.25236237 | V12: 0.1509015 | W12: 0.12272077 | X12: 4 | Y12: 0.030680194 | Z12: 0.21367272 | AA12: 0.12272077
A13: MD | B13: 24033 | C13: 1571 | D13: 6011911 | E13: n/a | F13: Chalk Point | G13: SMECO | H13: 2.45915 | I13: 7 | J13: 0.35130714 | K13: 2.45915 | L13: 2.59345 | M13: 2.5350522 | N13: 7 | O13: 0.36215032 | P13: 2.66418 | Q13: 2.5350522 | R13: 2.5956054 | S13: 7 | T13: 0.37080077 | U13: 2.7274332 | V13: 2.5956054 | W13: 2.6055116 | X13: 7 | Y13: 0.37221595 | Z13: 2.7377294 | AA13: 2.6055116
A14: MD | B14: 24031 | C14: 1572 | D14: 5998011 | E14: n/a | F14: Dickerson | G14: GT2 | H14: 16.836392 | I14: 40 | J14: 0.42090981 | K14: 18.13025 | L14: 35.836896 | M14: 17.133469 | N14: 40 | O14: 0.42833673 | P14: 36.723015 | Q14: 18.480316 | R14: 17.634948 | S14: 40 | T14: 0.4408737 | U14: 37.931831 | V14: 19.011021 | W14: 17.705868 | X14: 40 | Y14: 0.44264671 | Z14: 37.885806 | AA14: 19.084405
A15: MD | B15: 24031 | C15: 1572 | D15: 5998011 | E15: n/a | F15: Dickerson | G15: GT3 | H15: 14.36964 | I15: 45 | J15: 0.31932533 | K15: 15.1358 | L15: 29.679009 | M15: 14.644576 | N15: 45 | O15: 0.32543503 | P15: 30.508824 | Q15: 15.433574 | R15: 15.020383 | S15: 45 | T15: 0.33378628 | U15: 31.771838 | V15: 15.836081 | W15: 15.076683 | X15: 45 | Y15: 0.3350374 | Z15: 31.416944 | AA15: 15.89582
A16: MD | B16: 24017 | C16: 1573 | D16: 6011511 | E16: n/a | F16: Morgantown | G16: 1 | H16: 40.074109 | I16: 19 | J16: 2.1091636 | K16: 51.661253 | L16: 191.22331 | P16: 0 | Q16: 0 | U16: 0 | Z16: 0 | AA16: 0
A17: MD | B17: 24017 | C17: 1573 | D17: 6011511 | E17: n/a | F17: Morgantown | G17: 2 | H17: 4.8363625 | I17: 4 | J17: 1.2090906 | K17: 6.4328625 | L17: 128.97629 | P17: 0 | Q17: 0 | U17: 0 | Z17: 0 | AA17: 0
A18: MD | B18: 24017 | C18: 1573 | D18: 6011511 | E18: n/a | F18: Morgantown | G18: GT3 | H18: 2.94435 | I18: 5 | J18: 0.58887 | K18: 2.94435 | L18: 6.59895 | M18: 0.40914532 | N18: 5 | O18: 0.081829065 | P18: 1.1277276 | Q18: 0.40914532 | R18: 0.29151669 | S18: 5 | T18: 0.058303337 | U18: 0.84672105 | V18: 0.29151669 | W18: 0.25329099 | X18: 5 | Y18: 0.050658197 | Z18: 0.75098942 | AA18: 0.25329099
A19: MD | B19: 24017 | C19: 1573 | D19: 6011511 | E19: n/a | F19: Morgantown | G19: GT4 | H19: 1.85095 | I19: 3 | J19: 0.61698333 | K19: 1.85095 | L19: 9.53515 | M19: 0.28933311 | N19: 3 | O19: 0.096444369 | P19: 1.7919665 | Q19: 0.28933311 | R19: 0.21863168 | S19: 3 | T19: 0.072877225 | U19: 1.3796241 | V19: 0.21863168 | W19: 0.19634281 | X19: 3 | Y19: 0.065447602 | Z19: 1.2370841 | AA19: 0.19634281
